{"text_format":"1","workbook":"xlsx","n_sheets":21,"sheets":["Menu","Introduction","Entreprise","Vérification Rapide","Analyse Préliminaire","Analyse Préliminaire Pompe","Analyse Préliminaire Ventilateu","Analyse Préliminaire air compr","AP Groupe froid","Analyse Préliminaire Autres","Eval_eco_pom_ven","Classement des économies","APPGF","Synthèse","Traduction","APPo","Listes","APCP","Economies classées","APVe","Profil d'heure GF"],"not_rendered":{"charts":6,"images":2,"macros":1,"external_links":1,"defined_names":238,"comments":5,"pivot_tables":0},"unopened":[],"bounds":{"document_bytes":16777216,"sheet_cells":100000,"rows_first":2000,"rows_last":500,"rows_between":2000,"halvings":0,"cell_chars":16384,"cell_head_chars":4096},"cells_cut":0,"cells_raw":0,"read":"whole","date_system":"1900"}

{"sheet":"Menu","index":0,"n_rows":68,"n_cols":26,"rows_kept":68,"cut":false,"hidden":false,"merged":[[4,15,4,18],[4,19,4,20],[31,3,31,6],[13,2,13,5],[11,7,11,20],[1,9,1,10],[5,1,5,20],[7,7,7,20],[9,7,9,20],[1,11,1,12],[4,4,4,6],[1,1,1,2],[1,3,1,4],[1,5,1,6],[1,7,1,8],[1,13,1,14],[11,2,11,6],[13,7,13,20],[1,15,1,16],[9,2,9,6],[7,2,7,6],[1,17,1,18],[1,19,1,20],[29,3,29,6],[30,3,30,6],[15,7,15,20],[16,3,16,5],[17,3,17,5],[16,7,16,16],[17,7,17,16],[28,3,28,6],[28,7,28,11],[19,3,19,5],[22,2,22,6],[18,3,18,5],[18,7,18,16],[19,7,19,16],[20,3,20,5],[22,7,22,20],[25,7,25,20],[20,7,20,16],[34,7,34,11],[35,7,35,11],[36,7,36,11],[37,7,37,11],[38,7,38,11],[29,7,29,11],[30,7,30,11],[31,7,31,11],[32,7,32,11],[33,7,33,11],[44,7,44,11],[45,7,45,11],[46,7,46,11],[47,7,47,11],[48,7,48,11],[44,3,44,6],[39,7,39,11],[40,7,40,11],[41,7,41,11],[42,7,42,11],[43,7,43,11],[45,3,45,6],[46,3,46,6],[47,3,47,6],[48,3,48,6],[32,3,32,6],[33,3,33,6],[34,3,34,6],[35,3,35,6],[36,3,36,6],[37,3,37,6],[38,3,38,6],[39,3,39,6],[43,3,43,6],[40,3,40,6],[41,3,41,6],[42,3,42,6],[65,7,65,11],[66,7,66,11],[67,7,67,11],[58,3,58,6],[59,3,59,6],[60,3,60,6],[53,3,53,6],[54,3,54,6],[55,3,55,6],[56,3,56,6],[57,3,57,6],[63,7,63,11],[54,7,54,11],[55,7,55,11],[56,7,56,11],[57,7,57,11],[58,7,58,11],[53,7,53,11],[49,3,49,6],[50,3,50,6],[51,3,51,6],[52,3,52,6],[59,7,59,11],[60,7,60,11],[61,7,61,11],[62,7,62,11],[64,7,64,11],[49,7,49,11],[50,7,50,11],[51,7,51,11],[52,7,52,11]]}
[]
[null,{"$f":"HYPERLINK(NomFichier&Listes!C48&\"'!A1\",Traduction!$A$13)","v":"Menu"},null,{"$f":"HYPERLINK(NomFichier&Listes!C49&\"'!A1\",Traduction!$A$11)","v":"Introduction"},null,{"$f":"HYPERLINK(NomFichier&Listes!C50&\"'!G7\",Traduction!$A$12)","v":"Entreprise"},null,{"$f":"HYPERLINK(NomFichier&Listes!C51&\"'!O22\",Traduction!$A$701)","v":"Quick-check"},null,{"$f":"HYPERLINK(NomFichier&Listes!C53&\"'!A1\",Traduction!$A$77)","v":"Pompe(s)"},null,{"$f":"HYPERLINK(NomFichier&Listes!C54&\"'!A1\",Traduction!$A$78)","v":"Ventilateur(s)"},null,{"$f":"HYPERLINK(NomFichier&Listes!C55&\"'!A1\",Traduction!$A$10)","v":"Air comprimé"},null,{"$f":"HYPERLINK(NomFichier&Listes!C57&\"'!A1\",Traduction!$A$545)","v":"Groupe froid"},null,{"$f":"HYPERLINK(NomFichier&Listes!$C$56&\"'!A1\",Traduction!$A$702)","v":"Autre"},null,{"$f":"Traduction!$A$79","v":"Résultats"}]
[]
[null,"VELANI",null,{"$f":"Traduction!$A$13","v":"Menu"}]
[null,{"$f":"Traduction!A631","v":"Langue"},null,"FR",null,null,null,null,null,null,null,null,null,null,null,{"$f":"Traduction!A730","v":"Source pour les aides"},null,null,null,"Internet"]
[null,{"$f":"Traduction!$A$7","v":"Cliquez sur les rectangles ci-dessous  (encadrés en bleu) pour accéder de façon directe aux différents modules de l'outil."}]
[]
[null,null,{"$f":"HYPERLINK(NomFichier&Listes!C49&\"'!A1\",Traduction!$A$11)","v":"Introduction"},null,null,null,null,{"$f":"Traduction!$A$61","v":"Mode d'emploi de l'outil"}]
[]
[null,null,{"$f":"HYPERLINK(NomFichier&Listes!C50&\"'!A1\",Traduction!$A$12)","v":"Entreprise"},null,null,null,null,{"$f":"Traduction!$A$63","v":"Possibilité d'entrer vos coordonnées"}]
[]
[null,null,{"$f":"HYPERLINK(NomFichier&Listes!C51&\"'!A1\",Traduction!$A$14)","v":"Quick-check (Vérification rapide)"},null,null,null,null,{"$f":"Traduction!A575","v":"Evaluez rapidement l'intérêt à passer à l'étape suivante, l'analyse préliminaire."}]
[]
[null,null,{"$f":"Traduction!$A$70","v":"Analyse Préliminaire (AP)"},null,null,null,null,{"$f":"Traduction!$A$71","v":"En listant les principaux entraînements de votre site, vous disposerez d'une première estimation des économies qui peuvent leur être associées."}]
[]
[null,null,null,null,null,null,null,{"$f":"Traduction!$A$190","v":"Nombre d'entrainements listés"}]
[null,null,null,{"$f":"HYPERLINK(NomFichier&Listes!C53&\"'!A1\",Traduction!$A$77)","v":"Pompe(s)"},null,null,null,{"$f":"nbappomp","v":0}]
[null,null,null,{"$f":"HYPERLINK(NomFichier&Listes!C54&\"'!A1\",Traduction!$A$78)","v":"Ventilateur(s)"},null,null,null,{"$f":"nbapven","v":0}]
[null,null,null,{"$f":"HYPERLINK(NomFichier&Listes!C55&\"'!A1\",Traduction!$A$10)","v":"Air comprimé"},null,null,null,{"$f":"nbapair","v":0}]
[null,null,null,{"$f":"HYPERLINK(NomFichier&Listes!C57&\"'!A1\",Traduction!$A$545)","v":"Groupe froid"},null,null,null,{"$f":"nbafroid","v":0}]
[null,null,null,{"$f":"HYPERLINK(NomFichier&Listes!$C$56&\"'!A1\",Traduction!$A$702)","v":"Autre"},null,null,null,{"$f":"nbaautre","v":0}]
[]
[null,null,{"$f":"Traduction!$A$79","v":"Résultats"},null,null,null,null,{"$f":"Traduction!$A$80","v":"Présentation et classement des résultats de l'analyse préliminaire."}]
[]
[]
[null,null,{"$f":"Traduction!$A$82","v":"Analyse Préliminaire plus"},null,null,null,null,{"$f":"Traduction!$A$83","v":"Pour les entrainements pour lesquels on dispose d'informations plus détaillées, on peut préciser ici les économies. Le classement des économies sera actualisé."}]
[null,null,null,{"$f":"Traduction!$A$85","v":"Entrainements déjà renseignés"}]
[null,null,null,"N",null,null,null,{"$f":"Traduction!A574","v":"Type et Nom/code/description"},null,null,null,null,null,null,null,{"$f":"Traduction!$A$84","v":"Index"}]
[1,null,null,{"$f":"IFERROR(HYPERLINK(NomFichier&Y29&Z29&\"'!A1\",Z29),\"\")","v":""},null,null,null,{"$f":"IFERROR(W29 & \" : \" & INDEX('Classement des économies'!$H$25:$H$109,P29),\"\")","v":""},null,null,null,null,null,null,null,{"$f":"MATCH(A29,'Classement des économies'!$CD$25:$CD$109,0)","v":{"$error":"#N/A"}},null,null,null,null,null,null,{"$f":"IFERROR(INDEX('Classement des économies'!$E$25:$E$109,P29),\"\")","v":""},null,{"$f":"IF(W29=Pom,\"APP_\",IF(W29=Vent,\"APVe_\",IF(W29=GF_lis,\"APPGF_\",IF(W29=APCP_nom,\"APCP_\"))))","v":false},{"$f":"IFERROR(INDEX('Classement des économies'!$D$25:$D$109,P29),\"\")","v":""}]
[2,null,null,"",null,null,null,{"$f":"IFERROR(W30 & \" : \" & INDEX('Classement des économies'!$H$25:$H$109,P30),\"\")","v":""},null,null,null,null,null,null,null,{"$f":"MATCH(A30,'Classement des économies'!$CD$25:$CD$109,0)","v":{"$error":"#N/A"}},null,null,null,null,null,null,{"$f":"IFERROR(INDEX('Classement des économies'!$E$25:$E$109,P30),\"\")","v":""},null,false,{"$f":"IFERROR(INDEX('Classement des économies'!$D$25:$D$109,P30),\"\")","v":""}]
[3,null,null,"",null,null,null,{"$f":"IFERROR(W31 & \" : \" & INDEX('Classement des économies'!$H$25:$H$109,P31),\"\")","v":""},null,null,null,null,null,null,null,{"$f":"MATCH(A31,'Classement des économies'!$CD$25:$CD$109,0)","v":{"$error":"#N/A"}},null,null,null,null,null,null,{"$f":"IFERROR(INDEX('Classement des économies'!$E$25:$E$109,P31),\"\")","v":""},null,false,{"$f":"IFERROR(INDEX('Classement des économies'!$D$25:$D$109,P31),\"\")","v":""}]
[4,null,null,"",null,null,null,{"$f":"IFERROR(W32 & \" : \" & INDEX('Classement des économies'!$H$25:$H$109,P32),\"\")","v":""},null,null,null,null,null,null,null,{"$f":"MATCH(A32,'Classement des économies'!$CD$25:$CD$109,0)","v":{"$error":"#N/A"}},null,null,null,null,null,null,{"$f":"IFERROR(INDEX('Classement des économies'!$E$25:$E$109,P32),\"\")","v":""},null,false,{"$f":"IFERROR(INDEX('Classement des économies'!$D$25:$D$109,P32),\"\")","v":""}]
[5,null,null,"",null,null,null,{"$f":"IFERROR(W33 & \" : \" & INDEX('Classement des économies'!$H$25:$H$109,P33),\"\")","v":""},null,null,null,null,null,null,null,{"$f":"MATCH(A33,'Classement des économies'!$CD$25:$CD$109,0)","v":{"$error":"#N/A"}},null,null,null,null,null,null,{"$f":"IFERROR(INDEX('Classement des économies'!$E$25:$E$109,P33),\"\")","v":""},null,false,{"$f":"IFERROR(INDEX('Classement des économies'!$D$25:$D$109,P33),\"\")","v":""}]
[6,null,null,"",null,null,null,{"$f":"IFERROR(W34 & \" : \" & INDEX('Classement des économies'!$H$25:$H$109,P34),\"\")","v":""},null,null,null,null,null,null,null,{"$f":"MATCH(A34,'Classement des économies'!$CD$25:$CD$109,0)","v":{"$error":"#N/A"}},null,null,null,null,null,null,{"$f":"IFERROR(INDEX('Classement des économies'!$E$25:$E$109,P34),\"\")","v":""},null,false,{"$f":"IFERROR(INDEX('Classement des économies'!$D$25:$D$109,P34),\"\")","v":""}]
[7,null,null,"",null,null,null,{"$f":"IFERROR(W35 & \" : \" & INDEX('Classement des économies'!$H$25:$H$109,P35),\"\")","v":""},null,null,null,null,null,null,null,{"$f":"MATCH(A35,'Classement des économies'!$CD$25:$CD$109,0)","v":{"$error":"#N/A"}},null,null,null,null,null,null,{"$f":"IFERROR(INDEX('Classement des économies'!$E$25:$E$109,P35),\"\")","v":""},null,false,{"$f":"IFERROR(INDEX('Classement des économies'!$D$25:$D$109,P35),\"\")","v":""}]
[8,null,null,"",null,null,null,{"$f":"IFERROR(W36 & \" : \" & INDEX('Classement des économies'!$H$25:$H$109,P36),\"\")","v":""},null,null,null,null,null,null,null,{"$f":"MATCH(A36,'Classement des économies'!$CD$25:$CD$109,0)","v":{"$error":"#N/A"}},null,null,null,null,null,null,{"$f":"IFERROR(INDEX('Classement des économies'!$E$25:$E$109,P36),\"\")","v":""},null,false,{"$f":"IFERROR(INDEX('Classement des économies'!$D$25:$D$109,P36),\"\")","v":""}]
[9,null,null,"",null,null,null,{"$f":"IFERROR(W37 & \" : \" & INDEX('Classement des économies'!$H$25:$H$109,P37),\"\")","v":""},null,null,null,null,null,null,null,{"$f":"MATCH(A37,'Classement des économies'!$CD$25:$CD$109,0)","v":{"$error":"#N/A"}},null,null,null,null,null,null,{"$f":"IFERROR(INDEX('Classement des économies'!$E$25:$E$109,P37),\"\")","v":""},null,false,{"$f":"IFERROR(INDEX('Classement des économies'!$D$25:$D$109,P37),\"\")","v":""}]
[10,null,null,"",null,null,null,{"$f":"IFERROR(W38 & \" : \" & INDEX('Classement des économies'!$H$25:$H$109,P38),\"\")","v":""},null,null,null,null,null,null,null,{"$f":"MATCH(A38,'Classement des économies'!$CD$25:$CD$109,0)","v":{"$error":"#N/A"}},null,null,null,null,null,null,{"$f":"IFERROR(INDEX('Classement des économies'!$E$25:$E$109,P38),\"\")","v":""},null,false,{"$f":"IFERROR(INDEX('Classement des économies'!$D$25:$D$109,P38),\"\")","v":""}]
[11,null,null,"",null,null,null,{"$f":"IFERROR(W39 & \" : \" & INDEX('Classement des économies'!$H$25:$H$109,P39),\"\")","v":""},null,null,null,null,null,null,null,{"$f":"MATCH(A39,'Classement des économies'!$CD$25:$CD$109,0)","v":{"$error":"#N/A"}},null,null,null,null,null,null,{"$f":"IFERROR(INDEX('Classement des économies'!$E$25:$E$109,P39),\"\")","v":""},null,false,{"$f":"IFERROR(INDEX('Classement des économies'!$D$25:$D$109,P39),\"\")","v":""}]
[12,null,null,"",null,null,null,{"$f":"IFERROR(W40 & \" : \" & INDEX('Classement des économies'!$H$25:$H$109,P40),\"\")","v":""},null,null,null,null,null,null,null,{"$f":"MATCH(A40,'Classement des économies'!$CD$25:$CD$109,0)","v":{"$error":"#N/A"}},null,null,null,null,null,null,{"$f":"IFERROR(INDEX('Classement des économies'!$E$25:$E$109,P40),\"\")","v":""},null,false,{"$f":"IFERROR(INDEX('Classement des économies'!$D$25:$D$109,P40),\"\")","v":""}]
[13,null,null,"",null,null,null,{"$f":"IFERROR(W41 & \" : \" & INDEX('Classement des économies'!$H$25:$H$109,P41),\"\")","v":""},null,null,null,null,null,null,null,{"$f":"MATCH(A41,'Classement des économies'!$CD$25:$CD$109,0)","v":{"$error":"#N/A"}},null,null,null,null,null,null,{"$f":"IFERROR(INDEX('Classement des économies'!$E$25:$E$109,P41),\"\")","v":""},null,false,{"$f":"IFERROR(INDEX('Classement des économies'!$D$25:$D$109,P41),\"\")","v":""}]
[14,null,null,"",null,null,null,{"$f":"IFERROR(W42 & \" : \" & INDEX('Classement des économies'!$H$25:$H$109,P42),\"\")","v":""},null,null,null,null,null,null,null,{"$f":"MATCH(A42,'Classement des économies'!$CD$25:$CD$109,0)","v":{"$error":"#N/A"}},null,null,null,null,null,null,{"$f":"IFERROR(INDEX('Classement des économies'!$E$25:$E$109,P42),\"\")","v":""},null,false,{"$f":"IFERROR(INDEX('Classement des économies'!$D$25:$D$109,P42),\"\")","v":""}]
[15,null,null,"",null,null,null,{"$f":"IFERROR(W43 & \" : \" & INDEX('Classement des économies'!$H$25:$H$109,P43),\"\")","v":""},null,null,null,null,null,null,null,{"$f":"MATCH(A43,'Classement des économies'!$CD$25:$CD$109,0)","v":{"$error":"#N/A"}},null,null,null,null,null,null,{"$f":"IFERROR(INDEX('Classement des économies'!$E$25:$E$109,P43),\"\")","v":""},null,false,{"$f":"IFERROR(INDEX('Classement des économies'!$D$25:$D$109,P43),\"\")","v":""}]
[16,null,null,"",null,null,null,{"$f":"IFERROR(W44 & \" : \" & INDEX('Classement des économies'!$H$25:$H$109,P44),\"\")","v":""},null,null,null,null,null,null,null,{"$f":"MATCH(A44,'Classement des économies'!$CD$25:$CD$109,0)","v":{"$error":"#N/A"}},null,null,null,null,null,null,{"$f":"IFERROR(INDEX('Classement des économies'!$E$25:$E$109,P44),\"\")","v":""},null,false,{"$f":"IFERROR(INDEX('Classement des économies'!$D$25:$D$109,P44),\"\")","v":""}]
[17,null,null,"",null,null,null,{"$f":"IFERROR(W45 & \" : \" & INDEX('Classement des économies'!$H$25:$H$109,P45),\"\")","v":""},null,null,null,null,null,null,null,{"$f":"MATCH(A45,'Classement des économies'!$CD$25:$CD$109,0)","v":{"$error":"#N/A"}},null,null,null,null,null,null,{"$f":"IFERROR(INDEX('Classement des économies'!$E$25:$E$109,P45),\"\")","v":""},null,false,{"$f":"IFERROR(INDEX('Classement des économies'!$D$25:$D$109,P45),\"\")","v":""}]
[18,null,null,"",null,null,null,{"$f":"IFERROR(W46 & \" : \" & INDEX('Classement des économies'!$H$25:$H$109,P46),\"\")","v":""},null,null,null,null,null,null,null,{"$f":"MATCH(A46,'Classement des économies'!$CD$25:$CD$109,0)","v":{"$error":"#N/A"}},null,null,null,null,null,null,{"$f":"IFERROR(INDEX('Classement des économies'!$E$25:$E$109,P46),\"\")","v":""},null,false,{"$f":"IFERROR(INDEX('Classement des économies'!$D$25:$D$109,P46),\"\")","v":""}]
[19,null,null,"",null,null,null,{"$f":"IFERROR(W47 & \" : \" & INDEX('Classement des économies'!$H$25:$H$109,P47),\"\")","v":""},null,null,null,null,null,null,null,{"$f":"MATCH(A47,'Classement des économies'!$CD$25:$CD$109,0)","v":{"$error":"#N/A"}},null,null,null,null,null,null,{"$f":"IFERROR(INDEX('Classement des économies'!$E$25:$E$109,P47),\"\")","v":""},null,false,{"$f":"IFERROR(INDEX('Classement des économies'!$D$25:$D$109,P47),\"\")","v":""}]
[20,null,null,"",null,null,null,{"$f":"IFERROR(W48 & \" : \" & INDEX('Classement des économies'!$H$25:$H$109,P48),\"\")","v":""},null,null,null,null,null,null,null,{"$f":"MATCH(A48,'Classement des économies'!$CD$25:$CD$109,0)","v":{"$error":"#N/A"}},null,null,null,null,null,null,{"$f":"IFERROR(INDEX('Classement des économies'!$E$25:$E$109,P48),\"\")","v":""},null,false,{"$f":"IFERROR(INDEX('Classement des économies'!$D$25:$D$109,P48),\"\")","v":""}]
[21,null,null,"",null,null,null,{"$f":"IFERROR(W49 & \" : \" & INDEX('Classement des économies'!$H$25:$H$109,P49),\"\")","v":""},null,null,null,null,null,null,null,{"$f":"MATCH(A49,'Classement des économies'!$CD$25:$CD$109,0)","v":{"$error":"#N/A"}},null,null,null,null,null,null,{"$f":"IFERROR(INDEX('Classement des économies'!$E$25:$E$109,P49),\"\")","v":""},null,false,{"$f":"IFERROR(INDEX('Classement des économies'!$D$25:$D$109,P49),\"\")","v":""}]
[22,null,null,"",null,null,null,{"$f":"IFERROR(W50 & \" : \" & INDEX('Classement des économies'!$H$25:$H$109,P50),\"\")","v":""},null,null,null,null,null,null,null,{"$f":"MATCH(A50,'Classement des économies'!$CD$25:$CD$109,0)","v":{"$error":"#N/A"}},null,null,null,null,null,null,{"$f":"IFERROR(INDEX('Classement des économies'!$E$25:$E$109,P50),\"\")","v":""},null,false,{"$f":"IFERROR(INDEX('Classement des économies'!$D$25:$D$109,P50),\"\")","v":""}]
[23,null,null,"",null,null,null,{"$f":"IFERROR(W51 & \" : \" & INDEX('Classement des économies'!$H$25:$H$109,P51),\"\")","v":""},null,null,null,null,null,null,null,{"$f":"MATCH(A51,'Classement des économies'!$CD$25:$CD$109,0)","v":{"$error":"#N/A"}},null,null,null,null,null,null,{"$f":"IFERROR(INDEX('Classement des économies'!$E$25:$E$109,P51),\"\")","v":""},null,false,{"$f":"IFERROR(INDEX('Classement des économies'!$D$25:$D$109,P51),\"\")","v":""}]
[24,null,null,"",null,null,null,{"$f":"IFERROR(W52 & \" : \" & INDEX('Classement des économies'!$H$25:$H$109,P52),\"\")","v":""},null,null,null,null,null,null,null,{"$f":"MATCH(A52,'Classement des économies'!$CD$25:$CD$109,0)","v":{"$error":"#N/A"}},null,null,null,null,null,null,{"$f":"IFERROR(INDEX('Classement des économies'!$E$25:$E$109,P52),\"\")","v":""},null,false,{"$f":"IFERROR(INDEX('Classement des économies'!$D$25:$D$109,P52),\"\")","v":""}]
[25,null,null,"",null,null,null,{"$f":"IFERROR(W53 & \" : \" & INDEX('Classement des économies'!$H$25:$H$109,P53),\"\")","v":""},null,null,null,null,null,null,null,{"$f":"MATCH(A53,'Classement des économies'!$CD$25:$CD$109,0)","v":{"$error":"#N/A"}},null,null,null,null,null,null,{"$f":"IFERROR(INDEX('Classement des économies'!$E$25:$E$109,P53),\"\")","v":""},null,false,{"$f":"IFERROR(INDEX('Classement des économies'!$D$25:$D$109,P53),\"\")","v":""}]
[26,null,null,"",null,null,null,{"$f":"IFERROR(W54 & \" : \" & INDEX('Classement des économies'!$H$25:$H$109,P54),\"\")","v":""},null,null,null,null,null,null,null,{"$f":"MATCH(A54,'Classement des économies'!$CD$25:$CD$109,0)","v":{"$error":"#N/A"}},null,null,null,null,null,null,{"$f":"IFERROR(INDEX('Classement des économies'!$E$25:$E$109,P54),\"\")","v":""},null,false,{"$f":"IFERROR(INDEX('Classement des économies'!$D$25:$D$109,P54),\"\")","v":""}]
[27,null,null,"",null,null,null,{"$f":"IFERROR(W55 & \" : \" & INDEX('Classement des économies'!$H$25:$H$109,P55),\"\")","v":""},null,null,null,null,null,null,null,{"$f":"MATCH(A55,'Classement des économies'!$CD$25:$CD$109,0)","v":{"$error":"#N/A"}},null,null,null,null,null,null,{"$f":"IFERROR(INDEX('Classement des économies'!$E$25:$E$109,P55),\"\")","v":""},null,false,{"$f":"IFERROR(INDEX('Classement des économies'!$D$25:$D$109,P55),\"\")","v":""}]
[28,null,null,"",null,null,null,{"$f":"IFERROR(W56 & \" : \" & INDEX('Classement des économies'!$H$25:$H$109,P56),\"\")","v":""},null,null,null,null,null,null,null,{"$f":"MATCH(A56,'Classement des économies'!$CD$25:$CD$109,0)","v":{"$error":"#N/A"}},null,null,null,null,null,null,{"$f":"IFERROR(INDEX('Classement des économies'!$E$25:$E$109,P56),\"\")","v":""},null,false,{"$f":"IFERROR(INDEX('Classement des économies'!$D$25:$D$109,P56),\"\")","v":""}]
[29,null,null,"",null,null,null,{"$f":"IFERROR(W57 & \" : \" & INDEX('Classement des économies'!$H$25:$H$109,P57),\"\")","v":""},null,null,null,null,null,null,null,{"$f":"MATCH(A57,'Classement des économies'!$CD$25:$CD$109,0)","v":{"$error":"#N/A"}},null,null,null,null,null,null,{"$f":"IFERROR(INDEX('Classement des économies'!$E$25:$E$109,P57),\"\")","v":""},null,false,{"$f":"IFERROR(INDEX('Classement des économies'!$D$25:$D$109,P57),\"\")","v":""}]
[30,null,null,"",null,null,null,{"$f":"IFERROR(W58 & \" : \" & INDEX('Classement des économies'!$H$25:$H$109,P58),\"\")","v":""},null,null,null,null,null,null,null,{"$f":"MATCH(A58,'Classement des économies'!$CD$25:$CD$109,0)","v":{"$error":"#N/A"}},null,null,null,null,null,null,{"$f":"IFERROR(INDEX('Classement des économies'!$E$25:$E$109,P58),\"\")","v":""},null,false,{"$f":"IFERROR(INDEX('Classement des économies'!$D$25:$D$109,P58),\"\")","v":""}]
[31,null,null,{"$f":"IFERROR(INDEX('Classement des économies'!$D$25:$D$109,P59),\"\")","v":""},null,null,null,{"$f":"IFERROR(W59 & \" : \" & INDEX('Classement des économies'!$H$25:$H$109,P59),\"\")","v":""},null,null,null,null,null,null,null,{"$f":"MATCH(A59,'Classement des économies'!$CD$25:$CD$109,0)","v":{"$error":"#N/A"}},null,null,null,null,null,null,{"$f":"IFERROR(INDEX('Classement des économies'!$E$25:$E$109,P59),\"\")","v":""},null,false,{"$f":"IFERROR(INDEX('Classement des économies'!$D$25:$D$109,P59),\"\")","v":""}]
[32,null,null,{"$f":"IFERROR(INDEX('Classement des économies'!$D$25:$D$109,P60),\"\")","v":""},null,null,null,{"$f":"IFERROR(W60 & \" : \" & INDEX('Classement des économies'!$H$25:$H$109,P60),\"\")","v":""},null,null,null,null,null,null,null,{"$f":"MATCH(A60,'Classement des économies'!$CD$25:$CD$109,0)","v":{"$error":"#N/A"}},null,null,null,null,null,null,{"$f":"IFERROR(INDEX('Classement des économies'!$E$25:$E$109,P60),\"\")","v":""},null,false,{"$f":"IFERROR(INDEX('Classement des économies'!$D$25:$D$109,P60),\"\")","v":""}]
[33,null,null,{"$f":"IFERROR(INDEX('Classement des économies'!$D$25:$D$109,P61),\"\")","v":""},null,null,null,{"$f":"IFERROR(W61 & \" : \" & INDEX('Classement des économies'!$H$25:$H$109,P61),\"\")","v":""},null,null,null,null,null,null,null,{"$f":"MATCH(A61,'Classement des économies'!$CD$25:$CD$109,0)","v":{"$error":"#N/A"}},null,null,null,null,null,null,{"$f":"IFERROR(INDEX('Classement des économies'!$E$25:$E$109,P61),\"\")","v":""},null,false,{"$f":"IFERROR(INDEX('Classement des économies'!$D$25:$D$109,P61),\"\")","v":""}]
[34,null,null,{"$f":"IFERROR(INDEX('Classement des économies'!$D$25:$D$109,P62),\"\")","v":""},null,null,null,{"$f":"IFERROR(W62 & \" : \" & INDEX('Classement des économies'!$H$25:$H$109,P62),\"\")","v":""},null,null,null,null,null,null,null,{"$f":"MATCH(A62,'Classement des économies'!$CD$25:$CD$109,0)","v":{"$error":"#N/A"}},null,null,null,null,null,null,{"$f":"IFERROR(INDEX('Classement des économies'!$E$25:$E$109,P62),\"\")","v":""},null,false,{"$f":"IFERROR(INDEX('Classement des économies'!$D$25:$D$109,P62),\"\")","v":""}]
[35,null,null,{"$f":"IFERROR(INDEX('Classement des économies'!$D$25:$D$109,P63),\"\")","v":""},null,null,null,{"$f":"IFERROR(W63 & \" : \" & INDEX('Classement des économies'!$H$25:$H$109,P63),\"\")","v":""},null,null,null,null,null,null,null,{"$f":"MATCH(A63,'Classement des économies'!$CD$25:$CD$109,0)","v":{"$error":"#N/A"}},null,null,null,null,null,null,{"$f":"IFERROR(INDEX('Classement des économies'!$E$25:$E$109,P63),\"\")","v":""},null,false,{"$f":"IFERROR(INDEX('Classement des économies'!$D$25:$D$109,P63),\"\")","v":""}]
[36,null,null,{"$f":"IFERROR(INDEX('Classement des économies'!$D$25:$D$109,P64),\"\")","v":""},null,null,null,{"$f":"IFERROR(W64 & \" : \" & INDEX('Classement des économies'!$H$25:$H$109,P64),\"\")","v":""},null,null,null,null,null,null,null,{"$f":"MATCH(A64,'Classement des économies'!$CD$25:$CD$109,0)","v":{"$error":"#N/A"}},null,null,null,null,null,null,{"$f":"IFERROR(INDEX('Classement des économies'!$E$25:$E$109,P64),\"\")","v":""},null,false,{"$f":"IFERROR(INDEX('Classement des économies'!$D$25:$D$109,P64),\"\")","v":""}]
[37,null,null,{"$f":"IFERROR(INDEX('Classement des économies'!$D$25:$D$109,P65),\"\")","v":""},null,null,null,{"$f":"IFERROR(W65 & \" : \" & INDEX('Classement des économies'!$H$25:$H$109,P65),\"\")","v":""},null,null,null,null,null,null,null,{"$f":"MATCH(A65,'Classement des économies'!$CD$25:$CD$109,0)","v":{"$error":"#N/A"}},null,null,null,null,null,null,{"$f":"IFERROR(INDEX('Classement des économies'!$E$25:$E$109,P65),\"\")","v":""},null,false,{"$f":"IFERROR(INDEX('Classement des économies'!$D$25:$D$109,P65),\"\")","v":""}]
[38,null,null,{"$f":"IFERROR(INDEX('Classement des économies'!$D$25:$D$109,P66),\"\")","v":""},null,null,null,{"$f":"IFERROR(W66 & \" : \" & INDEX('Classement des économies'!$H$25:$H$109,P66),\"\")","v":""},null,null,null,null,null,null,null,{"$f":"MATCH(A66,'Classement des économies'!$CD$25:$CD$109,0)","v":{"$error":"#N/A"}},null,null,null,null,null,null,{"$f":"IFERROR(INDEX('Classement des économies'!$E$25:$E$109,P66),\"\")","v":""},null,false,{"$f":"IFERROR(INDEX('Classement des économies'!$D$25:$D$109,P66),\"\")","v":""}]
[39,null,null,{"$f":"IFERROR(INDEX('Classement des économies'!$D$25:$D$109,P67),\"\")","v":""},null,null,null,{"$f":"IFERROR(W67 & \" : \" & INDEX('Classement des économies'!$H$25:$H$109,P67),\"\")","v":""},null,null,null,null,null,null,null,{"$f":"MATCH(A67,'Classement des économies'!$CD$25:$CD$109,0)","v":{"$error":"#N/A"}},null,null,null,null,null,null,{"$f":"IFERROR(INDEX('Classement des économies'!$E$25:$E$109,P67),\"\")","v":""},null,false,{"$f":"IFERROR(INDEX('Classement des économies'!$D$25:$D$109,P67),\"\")","v":""}]
[40,null,null,{"$f":"IFERROR(INDEX('Classement des économies'!$D$25:$D$109,P68),\"\")","v":""},null,null,null,{"$f":"IFERROR(W68 & \" : \" & INDEX('Classement des économies'!$H$25:$H$109,P68),\"\")","v":""},null,null,null,null,null,null,null,{"$f":"MATCH(A68,'Classement des économies'!$CD$25:$CD$109,0)","v":{"$error":"#N/A"}},null,null,null,null,null,null,{"$f":"IFERROR(INDEX('Classement des économies'!$E$25:$E$109,P68),\"\")","v":""},null,false,{"$f":"IFERROR(INDEX('Classement des économies'!$D$25:$D$109,P68),\"\")","v":""}]

{"sheet":"Introduction","index":1,"n_rows":88,"n_cols":20,"rows_kept":88,"cut":false,"hidden":false,"merged":[[3,1,3,20],[17,1,17,20],[19,1,19,20],[21,1,21,20],[24,1,24,20],[13,1,13,20],[1,11,1,12],[1,13,1,14],[1,15,1,16],[1,17,1,18],[1,19,1,20],[1,1,1,2],[1,3,1,4],[1,5,1,6],[1,7,1,8],[1,9,1,10],[37,1,38,8],[27,1,27,20],[30,1,30,20],[33,1,33,20],[35,1,35,8]]}
[]
[null,{"$f":"HYPERLINK(NomFichier&Listes!C48&\"'!A1\",Traduction!$A$13)","v":"Menu"},null,{"$f":"HYPERLINK(NomFichier&Listes!C49&\"'!A1\",Traduction!$A$11)","v":"Introduction"},null,{"$f":"HYPERLINK(NomFichier&Listes!C50&\"'!G7\",Traduction!$A$12)","v":"Entreprise"},null,{"$f":"HYPERLINK(NomFichier&Listes!C51&\"'!O22\",Traduction!$A$701)","v":"Quick-check"},null,{"$f":"HYPERLINK(NomFichier&Listes!C53&\"'!A1\",Traduction!$A$77)","v":"Pompe(s)"},null,{"$f":"HYPERLINK(NomFichier&Listes!C54&\"'!A1\",Traduction!$A$78)","v":"Ventilateur(s)"},null,{"$f":"HYPERLINK(NomFichier&Listes!C55&\"'!A1\",Traduction!$A$10)","v":"Air comprimé"},null,{"$f":"HYPERLINK(NomFichier&Listes!C57&\"'!A1\",Traduction!$A$545)","v":"Groupe froid"},null,{"$f":"HYPERLINK(NomFichier&Listes!$C$56&\"'!A1\",Traduction!$A$702)","v":"Autre"},null,{"$f":"Traduction!$A$79","v":"Résultats"}]
[]
[null,{"$f":"Traduction!$A$86","v":"Introduction/Explications"}]
[]
[null,{"$f":"Traduction!$A$90","v":"Signification des couleurs"}]
[null,null,null,{"$f":"Traduction!$A$91","v":"Case à compléter ou liste déroulante"}]
[]
[null,"Default",null,{"$f":"Traduction!$A$92","v":"Valeur par défaut, peut être précisée"}]
[]
[null,null,null,{"$f":"Traduction!$A$93","v":"Champ facultatif"}]
[]
[null,{"$f":"Traduction!$A$94","v":"Objectif de l'outil"}]
[null,{"$f":"Traduction!$A$88","v":"L'objectif de cet outil est de vous accompagner jusqu'à la mise en œuvre des optimisations et la validation des économies. Comme les phases préliminaires doivent pouvoir être menées sans soutien, toutes vos interventions sont commentées et explicitées. Vous trouverez des explications ou informations en cliquant sur les textes soulignés comme ci-dessous."}]
[null,{"$f":"HYPERLINK(Traduction!A628&\"/info_Parbre.htm\",Traduction!A629)","v":"Liens"},{"$f":"Traduction!$A$96","v":"Cliquez sur les textes souligné bleu pour une aide ou des informations sur la méthode de calcul."}]
[]
[null,{"$f":"Traduction!A642","v":"Introduction"}]
[null,{"$f":"Traduction!A632","v":"Cet outil est composé de 4 modules qui vous permettent d’estimer, de façon de plus en plus précise, le potentiel d’économie significatif au niveau de vos entraînements électriques."}]
[]
[null,{"$f":"Traduction!$A$89","v":"Attention : Les économies calculées jusqu'à l'analyse préliminaire sont des valeurs approximatives basées sur des moyennes et des données statistiques. Elles peuvent donc fortement différer des économies réelles. Seule l'analyse fine permet d'obtenir des estimations d'économies précises."}]
[]
[null,{"$f":"Traduction!A633","v":"Afin de limiter l'effort aux situations qui en vallent la peine, ces modules sont à compléter ou à consulter dans l’ordre suivant :"}]
[]
[null,{"$f":"Traduction!A634","v":"Module 1 de « Quick check (Vérification rapide) » "}]
[null,{"$f":"Traduction!A635","v":"Il ne nécessite que quelques minutes et permet de vérifier globalement l’intérêt pour votre site de réaliser une analyse préliminaire des entrainements électriques. Si le résultat de ce module de vérification est favorable, on peut passer au module 2 d’analyse préliminaire."}]
[]
[null,{"$f":"Traduction!A636","v":"Module n°2 « Analyse préliminaire » "}]
[null,{"$f":"Traduction!A637","v":"Ce module s'intéresse aux  principaux entraînements électriques du site (informations de base), il permet de définir un premier potentiel d’économie  et de classer les entraînements. Si l’on possède des données plus détaillées sur les entrainements, on peut passer au module 3."}]
[]
[null,{"$f":"Traduction!A638","v":"Module n°3 « Analyse préliminaire plus» "}]
[null,{"$f":"Traduction!A639","v":"Pour les entraînements pour lesquels on dispose de plus d'informations, le module \"Analyse préliminaire plus\" permet de préciser le potentiel. On parvient ainsi à déterminer quels entraînements bénéficieraient avantageusement d'une analyse de détail."}]
[]
[null,{"$f":"Traduction!A640","v":"Module n°4 « Analyse de détail » "}]
[null,{"$f":"Traduction!A641","v":"Ce module propose des \"recettes\" d'analyse spécifiques à chaque type d'entraînement et des procédures de conduite des mesurages. L’analyse de détail, basée sur des mesurages, doit être menée par un spécialiste."}]
[]
[]
[]
[]
[]
[]
[]
[]
[]
[]
[]
[null,"Changelog:"]
[{"$f":"Traduction!$A$97","v":"Version"},{"$f":"Traduction!$A$107","v":"De quand datent les installations [répartition en %]"}]
["V1e","2018-02-01","Précision du texte dans l'aide expliquant le calcul de la consommation annuelle et ajout des boutons corresponandant dans l'onglet conseils d'orientation"]
["V1e","2018-02-01","Correction de l'erreur dans l'explication de la méthode de calcul d'économie du à l'ajout d'un variateur de vitesse dans le cas d'un débit variable pour un ventileur "]
["V1e","2018-02-01","Ajout de l'explication concernant ce qui est pris en compte entre l'âge de l'élément entrainées et la classe d'efficacité du moteur dans l'explication de la méthode de calcul pour l'AP et l'AP+ pompe/ventilateur"]
["V1e","2018-02-01","Mise en rouge des textes en début de feuilles qui expliquent la marche à suivre et agrandissement des boutons pour passer à l'AP+ ainsi que mise en évidence de cette colonne"]
["V1f","2018-03-09","Rénovation de la navigation, ajout d'un onglet menu. Pour l'analyse préliminaire plus les tableaux correspondant au différents entrainements ont été mis dans des feuilles séparées."]
["V1g","2018-03-15","AP et AP+ air comprimée: Le facteur entre la puissance nominale et la consommation effective a été corrigé pour les compresseurs sans variateur de 1.15 à 1. Pour les compresseur avec variateur cette valeur reste la même. Correction dans AP et AP+ et dans l'aide."]
["V1g","2018-03-15","AP et AP+ air comprimée, la sélection pour les taux de charge a été étendu"]
["V1g","2018-03-15","AP et AP+ air comprimée: Les économies avec un système de commande  électronique centralisé pour un système de 3 compresseurs ou plus ont été diminué de 12 % à 10 % (AP et AP+)"]
["V1g","2018-03-15","AP et AP+ air comprimée : sélection des taux de fuite a été étendue"]
["V1g","2018-03-16","AP+ air comprimée : Lors du calcul d'économie du au sectionnement du réseau, l'économie est calculé sur le taux de fuite (et non comme faussement avant sur la consommation totale)."]
["V1g","2018-03-16","AP et AP+ air comprimée : corrigé l'erreur des éconimies dues à une meilleures gestion des CP qui n'étaient pas pris en compte."]
["V1g","2018-03-17","Si un AP+ existe déjà et que l'on reclique dessus dans la feuille des classements des économies, il est demandé si l'on veut réecrir les paramètre de l'AP ou pas."]
["V1g","2018-03-17","AP+ air comprimée : Si l'on choisi compresseur à vis la selection marche arrête n'est plus possible. Pour piston, tout ou rien n'est plus possible. Si l'on sélectionne un CP à vitesse variable la selection du type de régulation devient blanc,"]
["V1g","2018-03-17","AP+ air comprimée : Les unités pour les puissances spécifiques et débits ont été corrigé."]
["V1g","2018-03-17","Explication calcule AP+, références figure 2 adaptée. "]
["V1g","2018-03-17","AP pompe et ventil corrigé erreur aide (nom/code/description)"]
["V1g","2018-03-17","Conseil d'orientation : la pondération pour l'âge a été adaptée"]
["V1g","2018-03-17","Vérification rapide: la limite pour être intéressant pas de <90% (plus neuf que 7 ans) à < 80%"]
["V1h","2018-03-19","AP+ air comprimée : ajout de la question sur le point de rosé"]
["V2c","2018-03-22","Quelques corrections de bug, ajout colonnes économies sur 4 et 8 ans, ajout des +- 30 % d'erreur et du point info correspondant. "]
["V2c","2018-03-22","Message d'erreur si le dossier Information n'est pas trouvé losrque l'on clique sur l'aide."]
["V2f","2018-04-06","Le change log a été un peu négligé"]
["V2f","2018-04-06","AP+ ventilateurs, la possibilié de calculer le ratio avec le puissance électrique a été supprimée"]
["V2f","2018-04-06","Correction de plusieurs fautes d'orthographes et amélioration des textes. "]
["V2f","2018-04-06","AP+ Pompe, le rapport minimale entre Qmax et Qnom est fixé à 10 % si valeur plus basse message d'avertissement ainsi et calcules fait avec cette valeur."]
["V2f","2018-04-06"]
["V2h","2018-05-17","Ajout colonne commentaires"]
["V2i","2018-05-18","Fusion du quick-check et conseil d'orientation"]
["V2j","2018-05-23","Ajout de la catégorie autres, ajout dans synthèse d'un tableau récapitulatif avec possibilité de corriger les économies. Aide à la sélection d'entrainement est supprimée de la feuille excel et une une nouvelle page d'aide avec les liens sur les différents systèmes est crée."]
["v2j","2018-05-24","Ecriture info pour évaluation vérification rapide. Ajout d'un module autres entrainement (version grossière)."]
["v2k","2018-05-24","Ajout question système pour pompe et ventilo GA et GA+  et écriture de l'aide et adaptation des calculs"]
["V2m","2018-07-05","Donnée styles aux cellules"]
["V2n","08.2018","Ajout traduction dans la même feuille"]
["V2o","2018-08-09","Caché les optimisations systèmes pour les pompes et corriger bug classement lorsque l'on effaçait des entrées."]
["V2o","2018-08-09","Résultat ap+ sont maintenant inscrit dans les onglets des AP correspondant."]
["V2o","2018-08-09","Propriété visuelle des cellules ont été classé dans des styles."]
["V2o","2018-08-09","Les cellules non modifiable ne peuvent plus être selectionnées."]
["V2o","2018-08-09","Un grand nombre de références à des cellules fixes ont été modifiées pour des références avec noms "]
["V2q","2018-08-14","Bout d'aide"]
["V2r","2018-08-17","Quelques bugs sont résolus. Texte d'intro amélioré"]
["v2v","2018-10-02","Ajout Module froid AP et AP+"]

{"sheet":"Entreprise","index":2,"n_rows":13,"n_cols":20,"rows_kept":13,"cut":false,"hidden":false,"merged":[[6,7,6,11],[8,7,8,11],[10,7,10,11],[12,7,12,11],[1,19,1,20],[3,1,3,20],[4,1,4,20],[1,9,1,10],[1,11,1,12],[1,13,1,14],[1,15,1,16],[1,17,1,18],[1,1,1,2],[1,3,1,4],[1,5,1,6],[1,7,1,8]]}
[]
[null,{"$f":"HYPERLINK(NomFichier&Listes!C48&\"'!A1\",Traduction!$A$13)","v":"Menu"},null,{"$f":"HYPERLINK(NomFichier&Listes!C49&\"'!A1\",Traduction!$A$11)","v":"Introduction"},null,{"$f":"HYPERLINK(NomFichier&Listes!C50&\"'!A1\",Traduction!$A$12)","v":"Entreprise"},null,{"$f":"HYPERLINK(NomFichier&Listes!C51&\"'!O22\",Traduction!$A$701)","v":"Quick-check"},null,{"$f":"HYPERLINK(NomFichier&Listes!C53&\"'!A1\",Traduction!$A$77)","v":"Pompe(s)"},null,{"$f":"HYPERLINK(NomFichier&Listes!C54&\"'!A1\",Traduction!$A$78)","v":"Ventilateur(s)"},null,{"$f":"HYPERLINK(NomFichier&Listes!C55&\"'!A1\",Traduction!$A$10)","v":"Air comprimé"},null,{"$f":"HYPERLINK(NomFichier&Listes!C57&\"'!A1\",Traduction!$A$545)","v":"Groupe froid"},null,{"$f":"HYPERLINK(NomFichier&Listes!$C$56&\"'!A1\",Traduction!$A$702)","v":"Autre"},null,{"$f":"Traduction!$A$79","v":"Résultats"}]
[]
[null,{"$f":"Traduction!$A$12","v":"Entreprise"}]
[null,{"$f":"Traduction!$A$99","v":"Sur cette page vous pouvez entrer les données de contacts"}]
[]
[null,{"$f":"Traduction!$A$100","v":"Nom de l'entreprise"}]
[]
[null,{"$f":"Traduction!$A$101","v":"Nom et prénom de l'interlocuteur"}]
[]
[null,{"$f":"Traduction!$A$102","v":"Numéro de téléphone"}]
[]
[null,{"$f":"Traduction!$A$103","v":"Adresse email"}]

{"sheet":"Vérification Rapide","index":3,"n_rows":75,"n_cols":29,"rows_kept":75,"cut":false,"hidden":false,"merged":[[1,9,1,10],[52,1,52,20],[55,1,55,10],[34,14,34,16],[42,14,42,16],[49,14,49,16],[49,1,50,12],[36,14,36,16],[38,14,38,16],[40,14,40,16],[44,14,44,16],[46,14,46,16],[28,1,28,10],[29,1,29,10],[27,14,27,16],[28,14,28,16],[29,14,29,16],[15,1,15,20],[25,12,25,16],[25,1,25,10],[27,1,27,13],[16,17,16,20],[23,1,23,13],[1,26,1,27],[1,28,1,29],[1,30,1,31],[1,11,1,12],[1,13,1,14],[1,15,1,16],[1,17,1,18],[1,19,1,20],[1,1,1,2],[1,3,1,4],[1,5,1,6],[1,7,1,8],[70,1,73,1],[16,1,16,16],[21,14,21,16],[21,1,21,13],[23,14,23,16],[32,14,32,16],[18,1,18,7],[19,14,19,16],[19,1,19,13],[3,1,3,20],[4,1,4,20],[6,1,6,20]]}
[null,null,null,null,null,null,null,null,null,null,null,null,null,null,null,null,null,null,null,null,null,null,null,"<"]
[null,{"$f":"HYPERLINK(NomFichier&Listes!C48&\"'!A1\",Traduction!$A$13)","v":"Menu"},null,{"$f":"HYPERLINK(NomFichier&Listes!C49&\"'!A1\",Traduction!$A$11)","v":"Introduction"},null,{"$f":"HYPERLINK(NomFichier&Listes!C50&\"'!G7\",Traduction!$A$12)","v":"Entreprise"},null,{"$f":"HYPERLINK(NomFichier&Listes!C51&\"'!O16\",Traduction!$A$701)","v":"Quick-check"},null,{"$f":"HYPERLINK(NomFichier&Listes!C53&\"'!E10\",Traduction!$A$77)","v":"Pompe(s)"},null,{"$f":"HYPERLINK(NomFichier&Listes!C54&\"'!E10\",Traduction!$A$78)","v":"Ventilateur(s)"},null,{"$f":"HYPERLINK(NomFichier&Listes!C55&\"'!M12\",Traduction!$A$10)","v":"Air comprimé"},null,{"$f":"HYPERLINK(NomFichier&Listes!C57&\"'!F10\",Traduction!$A$545)","v":"Groupe froid"},null,{"$f":"HYPERLINK(NomFichier&Listes!$C$56&\"'!E10\",Traduction!$A$702)","v":"Autre"},null,{"$f":"Traduction!$A$79","v":"Résultats"}]
[]
[null,{"$f":"Traduction!$A$14","v":"Quick-check (Vérification rapide)"}]
[null,{"$f":"Traduction!$A$105","v":"Evaluez rapidement s'il vaut la peine de passer à l'étape suivante pour préciser le potentiel d'économie de vos entrainements électriques."},null,null,null,null,null,null,null,null,null,null,null,null,null,null,null,null,null,null,null,null,null,null,null,null,null,null,{"$f":"Traduction!A582","v":"D'après la consommation d'énergie du site, le potentiel est faible."}]
[null,null,null,null,null,null,null,null,null,null,null,null,null,null,null,null,null,null,null,null,null,null,null,null,null,null,null,null,{"$f":"Traduction!A583","v":"Favorable"}]
[null,{"$f":"Traduction!A578","v":"1. Première vérification"},null,null,null,null,null,null,null,null,null,null,null,null,null,null,null,null,null,null,null,null,null,null,null,null,null,null,{"$f":"Traduction!A584","v":"Très favorable"}]
[]
[null,null,{"$f":"Traduction!A724","v":"•  La consommation électrique totale du site (entrainements électriques inclus) plus grand que 100 MWh/a"},null,null,null,null,null,null,null,null,null,null,null,null,null,null,1,null,null,null,null,null,null,null,null,null,null,{"$f":"Traduction!A585","v":"Défavorable"}]
[]
[null,null,{"$f":"Traduction!A725","v":"•  15 %, au moins, des entrainements électriques ont été installés il y a plus de 8 ans"},null,null,null,null,null,null,null,null,null,null,null,null,null,null,1]
[]
[null,null,null,null,null,null,null,null,null,null,null,null,null,null,null,null,null,null,null,null,null,null,null,null,null,null,null,null,{"$f":"Traduction!A586","v":"Il y un intérêt à poursuivre avec l'analyse préliminaire"}]
[null,null,null,null,null,null,null,null,null,null,null,null,null,null,null,null,null,null,null,null,null,null,null,null,null,null,null,null,{"$f":"Traduction!A587","v":"L'intérêt à continuer est limité"}]
[null,null,null,null,null,null,null,null,null,null,null,null,null,null,null,null,null,null,null,null,null,null,null,null,null,null,null,null,{"$f":"Traduction!A588","v":"Veuillez renseigner tous les champs nécessaires"}]
[null,{"$f":"Traduction!A579","v":"2. Evaluation complémentaire"},null,null,null,null,null,null,null,null,null,null,null,null,null,null,null,null,null,null,null,null,null,null,null,null,null,null,{"$f":"Traduction!A589","v":"Vérifiez que vous avez bien sélectionné les entraînements présents sur site"}]
[null,{"$f":"Traduction!A580","v":"En renseignant quelques champs supplémentaires, évaluez la pertinence à passer à l'analyse préliminaire."},null,null,null,null,null,null,null,null,null,null,null,null,null,null,null,{"$f":"HYPERLINK(Traduction!A628 & \"/Calc_Quickcheck.htm\",Traduction!A643)","v":"Méthode d'évaluation"},null,null,null,null,null,null,null,null,null,null,{"$f":"Traduction!A590","v":"Vérifier la valeur renseignée pour la consommation électrique totale du site"}]
[]
[null,{"$f":"Traduction!A592","v":"Renseignements généraux"},null,null,null,null,null,null,null,null,null,null,null,null,null,null,null,null,null,null,null,null,null,null,null,null,null,null,{"$f":"Traduction!A591","v":"Neutre"}]
[null,{"$f":"Traduction!A593","v":"Prix de l'électricité en CHF/kWh (Coûts totaux divisés par la consommation totale)"},null,null,null,null,null,null,null,null,null,null,null,null,0.15010000000000001]
[]
[null,{"$f":"Traduction!$A$114","v":"Précisez la consommation électrique annuelle du site en MWh/a :"},null,null,null,null,null,null,null,null,null,null,null,null,null,null,null,null,{"$f":"IF(ConsoSite*V50<500,IF(ConsoSite*G50<100,0,1),2)","v":0},{"$f":"IF(ConsoSite*V50>500,2,0)","v":0},{"$f":"IF(ConsoSite*V50>2000,2,0)","v":0},{"$f":"IF(ConsoSite*V50<500,0,IF(ConsoSite*V50<2000,1,2))","v":0},{"$f":"IF(ConsoSite=\"\",\"\",IF(ConsoSite*G50<100,AC9,IF(G22=1,AC6,IF(G22=2,AC7,AC19))))","v":""}]
[]
[null,{"$f":"Traduction!$A$734","v":"Coût annuel pour l'électricité"},null,null,null,null,null,null,null,null,null,null,null,null,{"$f":"O20*ConsoSite*1000","v":0}]
[]
[null,{"$f":"Traduction!$A$115","v":"Le secteur d'activité"},null,null,null,null,null,null,null,null,null,null,null,null,null,null,null,null,{"$f":"IF(V26<1,0,2)","v":0},{"$f":"IF(V26<2,0,2)","v":0},{"$f":"IF(V26<3,0,2)","v":0},{"$f":"IFERROR(INDEX(Activités_notes,MATCH(SectActivi,Activités,0)),0)","v":0},{"$f":"IF(G26=1,AC6,IF(G26=2,AC7,AC19))","v":"Neutre"}]
[]
[null,{"$f":"Traduction!A704 & Listes!F25","v":"Pourcentage des installations datant avant 2002"},null,null,null,null,null,null,null,null,null,null,null,null,0,null,null,null,{"$f":"IF(V30<0.6,0,2)","v":0},{"$f":"IF(V30<0.8,0,2)","v":0},{"$f":"IF(V30<1.5,0,2)","v":0}]
[null,{"$f":"Traduction!A704&Listes!F26","v":"Pourcentage des installations datant entre  2002 et 2012"},null,null,null,null,null,null,null,null,null,null,null,null,0]
[null,{"$f":"Traduction!A704 & Listes!F27","v":"Pourcentage des installations datant après 2013"},null,null,null,null,null,null,null,null,null,null,null,null,{"$f":"1-O28-O29","v":1},null,null,null,null,null,null,{"$f":"O28*Listes!G25+O29*Listes!G26+O30*Listes!G27","v":0.2}]
[]
[null,{"$f":"Traduction!$A$116","v":"2. Installations sur site"}]
[null,{"$f":"Traduction!A600","v":"Installations de froid\n> 30 kW froid"},null,null,null,null,null,null,null,null,null,null,null,null,null,null,null,null,{"$f":"IF(V33<3,0,2)","v":0},{"$f":"IF(V33<5,0,2)","v":0},{"$f":"IF(V33<8,0,2)","v":0},{"$f":"SUM(W33:W47)","v":0},{"$f":"IF(O33=Listes!$J$25,'Vérification Rapide'!Z33,0)","v":0},null,null,{"$f":"Listes!B25","v":2},{"$f":"Traduction!$A$21","v":"Installation de froid"}]
[]
[null,{"$f":"Traduction!A601","v":"Station de pompage\n> 20 kW par pompe"},null,null,null,null,null,null,null,null,null,null,null,null,null,null,null,null,null,null,null,null,{"$f":"IF(O35=Listes!$J$25,'Vérification Rapide'!Z35,0)","v":0},null,null,{"$f":"Listes!B26","v":3},{"$f":"Traduction!$A$22","v":"Station de pompage"}]
[]
[null,{"$f":"Traduction!A602","v":"Monoblocs de ventilation\n> 10'000 m3/h par monobloc"},null,null,null,null,null,null,null,null,null,null,null,null,null,null,null,null,null,null,null,null,{"$f":"IF(O37=Listes!$J$25,'Vérification Rapide'!Z37,0)","v":0},null,null,{"$f":"Listes!B27","v":2},{"$f":"Traduction!$A$463","v":"Monoblocs de ventilation"}]
[]
[null,{"$f":"Traduction!A603","v":"Ventilateurs\n> 10 kW par ventilateur\n"},null,null,null,null,null,null,null,null,null,null,null,null,null,null,null,null,null,null,null,null,{"$f":"IF(O39=Listes!$J$25,'Vérification Rapide'!Z39,0)","v":0},null,null,{"$f":"Listes!B28","v":3},{"$f":"Traduction!$A$9","v":"Ventilateurs"}]
[]
[null,{"$f":"Traduction!A604","v":"Système d'air comprimé\n>  25 kW (compresseur)"},null,null,null,null,null,null,null,null,null,null,null,null,null,null,null,null,null,null,null,null,{"$f":"IF(O41=Listes!$J$25,'Vérification Rapide'!Z41,0)","v":0},null,null,{"$f":"Listes!B29","v":2},{"$f":"Traduction!$A$24","v":"Système d'air comprimé"}]
[]
[null,{"$f":"Traduction!A605","v":"Autres entraînements\n> 10 kW par entraînement"},null,null,null,null,null,null,null,null,null,null,null,null,null,null,null,null,null,null,null,null,{"$f":"IF(O43=Listes!$J$25,'Vérification Rapide'!Z43,0)","v":0},null,null,{"$f":"Listes!B30","v":1},{"$f":"Traduction!$A$25","v":"Autres entraînements électriques importants"}]
[]
[null,{"$f":"Traduction!A606","v":"Chaufferie\n> 10 kW par entr. électrique"},null,null,null,null,null,null,null,null,null,null,null,null,null,null,null,null,null,null,null,null,{"$f":"IF(O45=Listes!$J$25,'Vérification Rapide'!Z45,0)","v":0},null,null,{"$f":"Listes!B31","v":1},{"$f":"Traduction!$A$33","v":"Chaufferie (pompes d’alimentation chaudière ou autres)"}]
[]
[null,{"$f":"Traduction!A607","v":"Groupe de pompes de circulation > 10 kW/pompe"},null,null,null,null,null,null,null,null,null,null,null,null,null,null,null,null,null,null,null,null,{"$f":"IF(O47=Listes!$J$25,'Vérification Rapide'!Z47,0)","v":0},null,null,{"$f":"Listes!B32","v":2},{"$f":"Traduction!$A$28","v":"Groupe de pompes de circulation"}]
[null,null,null,null,null,null,null,null,null,null,null,null,null,null,{"$f":"IF(AND(V22>0,V33=0),AC16,IF((V22)*10*4>ConsoSite,AC17,\"\"))","v":""}]
[null,{"$f":"Traduction!A595","v":"Autres grands consommateurs d'électricité"}]
[null,{"$f":"Traduction!A597","v":"Existe-t-il d'autres grands consommateurs de courant (fours, éclairage, ...) représentant, ensembles, plus de 50 % de la consommation électrique annuelle du site?"},null,null,null,null,null,null,null,null,null,null,null,null,null,null,null,null,null,null,null,{"$f":"IFERROR(IF(O50=Listes!J25,0.5,1),1)","v":1}]
[]
[]
[null,{"$f":"Traduction!A598","v":"3. Conclusion"}]
[null,{"$f":"Traduction!A599","v":"Evaluation générale"},null,null,null,null,null,null,null,null,null,null,null,null,null,null,null,null,{"$f":"IF(V56<3,0,2)","v":0},{"$f":"IF(V54<10,0,2)","v":0},{"$f":"IF(V54<18,0,2)","v":0},{"$f":"V30*(V33+V22*2+V26)","v":0}]
[]
[null,{"$f":"IF(ISBLANK(ConsoSite),AC15,IF(V56>3,AC13,AC14))","v":"Veuillez renseigner tous les champs nécessaires"},null,null,null,null,null,null,null,null,null,null,null,null,null,null,null,null,null,null,null,{"$f":"IF(OR(ConsoSite*V50<100,V33*V30<2),0,V54)","v":0}]
[]
[]
[]
[]
[]
[]
[]
[]
[]
[]
[]
[]
[]
[]
[null,null,null,null,null,null,{"$f":"IFERROR(INDEX(p_installations,MATCH(B75,installations,0))*INDEX(p_dates,MATCH(C75,dates,0))*INDEX(p_utilisation,MATCH(D75,utilisation,0)),\"\")","v":""}]
[]
[]
[]
[null,null,null,null,null,null,null,null,null,null,null,null,null,null,null,null,null,null,null,null,null,null,null,null,0]

{"sheet":"Analyse Préliminaire","index":4,"n_rows":70,"n_cols":13,"rows_kept":70,"cut":false,"hidden":false,"merged":[[4,2,4,3],[28,2,28,3],[10,2,10,3],[12,2,12,3],[14,2,14,3],[16,2,16,3],[24,2,24,3]]}
[]
[null,{"$f":"Traduction!$A$70","v":"Analyse Préliminaire (AP)"}]
[null,null,{"$f":"Traduction!$A$125","v":"But:"},null,{"$f":"Traduction!$A$122","v":"Lister les principaux entraînements et disposer d'une première estimation des économies."}]
[null,null,{"$f":"Traduction!$A$126","v":"Résultat:"},null,{"$f":"Traduction!$A$123","v":"Economies associées à ces entraînements"}]
[null,null,{"$f":"Traduction!$A$127","v":"Instructions:"},null,{"$f":"Traduction!$A$124","v":"Veuillez choisir le type d'entrainement que vous souhaiter lister en cliquant sur le rectangle bleu correspondant"}]
[]
[null,0,{"$f":"Traduction!$A$56","v":"Données du module non-encore complétées"}]
[null,2,{"$f":"Traduction!$A$57","v":"Données du module complétées"}]
[null,1,{"$f":"Traduction!$A$59","v":"Données facultatives"}]
[]
[null,null,{"$f":"Traduction!$A$60","v":"Introduction/explication"},null,{"$f":"Traduction!$A$61","v":"Mode d'emploi de l'outil"}]
[]
[null,{"$f":"IF(ISBLANK(Entreprise!G7),1,2)","v":1},{"$f":"Traduction!$A$62","v":"Données sur l'entreprise"},null,{"$f":"Traduction!$A$63","v":"Possibilité d'entrer vos coordonnées"}]
[]
[null,{"$f":"IF(OR(ISBLANK(ConsoSite),ISBLANK(SectActivi)),0,2)","v":0},{"$f":"Traduction!$A$14","v":"Quick-check (Vérification rapide)"},null,"Evaluez rapidement l'intérêt à passer à l'étape suivante, l'analyse préliminaire."]
[]
[null,{"$f":"IF(SUM(E19:E23)>0,2,0)","v":0},{"$f":"Traduction!$A$70","v":"Analyse Préliminaire (AP)"},null,{"$f":"Traduction!$A$71","v":"En listant les principaux entraînements de votre site, vous disposerez d'une première estimation des économies qui peuvent leur être associées."}]
[null,null,null,{"$f":"Traduction!$A$72","v":"Nombre d'entrainements listé"},{"$f":"Traduction!$A$190","v":"Nombre d'entrainements listés"}]
[null,null,null,{"$f":"Traduction!$A$77","v":"Pompe(s)"},{"$f":"nbappomp","v":0}]
[null,null,null,{"$f":"Traduction!$A$78","v":"Ventilateur(s)"},{"$f":"nbapven","v":0}]
[null,null,null,{"$f":"Traduction!$A$10","v":"Air comprimé"},{"$f":"nbapair","v":0}]
[null,null,null,{"$f":"Traduction!$A$545","v":"Groupe froid"},{"$f":"nbafroid","v":0}]
[null,null,null,{"$f":"Traduction!$A$547","v":"Autres entrainements"},{"$f":"nbaautre","v":0}]
[]
[null,null,{"$f":"Traduction!$A$79","v":"Résultats"},null,{"$f":"Traduction!$A$80","v":"Présentation et classement des résultats de l'analyse préliminaire."}]
[null,null,null,{"$f":"Traduction!$A$40","v":"Synthèse"}]
[]
[]
[null,null,{"$f":"Traduction!$A$82","v":"Analyse Préliminaire plus"},null,{"$f":"Traduction!$A$83","v":"Pour les entrainements pour lesquels on dispose d'informations plus détaillées, on peut préciser ici les économies. Le classement des économies sera actualisé."},null,null,null,null,null,null,null,{"$f":"Traduction!$A$84","v":"Index"}]
[null,null,null,{"$f":"Traduction!$A$85","v":"Entrainements déjà renseignés"}]
[1,null,null,{"$f":"IFERROR(INDEX('Classement des économies'!$D$25:$D$109,M31),\"\")","v":""},{"$f":"IFERROR(INDEX('Classement des économies'!$H$25:$H$109,M31),\"\")","v":""},null,null,null,null,null,null,null,{"$f":"MATCH(A31,'Classement des économies'!$CD$25:$CD$109,0)","v":{"$error":"#N/A"}}]
[2,null,null,{"$f":"IFERROR(INDEX('Classement des économies'!$D$25:$D$109,M32),\"\")","v":""},{"$f":"IFERROR(INDEX('Classement des économies'!$H$25:$H$109,M32),\"\")","v":""},null,null,null,null,null,null,null,{"$f":"MATCH(A32,'Classement des économies'!$CD$25:$CD$109,0)","v":{"$error":"#N/A"}}]
[3,null,null,{"$f":"IFERROR(INDEX('Classement des économies'!$D$25:$D$109,M33),\"\")","v":""},{"$f":"IFERROR(INDEX('Classement des économies'!$H$25:$H$109,M33),\"\")","v":""},null,null,null,null,null,null,null,{"$f":"MATCH(A33,'Classement des économies'!$CD$25:$CD$109,0)","v":{"$error":"#N/A"}}]
[4,null,null,{"$f":"IFERROR(INDEX('Classement des économies'!$D$25:$D$109,M34),\"\")","v":""},{"$f":"IFERROR(INDEX('Classement des économies'!$H$25:$H$109,M34),\"\")","v":""},null,null,null,null,null,null,null,{"$f":"MATCH(A34,'Classement des économies'!$CD$25:$CD$109,0)","v":{"$error":"#N/A"}}]
[5,null,null,{"$f":"IFERROR(INDEX('Classement des économies'!$D$25:$D$109,M35),\"\")","v":""},{"$f":"IFERROR(INDEX('Classement des économies'!$H$25:$H$109,M35),\"\")","v":""},null,null,null,null,null,null,null,{"$f":"MATCH(A35,'Classement des économies'!$CD$25:$CD$109,0)","v":{"$error":"#N/A"}}]
[6,null,null,{"$f":"IFERROR(INDEX('Classement des économies'!$D$25:$D$109,M36),\"\")","v":""},{"$f":"IFERROR(INDEX('Classement des économies'!$H$25:$H$109,M36),\"\")","v":""},null,null,null,null,null,null,null,{"$f":"MATCH(A36,'Classement des économies'!$CD$25:$CD$109,0)","v":{"$error":"#N/A"}}]
[7,null,null,{"$f":"IFERROR(INDEX('Classement des économies'!$D$25:$D$109,M37),\"\")","v":""},{"$f":"IFERROR(INDEX('Classement des économies'!$H$25:$H$109,M37),\"\")","v":""},null,null,null,null,null,null,null,{"$f":"MATCH(A37,'Classement des économies'!$CD$25:$CD$109,0)","v":{"$error":"#N/A"}}]
[8,null,null,{"$f":"IFERROR(INDEX('Classement des économies'!$D$25:$D$109,M38),\"\")","v":""},{"$f":"IFERROR(INDEX('Classement des économies'!$H$25:$H$109,M38),\"\")","v":""},null,null,null,null,null,null,null,{"$f":"MATCH(A38,'Classement des économies'!$CD$25:$CD$109,0)","v":{"$error":"#N/A"}}]
[9,null,null,{"$f":"IFERROR(INDEX('Classement des économies'!$D$25:$D$109,M39),\"\")","v":""},{"$f":"IFERROR(INDEX('Classement des économies'!$H$25:$H$109,M39),\"\")","v":""},null,null,null,null,null,null,null,{"$f":"MATCH(A39,'Classement des économies'!$CD$25:$CD$109,0)","v":{"$error":"#N/A"}}]
[10,null,null,{"$f":"IFERROR(INDEX('Classement des économies'!$D$25:$D$109,M40),\"\")","v":""},{"$f":"IFERROR(INDEX('Classement des économies'!$H$25:$H$109,M40),\"\")","v":""},null,null,null,null,null,null,null,{"$f":"MATCH(A40,'Classement des économies'!$CD$25:$CD$109,0)","v":{"$error":"#N/A"}}]
[11,null,null,{"$f":"IFERROR(INDEX('Classement des économies'!$D$25:$D$109,M41),\"\")","v":""},{"$f":"IFERROR(INDEX('Classement des économies'!$H$25:$H$109,M41),\"\")","v":""},null,null,null,null,null,null,null,{"$f":"MATCH(A41,'Classement des économies'!$CD$25:$CD$109,0)","v":{"$error":"#N/A"}}]
[12,null,null,{"$f":"IFERROR(INDEX('Classement des économies'!$D$25:$D$109,M42),\"\")","v":""},{"$f":"IFERROR(INDEX('Classement des économies'!$H$25:$H$109,M42),\"\")","v":""},null,null,null,null,null,null,null,{"$f":"MATCH(A42,'Classement des économies'!$CD$25:$CD$109,0)","v":{"$error":"#N/A"}}]
[13,null,null,{"$f":"IFERROR(INDEX('Classement des économies'!$D$25:$D$109,M43),\"\")","v":""},{"$f":"IFERROR(INDEX('Classement des économies'!$H$25:$H$109,M43),\"\")","v":""},null,null,null,null,null,null,null,{"$f":"MATCH(A43,'Classement des économies'!$CD$25:$CD$109,0)","v":{"$error":"#N/A"}}]
[14,null,null,{"$f":"IFERROR(INDEX('Classement des économies'!$D$25:$D$109,M44),\"\")","v":""},{"$f":"IFERROR(INDEX('Classement des économies'!$H$25:$H$109,M44),\"\")","v":""},null,null,null,null,null,null,null,{"$f":"MATCH(A44,'Classement des économies'!$CD$25:$CD$109,0)","v":{"$error":"#N/A"}}]
[15,null,null,{"$f":"IFERROR(INDEX('Classement des économies'!$D$25:$D$109,M45),\"\")","v":""},{"$f":"IFERROR(INDEX('Classement des économies'!$H$25:$H$109,M45),\"\")","v":""},null,null,null,null,null,null,null,{"$f":"MATCH(A45,'Classement des économies'!$CD$25:$CD$109,0)","v":{"$error":"#N/A"}}]
[16,null,null,{"$f":"IFERROR(INDEX('Classement des économies'!$D$25:$D$109,M46),\"\")","v":""},{"$f":"IFERROR(INDEX('Classement des économies'!$H$25:$H$109,M46),\"\")","v":""},null,null,null,null,null,null,null,{"$f":"MATCH(A46,'Classement des économies'!$CD$25:$CD$109,0)","v":{"$error":"#N/A"}}]
[17,null,null,{"$f":"IFERROR(INDEX('Classement des économies'!$D$25:$D$109,M47),\"\")","v":""},{"$f":"IFERROR(INDEX('Classement des économies'!$H$25:$H$109,M47),\"\")","v":""},null,null,null,null,null,null,null,{"$f":"MATCH(A47,'Classement des économies'!$CD$25:$CD$109,0)","v":{"$error":"#N/A"}}]
[18,null,null,{"$f":"IFERROR(INDEX('Classement des économies'!$D$25:$D$109,M48),\"\")","v":""},{"$f":"IFERROR(INDEX('Classement des économies'!$H$25:$H$109,M48),\"\")","v":""},null,null,null,null,null,null,null,{"$f":"MATCH(A48,'Classement des économies'!$CD$25:$CD$109,0)","v":{"$error":"#N/A"}}]
[19,null,null,{"$f":"IFERROR(INDEX('Classement des économies'!$D$25:$D$109,M49),\"\")","v":""},{"$f":"IFERROR(INDEX('Classement des économies'!$H$25:$H$109,M49),\"\")","v":""},null,null,null,null,null,null,null,{"$f":"MATCH(A49,'Classement des économies'!$CD$25:$CD$109,0)","v":{"$error":"#N/A"}}]
[20,null,null,{"$f":"IFERROR(INDEX('Classement des économies'!$D$25:$D$109,M50),\"\")","v":""},{"$f":"IFERROR(INDEX('Classement des économies'!$H$25:$H$109,M50),\"\")","v":""},null,null,null,null,null,null,null,{"$f":"MATCH(A50,'Classement des économies'!$CD$25:$CD$109,0)","v":{"$error":"#N/A"}}]
[21,null,null,{"$f":"IFERROR(INDEX('Classement des économies'!$D$25:$D$109,M51),\"\")","v":""},{"$f":"IFERROR(INDEX('Classement des économies'!$H$25:$H$109,M51),\"\")","v":""},null,null,null,null,null,null,null,{"$f":"MATCH(A51,'Classement des économies'!$CD$25:$CD$109,0)","v":{"$error":"#N/A"}}]
[22,null,null,{"$f":"IFERROR(INDEX('Classement des économies'!$D$25:$D$109,M52),\"\")","v":""},{"$f":"IFERROR(INDEX('Classement des économies'!$H$25:$H$109,M52),\"\")","v":""},null,null,null,null,null,null,null,{"$f":"MATCH(A52,'Classement des économies'!$CD$25:$CD$109,0)","v":{"$error":"#N/A"}}]
[23,null,null,{"$f":"IFERROR(INDEX('Classement des économies'!$D$25:$D$109,M53),\"\")","v":""},{"$f":"IFERROR(INDEX('Classement des économies'!$H$25:$H$109,M53),\"\")","v":""},null,null,null,null,null,null,null,{"$f":"MATCH(A53,'Classement des économies'!$CD$25:$CD$109,0)","v":{"$error":"#N/A"}}]
[24,null,null,{"$f":"IFERROR(INDEX('Classement des économies'!$D$25:$D$109,M54),\"\")","v":""},{"$f":"IFERROR(INDEX('Classement des économies'!$H$25:$H$109,M54),\"\")","v":""},null,null,null,null,null,null,null,{"$f":"MATCH(A54,'Classement des économies'!$CD$25:$CD$109,0)","v":{"$error":"#N/A"}}]
[25,null,null,{"$f":"IFERROR(INDEX('Classement des économies'!$D$25:$D$109,M55),\"\")","v":""},{"$f":"IFERROR(INDEX('Classement des économies'!$H$25:$H$109,M55),\"\")","v":""},null,null,null,null,null,null,null,{"$f":"MATCH(A55,'Classement des économies'!$CD$25:$CD$109,0)","v":{"$error":"#N/A"}}]
[26,null,null,{"$f":"IFERROR(INDEX('Classement des économies'!$D$25:$D$109,M56),\"\")","v":""},{"$f":"IFERROR(INDEX('Classement des économies'!$H$25:$H$109,M56),\"\")","v":""},null,null,null,null,null,null,null,{"$f":"MATCH(A56,'Classement des économies'!$CD$25:$CD$109,0)","v":{"$error":"#N/A"}}]
[27,null,null,{"$f":"IFERROR(INDEX('Classement des économies'!$D$25:$D$109,M57),\"\")","v":""},{"$f":"IFERROR(INDEX('Classement des économies'!$H$25:$H$109,M57),\"\")","v":""},null,null,null,null,null,null,null,{"$f":"MATCH(A57,'Classement des économies'!$CD$25:$CD$109,0)","v":{"$error":"#N/A"}}]
[28,null,null,{"$f":"IFERROR(INDEX('Classement des économies'!$D$25:$D$109,M58),\"\")","v":""},{"$f":"IFERROR(INDEX('Classement des économies'!$H$25:$H$109,M58),\"\")","v":""},null,null,null,null,null,null,null,{"$f":"MATCH(A58,'Classement des économies'!$CD$25:$CD$109,0)","v":{"$error":"#N/A"}}]
[29,null,null,{"$f":"IFERROR(INDEX('Classement des économies'!$D$25:$D$109,M59),\"\")","v":""},{"$f":"IFERROR(INDEX('Classement des économies'!$H$25:$H$109,M59),\"\")","v":""},null,null,null,null,null,null,null,{"$f":"MATCH(A59,'Classement des économies'!$CD$25:$CD$109,0)","v":{"$error":"#N/A"}}]
[30,null,null,{"$f":"IFERROR(INDEX('Classement des économies'!$D$25:$D$109,M60),\"\")","v":""},{"$f":"IFERROR(INDEX('Classement des économies'!$H$25:$H$109,M60),\"\")","v":""},null,null,null,null,null,null,null,{"$f":"MATCH(A60,'Classement des économies'!$CD$25:$CD$109,0)","v":{"$error":"#N/A"}}]
[31,null,null,{"$f":"IFERROR(INDEX('Classement des économies'!$D$25:$D$109,M61),\"\")","v":""},{"$f":"IFERROR(INDEX('Classement des économies'!$H$25:$H$109,M61),\"\")","v":""},null,null,null,null,null,null,null,{"$f":"MATCH(A61,'Classement des économies'!$CD$25:$CD$109,0)","v":{"$error":"#N/A"}}]
[32,null,null,{"$f":"IFERROR(INDEX('Classement des économies'!$D$25:$D$109,M62),\"\")","v":""},{"$f":"IFERROR(INDEX('Classement des économies'!$H$25:$H$109,M62),\"\")","v":""},null,null,null,null,null,null,null,{"$f":"MATCH(A62,'Classement des économies'!$CD$25:$CD$109,0)","v":{"$error":"#N/A"}}]
[33,null,null,{"$f":"IFERROR(INDEX('Classement des économies'!$D$25:$D$109,M63),\"\")","v":""},{"$f":"IFERROR(INDEX('Classement des économies'!$H$25:$H$109,M63),\"\")","v":""},null,null,null,null,null,null,null,{"$f":"MATCH(A63,'Classement des économies'!$CD$25:$CD$109,0)","v":{"$error":"#N/A"}}]
[34,null,null,{"$f":"IFERROR(INDEX('Classement des économies'!$D$25:$D$109,M64),\"\")","v":""},{"$f":"IFERROR(INDEX('Classement des économies'!$H$25:$H$109,M64),\"\")","v":""},null,null,null,null,null,null,null,{"$f":"MATCH(A64,'Classement des économies'!$CD$25:$CD$109,0)","v":{"$error":"#N/A"}}]
[35,null,null,{"$f":"IFERROR(INDEX('Classement des économies'!$D$25:$D$109,M65),\"\")","v":""},{"$f":"IFERROR(INDEX('Classement des économies'!$H$25:$H$109,M65),\"\")","v":""},null,null,null,null,null,null,null,{"$f":"MATCH(A65,'Classement des économies'!$CD$25:$CD$109,0)","v":{"$error":"#N/A"}}]
[36,null,null,{"$f":"IFERROR(INDEX('Classement des économies'!$D$25:$D$109,M66),\"\")","v":""},{"$f":"IFERROR(INDEX('Classement des économies'!$H$25:$H$109,M66),\"\")","v":""},null,null,null,null,null,null,null,{"$f":"MATCH(A66,'Classement des économies'!$CD$25:$CD$109,0)","v":{"$error":"#N/A"}}]
[37,null,null,{"$f":"IFERROR(INDEX('Classement des économies'!$D$25:$D$109,M67),\"\")","v":""},{"$f":"IFERROR(INDEX('Classement des économies'!$H$25:$H$109,M67),\"\")","v":""},null,null,null,null,null,null,null,{"$f":"MATCH(A67,'Classement des économies'!$CD$25:$CD$109,0)","v":{"$error":"#N/A"}}]
[38,null,null,{"$f":"IFERROR(INDEX('Classement des économies'!$D$25:$D$109,M68),\"\")","v":""},{"$f":"IFERROR(INDEX('Classement des économies'!$H$25:$H$109,M68),\"\")","v":""},null,null,null,null,null,null,null,{"$f":"MATCH(A68,'Classement des économies'!$CD$25:$CD$109,0)","v":{"$error":"#N/A"}}]
[39,null,null,{"$f":"IFERROR(INDEX('Classement des économies'!$D$25:$D$109,M69),\"\")","v":""},{"$f":"IFERROR(INDEX('Classement des économies'!$H$25:$H$109,M69),\"\")","v":""},null,null,null,null,null,null,null,{"$f":"MATCH(A69,'Classement des économies'!$CD$25:$CD$109,0)","v":{"$error":"#N/A"}}]
[40,null,null,{"$f":"IFERROR(INDEX('Classement des économies'!$D$25:$D$109,M70),\"\")","v":""},{"$f":"IFERROR(INDEX('Classement des économies'!$H$25:$H$109,M70),\"\")","v":""},null,null,null,null,null,null,null,{"$f":"MATCH(A70,'Classement des économies'!$CD$25:$CD$109,0)","v":{"$error":"#N/A"}}]

{"sheet":"Analyse Préliminaire Pompe","index":5,"n_rows":48,"n_cols":43,"rows_kept":48,"cut":false,"hidden":false,"merged":[[3,20,3,21],[3,22,3,23],[3,24,3,25],[46,1,46,2],[2,9,2,10],[3,1,3,2],[3,3,3,4],[3,5,3,6],[3,7,3,8],[3,9,3,10],[3,11,3,12],[3,13,3,14],[3,15,3,16],[3,17,3,19],[40,21,40,22],[41,21,41,22],[27,23,27,27],[28,23,28,27],[29,23,29,27],[39,23,39,27],[40,23,40,27],[41,23,41,27],[34,23,34,27],[35,23,35,27],[25,19,25,20],[37,21,37,22],[38,21,38,22],[31,19,31,20],[32,19,32,20],[33,19,33,20],[23,23,23,27],[24,23,24,27],[25,23,25,27],[26,23,26,27],[29,19,29,20],[30,19,30,20],[36,23,36,27],[37,23,37,27],[38,23,38,27],[30,23,30,27],[31,23,31,27],[32,23,32,27],[33,23,33,27],[34,21,34,22],[25,21,25,22],[26,21,26,22],[27,21,27,22],[28,21,28,22],[39,21,39,22],[29,21,29,22],[30,21,30,22],[31,21,31,22],[32,21,32,22],[33,21,33,22],[35,21,35,22],[36,21,36,22],[39,16,39,17],[29,16,29,17],[30,16,30,17],[31,16,31,17],[40,16,40,17],[41,16,41,17],[32,16,32,17],[33,16,33,17],[34,16,34,17],[35,16,35,17],[36,16,36,17],[34,19,34,20],[35,19,35,20],[37,19,37,20],[38,19,38,20],[39,19,39,20],[40,19,40,20],[41,19,41,20],[36,19,36,20],[37,16,37,17],[38,16,38,17],[41,2,41,3],[27,7,27,9],[26,7,26,9],[29,7,29,9],[30,7,30,9],[31,7,31,9],[32,7,32,9],[33,7,33,9],[34,7,34,9],[35,7,35,9],[36,7,36,9],[37,7,37,9],[38,7,38,9],[39,7,39,9],[40,7,40,9],[41,7,41,9],[36,2,36,3],[37,2,37,3],[38,2,38,3],[27,2,27,3],[28,2,28,3],[29,2,29,3],[30,2,30,3],[38,4,38,6],[22,2,22,3],[23,2,23,3],[24,2,24,3],[25,2,25,3],[26,2,26,3],[39,2,39,3],[40,2,40,3],[31,2,31,3],[32,2,32,3],[33,2,33,3],[34,2,34,3],[35,2,35,3],[39,4,39,6],[40,4,40,6],[41,4,41,6],[25,7,25,9],[33,4,33,6],[34,4,34,6],[35,4,35,6],[36,4,36,6],[37,4,37,6],[28,7,28,9],[29,4,29,6],[30,4,30,6],[31,4,31,6],[32,4,32,6],[25,4,25,6],[22,4,22,6],[23,4,23,6],[16,19,16,20],[17,19,17,20],[18,16,18,17],[19,16,19,17],[20,16,20,17],[21,16,21,17],[22,16,22,17],[23,7,23,9],[16,16,16,17],[23,19,23,20],[24,7,24,9],[17,23,17,27],[18,23,18,27],[18,7,18,9],[19,7,19,9],[20,7,20,9],[21,7,21,9],[22,7,22,9],[17,7,17,9],[21,23,21,27],[22,23,22,27],[20,21,20,22],[21,21,21,22],[22,21,22,22],[23,21,23,22],[24,21,24,22],[24,19,24,20],[12,21,12,22],[19,23,19,27],[20,23,20,27],[13,16,13,17],[14,16,14,17],[15,16,15,17],[13,19,13,20],[14,19,14,20],[15,19,15,20],[13,21,13,22],[14,21,14,22],[15,21,15,22],[18,19,18,20],[12,23,12,27],[13,23,13,27],[14,23,14,27],[15,23,15,27],[16,23,16,27],[16,21,16,22],[17,21,17,22],[18,21,18,22],[19,21,19,22],[19,19,19,20],[20,19,20,20],[21,2,21,3],[20,2,20,3],[19,2,19,3],[16,2,16,3],[15,4,15,6],[16,4,16,6],[17,4,17,6],[18,4,18,6],[18,2,18,3],[17,2,17,3],[19,4,19,6],[20,4,20,6],[21,4,21,6],[15,2,15,3],[12,19,12,20],[27,4,27,6],[28,4,28,6],[26,4,26,6],[23,16,23,17],[24,16,24,17],[25,16,25,17],[26,16,26,17],[17,16,17,17],[16,7,16,9],[14,4,14,6],[15,7,15,9],[27,16,27,17],[28,16,28,17],[26,19,26,20],[27,19,27,20],[28,19,28,20],[13,4,13,6],[13,7,13,9],[21,19,21,20],[22,19,22,20],[14,7,14,9],[12,16,12,17],[24,4,24,6],[13,2,13,3],[14,2,14,3],[1,29,1,30],[12,2,12,3],[12,4,12,6],[1,1,1,2],[12,7,12,9],[6,2,6,3],[7,2,7,3],[8,2,8,3],[6,4,6,27],[7,4,7,27],[1,3,1,4],[1,5,1,6],[1,7,1,8],[1,11,1,12],[1,13,1,14],[1,9,1,10],[1,20,1,21],[1,17,1,19],[1,15,1,16],[8,4,8,22],[11,4,11,6],[11,7,11,9],[11,16,11,17],[11,19,11,20],[11,21,11,22],[11,23,11,27],[11,2,11,3],[10,2,10,3],[10,4,10,6],[10,7,10,9],[10,16,10,17],[10,19,10,20],[10,21,10,22],[10,23,10,27]]}
[null,1,null,2,null,3,null,4,null,5,null,6,null,7,null,8,null,9,null,null,10,null,11,null,12,null,13]
[null,{"$f":"HYPERLINK(NomFichier&Listes!C48&\"'!A1\",Traduction!$A$13)","v":"Menu"},null,{"$f":"HYPERLINK(NomFichier&Listes!C49&\"'!A1\",Traduction!$A$11)","v":"Introduction"},null,{"$f":"HYPERLINK(NomFichier&Listes!C50&\"'!G7\",Traduction!$A$12)","v":"Entreprise"},null,{"$f":"HYPERLINK(NomFichier&Listes!C51&\"'!O22\",Traduction!$A$701)","v":"Quick-check"},null,{"$f":"HYPERLINK(NomFichier&Listes!C53&\"'!A1\",Traduction!$A$77)","v":"Pompe(s)"},null,{"$f":"HYPERLINK(NomFichier&Listes!C54&\"'!E10\",Traduction!$A$78)","v":"Ventilateur(s)"},null,{"$f":"HYPERLINK(NomFichier&Listes!C55&\"'!M12\",Traduction!$A$10)","v":"Air comprimé"},null,{"$f":"HYPERLINK(NomFichier&Listes!C57&\"'!E10\",Traduction!$A$545)","v":"Groupe froid"},null,{"$f":"HYPERLINK(NomFichier&Listes!$C$56&\"'!A1\",Traduction!$A$702)","v":"Autre"},null,null,{"$f":"Traduction!$A$79","v":"Résultats"}]
[]
[null,{"$f":"IFERROR(HYPERLINK(NomFichier&B47&\"'!A1\",B47),\"\")","v":""},null,{"$f":"IFERROR(HYPERLINK(NomFichier&D47&\"'!A1\",D47),\"\")","v":""},null,{"$f":"IFERROR(HYPERLINK(NomFichier&F47&\"'!A1\",F47),\"\")","v":""},null,{"$f":"IFERROR(HYPERLINK(NomFichier&H47&\"'!A1\",H47),\"\")","v":""},null,{"$f":"IFERROR(HYPERLINK(NomFichier&J47&\"'!A1\",J47),\"\")","v":""},null,{"$f":"IFERROR(HYPERLINK(NomFichier&L47&\"'!A1\",L47),\"\")","v":""},null,{"$f":"IFERROR(HYPERLINK(NomFichier&N47&\"'!A1\",N47),\"\")","v":""},null,{"$f":"IFERROR(HYPERLINK(NomFichier&P47&\"'!A1\",P47),\"\")","v":""},null,{"$f":"IFERROR(HYPERLINK(NomFichier&R47&\"'!A1\",R47),\"\")","v":""},null,null,{"$f":"IFERROR(HYPERLINK(NomFichier&U47&\"'!A1\",U47),\"\")","v":""},null,{"$f":"IFERROR(HYPERLINK(NomFichier&W47&\"'!A1\",W47),\"\")","v":""},null,{"$f":"IFERROR(HYPERLINK(NomFichier&Y47&\"'!A1\",Y47),\"\")","v":""},null,{"$f":"IFERROR(HYPERLINK(NomFichier&AA47&\"'!A1\",AA47),\"\")","v":""},{"$f":"IFERROR(HYPERLINK(NomFichier&AB47&\"'!A1\",AB47),\"\")","v":""}]
[]
[null,{"$f":"Traduction!$A$191","v":"Analyse préliminaire: Liste des pompes"}]
[null,null,{"$f":"Traduction!$A$125","v":"But:"},null,{"$f":"Traduction!$A$131","v":"Lister les principales pompes et disposer d'une première estimation des économies qui peuvent être escomptées"}]
[null,null,{"$f":"Traduction!$A$126","v":"Résultat:"},null,{"$f":"Traduction!$A$531","v":"Economies associées à ces pompes"},null,null,null,null,null,null,null,null,null,null,null,null,null,null,null,null,null,null,null,null,null,null,null,null,null,null,null,null,null,null,null,null,null,null,null,"Nombre d'entrainement listé",null,{"$f":"ROUNDDOWN(COUNTA(K13:Q44)/7,0)","v":0}]
[null,null,{"$f":"Traduction!$A$127","v":"Instructions:"},null,{"$f":"Traduction!$A$135","v":"Complétez le tableau ci-dessous pour les pompes. En cas de besoin cliquez sur l'aide ci-après pour afficher l'aide à la sélection"},null,null,null,null,null,null,null,null,null,null,null,null,null,null,null,null,null,null,{"$f":"HYPERLINK(Traduction!$A$628&\"/Info_entrainement.htm\",Traduction!$A$718)","v":"Aide"}]
[]
[null,null,null,null,{"$f":"HYPERLINK(Traduction!$A$628 & \"/info_localisation.htm\",Traduction!A718)","v":"Aide"},null,null,null,null,null,{"$f":"HYPERLINK(Traduction!A628&\"/info_Pnom_mot.htm\",Traduction!A718)","v":"Aide"},{"$f":"HYPERLINK(Traduction!$A$628&\"/info_an_construct.htm\",Traduction!$A$718)","v":"Aide"},{"$f":"HYPERLINK(Traduction!$A$628&\"/info_classeeff.htm\",Traduction!$A$718)","v":"Aide"},{"$f":"HYPERLINK(Traduction!$A$628&\"/info_h_fonct.htm\",Traduction!$A$718)","v":"Aide"},{"$f":"HYPERLINK(Traduction!$A$628&\"/info_debvar.htm\",Traduction!$A$718)","v":"Aide"},{"$f":"HYPERLINK(Traduction!$A$628&\"/info_CF.htm\",Traduction!$A$718)","v":"Aide"},{"$f":"HYPERLINK(Traduction!$A$628&\"/info_relcirc.htm\",Traduction!$A$718)","v":"Aide"},null,null,{"$f":"HYPERLINK(Traduction!$A$628&\"/info_conso_estimée.htm\",Traduction!$A$718)","v":"Aide"},null,{"$f":"HYPERLINK(Traduction!$A$628&\"/info_conso_forcée.htm\",Traduction!$A$718)","v":"Aide"}]
[null,{"$f":"Traduction!$A$138","v":"Numéro d'entrainement"},{"$f":"Traduction!$A$139","v":"Type d'entraînement "},null,{"$f":"Traduction!$A$140","v":"Localisation"},null,null,{"$f":"Traduction!$A$141","v":"Nom/code/description"},null,null,{"$f":"Traduction!$A$142","v":"Puissance nominale du moteur [kW]"},{"$f":"Traduction!$A$143","v":"Année de construction de la pompe [année]"},{"$f":"Traduction!$A$163","v":"Classe d'efficacité  du moteur"},{"$f":"Traduction!$A$146","v":"Heures de fonctionnement individuelles [heures/année]"},{"$f":"Traduction!$A$147","v":"Demande variable"},{"$f":"Traduction!$A$149","v":"Convertisseur de fréquence réglé"},{"$f":"Traduction!$A$150","v":"Relevage ou circulation "},null,"Avez-vous procédé à des optimisations « système » ces dernières années ?",{"$f":"Traduction!$A$151","v":"Consommation annuelle estimée [kWh/a]"},null,{"$f":"Traduction!$A$152","v":"Forcer la consommation annuelle [kWh/a]"},null,{"$f":"Traduction!A613","v":"Commentaires"},null,null,null,null,"Consommation annuelle estimées [kWh/a]",{"$f":"Traduction!$A$154","v":"Economies [kWh/a]"},{"$f":"Traduction!$A$155","v":"Economies [%]"},"Gains technologique [%]",{"$f":"Traduction!$A$157","v":"Gain variateur de fréquence"},{"$f":"Traduction!$A$158","v":"Gains redimensionnement [%]"},"Gains optimisation système","Code Moteur","Code Entrainement","Equivalent classe d'efficactié élément entrainé",{"$f":"Traduction!$A$194","v":"Mesures d'améliorations"},{"$f":"Traduction!$A$195","v":"Calcul des gains"},{"$f":"Traduction!$A$222","v":"Economie AP+ [kWh/a]"},{"$f":"Traduction!$A$223","v":"Economie AP+ [%]"},{"$f":"Traduction!$A$224","v":"Consommation annuelle AP+"}]
[null,101,{"$f":"Traduction!$A$8","v":"Pompes"},null,null,null,null,null,null,null,null,null,null,null,null,null,null,null,null,{"$f":"IF(V13>0,V13,AC13)","v":0},null,null,null,null,null,null,null,null,{"$f":"IF(V13>0,V13,IFERROR(N13*K13*INDEX(effpompeestpr,MATCH(O13&P13,codepompeestpr,0)),0))","v":0},{"$f":"IFERROR(AC13*AE13,\"\")","v":0},{"$f":"AF13+AG13+AH13+AI13","v":0},{"$f":"IFERROR(INDEX(effeffp,MATCH(AJ13,codeffp,0)),0)+IFERROR(INDEX(effeffep,MATCH(AK13,codeffp,0)),0)","v":0},{"$f":"IF(AND(O13=Listes!$J$25,P13=Listes!$J$26),IF(C13=Listes!$H$25,IF(Q13=Listes!$O$26,0.2,IF(Q13=Listes!$O$25,0.1,0.15)),0.2),0)","v":0},{"$f":"IF(AC13=0,0,0.08)","v":0},{"$f":"IF(S13=Listes!$J$26,0.12,0)","v":0},{"$f":"C13 & M13 & IF(K13<20,\"p1\",IF(K13<100,\"p2\",\"p3\"))","v":"Pompesp1"},{"$f":"C13 & AL13 & IF(K13<20,\"p1\",IF(K13<100,\"p2\",\"p3\"))","v":"Pompesp1"},{"$f":"IF(ISBLANK(L13),\"\",IF(L13<=Eval_eco_pom_ven!$Q$7,Eval_eco_pom_ven!$P$7,IF(L13<=Eval_eco_pom_ven!$Q$8,Eval_eco_pom_ven!$P$8,IF(L13<=Eval_eco_pom_ven!$Q$9,Eval_eco_pom_ven!$P$9,IF(L13<=Eval_eco_pom_ven!$Q$10,Eval_eco_pom_ven!$P$10,Eval_eco_pom_ven!$P$11)))))","v":""},{"$f":"IF(AH13>0,IF(AF13>0,'Economies classées'!$A$22,'Economies classées'!$A$24),\"\") & IF(AG13>0, \" \" & 'Economies classées'!$A$23,\"\")","v":""},{"$f":"IF(AF13>0,'Economies classées'!$A$42 & TEXT(AF13,\"0%\") & \" \" & CHAR(10),\"\") & IF(AH13>0,'Economies classées'!$A$43 & TEXT(AH13,\"0%\") & \" \" & CHAR(10),\"\") & IF(AG13>0,'Economies classées'!$A$44 & TEXT(AG13,\"0%\") & \" \" & CHAR(10),\"\")& IF(AI13>0,'Economies classées'!$A$25 & TEXT(AI13,\"0%\") & \" \" & CHAR(10),\"\")","v":""}]
[null,102,{"$f":"Traduction!$A$8","v":"Pompes"},null,null,null,null,null,null,null,null,null,null,null,null,null,null,null,null,0,null,null,null,null,null,null,null,null,{"$f":"IF(V14>0,V14,IFERROR(N14*K14*INDEX(effpompeestpr,MATCH(O14&P14,codepompeestpr,0)),0))","v":0},{"$f":"IFERROR(AC14*AE14,\"\")","v":0},{"$f":"AF14+AG14+AH14+AI14","v":0},{"$f":"IFERROR(INDEX(effeffp,MATCH(AJ14,codeffp,0)),0)+IFERROR(INDEX(effeffep,MATCH(AK14,codeffp,0)),0)","v":0},{"$f":"IF(AND(O14=Listes!$J$25,P14=Listes!$J$26),IF(C14=Listes!$H$25,IF(Q14=Listes!$O$26,0.2,IF(Q14=Listes!$O$25,0.1,0.15)),0.2),0)","v":0},{"$f":"IF(AC14=0,0,0.08)","v":0},{"$f":"IF(S14=Listes!$J$26,0.12,0)","v":0},{"$f":"C14 & M14 & IF(K14<20,\"p1\",IF(K14<100,\"p2\",\"p3\"))","v":"Pompesp1"},{"$f":"C14 & AL14 & IF(K14<20,\"p1\",IF(K14<100,\"p2\",\"p3\"))","v":"Pompesp1"},{"$f":"IF(ISBLANK(L14),\"\",IF(L14<=Eval_eco_pom_ven!$Q$7,Eval_eco_pom_ven!$P$7,IF(L14<=Eval_eco_pom_ven!$Q$8,Eval_eco_pom_ven!$P$8,IF(L14<=Eval_eco_pom_ven!$Q$9,Eval_eco_pom_ven!$P$9,IF(L14<=Eval_eco_pom_ven!$Q$10,Eval_eco_pom_ven!$P$10,Eval_eco_pom_ven!$P$11)))))","v":""},{"$f":"IF(AH14>0,IF(AF14>0,'Economies classées'!$A$22,'Economies classées'!$A$24),\"\") & IF(AG14>0, \" \" & 'Economies classées'!$A$23,\"\")","v":""},{"$f":"IF(AF14>0,'Economies classées'!$A$42 & TEXT(AF14,\"0%\") & \" \" & CHAR(10),\"\") & IF(AH14>0,'Economies classées'!$A$43 & TEXT(AH14,\"0%\") & \" \" & CHAR(10),\"\") & IF(AG14>0,'Economies classées'!$A$44 & TEXT(AG14,\"0%\") & \" \" & CHAR(10),\"\")& IF(AI14>0,'Economies classées'!$A$25 & TEXT(AI14,\"0%\") & \" \" & CHAR(10),\"\")","v":""}]
[null,103,{"$f":"Traduction!$A$8","v":"Pompes"},null,null,null,null,null,null,null,null,null,null,null,null,null,null,null,null,0,null,null,null,null,null,null,null,null,0,0,0,0,{"$f":"IF(AND(O15=Listes!$J$25,P15=Listes!$J$26),IF(C15=Listes!$H$25,IF(Q15=Listes!$O$26,0.2,IF(Q15=Listes!$O$25,0.1,0.15)),0.2),0)","v":0},0,{"$f":"IF(S15=Listes!$J$26,0.12,0)","v":0},"Pompesp1","Pompesp1",{"$f":"IF(ISBLANK(L15),\"\",IF(L15<=Eval_eco_pom_ven!$Q$7,Eval_eco_pom_ven!$P$7,IF(L15<=Eval_eco_pom_ven!$Q$8,Eval_eco_pom_ven!$P$8,IF(L15<=Eval_eco_pom_ven!$Q$9,Eval_eco_pom_ven!$P$9,IF(L15<=Eval_eco_pom_ven!$Q$10,Eval_eco_pom_ven!$P$10,Eval_eco_pom_ven!$P$11)))))","v":""},{"$f":"IF(AH15>0,IF(AF15>0,'Economies classées'!$A$22,'Economies classées'!$A$24),\"\") & IF(AG15>0, \" \" & 'Economies classées'!$A$23,\"\")","v":""},{"$f":"IF(AF15>0,'Economies classées'!$A$42 & TEXT(AF15,\"0%\") & \" \" & CHAR(10),\"\") & IF(AH15>0,'Economies classées'!$A$43 & TEXT(AH15,\"0%\") & \" \" & CHAR(10),\"\") & IF(AG15>0,'Economies classées'!$A$44 & TEXT(AG15,\"0%\") & \" \" & CHAR(10),\"\")& IF(AI15>0,'Economies classées'!$A$25 & TEXT(AI15,\"0%\") & \" \" & CHAR(10),\"\")","v":""}]
[null,104,{"$f":"Traduction!$A$8","v":"Pompes"},null,null,null,null,null,null,null,null,null,null,null,null,null,null,null,null,0,null,null,null,null,null,null,null,null,0,0,0,0,{"$f":"IF(AND(O16=Listes!$J$25,P16=Listes!$J$26),IF(C16=Listes!$H$25,IF(Q16=Listes!$O$26,0.2,IF(Q16=Listes!$O$25,0.1,0.15)),0.2),0)","v":0},0,{"$f":"IF(S16=Listes!$J$26,0.12,0)","v":0},"Pompesp1","Pompesp1",{"$f":"IF(ISBLANK(L16),\"\",IF(L16<=Eval_eco_pom_ven!$Q$7,Eval_eco_pom_ven!$P$7,IF(L16<=Eval_eco_pom_ven!$Q$8,Eval_eco_pom_ven!$P$8,IF(L16<=Eval_eco_pom_ven!$Q$9,Eval_eco_pom_ven!$P$9,IF(L16<=Eval_eco_pom_ven!$Q$10,Eval_eco_pom_ven!$P$10,Eval_eco_pom_ven!$P$11)))))","v":""},{"$f":"IF(AH16>0,IF(AF16>0,'Economies classées'!$A$22,'Economies classées'!$A$24),\"\") & IF(AG16>0, \" \" & 'Economies classées'!$A$23,\"\")","v":""},{"$f":"IF(AF16>0,'Economies classées'!$A$42 & TEXT(AF16,\"0%\") & \" \" & CHAR(10),\"\") & IF(AH16>0,'Economies classées'!$A$43 & TEXT(AH16,\"0%\") & \" \" & CHAR(10),\"\") & IF(AG16>0,'Economies classées'!$A$44 & TEXT(AG16,\"0%\") & \" \" & CHAR(10),\"\")& IF(AI16>0,'Economies classées'!$A$25 & TEXT(AI16,\"0%\") & \" \" & CHAR(10),\"\")","v":""}]
[null,105,{"$f":"Traduction!$A$8","v":"Pompes"},null,null,null,null,null,null,null,null,null,null,null,null,null,null,null,null,0,null,null,null,null,null,null,null,null,0,0,0,0,{"$f":"IF(AND(O17=Listes!$J$25,P17=Listes!$J$26),IF(C17=Listes!$H$25,IF(Q17=Listes!$O$26,0.2,IF(Q17=Listes!$O$25,0.1,0.15)),0.2),0)","v":0},0,{"$f":"IF(S17=Listes!$J$26,0.12,0)","v":0},"Pompesp1","Pompesp1",{"$f":"IF(ISBLANK(L17),\"\",IF(L17<=Eval_eco_pom_ven!$Q$7,Eval_eco_pom_ven!$P$7,IF(L17<=Eval_eco_pom_ven!$Q$8,Eval_eco_pom_ven!$P$8,IF(L17<=Eval_eco_pom_ven!$Q$9,Eval_eco_pom_ven!$P$9,IF(L17<=Eval_eco_pom_ven!$Q$10,Eval_eco_pom_ven!$P$10,Eval_eco_pom_ven!$P$11)))))","v":""},{"$f":"IF(AH17>0,IF(AF17>0,'Economies classées'!$A$22,'Economies classées'!$A$24),\"\") & IF(AG17>0, \" \" & 'Economies classées'!$A$23,\"\")","v":""},{"$f":"IF(AF17>0,'Economies classées'!$A$42 & TEXT(AF17,\"0%\") & \" \" & CHAR(10),\"\") & IF(AH17>0,'Economies classées'!$A$43 & TEXT(AH17,\"0%\") & \" \" & CHAR(10),\"\") & IF(AG17>0,'Economies classées'!$A$44 & TEXT(AG17,\"0%\") & \" \" & CHAR(10),\"\")& IF(AI17>0,'Economies classées'!$A$25 & TEXT(AI17,\"0%\") & \" \" & CHAR(10),\"\")","v":""}]
[null,106,{"$f":"Traduction!$A$8","v":"Pompes"},null,null,null,null,null,null,null,null,null,null,null,null,null,null,null,null,{"$f":"IF(V18>0,V18,AC18)","v":0},null,null,null,null,null,null,null,null,0,0,0,0,{"$f":"IF(AND(O18=Listes!$J$25,P18=Listes!$J$26),IF(C18=Listes!$H$25,IF(Q18=Listes!$O$26,0.2,IF(Q18=Listes!$O$25,0.1,0.15)),0.2),0)","v":0},0,{"$f":"IF(S18=Listes!$J$26,0.12,0)","v":0},"Pompesp1","Pompesp1",{"$f":"IF(ISBLANK(L18),\"\",IF(L18<=Eval_eco_pom_ven!$Q$7,Eval_eco_pom_ven!$P$7,IF(L18<=Eval_eco_pom_ven!$Q$8,Eval_eco_pom_ven!$P$8,IF(L18<=Eval_eco_pom_ven!$Q$9,Eval_eco_pom_ven!$P$9,IF(L18<=Eval_eco_pom_ven!$Q$10,Eval_eco_pom_ven!$P$10,Eval_eco_pom_ven!$P$11)))))","v":""},{"$f":"IF(AH18>0,IF(AF18>0,'Economies classées'!$A$22,'Economies classées'!$A$24),\"\") & IF(AG18>0, \" \" & 'Economies classées'!$A$23,\"\")","v":""},{"$f":"IF(AF18>0,'Economies classées'!$A$42 & TEXT(AF18,\"0%\") & \" \" & CHAR(10),\"\") & IF(AH18>0,'Economies classées'!$A$43 & TEXT(AH18,\"0%\") & \" \" & CHAR(10),\"\") & IF(AG18>0,'Economies classées'!$A$44 & TEXT(AG18,\"0%\") & \" \" & CHAR(10),\"\")& IF(AI18>0,'Economies classées'!$A$25 & TEXT(AI18,\"0%\") & \" \" & CHAR(10),\"\")","v":""}]
[null,107,{"$f":"Traduction!$A$8","v":"Pompes"},null,null,null,null,null,null,null,null,null,null,null,null,null,null,null,null,0,null,null,null,null,null,null,null,null,0,0,0,0,{"$f":"IF(AND(O19=Listes!$J$25,P19=Listes!$J$26),IF(C19=Listes!$H$25,IF(Q19=Listes!$O$26,0.2,IF(Q19=Listes!$O$25,0.1,0.15)),0.2),0)","v":0},0,{"$f":"IF(S19=Listes!$J$26,0.12,0)","v":0},"Pompesp1","Pompesp1",{"$f":"IF(ISBLANK(L19),\"\",IF(L19<=Eval_eco_pom_ven!$Q$7,Eval_eco_pom_ven!$P$7,IF(L19<=Eval_eco_pom_ven!$Q$8,Eval_eco_pom_ven!$P$8,IF(L19<=Eval_eco_pom_ven!$Q$9,Eval_eco_pom_ven!$P$9,IF(L19<=Eval_eco_pom_ven!$Q$10,Eval_eco_pom_ven!$P$10,Eval_eco_pom_ven!$P$11)))))","v":""},{"$f":"IF(AH19>0,IF(AF19>0,'Economies classées'!$A$22,'Economies classées'!$A$24),\"\") & IF(AG19>0, \" \" & 'Economies classées'!$A$23,\"\")","v":""},{"$f":"IF(AF19>0,'Economies classées'!$A$42 & TEXT(AF19,\"0%\") & \" \" & CHAR(10),\"\") & IF(AH19>0,'Economies classées'!$A$43 & TEXT(AH19,\"0%\") & \" \" & CHAR(10),\"\") & IF(AG19>0,'Economies classées'!$A$44 & TEXT(AG19,\"0%\") & \" \" & CHAR(10),\"\")& IF(AI19>0,'Economies classées'!$A$25 & TEXT(AI19,\"0%\") & \" \" & CHAR(10),\"\")","v":""}]
[null,108,{"$f":"Traduction!$A$8","v":"Pompes"},null,null,null,null,null,null,null,null,null,null,null,null,null,null,null,null,0,null,null,null,null,null,null,null,null,0,0,0,0,{"$f":"IF(AND(O20=Listes!$J$25,P20=Listes!$J$26),IF(C20=Listes!$H$25,IF(Q20=Listes!$O$26,0.2,IF(Q20=Listes!$O$25,0.1,0.15)),0.2),0)","v":0},0,{"$f":"IF(S20=Listes!$J$26,0.12,0)","v":0},"Pompesp1","Pompesp1",{"$f":"IF(ISBLANK(L20),\"\",IF(L20<=Eval_eco_pom_ven!$Q$7,Eval_eco_pom_ven!$P$7,IF(L20<=Eval_eco_pom_ven!$Q$8,Eval_eco_pom_ven!$P$8,IF(L20<=Eval_eco_pom_ven!$Q$9,Eval_eco_pom_ven!$P$9,IF(L20<=Eval_eco_pom_ven!$Q$10,Eval_eco_pom_ven!$P$10,Eval_eco_pom_ven!$P$11)))))","v":""},{"$f":"IF(AH20>0,IF(AF20>0,'Economies classées'!$A$22,'Economies classées'!$A$24),\"\") & IF(AG20>0, \" \" & 'Economies classées'!$A$23,\"\")","v":""},{"$f":"IF(AF20>0,'Economies classées'!$A$42 & TEXT(AF20,\"0%\") & \" \" & CHAR(10),\"\") & IF(AH20>0,'Economies classées'!$A$43 & TEXT(AH20,\"0%\") & \" \" & CHAR(10),\"\") & IF(AG20>0,'Economies classées'!$A$44 & TEXT(AG20,\"0%\") & \" \" & CHAR(10),\"\")& IF(AI20>0,'Economies classées'!$A$25 & TEXT(AI20,\"0%\") & \" \" & CHAR(10),\"\")","v":""}]
[null,109,{"$f":"Traduction!$A$8","v":"Pompes"},null,null,null,null,null,null,null,null,null,null,null,null,null,null,null,null,0,null,null,null,null,null,null,null,null,0,0,0,0,{"$f":"IF(AND(O21=Listes!$J$25,P21=Listes!$J$26),IF(C21=Listes!$H$25,IF(Q21=Listes!$O$26,0.2,IF(Q21=Listes!$O$25,0.1,0.15)),0.2),0)","v":0},0,{"$f":"IF(S21=Listes!$J$26,0.12,0)","v":0},"Pompesp1","Pompesp1",{"$f":"IF(ISBLANK(L21),\"\",IF(L21<=Eval_eco_pom_ven!$Q$7,Eval_eco_pom_ven!$P$7,IF(L21<=Eval_eco_pom_ven!$Q$8,Eval_eco_pom_ven!$P$8,IF(L21<=Eval_eco_pom_ven!$Q$9,Eval_eco_pom_ven!$P$9,IF(L21<=Eval_eco_pom_ven!$Q$10,Eval_eco_pom_ven!$P$10,Eval_eco_pom_ven!$P$11)))))","v":""},{"$f":"IF(AH21>0,IF(AF21>0,'Economies classées'!$A$22,'Economies classées'!$A$24),\"\") & IF(AG21>0, \" \" & 'Economies classées'!$A$23,\"\")","v":""},{"$f":"IF(AF21>0,'Economies classées'!$A$42 & TEXT(AF21,\"0%\") & \" \" & CHAR(10),\"\") & IF(AH21>0,'Economies classées'!$A$43 & TEXT(AH21,\"0%\") & \" \" & CHAR(10),\"\") & IF(AG21>0,'Economies classées'!$A$44 & TEXT(AG21,\"0%\") & \" \" & CHAR(10),\"\")& IF(AI21>0,'Economies classées'!$A$25 & TEXT(AI21,\"0%\") & \" \" & CHAR(10),\"\")","v":""}]
[null,110,{"$f":"Traduction!$A$8","v":"Pompes"},null,null,null,null,null,null,null,null,null,null,null,null,null,null,null,null,0,null,null,null,null,null,null,null,null,0,0,0,0,{"$f":"IF(AND(O22=Listes!$J$25,P22=Listes!$J$26),IF(C22=Listes!$H$25,IF(Q22=Listes!$O$26,0.2,IF(Q22=Listes!$O$25,0.1,0.15)),0.2),0)","v":0},0,{"$f":"IF(S22=Listes!$J$26,0.12,0)","v":0},"Pompesp1","Pompesp1",{"$f":"IF(ISBLANK(L22),\"\",IF(L22<=Eval_eco_pom_ven!$Q$7,Eval_eco_pom_ven!$P$7,IF(L22<=Eval_eco_pom_ven!$Q$8,Eval_eco_pom_ven!$P$8,IF(L22<=Eval_eco_pom_ven!$Q$9,Eval_eco_pom_ven!$P$9,IF(L22<=Eval_eco_pom_ven!$Q$10,Eval_eco_pom_ven!$P$10,Eval_eco_pom_ven!$P$11)))))","v":""},{"$f":"IF(AH22>0,IF(AF22>0,'Economies classées'!$A$22,'Economies classées'!$A$24),\"\") & IF(AG22>0, \" \" & 'Economies classées'!$A$23,\"\")","v":""},{"$f":"IF(AF22>0,'Economies classées'!$A$42 & TEXT(AF22,\"0%\") & \" \" & CHAR(10),\"\") & IF(AH22>0,'Economies classées'!$A$43 & TEXT(AH22,\"0%\") & \" \" & CHAR(10),\"\") & IF(AG22>0,'Economies classées'!$A$44 & TEXT(AG22,\"0%\") & \" \" & CHAR(10),\"\")& IF(AI22>0,'Economies classées'!$A$25 & TEXT(AI22,\"0%\") & \" \" & CHAR(10),\"\")","v":""}]
[null,111,{"$f":"Traduction!$A$8","v":"Pompes"},null,null,null,null,null,null,null,null,null,null,null,null,null,null,null,null,0,null,null,null,null,null,null,null,null,0,0,0,0,{"$f":"IF(AND(O23=Listes!$J$25,P23=Listes!$J$26),IF(C23=Listes!$H$25,IF(Q23=Listes!$O$26,0.2,IF(Q23=Listes!$O$25,0.1,0.15)),0.2),0)","v":0},0,{"$f":"IF(S23=Listes!$J$26,0.12,0)","v":0},"Pompesp1","Pompesp1",{"$f":"IF(ISBLANK(L23),\"\",IF(L23<=Eval_eco_pom_ven!$Q$7,Eval_eco_pom_ven!$P$7,IF(L23<=Eval_eco_pom_ven!$Q$8,Eval_eco_pom_ven!$P$8,IF(L23<=Eval_eco_pom_ven!$Q$9,Eval_eco_pom_ven!$P$9,IF(L23<=Eval_eco_pom_ven!$Q$10,Eval_eco_pom_ven!$P$10,Eval_eco_pom_ven!$P$11)))))","v":""},{"$f":"IF(AH23>0,IF(AF23>0,'Economies classées'!$A$22,'Economies classées'!$A$24),\"\") & IF(AG23>0, \" \" & 'Economies classées'!$A$23,\"\")","v":""},{"$f":"IF(AF23>0,'Economies classées'!$A$42 & TEXT(AF23,\"0%\") & \" \" & CHAR(10),\"\") & IF(AH23>0,'Economies classées'!$A$43 & TEXT(AH23,\"0%\") & \" \" & CHAR(10),\"\") & IF(AG23>0,'Economies classées'!$A$44 & TEXT(AG23,\"0%\") & \" \" & CHAR(10),\"\")& IF(AI23>0,'Economies classées'!$A$25 & TEXT(AI23,\"0%\") & \" \" & CHAR(10),\"\")","v":""}]
[null,112,{"$f":"Traduction!$A$8","v":"Pompes"},null,null,null,null,null,null,null,null,null,null,null,null,null,null,null,null,0,null,null,null,null,null,null,null,null,0,0,0,0,{"$f":"IF(AND(O24=Listes!$J$25,P24=Listes!$J$26),IF(C24=Listes!$H$25,IF(Q24=Listes!$O$26,0.2,IF(Q24=Listes!$O$25,0.1,0.15)),0.2),0)","v":0},0,{"$f":"IF(S24=Listes!$J$26,0.12,0)","v":0},"Pompesp1","Pompesp1",{"$f":"IF(ISBLANK(L24),\"\",IF(L24<=Eval_eco_pom_ven!$Q$7,Eval_eco_pom_ven!$P$7,IF(L24<=Eval_eco_pom_ven!$Q$8,Eval_eco_pom_ven!$P$8,IF(L24<=Eval_eco_pom_ven!$Q$9,Eval_eco_pom_ven!$P$9,IF(L24<=Eval_eco_pom_ven!$Q$10,Eval_eco_pom_ven!$P$10,Eval_eco_pom_ven!$P$11)))))","v":""},{"$f":"IF(AH24>0,IF(AF24>0,'Economies classées'!$A$22,'Economies classées'!$A$24),\"\") & IF(AG24>0, \" \" & 'Economies classées'!$A$23,\"\")","v":""},{"$f":"IF(AF24>0,'Economies classées'!$A$42 & TEXT(AF24,\"0%\") & \" \" & CHAR(10),\"\") & IF(AH24>0,'Economies classées'!$A$43 & TEXT(AH24,\"0%\") & \" \" & CHAR(10),\"\") & IF(AG24>0,'Economies classées'!$A$44 & TEXT(AG24,\"0%\") & \" \" & CHAR(10),\"\")& IF(AI24>0,'Economies classées'!$A$25 & TEXT(AI24,\"0%\") & \" \" & CHAR(10),\"\")","v":""}]
[null,113,{"$f":"Traduction!$A$8","v":"Pompes"},null,null,null,null,null,null,null,null,null,null,null,null,null,null,null,null,0,null,null,null,null,null,null,null,null,0,0,0,0,{"$f":"IF(AND(O25=Listes!$J$25,P25=Listes!$J$26),IF(C25=Listes!$H$25,IF(Q25=Listes!$O$26,0.2,IF(Q25=Listes!$O$25,0.1,0.15)),0.2),0)","v":0},0,{"$f":"IF(S25=Listes!$J$26,0.12,0)","v":0},"Pompesp1","Pompesp1",{"$f":"IF(ISBLANK(L25),\"\",IF(L25<=Eval_eco_pom_ven!$Q$7,Eval_eco_pom_ven!$P$7,IF(L25<=Eval_eco_pom_ven!$Q$8,Eval_eco_pom_ven!$P$8,IF(L25<=Eval_eco_pom_ven!$Q$9,Eval_eco_pom_ven!$P$9,IF(L25<=Eval_eco_pom_ven!$Q$10,Eval_eco_pom_ven!$P$10,Eval_eco_pom_ven!$P$11)))))","v":""},{"$f":"IF(AH25>0,IF(AF25>0,'Economies classées'!$A$22,'Economies classées'!$A$24),\"\") & IF(AG25>0, \" \" & 'Economies classées'!$A$23,\"\")","v":""},{"$f":"IF(AF25>0,'Economies classées'!$A$42 & TEXT(AF25,\"0%\") & \" \" & CHAR(10),\"\") & IF(AH25>0,'Economies classées'!$A$43 & TEXT(AH25,\"0%\") & \" \" & CHAR(10),\"\") & IF(AG25>0,'Economies classées'!$A$44 & TEXT(AG25,\"0%\") & \" \" & CHAR(10),\"\")& IF(AI25>0,'Economies classées'!$A$25 & TEXT(AI25,\"0%\") & \" \" & CHAR(10),\"\")","v":""}]
[null,114,{"$f":"Traduction!$A$8","v":"Pompes"},null,null,null,null,null,null,null,null,null,null,null,null,null,null,null,null,0,null,null,null,null,null,null,null,null,0,0,0,0,{"$f":"IF(AND(O26=Listes!$J$25,P26=Listes!$J$26),IF(C26=Listes!$H$25,IF(Q26=Listes!$O$26,0.2,IF(Q26=Listes!$O$25,0.1,0.15)),0.2),0)","v":0},0,{"$f":"IF(S26=Listes!$J$26,0.12,0)","v":0},"Pompesp1","Pompesp1",{"$f":"IF(ISBLANK(L26),\"\",IF(L26<=Eval_eco_pom_ven!$Q$7,Eval_eco_pom_ven!$P$7,IF(L26<=Eval_eco_pom_ven!$Q$8,Eval_eco_pom_ven!$P$8,IF(L26<=Eval_eco_pom_ven!$Q$9,Eval_eco_pom_ven!$P$9,IF(L26<=Eval_eco_pom_ven!$Q$10,Eval_eco_pom_ven!$P$10,Eval_eco_pom_ven!$P$11)))))","v":""},{"$f":"IF(AH26>0,IF(AF26>0,'Economies classées'!$A$22,'Economies classées'!$A$24),\"\") & IF(AG26>0, \" \" & 'Economies classées'!$A$23,\"\")","v":""},{"$f":"IF(AF26>0,'Economies classées'!$A$42 & TEXT(AF26,\"0%\") & \" \" & CHAR(10),\"\") & IF(AH26>0,'Economies classées'!$A$43 & TEXT(AH26,\"0%\") & \" \" & CHAR(10),\"\") & IF(AG26>0,'Economies classées'!$A$44 & TEXT(AG26,\"0%\") & \" \" & CHAR(10),\"\")& IF(AI26>0,'Economies classées'!$A$25 & TEXT(AI26,\"0%\") & \" \" & CHAR(10),\"\")","v":""}]
[null,115,{"$f":"Traduction!$A$8","v":"Pompes"},null,null,null,null,null,null,null,null,null,null,null,null,null,null,null,null,0,null,null,null,null,null,null,null,null,0,0,0,0,{"$f":"IF(AND(O27=Listes!$J$25,P27=Listes!$J$26),IF(C27=Listes!$H$25,IF(Q27=Listes!$O$26,0.2,IF(Q27=Listes!$O$25,0.1,0.15)),0.2),0)","v":0},0,{"$f":"IF(S27=Listes!$J$26,0.12,0)","v":0},"Pompesp1","Pompesp1",{"$f":"IF(ISBLANK(L27),\"\",IF(L27<=Eval_eco_pom_ven!$Q$7,Eval_eco_pom_ven!$P$7,IF(L27<=Eval_eco_pom_ven!$Q$8,Eval_eco_pom_ven!$P$8,IF(L27<=Eval_eco_pom_ven!$Q$9,Eval_eco_pom_ven!$P$9,IF(L27<=Eval_eco_pom_ven!$Q$10,Eval_eco_pom_ven!$P$10,Eval_eco_pom_ven!$P$11)))))","v":""},{"$f":"IF(AH27>0,IF(AF27>0,'Economies classées'!$A$22,'Economies classées'!$A$24),\"\") & IF(AG27>0, \" \" & 'Economies classées'!$A$23,\"\")","v":""},{"$f":"IF(AF27>0,'Economies classées'!$A$42 & TEXT(AF27,\"0%\") & \" \" & CHAR(10),\"\") & IF(AH27>0,'Economies classées'!$A$43 & TEXT(AH27,\"0%\") & \" \" & CHAR(10),\"\") & IF(AG27>0,'Economies classées'!$A$44 & TEXT(AG27,\"0%\") & \" \" & CHAR(10),\"\")& IF(AI27>0,'Economies classées'!$A$25 & TEXT(AI27,\"0%\") & \" \" & CHAR(10),\"\")","v":""}]
[null,116,{"$f":"Traduction!$A$8","v":"Pompes"},null,null,null,null,null,null,null,null,null,null,null,null,null,null,null,null,0,null,null,null,null,null,null,null,null,0,0,0,0,{"$f":"IF(AND(O28=Listes!$J$25,P28=Listes!$J$26),IF(C28=Listes!$H$25,IF(Q28=Listes!$O$26,0.2,IF(Q28=Listes!$O$25,0.1,0.15)),0.2),0)","v":0},0,{"$f":"IF(S28=Listes!$J$26,0.12,0)","v":0},"Pompesp1","Pompesp1",{"$f":"IF(ISBLANK(L28),\"\",IF(L28<=Eval_eco_pom_ven!$Q$7,Eval_eco_pom_ven!$P$7,IF(L28<=Eval_eco_pom_ven!$Q$8,Eval_eco_pom_ven!$P$8,IF(L28<=Eval_eco_pom_ven!$Q$9,Eval_eco_pom_ven!$P$9,IF(L28<=Eval_eco_pom_ven!$Q$10,Eval_eco_pom_ven!$P$10,Eval_eco_pom_ven!$P$11)))))","v":""},{"$f":"IF(AH28>0,IF(AF28>0,'Economies classées'!$A$22,'Economies classées'!$A$24),\"\") & IF(AG28>0, \" \" & 'Economies classées'!$A$23,\"\")","v":""},{"$f":"IF(AF28>0,'Economies classées'!$A$42 & TEXT(AF28,\"0%\") & \" \" & CHAR(10),\"\") & IF(AH28>0,'Economies classées'!$A$43 & TEXT(AH28,\"0%\") & \" \" & CHAR(10),\"\") & IF(AG28>0,'Economies classées'!$A$44 & TEXT(AG28,\"0%\") & \" \" & CHAR(10),\"\")& IF(AI28>0,'Economies classées'!$A$25 & TEXT(AI28,\"0%\") & \" \" & CHAR(10),\"\")","v":""}]
[null,117,{"$f":"Traduction!$A$8","v":"Pompes"},null,null,null,null,null,null,null,null,null,null,null,null,null,null,null,null,0,null,null,null,null,null,null,null,null,0,0,0,0,{"$f":"IF(AND(O29=Listes!$J$25,P29=Listes!$J$26),IF(C29=Listes!$H$25,IF(Q29=Listes!$O$26,0.2,IF(Q29=Listes!$O$25,0.1,0.15)),0.2),0)","v":0},0,{"$f":"IF(S29=Listes!$J$26,0.12,0)","v":0},"Pompesp1","Pompesp1",{"$f":"IF(ISBLANK(L29),\"\",IF(L29<=Eval_eco_pom_ven!$Q$7,Eval_eco_pom_ven!$P$7,IF(L29<=Eval_eco_pom_ven!$Q$8,Eval_eco_pom_ven!$P$8,IF(L29<=Eval_eco_pom_ven!$Q$9,Eval_eco_pom_ven!$P$9,IF(L29<=Eval_eco_pom_ven!$Q$10,Eval_eco_pom_ven!$P$10,Eval_eco_pom_ven!$P$11)))))","v":""},{"$f":"IF(AH29>0,IF(AF29>0,'Economies classées'!$A$22,'Economies classées'!$A$24),\"\") & IF(AG29>0, \" \" & 'Economies classées'!$A$23,\"\")","v":""},{"$f":"IF(AF29>0,'Economies classées'!$A$42 & TEXT(AF29,\"0%\") & \" \" & CHAR(10),\"\") & IF(AH29>0,'Economies classées'!$A$43 & TEXT(AH29,\"0%\") & \" \" & CHAR(10),\"\") & IF(AG29>0,'Economies classées'!$A$44 & TEXT(AG29,\"0%\") & \" \" & CHAR(10),\"\")& IF(AI29>0,'Economies classées'!$A$25 & TEXT(AI29,\"0%\") & \" \" & CHAR(10),\"\")","v":""}]
[null,118,{"$f":"Traduction!$A$8","v":"Pompes"},null,null,null,null,null,null,null,null,null,null,null,null,null,null,null,null,0,null,null,null,null,null,null,null,null,0,0,0,0,{"$f":"IF(AND(O30=Listes!$J$25,P30=Listes!$J$26),IF(C30=Listes!$H$25,IF(Q30=Listes!$O$26,0.2,IF(Q30=Listes!$O$25,0.1,0.15)),0.2),0)","v":0},0,{"$f":"IF(S30=Listes!$J$26,0.12,0)","v":0},"Pompesp1","Pompesp1",{"$f":"IF(ISBLANK(L30),\"\",IF(L30<=Eval_eco_pom_ven!$Q$7,Eval_eco_pom_ven!$P$7,IF(L30<=Eval_eco_pom_ven!$Q$8,Eval_eco_pom_ven!$P$8,IF(L30<=Eval_eco_pom_ven!$Q$9,Eval_eco_pom_ven!$P$9,IF(L30<=Eval_eco_pom_ven!$Q$10,Eval_eco_pom_ven!$P$10,Eval_eco_pom_ven!$P$11)))))","v":""},{"$f":"IF(AH30>0,IF(AF30>0,'Economies classées'!$A$22,'Economies classées'!$A$24),\"\") & IF(AG30>0, \" \" & 'Economies classées'!$A$23,\"\")","v":""},{"$f":"IF(AF30>0,'Economies classées'!$A$42 & TEXT(AF30,\"0%\") & \" \" & CHAR(10),\"\") & IF(AH30>0,'Economies classées'!$A$43 & TEXT(AH30,\"0%\") & \" \" & CHAR(10),\"\") & IF(AG30>0,'Economies classées'!$A$44 & TEXT(AG30,\"0%\") & \" \" & CHAR(10),\"\")& IF(AI30>0,'Economies classées'!$A$25 & TEXT(AI30,\"0%\") & \" \" & CHAR(10),\"\")","v":""}]
[null,119,{"$f":"Traduction!$A$8","v":"Pompes"},null,null,null,null,null,null,null,null,null,null,null,null,null,null,null,null,0,null,null,null,null,null,null,null,null,0,0,0,0,{"$f":"IF(AND(O31=Listes!$J$25,P31=Listes!$J$26),IF(C31=Listes!$H$25,IF(Q31=Listes!$O$26,0.2,IF(Q31=Listes!$O$25,0.1,0.15)),0.2),0)","v":0},0,{"$f":"IF(S31=Listes!$J$26,0.12,0)","v":0},"Pompesp1","Pompesp1",{"$f":"IF(ISBLANK(L31),\"\",IF(L31<=Eval_eco_pom_ven!$Q$7,Eval_eco_pom_ven!$P$7,IF(L31<=Eval_eco_pom_ven!$Q$8,Eval_eco_pom_ven!$P$8,IF(L31<=Eval_eco_pom_ven!$Q$9,Eval_eco_pom_ven!$P$9,IF(L31<=Eval_eco_pom_ven!$Q$10,Eval_eco_pom_ven!$P$10,Eval_eco_pom_ven!$P$11)))))","v":""},{"$f":"IF(AH31>0,IF(AF31>0,'Economies classées'!$A$22,'Economies classées'!$A$24),\"\") & IF(AG31>0, \" \" & 'Economies classées'!$A$23,\"\")","v":""},{"$f":"IF(AF31>0,'Economies classées'!$A$42 & TEXT(AF31,\"0%\") & \" \" & CHAR(10),\"\") & IF(AH31>0,'Economies classées'!$A$43 & TEXT(AH31,\"0%\") & \" \" & CHAR(10),\"\") & IF(AG31>0,'Economies classées'!$A$44 & TEXT(AG31,\"0%\") & \" \" & CHAR(10),\"\")& IF(AI31>0,'Economies classées'!$A$25 & TEXT(AI31,\"0%\") & \" \" & CHAR(10),\"\")","v":""}]
[null,120,{"$f":"Traduction!$A$8","v":"Pompes"},null,null,null,null,null,null,null,null,null,null,null,null,null,null,null,null,0,null,null,null,null,null,null,null,null,0,0,0,0,{"$f":"IF(AND(O32=Listes!$J$25,P32=Listes!$J$26),IF(C32=Listes!$H$25,IF(Q32=Listes!$O$26,0.2,IF(Q32=Listes!$O$25,0.1,0.15)),0.2),0)","v":0},0,{"$f":"IF(S32=Listes!$J$26,0.12,0)","v":0},"Pompesp1","Pompesp1",{"$f":"IF(ISBLANK(L32),\"\",IF(L32<=Eval_eco_pom_ven!$Q$7,Eval_eco_pom_ven!$P$7,IF(L32<=Eval_eco_pom_ven!$Q$8,Eval_eco_pom_ven!$P$8,IF(L32<=Eval_eco_pom_ven!$Q$9,Eval_eco_pom_ven!$P$9,IF(L32<=Eval_eco_pom_ven!$Q$10,Eval_eco_pom_ven!$P$10,Eval_eco_pom_ven!$P$11)))))","v":""},{"$f":"IF(AH32>0,IF(AF32>0,'Economies classées'!$A$22,'Economies classées'!$A$24),\"\") & IF(AG32>0, \" \" & 'Economies classées'!$A$23,\"\")","v":""},{"$f":"IF(AF32>0,'Economies classées'!$A$42 & TEXT(AF32,\"0%\") & \" \" & CHAR(10),\"\") & IF(AH32>0,'Economies classées'!$A$43 & TEXT(AH32,\"0%\") & \" \" & CHAR(10),\"\") & IF(AG32>0,'Economies classées'!$A$44 & TEXT(AG32,\"0%\") & \" \" & CHAR(10),\"\")& IF(AI32>0,'Economies classées'!$A$25 & TEXT(AI32,\"0%\") & \" \" & CHAR(10),\"\")","v":""}]
[null,121,{"$f":"Traduction!$A$8","v":"Pompes"},null,null,null,null,null,null,null,null,null,null,null,null,null,null,null,null,0,null,null,null,null,null,null,null,null,0,0,0,0,{"$f":"IF(AND(O33=Listes!$J$25,P33=Listes!$J$26),IF(C33=Listes!$H$25,IF(Q33=Listes!$O$26,0.2,IF(Q33=Listes!$O$25,0.1,0.15)),0.2),0)","v":0},0,{"$f":"IF(S33=Listes!$J$26,0.12,0)","v":0},"Pompesp1","Pompesp1",{"$f":"IF(ISBLANK(L33),\"\",IF(L33<=Eval_eco_pom_ven!$Q$7,Eval_eco_pom_ven!$P$7,IF(L33<=Eval_eco_pom_ven!$Q$8,Eval_eco_pom_ven!$P$8,IF(L33<=Eval_eco_pom_ven!$Q$9,Eval_eco_pom_ven!$P$9,IF(L33<=Eval_eco_pom_ven!$Q$10,Eval_eco_pom_ven!$P$10,Eval_eco_pom_ven!$P$11)))))","v":""},{"$f":"IF(AH33>0,IF(AF33>0,'Economies classées'!$A$22,'Economies classées'!$A$24),\"\") & IF(AG33>0, \" \" & 'Economies classées'!$A$23,\"\")","v":""},{"$f":"IF(AF33>0,'Economies classées'!$A$42 & TEXT(AF33,\"0%\") & \" \" & CHAR(10),\"\") & IF(AH33>0,'Economies classées'!$A$43 & TEXT(AH33,\"0%\") & \" \" & CHAR(10),\"\") & IF(AG33>0,'Economies classées'!$A$44 & TEXT(AG33,\"0%\") & \" \" & CHAR(10),\"\")& IF(AI33>0,'Economies classées'!$A$25 & TEXT(AI33,\"0%\") & \" \" & CHAR(10),\"\")","v":""}]
[null,122,{"$f":"Traduction!$A$8","v":"Pompes"},null,null,null,null,null,null,null,null,null,null,null,null,null,null,null,null,0,null,null,null,null,null,null,null,null,0,0,0,0,{"$f":"IF(AND(O34=Listes!$J$25,P34=Listes!$J$26),IF(C34=Listes!$H$25,IF(Q34=Listes!$O$26,0.2,IF(Q34=Listes!$O$25,0.1,0.15)),0.2),0)","v":0},0,{"$f":"IF(S34=Listes!$J$26,0.12,0)","v":0},"Pompesp1","Pompesp1",{"$f":"IF(ISBLANK(L34),\"\",IF(L34<=Eval_eco_pom_ven!$Q$7,Eval_eco_pom_ven!$P$7,IF(L34<=Eval_eco_pom_ven!$Q$8,Eval_eco_pom_ven!$P$8,IF(L34<=Eval_eco_pom_ven!$Q$9,Eval_eco_pom_ven!$P$9,IF(L34<=Eval_eco_pom_ven!$Q$10,Eval_eco_pom_ven!$P$10,Eval_eco_pom_ven!$P$11)))))","v":""},{"$f":"IF(AH34>0,IF(AF34>0,'Economies classées'!$A$22,'Economies classées'!$A$24),\"\") & IF(AG34>0, \" \" & 'Economies classées'!$A$23,\"\")","v":""},{"$f":"IF(AF34>0,'Economies classées'!$A$42 & TEXT(AF34,\"0%\") & \" \" & CHAR(10),\"\") & IF(AH34>0,'Economies classées'!$A$43 & TEXT(AH34,\"0%\") & \" \" & CHAR(10),\"\") & IF(AG34>0,'Economies classées'!$A$44 & TEXT(AG34,\"0%\") & \" \" & CHAR(10),\"\")& IF(AI34>0,'Economies classées'!$A$25 & TEXT(AI34,\"0%\") & \" \" & CHAR(10),\"\")","v":""}]
[null,123,{"$f":"Traduction!$A$8","v":"Pompes"},null,null,null,null,null,null,null,null,null,null,null,null,null,null,null,null,0,null,null,null,null,null,null,null,null,0,0,0,0,{"$f":"IF(AND(O35=Listes!$J$25,P35=Listes!$J$26),IF(C35=Listes!$H$25,IF(Q35=Listes!$O$26,0.2,IF(Q35=Listes!$O$25,0.1,0.15)),0.2),0)","v":0},0,{"$f":"IF(S35=Listes!$J$26,0.12,0)","v":0},"Pompesp1","Pompesp1",{"$f":"IF(ISBLANK(L35),\"\",IF(L35<=Eval_eco_pom_ven!$Q$7,Eval_eco_pom_ven!$P$7,IF(L35<=Eval_eco_pom_ven!$Q$8,Eval_eco_pom_ven!$P$8,IF(L35<=Eval_eco_pom_ven!$Q$9,Eval_eco_pom_ven!$P$9,IF(L35<=Eval_eco_pom_ven!$Q$10,Eval_eco_pom_ven!$P$10,Eval_eco_pom_ven!$P$11)))))","v":""},{"$f":"IF(AH35>0,IF(AF35>0,'Economies classées'!$A$22,'Economies classées'!$A$24),\"\") & IF(AG35>0, \" \" & 'Economies classées'!$A$23,\"\")","v":""},{"$f":"IF(AF35>0,'Economies classées'!$A$42 & TEXT(AF35,\"0%\") & \" \" & CHAR(10),\"\") & IF(AH35>0,'Economies classées'!$A$43 & TEXT(AH35,\"0%\") & \" \" & CHAR(10),\"\") & IF(AG35>0,'Economies classées'!$A$44 & TEXT(AG35,\"0%\") & \" \" & CHAR(10),\"\")& IF(AI35>0,'Economies classées'!$A$25 & TEXT(AI35,\"0%\") & \" \" & CHAR(10),\"\")","v":""}]
[null,124,{"$f":"Traduction!$A$8","v":"Pompes"},null,null,null,null,null,null,null,null,null,null,null,null,null,null,null,null,0,null,null,null,null,null,null,null,null,0,0,0,0,{"$f":"IF(AND(O36=Listes!$J$25,P36=Listes!$J$26),IF(C36=Listes!$H$25,IF(Q36=Listes!$O$26,0.2,IF(Q36=Listes!$O$25,0.1,0.15)),0.2),0)","v":0},0,{"$f":"IF(S36=Listes!$J$26,0.12,0)","v":0},"Pompesp1","Pompesp1",{"$f":"IF(ISBLANK(L36),\"\",IF(L36<=Eval_eco_pom_ven!$Q$7,Eval_eco_pom_ven!$P$7,IF(L36<=Eval_eco_pom_ven!$Q$8,Eval_eco_pom_ven!$P$8,IF(L36<=Eval_eco_pom_ven!$Q$9,Eval_eco_pom_ven!$P$9,IF(L36<=Eval_eco_pom_ven!$Q$10,Eval_eco_pom_ven!$P$10,Eval_eco_pom_ven!$P$11)))))","v":""},{"$f":"IF(AH36>0,IF(AF36>0,'Economies classées'!$A$22,'Economies classées'!$A$24),\"\") & IF(AG36>0, \" \" & 'Economies classées'!$A$23,\"\")","v":""},{"$f":"IF(AF36>0,'Economies classées'!$A$42 & TEXT(AF36,\"0%\") & \" \" & CHAR(10),\"\") & IF(AH36>0,'Economies classées'!$A$43 & TEXT(AH36,\"0%\") & \" \" & CHAR(10),\"\") & IF(AG36>0,'Economies classées'!$A$44 & TEXT(AG36,\"0%\") & \" \" & CHAR(10),\"\")& IF(AI36>0,'Economies classées'!$A$25 & TEXT(AI36,\"0%\") & \" \" & CHAR(10),\"\")","v":""}]
[null,125,{"$f":"Traduction!$A$8","v":"Pompes"},null,null,null,null,null,null,null,null,null,null,null,null,null,null,null,null,0,null,null,null,null,null,null,null,null,0,0,0,0,{"$f":"IF(AND(O37=Listes!$J$25,P37=Listes!$J$26),IF(C37=Listes!$H$25,IF(Q37=Listes!$O$26,0.2,IF(Q37=Listes!$O$25,0.1,0.15)),0.2),0)","v":0},0,{"$f":"IF(S37=Listes!$J$26,0.12,0)","v":0},"Pompesp1","Pompesp1",{"$f":"IF(ISBLANK(L37),\"\",IF(L37<=Eval_eco_pom_ven!$Q$7,Eval_eco_pom_ven!$P$7,IF(L37<=Eval_eco_pom_ven!$Q$8,Eval_eco_pom_ven!$P$8,IF(L37<=Eval_eco_pom_ven!$Q$9,Eval_eco_pom_ven!$P$9,IF(L37<=Eval_eco_pom_ven!$Q$10,Eval_eco_pom_ven!$P$10,Eval_eco_pom_ven!$P$11)))))","v":""},{"$f":"IF(AH37>0,IF(AF37>0,'Economies classées'!$A$22,'Economies classées'!$A$24),\"\") & IF(AG37>0, \" \" & 'Economies classées'!$A$23,\"\")","v":""},{"$f":"IF(AF37>0,'Economies classées'!$A$42 & TEXT(AF37,\"0%\") & \" \" & CHAR(10),\"\") & IF(AH37>0,'Economies classées'!$A$43 & TEXT(AH37,\"0%\") & \" \" & CHAR(10),\"\") & IF(AG37>0,'Economies classées'!$A$44 & TEXT(AG37,\"0%\") & \" \" & CHAR(10),\"\")& IF(AI37>0,'Economies classées'!$A$25 & TEXT(AI37,\"0%\") & \" \" & CHAR(10),\"\")","v":""}]
[null,126,{"$f":"Traduction!$A$8","v":"Pompes"},null,null,null,null,null,null,null,null,null,null,null,null,null,null,null,null,0,null,null,null,null,null,null,null,null,0,0,0,0,{"$f":"IF(AND(O38=Listes!$J$25,P38=Listes!$J$26),IF(C38=Listes!$H$25,IF(Q38=Listes!$O$26,0.2,IF(Q38=Listes!$O$25,0.1,0.15)),0.2),0)","v":0},0,{"$f":"IF(S38=Listes!$J$26,0.12,0)","v":0},"Pompesp1","Pompesp1",{"$f":"IF(ISBLANK(L38),\"\",IF(L38<=Eval_eco_pom_ven!$Q$7,Eval_eco_pom_ven!$P$7,IF(L38<=Eval_eco_pom_ven!$Q$8,Eval_eco_pom_ven!$P$8,IF(L38<=Eval_eco_pom_ven!$Q$9,Eval_eco_pom_ven!$P$9,IF(L38<=Eval_eco_pom_ven!$Q$10,Eval_eco_pom_ven!$P$10,Eval_eco_pom_ven!$P$11)))))","v":""},{"$f":"IF(AH38>0,IF(AF38>0,'Economies classées'!$A$22,'Economies classées'!$A$24),\"\") & IF(AG38>0, \" \" & 'Economies classées'!$A$23,\"\")","v":""},{"$f":"IF(AF38>0,'Economies classées'!$A$42 & TEXT(AF38,\"0%\") & \" \" & CHAR(10),\"\") & IF(AH38>0,'Economies classées'!$A$43 & TEXT(AH38,\"0%\") & \" \" & CHAR(10),\"\") & IF(AG38>0,'Economies classées'!$A$44 & TEXT(AG38,\"0%\") & \" \" & CHAR(10),\"\")& IF(AI38>0,'Economies classées'!$A$25 & TEXT(AI38,\"0%\") & \" \" & CHAR(10),\"\")","v":""}]
[null,127,{"$f":"Traduction!$A$8","v":"Pompes"},null,null,null,null,null,null,null,null,null,null,null,null,null,null,null,null,0,null,null,null,null,null,null,null,null,0,0,0,0,{"$f":"IF(AND(O39=Listes!$J$25,P39=Listes!$J$26),IF(C39=Listes!$H$25,IF(Q39=Listes!$O$26,0.2,IF(Q39=Listes!$O$25,0.1,0.15)),0.2),0)","v":0},0,{"$f":"IF(S39=Listes!$J$26,0.12,0)","v":0},"Pompesp1","Pompesp1",{"$f":"IF(ISBLANK(L39),\"\",IF(L39<=Eval_eco_pom_ven!$Q$7,Eval_eco_pom_ven!$P$7,IF(L39<=Eval_eco_pom_ven!$Q$8,Eval_eco_pom_ven!$P$8,IF(L39<=Eval_eco_pom_ven!$Q$9,Eval_eco_pom_ven!$P$9,IF(L39<=Eval_eco_pom_ven!$Q$10,Eval_eco_pom_ven!$P$10,Eval_eco_pom_ven!$P$11)))))","v":""},{"$f":"IF(AH39>0,IF(AF39>0,'Economies classées'!$A$22,'Economies classées'!$A$24),\"\") & IF(AG39>0, \" \" & 'Economies classées'!$A$23,\"\")","v":""},{"$f":"IF(AF39>0,'Economies classées'!$A$42 & TEXT(AF39,\"0%\") & \" \" & CHAR(10),\"\") & IF(AH39>0,'Economies classées'!$A$43 & TEXT(AH39,\"0%\") & \" \" & CHAR(10),\"\") & IF(AG39>0,'Economies classées'!$A$44 & TEXT(AG39,\"0%\") & \" \" & CHAR(10),\"\")& IF(AI39>0,'Economies classées'!$A$25 & TEXT(AI39,\"0%\") & \" \" & CHAR(10),\"\")","v":""}]
[null,128,{"$f":"Traduction!$A$8","v":"Pompes"},null,null,null,null,null,null,null,null,null,null,null,null,null,null,null,null,0,null,null,null,null,null,null,null,null,0,0,0,0,{"$f":"IF(AND(O40=Listes!$J$25,P40=Listes!$J$26),IF(C40=Listes!$H$25,IF(Q40=Listes!$O$26,0.2,IF(Q40=Listes!$O$25,0.1,0.15)),0.2),0)","v":0},0,{"$f":"IF(S40=Listes!$J$26,0.12,0)","v":0},"Pompesp1","Pompesp1",{"$f":"IF(ISBLANK(L40),\"\",IF(L40<=Eval_eco_pom_ven!$Q$7,Eval_eco_pom_ven!$P$7,IF(L40<=Eval_eco_pom_ven!$Q$8,Eval_eco_pom_ven!$P$8,IF(L40<=Eval_eco_pom_ven!$Q$9,Eval_eco_pom_ven!$P$9,IF(L40<=Eval_eco_pom_ven!$Q$10,Eval_eco_pom_ven!$P$10,Eval_eco_pom_ven!$P$11)))))","v":""},{"$f":"IF(AH40>0,IF(AF40>0,'Economies classées'!$A$22,'Economies classées'!$A$24),\"\") & IF(AG40>0, \" \" & 'Economies classées'!$A$23,\"\")","v":""},{"$f":"IF(AF40>0,'Economies classées'!$A$42 & TEXT(AF40,\"0%\") & \" \" & CHAR(10),\"\") & IF(AH40>0,'Economies classées'!$A$43 & TEXT(AH40,\"0%\") & \" \" & CHAR(10),\"\") & IF(AG40>0,'Economies classées'!$A$44 & TEXT(AG40,\"0%\") & \" \" & CHAR(10),\"\")& IF(AI40>0,'Economies classées'!$A$25 & TEXT(AI40,\"0%\") & \" \" & CHAR(10),\"\")","v":""}]
[null,129,{"$f":"Traduction!$A$8","v":"Pompes"},null,null,null,null,null,null,null,null,null,null,null,null,null,null,null,null,0,null,null,null,null,null,null,null,null,0,0,0,0,{"$f":"IF(AND(O41=Listes!$J$25,P41=Listes!$J$26),IF(C41=Listes!$H$25,IF(Q41=Listes!$O$26,0.2,IF(Q41=Listes!$O$25,0.1,0.15)),0.2),0)","v":0},0,{"$f":"IF(S41=Listes!$J$26,0.12,0)","v":0},"Pompesp1","Pompesp1",{"$f":"IF(ISBLANK(L41),\"\",IF(L41<=Eval_eco_pom_ven!$Q$7,Eval_eco_pom_ven!$P$7,IF(L41<=Eval_eco_pom_ven!$Q$8,Eval_eco_pom_ven!$P$8,IF(L41<=Eval_eco_pom_ven!$Q$9,Eval_eco_pom_ven!$P$9,IF(L41<=Eval_eco_pom_ven!$Q$10,Eval_eco_pom_ven!$P$10,Eval_eco_pom_ven!$P$11)))))","v":""},{"$f":"IF(AH41>0,IF(AF41>0,'Economies classées'!$A$22,'Economies classées'!$A$24),\"\") & IF(AG41>0, \" \" & 'Economies classées'!$A$23,\"\")","v":""},{"$f":"IF(AF41>0,'Economies classées'!$A$42 & TEXT(AF41,\"0%\") & \" \" & CHAR(10),\"\") & IF(AH41>0,'Economies classées'!$A$43 & TEXT(AH41,\"0%\") & \" \" & CHAR(10),\"\") & IF(AG41>0,'Economies classées'!$A$44 & TEXT(AG41,\"0%\") & \" \" & CHAR(10),\"\")& IF(AI41>0,'Economies classées'!$A$25 & TEXT(AI41,\"0%\") & \" \" & CHAR(10),\"\")","v":""}]
[null,{"$f":"B41+1","v":130},{"$f":"Traduction!$A$8","v":"Pompes"},null,null,null,null,null,null,null,null,null,null,null,null,null,null,null,null,0,null,null,null,null,null,null,null,null,0,0,0,0,{"$f":"IF(AND(O42=Listes!$J$25,P42=Listes!$J$26),IF(C42=Listes!$H$25,IF(Q42=Listes!$O$26,0.2,IF(Q42=Listes!$O$25,0.1,0.15)),0.2),0)","v":0},0,{"$f":"IF(S42=Listes!$J$26,0.12,0)","v":0},"Pompesp1","Pompesp1",{"$f":"IF(ISBLANK(L42),\"\",IF(L42<=Eval_eco_pom_ven!$Q$7,Eval_eco_pom_ven!$P$7,IF(L42<=Eval_eco_pom_ven!$Q$8,Eval_eco_pom_ven!$P$8,IF(L42<=Eval_eco_pom_ven!$Q$9,Eval_eco_pom_ven!$P$9,IF(L42<=Eval_eco_pom_ven!$Q$10,Eval_eco_pom_ven!$P$10,Eval_eco_pom_ven!$P$11)))))","v":""},{"$f":"IF(AH42>0,IF(AF42>0,'Economies classées'!$A$22,'Economies classées'!$A$24),\"\") & IF(AG42>0, \" \" & 'Economies classées'!$A$23,\"\")","v":""},{"$f":"IF(AF42>0,'Economies classées'!$A$42 & TEXT(AF42,\"0%\") & \" \" & CHAR(10),\"\") & IF(AH42>0,'Economies classées'!$A$43 & TEXT(AH42,\"0%\") & \" \" & CHAR(10),\"\") & IF(AG42>0,'Economies classées'!$A$44 & TEXT(AG42,\"0%\") & \" \" & CHAR(10),\"\")& IF(AI42>0,'Economies classées'!$A$25 & TEXT(AI42,\"0%\") & \" \" & CHAR(10),\"\")","v":""}]
[]
[]
[]
[]
[null,{"$f":"INDEX(ClaLiGANa,MATCH(B1,ClaListePo,0))","v":{"$error":"#N/A"}},null,{"$f":"INDEX(ClaLiGANa,MATCH(D1,ClaListePo,0))","v":{"$error":"#N/A"}},{"$error":"#N/A"},{"$error":"#N/A"},{"$error":"#N/A"},{"$error":"#N/A"},{"$error":"#N/A"},{"$error":"#N/A"},{"$error":"#N/A"},{"$error":"#N/A"},{"$error":"#N/A"},{"$error":"#N/A"},{"$error":"#N/A"},{"$error":"#N/A"},{"$error":"#N/A"},{"$error":"#N/A"},{"$error":"#N/A"},{"$error":"#N/A"},{"$error":"#N/A"},{"$error":"#N/A"},{"$error":"#N/A"},{"$error":"#N/A"},{"$error":"#N/A"},{"$error":"#N/A"},{"$error":"#N/A"},{"$error":"#N/A"},{"$error":"#N/A"},{"$error":"#N/A"},{"$error":"#N/A"},{"$error":"#N/A"},{"$error":"#N/A"},{"$error":"#N/A"},{"$error":"#N/A"},{"$error":"#N/A"},{"$error":"#N/A"},{"$error":"#N/A"},{"$error":"#N/A"}]
[null,"APPo"]

{"sheet":"Analyse Préliminaire Ventilateu","index":6,"n_rows":49,"n_cols":41,"rows_kept":49,"cut":false,"hidden":false,"merged":[[3,20,3,21],[3,22,3,23],[3,24,3,25],[2,11,2,12],[3,1,3,2],[3,3,3,4],[3,5,3,6],[3,7,3,8],[3,9,3,10],[3,11,3,12],[3,13,3,14],[3,15,3,17],[3,18,3,19],[41,21,41,25],[36,21,36,25],[37,21,37,25],[38,21,38,25],[39,21,39,25],[40,21,40,25],[41,19,41,20],[21,21,21,25],[22,21,22,25],[23,21,23,25],[24,21,24,25],[25,21,25,25],[26,21,26,25],[27,21,27,25],[28,21,28,25],[29,21,29,25],[30,21,30,25],[31,21,31,25],[32,21,32,25],[33,21,33,25],[34,21,34,25],[35,21,35,25],[36,19,36,20],[37,19,37,20],[41,17,41,18],[21,19,21,20],[22,19,22,20],[23,19,23,20],[24,19,24,20],[25,19,25,20],[26,19,26,20],[27,19,27,20],[28,19,28,20],[29,19,29,20],[30,19,30,20],[31,19,31,20],[32,19,32,20],[33,19,33,20],[34,19,34,20],[35,19,35,20],[36,17,36,18],[37,17,37,18],[38,17,38,18],[39,17,39,18],[40,17,40,18],[34,17,34,18],[35,17,35,18],[26,17,26,18],[27,17,27,18],[28,17,28,18],[29,17,29,18],[30,17,30,18],[38,19,38,20],[39,19,39,20],[39,4,39,6],[40,4,40,6],[40,19,40,20],[41,4,41,6],[34,4,34,6],[35,4,35,6],[36,4,36,6],[37,4,37,6],[38,4,38,6],[21,17,21,18],[22,17,22,18],[23,17,23,18],[24,17,24,18],[25,17,25,18],[37,7,37,9],[38,7,38,9],[39,7,39,9],[40,7,40,9],[28,7,28,9],[29,7,29,9],[30,7,30,9],[31,7,31,9],[31,17,31,18],[32,17,32,18],[33,17,33,18],[21,7,21,9],[22,7,22,9],[23,7,23,9],[24,7,24,9],[25,7,25,9],[26,7,26,9],[27,7,27,9],[41,7,41,9],[32,7,32,9],[33,7,33,9],[34,7,34,9],[35,7,35,9],[36,7,36,9],[41,2,41,3],[19,4,19,6],[20,4,20,6],[21,4,21,6],[22,4,22,6],[23,4,23,6],[24,4,24,6],[25,4,25,6],[26,4,26,6],[27,4,27,6],[28,4,28,6],[29,4,29,6],[30,4,30,6],[31,4,31,6],[32,4,32,6],[33,4,33,6],[36,2,36,3],[37,2,37,3],[38,2,38,3],[39,2,39,3],[40,2,40,3],[31,2,31,3],[32,2,32,3],[33,2,33,3],[34,2,34,3],[35,2,35,3],[26,2,26,3],[27,2,27,3],[28,2,28,3],[29,2,29,3],[30,2,30,3],[21,2,21,3],[22,2,22,3],[23,2,23,3],[24,2,24,3],[25,2,25,3],[16,2,16,3],[17,2,17,3],[18,2,18,3],[19,2,19,3],[20,2,20,3],[1,18,1,19],[1,20,1,21],[5,1,5,25],[8,2,8,4],[15,2,15,3],[1,11,1,12],[1,13,1,14],[1,15,1,17],[1,1,1,2],[1,3,1,4],[1,5,1,6],[1,7,1,8],[1,9,1,10],[13,19,13,20],[13,7,13,9],[13,21,13,25],[14,21,14,25],[15,21,15,25],[14,19,14,20],[6,5,6,25],[7,5,7,23],[8,5,8,23],[12,2,12,3],[12,4,12,6],[12,7,12,9],[13,2,13,3],[14,2,14,3],[14,7,14,9],[13,4,13,6],[14,4,14,6],[12,21,12,25],[12,19,12,20],[12,17,12,18],[11,2,11,3],[11,4,11,6],[11,7,11,9],[11,17,11,18],[11,19,11,20],[11,21,11,25],[10,4,10,6],[10,17,10,18],[10,19,10,20],[10,2,10,3],[10,7,10,9],[10,21,10,25],[17,4,17,6],[17,7,17,9],[18,4,18,6],[18,7,18,9],[18,17,18,18],[19,17,19,18],[17,17,17,18],[19,7,19,9],[15,19,15,20],[15,4,15,6],[16,4,16,6],[13,17,13,18],[14,17,14,18],[15,17,15,18],[16,17,16,18],[15,7,15,9],[16,7,16,9],[16,19,16,20],[20,7,20,9],[20,17,20,18],[16,21,16,25],[17,19,17,20],[17,21,17,25],[18,19,18,20],[18,21,18,25],[19,19,19,20],[19,21,19,25],[20,19,20,20],[20,21,20,25]]}
[null,1,null,2,null,3,null,4,null,5,null,6,null,7,null,8,null,null,9,null,10,null,11,null,12]
[null,{"$f":"HYPERLINK(NomFichier&Listes!C48&\"'!A1\",Traduction!$A$13)","v":"Menu"},null,{"$f":"HYPERLINK(NomFichier&Listes!C49&\"'!A1\",Traduction!$A$11)","v":"Introduction"},null,{"$f":"HYPERLINK(NomFichier&Listes!C50&\"'!G7\",Traduction!$A$12)","v":"Entreprise"},null,{"$f":"HYPERLINK(NomFichier&Listes!C51&\"'!O22\",Traduction!$A$701)","v":"Quick-check"},null,{"$f":"HYPERLINK(NomFichier&Listes!C53&\"'!E10\",Traduction!$A$77)","v":"Pompe(s)"},null,{"$f":"HYPERLINK(NomFichier&Listes!C54&\"'!A1\",Traduction!$A$78)","v":"Ventilateur(s)"},null,{"$f":"HYPERLINK(NomFichier&Listes!C55&\"'!M12\",Traduction!$A$10)","v":"Air comprimé"},null,{"$f":"HYPERLINK(NomFichier&Listes!C57&\"'!F10\",Traduction!$A$545)","v":"Groupe froid"},null,null,{"$f":"HYPERLINK(NomFichier&Listes!$C$56&\"'!E10\",Traduction!$A$702)","v":"Autre"},null,{"$f":"Traduction!$A$79","v":"Résultats"}]
[]
[null,{"$f":"IFERROR(HYPERLINK(NomFichier&B49&\"'!A1\",B49),\"\")","v":""},null,{"$f":"IFERROR(HYPERLINK(NomFichier&D49&\"'!A1\",D49),\"\")","v":""},null,{"$f":"IFERROR(HYPERLINK(NomFichier&F49&\"'!A1\",F49),\"\")","v":""},null,{"$f":"IFERROR(HYPERLINK(NomFichier&H49&\"'!A1\",H49),\"\")","v":""},null,{"$f":"IFERROR(HYPERLINK(NomFichier&J49&\"'!A1\",J49),\"\")","v":""},null,{"$f":"IFERROR(HYPERLINK(NomFichier&L49&\"'!A1\",L49),\"\")","v":""},null,{"$f":"IFERROR(HYPERLINK(NomFichier&N49&\"'!A1\",N49),\"\")","v":""},null,{"$f":"IFERROR(HYPERLINK(NomFichier&P49&\"'!A1\",P49),\"\")","v":""},null,null,{"$f":"IFERROR(HYPERLINK(NomFichier&S49&\"'!A1\",S49),\"\")","v":""},null,{"$f":"IFERROR(HYPERLINK(NomFichier&U49&\"'!A1\",U49),\"\")","v":""},null,{"$f":"IFERROR(HYPERLINK(NomFichier&W49&\"'!A1\",W49),\"\")","v":""},null,{"$f":"IFERROR(HYPERLINK(NomFichier&Y49&\"'!A1\",Y49),\"\")","v":""}]
[]
[null,{"$f":"Traduction!$A$197","v":"Analyse préliminaire: Liste des ventilateurs"}]
[null,null,{"$f":"Traduction!$A$125","v":"But:"},null,null,{"$f":"Traduction!$A$132","v":"Lister les principaux ventilateurs et disposer d'une première estimation des économies qui peuvent être escomptées."},null,null,null,null,null,null,null,null,null,null,null,null,null,null,null,null,null,null,null,null,null,null,null,"Nombre d'entrainement listé",null,{"$f":"ROUNDDOWN(COUNTA(K13:P44)/6,0)","v":0}]
[null,null,{"$f":"Traduction!$A$126","v":"Résultat:"},null,null,{"$f":"Traduction!$A$532","v":"Economies associées à ces ventilateurs"}]
[null,null,{"$f":"Traduction!$A$127","v":"Instructions:"},null,null,{"$f":"Traduction!A614","v":"Remplissez le tableau ci-dessous. En cas de besoin cliquer sur l'aide ci-après pour afficher l'aide à la sélection."},null,null,null,null,null,null,null,null,null,null,null,null,null,null,null,null,null,null,{"$f":"HYPERLINK(Traduction!$A$628&\"/Info_entrainement.htm\",Traduction!$A$718)","v":"Aide"}]
[]
[null,null,null,null,{"$f":"HYPERLINK(Traduction!$A$628 & \"/info_localisation.htm\",Traduction!$A$718)","v":"Aide"},null,null,null,null,null,{"$f":"HYPERLINK(Traduction!A628&\"/info_Pnom_mot.htm\",Traduction!A718)","v":"Aide"},{"$f":"HYPERLINK(Traduction!$A$628&\"/info_an_construct.htm\",Traduction!$A$718)","v":"Aide"},{"$f":"HYPERLINK(Traduction!$A$628&\"/info_classeeff.htm\",Traduction!$A$718)","v":"Aide"},{"$f":"HYPERLINK(Traduction!$A$628&\"/info_h_fonct.htm\",Traduction!$A$718)","v":"Aide"},{"$f":"HYPERLINK(Traduction!$A$628&\"/info_debvar.htm\",Traduction!$A$718)","v":"Aide"},{"$f":"HYPERLINK(Traduction!$A$628&\"/info_CF.htm\",Traduction!$A$718)","v":"Aide"},null,{"$f":"HYPERLINK(Traduction!$A$628&\"/info_conso_estimée.htm\",Traduction!$A$718)","v":"Aide"},null,{"$f":"HYPERLINK(Traduction!$A$628&\"/info_conso_forcée.htm\",Traduction!$A$718)","v":"Aide"}]
[null,{"$f":"Traduction!$A$138","v":"Numéro d'entrainement"},{"$f":"Traduction!$A$139","v":"Type d'entraînement "},null,{"$f":"Traduction!$A$140","v":"Localisation"},null,null,{"$f":"Traduction!$A$141","v":"Nom/code/description"},null,null,{"$f":"Traduction!$A$142","v":"Puissance nominale du moteur [kW]"},{"$f":"Traduction!$A$145","v":"Année de construction de la ventilation [année]"},{"$f":"Traduction!$A$163","v":"Classe d'efficacité  du moteur"},{"$f":"Traduction!$A$146","v":"Heures de fonctionnement individuelles [heures/année]"},{"$f":"Traduction!$A$147","v":"Demande variable"},{"$f":"Traduction!$A$149","v":"Convertisseur de fréquence réglé"},"Avez-vous procédé à des optimisations « système » ces dernières années ?",{"$f":"Traduction!$A$151","v":"Consommation annuelle estimée [kWh/a]"},null,{"$f":"Traduction!$A$152","v":"Forcer la consommation annuelle [kWh/a]"},null,{"$f":"Traduction!A613","v":"Commentaires"},null,null,null,null,"Consommation annuelle estimées [kWh/a]",{"$f":"Traduction!$A$154","v":"Economies [kWh/a]"},{"$f":"Traduction!$A$155","v":"Economies [%]"},"Gains technologique [%]",{"$f":"Traduction!$A$157","v":"Gain variateur de fréquence"},{"$f":"Traduction!$A$158","v":"Gains redimensionnement [%]"},"Gains optimisation système","Code moteur","Code Entrainement","Equivalent classe d'efficactié élément entrainé",{"$f":"Traduction!$A$194","v":"Mesures d'améliorations"},{"$f":"Traduction!$A$195","v":"Calcul des gains"},{"$f":"Traduction!$A$222","v":"Economie AP+ [kWh/a]"},{"$f":"Traduction!$A$223","v":"Economie AP+ [%]"},{"$f":"Traduction!$A$224","v":"Consommation annuelle AP+"}]
[null,201,{"$f":"Traduction!$A$144","v":"Ventilation"},null,null,null,null,null,null,null,null,null,null,null,null,null,null,{"$f":"IF(T13>0,T13,AA13)","v":0},null,null,null,null,null,null,null,null,{"$f":"IF(T13>0,T13,IFERROR(N13*K13*INDEX(effpompeestpr,MATCH(O13&P13,codepompeestpr,0)),0))","v":0},{"$f":"IFERROR(AA13*AC13,\"\")","v":0},{"$f":"AD13+AE13+AF13","v":0},{"$f":"IFERROR(INDEX(effeffp,MATCH(AH13,codeffp,0)),0)+IFERROR(INDEX(effeffep,MATCH(AI13,codeffp,0)),0)","v":0},{"$f":"IF(AND(O13=Listes!$J$25,P13=Listes!$J$26),0.2,0)","v":0},{"$f":"IF(AA13=0,0,0.08)","v":0},{"$f":"IF(Q13=Listes!$J$26,0.12,0)","v":0},{"$f":"C13 & M13 & IF(K13<20,\"p1\",IF(K13<100,\"p2\",\"p3\"))","v":"Ventilationp1"},{"$f":"C13 & AJ13 & IF(K13<20,\"p1\",IF(K13<100,\"p2\",\"p3\"))","v":"Ventilationp1"},{"$f":"IF(ISBLANK(L13),\"\",IF(L13<=Eval_eco_pom_ven!$Q$7,Eval_eco_pom_ven!$P$7,IF(L13<=Eval_eco_pom_ven!$Q$8,Eval_eco_pom_ven!$P$8,IF(L13<=Eval_eco_pom_ven!$Q$9,Eval_eco_pom_ven!$P$9,IF(L13<=Eval_eco_pom_ven!$Q$10,Eval_eco_pom_ven!$P$10,Eval_eco_pom_ven!$P$11)))))","v":""},{"$f":"IF(AF13>0,IF(AD13>0,'Economies classées'!$A$22,'Economies classées'!$A$24),\"\") & IF(AE13>0, \" \" & 'Economies classées'!$A$23,\"\")","v":""},{"$f":"IF(AD13>0,'Economies classées'!$A$42& TEXT(AD13,\"0%\") & \" \" & CHAR(10),\"\") & IF(AF13>0,'Economies classées'!$A$43 & TEXT(AF13,\"0%\") & \" \" & CHAR(10),\"\") & IF(AE13>0,'Economies classées'!$A$44 & TEXT(AE13,\"0%\")& \" \" & CHAR(10),\"\") &  IF(AG13>0,'Economies classées'!$A$25 & TEXT(AG13,\"0%\") & \" \" & CHAR(10),\"\")","v":""}]
[null,202,{"$f":"Traduction!$A$144","v":"Ventilation"},null,null,null,null,null,null,null,null,null,null,null,null,null,null,0,null,null,null,null,null,null,null,null,{"$f":"IF(T14>0,T14,IFERROR(N14*K14*INDEX(effpompeestpr,MATCH(O14&P14,codepompeestpr,0)),0))","v":0},{"$f":"IFERROR(AA14*AC14,\"\")","v":0},{"$f":"AD14+AE14+AF14","v":0},{"$f":"IFERROR(INDEX(effeffp,MATCH(AH14,codeffp,0)),0)+IFERROR(INDEX(effeffep,MATCH(AH14,codeffp,0)),0)","v":0},{"$f":"IF(AND(O14=Listes!$J$25,P14=Listes!$J$26),0.2,0)","v":0},{"$f":"IF(AA14=0,0,0.08)","v":0},{"$f":"IF(Q14=Listes!$J$26,0.12,0)","v":0},{"$f":"C14 & M14 & IF(K14<20,\"p1\",IF(K14<100,\"p2\",\"p3\"))","v":"Ventilationp1"},{"$f":"C14 & AJ14 & IF(K14<20,\"p1\",IF(K14<100,\"p2\",\"p3\"))","v":"Ventilationp1"},{"$f":"IF(ISBLANK(L14),\"\",IF(L14<=Eval_eco_pom_ven!$Q$7,Eval_eco_pom_ven!$P$7,IF(L14<=Eval_eco_pom_ven!$Q$8,Eval_eco_pom_ven!$P$8,IF(L14<=Eval_eco_pom_ven!$Q$9,Eval_eco_pom_ven!$P$9,IF(L14<=Eval_eco_pom_ven!$Q$10,Eval_eco_pom_ven!$P$10,Eval_eco_pom_ven!$P$11)))))","v":""},{"$f":"IF(AF14>0,IF(AD14>0,'Economies classées'!$A$22,'Economies classées'!$A$24),\"\") & IF(AE14>0, \" \" & 'Economies classées'!$A$23,\"\")","v":""},{"$f":"IF(AD14>0,'Economies classées'!$A$42& TEXT(AD14,\"0%\") & \" \" & CHAR(10),\"\") & IF(AF14>0,'Economies classées'!$A$43 & TEXT(AF14,\"0%\") & \" \" & CHAR(10),\"\") & IF(AE14>0,'Economies classées'!$A$44 & TEXT(AE14,\"0%\")& \" \" & CHAR(10),\"\")","v":""}]
[null,203,{"$f":"Traduction!$A$144","v":"Ventilation"},null,null,null,null,null,null,null,null,null,null,null,null,null,null,0,null,null,null,null,null,null,null,null,{"$f":"IF(T15>0,T15,IFERROR(N15*K15*INDEX(effpompeestpr,MATCH(O15&P15,codepompeestpr,0)),0))","v":0},0,0,0,{"$f":"IF(AND(O15=Listes!$J$25,P15=Listes!$J$26),0.2,0)","v":0},0,{"$f":"IF(Q15=Listes!$J$26,0.12,0)","v":0},"Ventilationp1","Ventilationp1",{"$f":"IF(ISBLANK(L15),\"\",IF(L15<=Eval_eco_pom_ven!$Q$7,Eval_eco_pom_ven!$P$7,IF(L15<=Eval_eco_pom_ven!$Q$8,Eval_eco_pom_ven!$P$8,IF(L15<=Eval_eco_pom_ven!$Q$9,Eval_eco_pom_ven!$P$9,IF(L15<=Eval_eco_pom_ven!$Q$10,Eval_eco_pom_ven!$P$10,Eval_eco_pom_ven!$P$11)))))","v":""},{"$f":"IF(AF15>0,IF(AD15>0,'Economies classées'!$A$22,'Economies classées'!$A$24),\"\") & IF(AE15>0, \" \" & 'Economies classées'!$A$23,\"\")","v":""},{"$f":"IF(AD15>0,'Economies classées'!$A$42& TEXT(AD15,\"0%\") & \" \" & CHAR(10),\"\") & IF(AF15>0,'Economies classées'!$A$43 & TEXT(AF15,\"0%\") & \" \" & CHAR(10),\"\") & IF(AE15>0,'Economies classées'!$A$44 & TEXT(AE15,\"0%\")& \" \" & CHAR(10),\"\")","v":""}]
[null,204,{"$f":"Traduction!$A$144","v":"Ventilation"},null,null,null,null,null,null,null,null,null,null,null,null,null,null,0,null,null,null,null,null,null,null,null,0,0,0,0,{"$f":"IF(AND(O16=Listes!$J$25,P16=Listes!$J$26),0.2,0)","v":0},0,{"$f":"IF(Q16=Listes!$J$26,0.12,0)","v":0},"Ventilationp1","Ventilationp1",{"$f":"IF(ISBLANK(L16),\"\",IF(L16<=Eval_eco_pom_ven!$Q$7,Eval_eco_pom_ven!$P$7,IF(L16<=Eval_eco_pom_ven!$Q$8,Eval_eco_pom_ven!$P$8,IF(L16<=Eval_eco_pom_ven!$Q$9,Eval_eco_pom_ven!$P$9,IF(L16<=Eval_eco_pom_ven!$Q$10,Eval_eco_pom_ven!$P$10,Eval_eco_pom_ven!$P$11)))))","v":""},{"$f":"IF(AF16>0,IF(AD16>0,'Economies classées'!$A$22,'Economies classées'!$A$24),\"\") & IF(AE16>0, \" \" & 'Economies classées'!$A$23,\"\")","v":""},{"$f":"IF(AD16>0,'Economies classées'!$A$42& TEXT(AD16,\"0%\") & \" \" & CHAR(10),\"\") & IF(AF16>0,'Economies classées'!$A$43 & TEXT(AF16,\"0%\") & \" \" & CHAR(10),\"\") & IF(AE16>0,'Economies classées'!$A$44 & TEXT(AE16,\"0%\")& \" \" & CHAR(10),\"\")","v":""}]
[null,205,{"$f":"Traduction!$A$144","v":"Ventilation"},null,null,null,null,null,null,null,null,null,null,null,null,null,null,{"$f":"IF(T17>0,T17,AA17)","v":0},null,null,null,null,null,null,null,null,0,0,0,0,{"$f":"IF(AND(O17=Listes!$J$25,P17=Listes!$J$26),0.2,0)","v":0},0,{"$f":"IF(Q17=Listes!$J$26,0.12,0)","v":0},"Ventilationp1","Ventilationp1",{"$f":"IF(ISBLANK(L17),\"\",IF(L17<=Eval_eco_pom_ven!$Q$7,Eval_eco_pom_ven!$P$7,IF(L17<=Eval_eco_pom_ven!$Q$8,Eval_eco_pom_ven!$P$8,IF(L17<=Eval_eco_pom_ven!$Q$9,Eval_eco_pom_ven!$P$9,IF(L17<=Eval_eco_pom_ven!$Q$10,Eval_eco_pom_ven!$P$10,Eval_eco_pom_ven!$P$11)))))","v":""},{"$f":"IF(AF17>0,IF(AD17>0,'Economies classées'!$A$22,'Economies classées'!$A$24),\"\") & IF(AE17>0, \" \" & 'Economies classées'!$A$23,\"\")","v":""},{"$f":"IF(AD17>0,'Economies classées'!$A$42& TEXT(AD17,\"0%\") & \" \" & CHAR(10),\"\") & IF(AF17>0,'Economies classées'!$A$43 & TEXT(AF17,\"0%\") & \" \" & CHAR(10),\"\") & IF(AE17>0,'Economies classées'!$A$44 & TEXT(AE17,\"0%\")& \" \" & CHAR(10),\"\")","v":""}]
[null,206,{"$f":"Traduction!$A$144","v":"Ventilation"},null,null,null,null,null,null,null,null,null,null,null,null,null,null,{"$f":"IF(T18>0,T18,AA18)","v":0},null,null,null,null,null,null,null,null,0,0,0,0,{"$f":"IF(AND(O18=Listes!$J$25,P18=Listes!$J$26),0.2,0)","v":0},0,{"$f":"IF(Q18=Listes!$J$26,0.12,0)","v":0},"Ventilationp1","Ventilationp1",{"$f":"IF(ISBLANK(L18),\"\",IF(L18<=Eval_eco_pom_ven!$Q$7,Eval_eco_pom_ven!$P$7,IF(L18<=Eval_eco_pom_ven!$Q$8,Eval_eco_pom_ven!$P$8,IF(L18<=Eval_eco_pom_ven!$Q$9,Eval_eco_pom_ven!$P$9,IF(L18<=Eval_eco_pom_ven!$Q$10,Eval_eco_pom_ven!$P$10,Eval_eco_pom_ven!$P$11)))))","v":""},{"$f":"IF(AF18>0,IF(AD18>0,'Economies classées'!$A$22,'Economies classées'!$A$24),\"\") & IF(AE18>0, \" \" & 'Economies classées'!$A$23,\"\")","v":""},{"$f":"IF(AD18>0,'Economies classées'!$A$42& TEXT(AD18,\"0%\") & \" \" & CHAR(10),\"\") & IF(AF18>0,'Economies classées'!$A$43 & TEXT(AF18,\"0%\") & \" \" & CHAR(10),\"\") & IF(AE18>0,'Economies classées'!$A$44 & TEXT(AE18,\"0%\")& \" \" & CHAR(10),\"\")","v":""}]
[null,207,{"$f":"Traduction!$A$144","v":"Ventilation"},null,null,null,null,null,null,null,null,null,null,null,null,null,null,0,null,null,null,null,null,null,null,null,0,0,0,0,{"$f":"IF(AND(O19=Listes!$J$25,P19=Listes!$J$26),0.2,0)","v":0},0,{"$f":"IF(Q19=Listes!$J$26,0.12,0)","v":0},"Ventilationp1","Ventilationp1",{"$f":"IF(ISBLANK(L19),\"\",IF(L19<=Eval_eco_pom_ven!$Q$7,Eval_eco_pom_ven!$P$7,IF(L19<=Eval_eco_pom_ven!$Q$8,Eval_eco_pom_ven!$P$8,IF(L19<=Eval_eco_pom_ven!$Q$9,Eval_eco_pom_ven!$P$9,IF(L19<=Eval_eco_pom_ven!$Q$10,Eval_eco_pom_ven!$P$10,Eval_eco_pom_ven!$P$11)))))","v":""},{"$f":"IF(AF19>0,IF(AD19>0,'Economies classées'!$A$22,'Economies classées'!$A$24),\"\") & IF(AE19>0, \" \" & 'Economies classées'!$A$23,\"\")","v":""},{"$f":"IF(AD19>0,'Economies classées'!$A$42& TEXT(AD19,\"0%\") & \" \" & CHAR(10),\"\") & IF(AF19>0,'Economies classées'!$A$43 & TEXT(AF19,\"0%\") & \" \" & CHAR(10),\"\") & IF(AE19>0,'Economies classées'!$A$44 & TEXT(AE19,\"0%\")& \" \" & CHAR(10),\"\")","v":""}]
[null,208,{"$f":"Traduction!$A$144","v":"Ventilation"},null,null,null,null,null,null,null,null,null,null,null,null,null,null,0,null,null,null,null,null,null,null,null,0,0,0,0,{"$f":"IF(AND(O20=Listes!$J$25,P20=Listes!$J$26),0.2,0)","v":0},0,{"$f":"IF(Q20=Listes!$J$26,0.12,0)","v":0},"Ventilationp1","Ventilationp1",{"$f":"IF(ISBLANK(L20),\"\",IF(L20<=Eval_eco_pom_ven!$Q$7,Eval_eco_pom_ven!$P$7,IF(L20<=Eval_eco_pom_ven!$Q$8,Eval_eco_pom_ven!$P$8,IF(L20<=Eval_eco_pom_ven!$Q$9,Eval_eco_pom_ven!$P$9,IF(L20<=Eval_eco_pom_ven!$Q$10,Eval_eco_pom_ven!$P$10,Eval_eco_pom_ven!$P$11)))))","v":""},{"$f":"IF(AF20>0,IF(AD20>0,'Economies classées'!$A$22,'Economies classées'!$A$24),\"\") & IF(AE20>0, \" \" & 'Economies classées'!$A$23,\"\")","v":""},{"$f":"IF(AD20>0,'Economies classées'!$A$42& TEXT(AD20,\"0%\") & \" \" & CHAR(10),\"\") & IF(AF20>0,'Economies classées'!$A$43 & TEXT(AF20,\"0%\") & \" \" & CHAR(10),\"\") & IF(AE20>0,'Economies classées'!$A$44 & TEXT(AE20,\"0%\")& \" \" & CHAR(10),\"\")","v":""}]
[null,209,{"$f":"Traduction!$A$144","v":"Ventilation"},null,null,null,null,null,null,null,null,null,null,null,null,null,null,0,null,null,null,null,null,null,null,null,0,0,0,0,{"$f":"IF(AND(O21=Listes!$J$25,P21=Listes!$J$26),0.2,0)","v":0},0,{"$f":"IF(Q21=Listes!$J$26,0.12,0)","v":0},"Ventilationp1","Ventilationp1",{"$f":"IF(ISBLANK(L21),\"\",IF(L21<=Eval_eco_pom_ven!$Q$7,Eval_eco_pom_ven!$P$7,IF(L21<=Eval_eco_pom_ven!$Q$8,Eval_eco_pom_ven!$P$8,IF(L21<=Eval_eco_pom_ven!$Q$9,Eval_eco_pom_ven!$P$9,IF(L21<=Eval_eco_pom_ven!$Q$10,Eval_eco_pom_ven!$P$10,Eval_eco_pom_ven!$P$11)))))","v":""},{"$f":"IF(AF21>0,IF(AD21>0,'Economies classées'!$A$22,'Economies classées'!$A$24),\"\") & IF(AE21>0, \" \" & 'Economies classées'!$A$23,\"\")","v":""},{"$f":"IF(AD21>0,'Economies classées'!$A$42& TEXT(AD21,\"0%\") & \" \" & CHAR(10),\"\") & IF(AF21>0,'Economies classées'!$A$43 & TEXT(AF21,\"0%\") & \" \" & CHAR(10),\"\") & IF(AE21>0,'Economies classées'!$A$44 & TEXT(AE21,\"0%\")& \" \" & CHAR(10),\"\")","v":""}]
[null,210,{"$f":"Traduction!$A$144","v":"Ventilation"},null,null,null,null,null,null,null,null,null,null,null,null,null,null,0,null,null,null,null,null,null,null,null,0,0,0,0,{"$f":"IF(AND(O22=Listes!$J$25,P22=Listes!$J$26),0.2,0)","v":0},0,{"$f":"IF(Q22=Listes!$J$26,0.12,0)","v":0},"Ventilationp1","Ventilationp1",{"$f":"IF(ISBLANK(L22),\"\",IF(L22<=Eval_eco_pom_ven!$Q$7,Eval_eco_pom_ven!$P$7,IF(L22<=Eval_eco_pom_ven!$Q$8,Eval_eco_pom_ven!$P$8,IF(L22<=Eval_eco_pom_ven!$Q$9,Eval_eco_pom_ven!$P$9,IF(L22<=Eval_eco_pom_ven!$Q$10,Eval_eco_pom_ven!$P$10,Eval_eco_pom_ven!$P$11)))))","v":""},{"$f":"IF(AF22>0,IF(AD22>0,'Economies classées'!$A$22,'Economies classées'!$A$24),\"\") & IF(AE22>0, \" \" & 'Economies classées'!$A$23,\"\")","v":""},{"$f":"IF(AD22>0,'Economies classées'!$A$42& TEXT(AD22,\"0%\") & \" \" & CHAR(10),\"\") & IF(AF22>0,'Economies classées'!$A$43 & TEXT(AF22,\"0%\") & \" \" & CHAR(10),\"\") & IF(AE22>0,'Economies classées'!$A$44 & TEXT(AE22,\"0%\")& \" \" & CHAR(10),\"\")","v":""}]
[null,211,{"$f":"Traduction!$A$144","v":"Ventilation"},null,null,null,null,null,null,null,null,null,null,null,null,null,null,0,null,null,null,null,null,null,null,null,0,0,0,0,{"$f":"IF(AND(O23=Listes!$J$25,P23=Listes!$J$26),0.2,0)","v":0},0,{"$f":"IF(Q23=Listes!$J$26,0.12,0)","v":0},"Ventilationp1","Ventilationp1",{"$f":"IF(ISBLANK(L23),\"\",IF(L23<=Eval_eco_pom_ven!$Q$7,Eval_eco_pom_ven!$P$7,IF(L23<=Eval_eco_pom_ven!$Q$8,Eval_eco_pom_ven!$P$8,IF(L23<=Eval_eco_pom_ven!$Q$9,Eval_eco_pom_ven!$P$9,IF(L23<=Eval_eco_pom_ven!$Q$10,Eval_eco_pom_ven!$P$10,Eval_eco_pom_ven!$P$11)))))","v":""},{"$f":"IF(AF23>0,IF(AD23>0,'Economies classées'!$A$22,'Economies classées'!$A$24),\"\") & IF(AE23>0, \" \" & 'Economies classées'!$A$23,\"\")","v":""},{"$f":"IF(AD23>0,'Economies classées'!$A$42& TEXT(AD23,\"0%\") & \" \" & CHAR(10),\"\") & IF(AF23>0,'Economies classées'!$A$43 & TEXT(AF23,\"0%\") & \" \" & CHAR(10),\"\") & IF(AE23>0,'Economies classées'!$A$44 & TEXT(AE23,\"0%\")& \" \" & CHAR(10),\"\")","v":""}]
[null,212,{"$f":"Traduction!$A$144","v":"Ventilation"},null,null,null,null,null,null,null,null,null,null,null,null,null,null,0,null,null,null,null,null,null,null,null,0,0,0,0,{"$f":"IF(AND(O24=Listes!$J$25,P24=Listes!$J$26),0.2,0)","v":0},0,{"$f":"IF(Q24=Listes!$J$26,0.12,0)","v":0},"Ventilationp1","Ventilationp1",{"$f":"IF(ISBLANK(L24),\"\",IF(L24<=Eval_eco_pom_ven!$Q$7,Eval_eco_pom_ven!$P$7,IF(L24<=Eval_eco_pom_ven!$Q$8,Eval_eco_pom_ven!$P$8,IF(L24<=Eval_eco_pom_ven!$Q$9,Eval_eco_pom_ven!$P$9,IF(L24<=Eval_eco_pom_ven!$Q$10,Eval_eco_pom_ven!$P$10,Eval_eco_pom_ven!$P$11)))))","v":""},{"$f":"IF(AF24>0,IF(AD24>0,'Economies classées'!$A$22,'Economies classées'!$A$24),\"\") & IF(AE24>0, \" \" & 'Economies classées'!$A$23,\"\")","v":""},{"$f":"IF(AD24>0,'Economies classées'!$A$42& TEXT(AD24,\"0%\") & \" \" & CHAR(10),\"\") & IF(AF24>0,'Economies classées'!$A$43 & TEXT(AF24,\"0%\") & \" \" & CHAR(10),\"\") & IF(AE24>0,'Economies classées'!$A$44 & TEXT(AE24,\"0%\")& \" \" & CHAR(10),\"\")","v":""}]
[null,213,{"$f":"Traduction!$A$144","v":"Ventilation"},null,null,null,null,null,null,null,null,null,null,null,null,null,null,0,null,null,null,null,null,null,null,null,0,0,0,0,{"$f":"IF(AND(O25=Listes!$J$25,P25=Listes!$J$26),0.2,0)","v":0},0,{"$f":"IF(Q25=Listes!$J$26,0.12,0)","v":0},"Ventilationp1","Ventilationp1",{"$f":"IF(ISBLANK(L25),\"\",IF(L25<=Eval_eco_pom_ven!$Q$7,Eval_eco_pom_ven!$P$7,IF(L25<=Eval_eco_pom_ven!$Q$8,Eval_eco_pom_ven!$P$8,IF(L25<=Eval_eco_pom_ven!$Q$9,Eval_eco_pom_ven!$P$9,IF(L25<=Eval_eco_pom_ven!$Q$10,Eval_eco_pom_ven!$P$10,Eval_eco_pom_ven!$P$11)))))","v":""},{"$f":"IF(AF25>0,IF(AD25>0,'Economies classées'!$A$22,'Economies classées'!$A$24),\"\") & IF(AE25>0, \" \" & 'Economies classées'!$A$23,\"\")","v":""},{"$f":"IF(AD25>0,'Economies classées'!$A$42& TEXT(AD25,\"0%\") & \" \" & CHAR(10),\"\") & IF(AF25>0,'Economies classées'!$A$43 & TEXT(AF25,\"0%\") & \" \" & CHAR(10),\"\") & IF(AE25>0,'Economies classées'!$A$44 & TEXT(AE25,\"0%\")& \" \" & CHAR(10),\"\")","v":""}]
[null,214,{"$f":"Traduction!$A$144","v":"Ventilation"},null,null,null,null,null,null,null,null,null,null,null,null,null,null,0,null,null,null,null,null,null,null,null,0,0,0,0,{"$f":"IF(AND(O26=Listes!$J$25,P26=Listes!$J$26),0.2,0)","v":0},0,{"$f":"IF(Q26=Listes!$J$26,0.12,0)","v":0},"Ventilationp1","Ventilationp1",{"$f":"IF(ISBLANK(L26),\"\",IF(L26<=Eval_eco_pom_ven!$Q$7,Eval_eco_pom_ven!$P$7,IF(L26<=Eval_eco_pom_ven!$Q$8,Eval_eco_pom_ven!$P$8,IF(L26<=Eval_eco_pom_ven!$Q$9,Eval_eco_pom_ven!$P$9,IF(L26<=Eval_eco_pom_ven!$Q$10,Eval_eco_pom_ven!$P$10,Eval_eco_pom_ven!$P$11)))))","v":""},{"$f":"IF(AF26>0,IF(AD26>0,'Economies classées'!$A$22,'Economies classées'!$A$24),\"\") & IF(AE26>0, \" \" & 'Economies classées'!$A$23,\"\")","v":""},{"$f":"IF(AD26>0,'Economies classées'!$A$42& TEXT(AD26,\"0%\") & \" \" & CHAR(10),\"\") & IF(AF26>0,'Economies classées'!$A$43 & TEXT(AF26,\"0%\") & \" \" & CHAR(10),\"\") & IF(AE26>0,'Economies classées'!$A$44 & TEXT(AE26,\"0%\")& \" \" & CHAR(10),\"\")","v":""}]
[null,215,{"$f":"Traduction!$A$144","v":"Ventilation"},null,null,null,null,null,null,null,null,null,null,null,null,null,null,0,null,null,null,null,null,null,null,null,0,0,0,0,{"$f":"IF(AND(O27=Listes!$J$25,P27=Listes!$J$26),0.2,0)","v":0},0,{"$f":"IF(Q27=Listes!$J$26,0.12,0)","v":0},"Ventilationp1","Ventilationp1",{"$f":"IF(ISBLANK(L27),\"\",IF(L27<=Eval_eco_pom_ven!$Q$7,Eval_eco_pom_ven!$P$7,IF(L27<=Eval_eco_pom_ven!$Q$8,Eval_eco_pom_ven!$P$8,IF(L27<=Eval_eco_pom_ven!$Q$9,Eval_eco_pom_ven!$P$9,IF(L27<=Eval_eco_pom_ven!$Q$10,Eval_eco_pom_ven!$P$10,Eval_eco_pom_ven!$P$11)))))","v":""},{"$f":"IF(AF27>0,IF(AD27>0,'Economies classées'!$A$22,'Economies classées'!$A$24),\"\") & IF(AE27>0, \" \" & 'Economies classées'!$A$23,\"\")","v":""},{"$f":"IF(AD27>0,'Economies classées'!$A$42& TEXT(AD27,\"0%\") & \" \" & CHAR(10),\"\") & IF(AF27>0,'Economies classées'!$A$43 & TEXT(AF27,\"0%\") & \" \" & CHAR(10),\"\") & IF(AE27>0,'Economies classées'!$A$44 & TEXT(AE27,\"0%\")& \" \" & CHAR(10),\"\")","v":""}]
[null,216,{"$f":"Traduction!$A$144","v":"Ventilation"},null,null,null,null,null,null,null,null,null,null,null,null,null,null,0,null,null,null,null,null,null,null,null,0,0,0,0,{"$f":"IF(AND(O28=Listes!$J$25,P28=Listes!$J$26),0.2,0)","v":0},0,{"$f":"IF(Q28=Listes!$J$26,0.12,0)","v":0},"Ventilationp1","Ventilationp1",{"$f":"IF(ISBLANK(L28),\"\",IF(L28<=Eval_eco_pom_ven!$Q$7,Eval_eco_pom_ven!$P$7,IF(L28<=Eval_eco_pom_ven!$Q$8,Eval_eco_pom_ven!$P$8,IF(L28<=Eval_eco_pom_ven!$Q$9,Eval_eco_pom_ven!$P$9,IF(L28<=Eval_eco_pom_ven!$Q$10,Eval_eco_pom_ven!$P$10,Eval_eco_pom_ven!$P$11)))))","v":""},{"$f":"IF(AF28>0,IF(AD28>0,'Economies classées'!$A$22,'Economies classées'!$A$24),\"\") & IF(AE28>0, \" \" & 'Economies classées'!$A$23,\"\")","v":""},{"$f":"IF(AD28>0,'Economies classées'!$A$42& TEXT(AD28,\"0%\") & \" \" & CHAR(10),\"\") & IF(AF28>0,'Economies classées'!$A$43 & TEXT(AF28,\"0%\") & \" \" & CHAR(10),\"\") & IF(AE28>0,'Economies classées'!$A$44 & TEXT(AE28,\"0%\")& \" \" & CHAR(10),\"\")","v":""}]
[null,217,{"$f":"Traduction!$A$144","v":"Ventilation"},null,null,null,null,null,null,null,null,null,null,null,null,null,null,0,null,null,null,null,null,null,null,null,0,0,0,0,{"$f":"IF(AND(O29=Listes!$J$25,P29=Listes!$J$26),0.2,0)","v":0},0,{"$f":"IF(Q29=Listes!$J$26,0.12,0)","v":0},"Ventilationp1","Ventilationp1",{"$f":"IF(ISBLANK(L29),\"\",IF(L29<=Eval_eco_pom_ven!$Q$7,Eval_eco_pom_ven!$P$7,IF(L29<=Eval_eco_pom_ven!$Q$8,Eval_eco_pom_ven!$P$8,IF(L29<=Eval_eco_pom_ven!$Q$9,Eval_eco_pom_ven!$P$9,IF(L29<=Eval_eco_pom_ven!$Q$10,Eval_eco_pom_ven!$P$10,Eval_eco_pom_ven!$P$11)))))","v":""},{"$f":"IF(AF29>0,IF(AD29>0,'Economies classées'!$A$22,'Economies classées'!$A$24),\"\") & IF(AE29>0, \" \" & 'Economies classées'!$A$23,\"\")","v":""},{"$f":"IF(AD29>0,'Economies classées'!$A$42& TEXT(AD29,\"0%\") & \" \" & CHAR(10),\"\") & IF(AF29>0,'Economies classées'!$A$43 & TEXT(AF29,\"0%\") & \" \" & CHAR(10),\"\") & IF(AE29>0,'Economies classées'!$A$44 & TEXT(AE29,\"0%\")& \" \" & CHAR(10),\"\")","v":""}]
[null,218,{"$f":"Traduction!$A$144","v":"Ventilation"},null,null,null,null,null,null,null,null,null,null,null,null,null,null,0,null,null,null,null,null,null,null,null,0,0,0,0,{"$f":"IF(AND(O30=Listes!$J$25,P30=Listes!$J$26),0.2,0)","v":0},0,{"$f":"IF(Q30=Listes!$J$26,0.12,0)","v":0},"Ventilationp1","Ventilationp1",{"$f":"IF(ISBLANK(L30),\"\",IF(L30<=Eval_eco_pom_ven!$Q$7,Eval_eco_pom_ven!$P$7,IF(L30<=Eval_eco_pom_ven!$Q$8,Eval_eco_pom_ven!$P$8,IF(L30<=Eval_eco_pom_ven!$Q$9,Eval_eco_pom_ven!$P$9,IF(L30<=Eval_eco_pom_ven!$Q$10,Eval_eco_pom_ven!$P$10,Eval_eco_pom_ven!$P$11)))))","v":""},{"$f":"IF(AF30>0,IF(AD30>0,'Economies classées'!$A$22,'Economies classées'!$A$24),\"\") & IF(AE30>0, \" \" & 'Economies classées'!$A$23,\"\")","v":""},{"$f":"IF(AD30>0,'Economies classées'!$A$42& TEXT(AD30,\"0%\") & \" \" & CHAR(10),\"\") & IF(AF30>0,'Economies classées'!$A$43 & TEXT(AF30,\"0%\") & \" \" & CHAR(10),\"\") & IF(AE30>0,'Economies classées'!$A$44 & TEXT(AE30,\"0%\")& \" \" & CHAR(10),\"\")","v":""}]
[null,219,{"$f":"Traduction!$A$144","v":"Ventilation"},null,null,null,null,null,null,null,null,null,null,null,null,null,null,0,null,null,null,null,null,null,null,null,0,0,0,0,{"$f":"IF(AND(O31=Listes!$J$25,P31=Listes!$J$26),0.2,0)","v":0},0,{"$f":"IF(Q31=Listes!$J$26,0.12,0)","v":0},"Ventilationp1","Ventilationp1",{"$f":"IF(ISBLANK(L31),\"\",IF(L31<=Eval_eco_pom_ven!$Q$7,Eval_eco_pom_ven!$P$7,IF(L31<=Eval_eco_pom_ven!$Q$8,Eval_eco_pom_ven!$P$8,IF(L31<=Eval_eco_pom_ven!$Q$9,Eval_eco_pom_ven!$P$9,IF(L31<=Eval_eco_pom_ven!$Q$10,Eval_eco_pom_ven!$P$10,Eval_eco_pom_ven!$P$11)))))","v":""},{"$f":"IF(AF31>0,IF(AD31>0,'Economies classées'!$A$22,'Economies classées'!$A$24),\"\") & IF(AE31>0, \" \" & 'Economies classées'!$A$23,\"\")","v":""},{"$f":"IF(AD31>0,'Economies classées'!$A$42& TEXT(AD31,\"0%\") & \" \" & CHAR(10),\"\") & IF(AF31>0,'Economies classées'!$A$43 & TEXT(AF31,\"0%\") & \" \" & CHAR(10),\"\") & IF(AE31>0,'Economies classées'!$A$44 & TEXT(AE31,\"0%\")& \" \" & CHAR(10),\"\")","v":""}]
[null,220,{"$f":"Traduction!$A$144","v":"Ventilation"},null,null,null,null,null,null,null,null,null,null,null,null,null,null,0,null,null,null,null,null,null,null,null,0,0,0,0,{"$f":"IF(AND(O32=Listes!$J$25,P32=Listes!$J$26),0.2,0)","v":0},0,{"$f":"IF(Q32=Listes!$J$26,0.12,0)","v":0},"Ventilationp1","Ventilationp1",{"$f":"IF(ISBLANK(L32),\"\",IF(L32<=Eval_eco_pom_ven!$Q$7,Eval_eco_pom_ven!$P$7,IF(L32<=Eval_eco_pom_ven!$Q$8,Eval_eco_pom_ven!$P$8,IF(L32<=Eval_eco_pom_ven!$Q$9,Eval_eco_pom_ven!$P$9,IF(L32<=Eval_eco_pom_ven!$Q$10,Eval_eco_pom_ven!$P$10,Eval_eco_pom_ven!$P$11)))))","v":""},{"$f":"IF(AF32>0,IF(AD32>0,'Economies classées'!$A$22,'Economies classées'!$A$24),\"\") & IF(AE32>0, \" \" & 'Economies classées'!$A$23,\"\")","v":""},{"$f":"IF(AD32>0,'Economies classées'!$A$42& TEXT(AD32,\"0%\") & \" \" & CHAR(10),\"\") & IF(AF32>0,'Economies classées'!$A$43 & TEXT(AF32,\"0%\") & \" \" & CHAR(10),\"\") & IF(AE32>0,'Economies classées'!$A$44 & TEXT(AE32,\"0%\")& \" \" & CHAR(10),\"\")","v":""}]
[null,221,{"$f":"Traduction!$A$144","v":"Ventilation"},null,null,null,null,null,null,null,null,null,null,null,null,null,null,0,null,null,null,null,null,null,null,null,0,0,0,0,{"$f":"IF(AND(O33=Listes!$J$25,P33=Listes!$J$26),0.2,0)","v":0},0,{"$f":"IF(Q33=Listes!$J$26,0.12,0)","v":0},"Ventilationp1","Ventilationp1",{"$f":"IF(ISBLANK(L33),\"\",IF(L33<=Eval_eco_pom_ven!$Q$7,Eval_eco_pom_ven!$P$7,IF(L33<=Eval_eco_pom_ven!$Q$8,Eval_eco_pom_ven!$P$8,IF(L33<=Eval_eco_pom_ven!$Q$9,Eval_eco_pom_ven!$P$9,IF(L33<=Eval_eco_pom_ven!$Q$10,Eval_eco_pom_ven!$P$10,Eval_eco_pom_ven!$P$11)))))","v":""},{"$f":"IF(AF33>0,IF(AD33>0,'Economies classées'!$A$22,'Economies classées'!$A$24),\"\") & IF(AE33>0, \" \" & 'Economies classées'!$A$23,\"\")","v":""},{"$f":"IF(AD33>0,'Economies classées'!$A$42& TEXT(AD33,\"0%\") & \" \" & CHAR(10),\"\") & IF(AF33>0,'Economies classées'!$A$43 & TEXT(AF33,\"0%\") & \" \" & CHAR(10),\"\") & IF(AE33>0,'Economies classées'!$A$44 & TEXT(AE33,\"0%\")& \" \" & CHAR(10),\"\")","v":""}]
[null,222,{"$f":"Traduction!$A$144","v":"Ventilation"},null,null,null,null,null,null,null,null,null,null,null,null,null,null,0,null,null,null,null,null,null,null,null,0,0,0,0,{"$f":"IF(AND(O34=Listes!$J$25,P34=Listes!$J$26),0.2,0)","v":0},0,{"$f":"IF(Q34=Listes!$J$26,0.12,0)","v":0},"Ventilationp1","Ventilationp1",{"$f":"IF(ISBLANK(L34),\"\",IF(L34<=Eval_eco_pom_ven!$Q$7,Eval_eco_pom_ven!$P$7,IF(L34<=Eval_eco_pom_ven!$Q$8,Eval_eco_pom_ven!$P$8,IF(L34<=Eval_eco_pom_ven!$Q$9,Eval_eco_pom_ven!$P$9,IF(L34<=Eval_eco_pom_ven!$Q$10,Eval_eco_pom_ven!$P$10,Eval_eco_pom_ven!$P$11)))))","v":""},{"$f":"IF(AF34>0,IF(AD34>0,'Economies classées'!$A$22,'Economies classées'!$A$24),\"\") & IF(AE34>0, \" \" & 'Economies classées'!$A$23,\"\")","v":""},{"$f":"IF(AD34>0,'Economies classées'!$A$42& TEXT(AD34,\"0%\") & \" \" & CHAR(10),\"\") & IF(AF34>0,'Economies classées'!$A$43 & TEXT(AF34,\"0%\") & \" \" & CHAR(10),\"\") & IF(AE34>0,'Economies classées'!$A$44 & TEXT(AE34,\"0%\")& \" \" & CHAR(10),\"\")","v":""}]
[null,223,{"$f":"Traduction!$A$144","v":"Ventilation"},null,null,null,null,null,null,null,null,null,null,null,null,null,null,0,null,null,null,null,null,null,null,null,0,0,0,0,{"$f":"IF(AND(O35=Listes!$J$25,P35=Listes!$J$26),0.2,0)","v":0},0,{"$f":"IF(Q35=Listes!$J$26,0.12,0)","v":0},"Ventilationp1","Ventilationp1",{"$f":"IF(ISBLANK(L35),\"\",IF(L35<=Eval_eco_pom_ven!$Q$7,Eval_eco_pom_ven!$P$7,IF(L35<=Eval_eco_pom_ven!$Q$8,Eval_eco_pom_ven!$P$8,IF(L35<=Eval_eco_pom_ven!$Q$9,Eval_eco_pom_ven!$P$9,IF(L35<=Eval_eco_pom_ven!$Q$10,Eval_eco_pom_ven!$P$10,Eval_eco_pom_ven!$P$11)))))","v":""},{"$f":"IF(AF35>0,IF(AD35>0,'Economies classées'!$A$22,'Economies classées'!$A$24),\"\") & IF(AE35>0, \" \" & 'Economies classées'!$A$23,\"\")","v":""},{"$f":"IF(AD35>0,'Economies classées'!$A$42& TEXT(AD35,\"0%\") & \" \" & CHAR(10),\"\") & IF(AF35>0,'Economies classées'!$A$43 & TEXT(AF35,\"0%\") & \" \" & CHAR(10),\"\") & IF(AE35>0,'Economies classées'!$A$44 & TEXT(AE35,\"0%\")& \" \" & CHAR(10),\"\")","v":""}]
[null,224,{"$f":"Traduction!$A$144","v":"Ventilation"},null,null,null,null,null,null,null,null,null,null,null,null,null,null,0,null,null,null,null,null,null,null,null,0,0,0,0,{"$f":"IF(AND(O36=Listes!$J$25,P36=Listes!$J$26),0.2,0)","v":0},0,{"$f":"IF(Q36=Listes!$J$26,0.12,0)","v":0},"Ventilationp1","Ventilationp1",{"$f":"IF(ISBLANK(L36),\"\",IF(L36<=Eval_eco_pom_ven!$Q$7,Eval_eco_pom_ven!$P$7,IF(L36<=Eval_eco_pom_ven!$Q$8,Eval_eco_pom_ven!$P$8,IF(L36<=Eval_eco_pom_ven!$Q$9,Eval_eco_pom_ven!$P$9,IF(L36<=Eval_eco_pom_ven!$Q$10,Eval_eco_pom_ven!$P$10,Eval_eco_pom_ven!$P$11)))))","v":""},{"$f":"IF(AF36>0,IF(AD36>0,'Economies classées'!$A$22,'Economies classées'!$A$24),\"\") & IF(AE36>0, \" \" & 'Economies classées'!$A$23,\"\")","v":""},{"$f":"IF(AD36>0,'Economies classées'!$A$42& TEXT(AD36,\"0%\") & \" \" & CHAR(10),\"\") & IF(AF36>0,'Economies classées'!$A$43 & TEXT(AF36,\"0%\") & \" \" & CHAR(10),\"\") & IF(AE36>0,'Economies classées'!$A$44 & TEXT(AE36,\"0%\")& \" \" & CHAR(10),\"\")","v":""}]
[null,225,{"$f":"Traduction!$A$144","v":"Ventilation"},null,null,null,null,null,null,null,null,null,null,null,null,null,null,0,null,null,null,null,null,null,null,null,0,0,0,0,{"$f":"IF(AND(O37=Listes!$J$25,P37=Listes!$J$26),0.2,0)","v":0},0,{"$f":"IF(Q37=Listes!$J$26,0.12,0)","v":0},"Ventilationp1","Ventilationp1",{"$f":"IF(ISBLANK(L37),\"\",IF(L37<=Eval_eco_pom_ven!$Q$7,Eval_eco_pom_ven!$P$7,IF(L37<=Eval_eco_pom_ven!$Q$8,Eval_eco_pom_ven!$P$8,IF(L37<=Eval_eco_pom_ven!$Q$9,Eval_eco_pom_ven!$P$9,IF(L37<=Eval_eco_pom_ven!$Q$10,Eval_eco_pom_ven!$P$10,Eval_eco_pom_ven!$P$11)))))","v":""},{"$f":"IF(AF37>0,IF(AD37>0,'Economies classées'!$A$22,'Economies classées'!$A$24),\"\") & IF(AE37>0, \" \" & 'Economies classées'!$A$23,\"\")","v":""},{"$f":"IF(AD37>0,'Economies classées'!$A$42& TEXT(AD37,\"0%\") & \" \" & CHAR(10),\"\") & IF(AF37>0,'Economies classées'!$A$43 & TEXT(AF37,\"0%\") & \" \" & CHAR(10),\"\") & IF(AE37>0,'Economies classées'!$A$44 & TEXT(AE37,\"0%\")& \" \" & CHAR(10),\"\")","v":""}]
[null,226,{"$f":"Traduction!$A$144","v":"Ventilation"},null,null,null,null,null,null,null,null,null,null,null,null,null,null,0,null,null,null,null,null,null,null,null,0,0,0,0,{"$f":"IF(AND(O38=Listes!$J$25,P38=Listes!$J$26),0.2,0)","v":0},0,{"$f":"IF(Q38=Listes!$J$26,0.12,0)","v":0},"Ventilationp1","Ventilationp1",{"$f":"IF(ISBLANK(L38),\"\",IF(L38<=Eval_eco_pom_ven!$Q$7,Eval_eco_pom_ven!$P$7,IF(L38<=Eval_eco_pom_ven!$Q$8,Eval_eco_pom_ven!$P$8,IF(L38<=Eval_eco_pom_ven!$Q$9,Eval_eco_pom_ven!$P$9,IF(L38<=Eval_eco_pom_ven!$Q$10,Eval_eco_pom_ven!$P$10,Eval_eco_pom_ven!$P$11)))))","v":""},{"$f":"IF(AF38>0,IF(AD38>0,'Economies classées'!$A$22,'Economies classées'!$A$24),\"\") & IF(AE38>0, \" \" & 'Economies classées'!$A$23,\"\")","v":""},{"$f":"IF(AD38>0,'Economies classées'!$A$42& TEXT(AD38,\"0%\") & \" \" & CHAR(10),\"\") & IF(AF38>0,'Economies classées'!$A$43 & TEXT(AF38,\"0%\") & \" \" & CHAR(10),\"\") & IF(AE38>0,'Economies classées'!$A$44 & TEXT(AE38,\"0%\")& \" \" & CHAR(10),\"\")","v":""}]
[null,227,{"$f":"Traduction!$A$144","v":"Ventilation"},null,null,null,null,null,null,null,null,null,null,null,null,null,null,0,null,null,null,null,null,null,null,null,0,0,0,0,{"$f":"IF(AND(O39=Listes!$J$25,P39=Listes!$J$26),0.2,0)","v":0},0,{"$f":"IF(Q39=Listes!$J$26,0.12,0)","v":0},"Ventilationp1","Ventilationp1",{"$f":"IF(ISBLANK(L39),\"\",IF(L39<=Eval_eco_pom_ven!$Q$7,Eval_eco_pom_ven!$P$7,IF(L39<=Eval_eco_pom_ven!$Q$8,Eval_eco_pom_ven!$P$8,IF(L39<=Eval_eco_pom_ven!$Q$9,Eval_eco_pom_ven!$P$9,IF(L39<=Eval_eco_pom_ven!$Q$10,Eval_eco_pom_ven!$P$10,Eval_eco_pom_ven!$P$11)))))","v":""},{"$f":"IF(AF39>0,IF(AD39>0,'Economies classées'!$A$22,'Economies classées'!$A$24),\"\") & IF(AE39>0, \" \" & 'Economies classées'!$A$23,\"\")","v":""},{"$f":"IF(AD39>0,'Economies classées'!$A$42& TEXT(AD39,\"0%\") & \" \" & CHAR(10),\"\") & IF(AF39>0,'Economies classées'!$A$43 & TEXT(AF39,\"0%\") & \" \" & CHAR(10),\"\") & IF(AE39>0,'Economies classées'!$A$44 & TEXT(AE39,\"0%\")& \" \" & CHAR(10),\"\")","v":""}]
[null,228,{"$f":"Traduction!$A$144","v":"Ventilation"},null,null,null,null,null,null,null,null,null,null,null,null,null,null,0,null,null,null,null,null,null,null,null,0,0,0,0,{"$f":"IF(AND(O40=Listes!$J$25,P40=Listes!$J$26),0.2,0)","v":0},0,{"$f":"IF(Q40=Listes!$J$26,0.12,0)","v":0},"Ventilationp1","Ventilationp1",{"$f":"IF(ISBLANK(L40),\"\",IF(L40<=Eval_eco_pom_ven!$Q$7,Eval_eco_pom_ven!$P$7,IF(L40<=Eval_eco_pom_ven!$Q$8,Eval_eco_pom_ven!$P$8,IF(L40<=Eval_eco_pom_ven!$Q$9,Eval_eco_pom_ven!$P$9,IF(L40<=Eval_eco_pom_ven!$Q$10,Eval_eco_pom_ven!$P$10,Eval_eco_pom_ven!$P$11)))))","v":""},{"$f":"IF(AF40>0,IF(AD40>0,'Economies classées'!$A$22,'Economies classées'!$A$24),\"\") & IF(AE40>0, \" \" & 'Economies classées'!$A$23,\"\")","v":""},{"$f":"IF(AD40>0,'Economies classées'!$A$42& TEXT(AD40,\"0%\") & \" \" & CHAR(10),\"\") & IF(AF40>0,'Economies classées'!$A$43 & TEXT(AF40,\"0%\") & \" \" & CHAR(10),\"\") & IF(AE40>0,'Economies classées'!$A$44 & TEXT(AE40,\"0%\")& \" \" & CHAR(10),\"\")","v":""}]
[null,229,{"$f":"Traduction!$A$144","v":"Ventilation"},null,null,null,null,null,null,null,null,null,null,null,null,null,null,0,null,null,null,null,null,null,null,null,0,0,0,0,{"$f":"IF(AND(O41=Listes!$J$25,P41=Listes!$J$26),0.2,0)","v":0},0,{"$f":"IF(Q41=Listes!$J$26,0.12,0)","v":0},"Ventilationp1","Ventilationp1",{"$f":"IF(ISBLANK(L41),\"\",IF(L41<=Eval_eco_pom_ven!$Q$7,Eval_eco_pom_ven!$P$7,IF(L41<=Eval_eco_pom_ven!$Q$8,Eval_eco_pom_ven!$P$8,IF(L41<=Eval_eco_pom_ven!$Q$9,Eval_eco_pom_ven!$P$9,IF(L41<=Eval_eco_pom_ven!$Q$10,Eval_eco_pom_ven!$P$10,Eval_eco_pom_ven!$P$11)))))","v":""},{"$f":"IF(AF41>0,IF(AD41>0,'Economies classées'!$A$22,'Economies classées'!$A$24),\"\") & IF(AE41>0, \" \" & 'Economies classées'!$A$23,\"\")","v":""},{"$f":"IF(AD41>0,'Economies classées'!$A$42& TEXT(AD41,\"0%\") & \" \" & CHAR(10),\"\") & IF(AF41>0,'Economies classées'!$A$43 & TEXT(AF41,\"0%\") & \" \" & CHAR(10),\"\") & IF(AE41>0,'Economies classées'!$A$44 & TEXT(AE41,\"0%\")& \" \" & CHAR(10),\"\")","v":""}]
[null,230,{"$f":"Traduction!$A$144","v":"Ventilation"},null,null,null,null,null,null,null,null,null,null,null,null,null,null,0,null,null,null,null,null,null,null,null,0,0,0,0,{"$f":"IF(AND(O42=Listes!$J$25,P42=Listes!$J$26),0.2,0)","v":0},0,{"$f":"IF(Q42=Listes!$J$26,0.12,0)","v":0},"Ventilationp1","Ventilationp1",{"$f":"IF(ISBLANK(L42),\"\",IF(L42<=Eval_eco_pom_ven!$Q$7,Eval_eco_pom_ven!$P$7,IF(L42<=Eval_eco_pom_ven!$Q$8,Eval_eco_pom_ven!$P$8,IF(L42<=Eval_eco_pom_ven!$Q$9,Eval_eco_pom_ven!$P$9,IF(L42<=Eval_eco_pom_ven!$Q$10,Eval_eco_pom_ven!$P$10,Eval_eco_pom_ven!$P$11)))))","v":""},{"$f":"IF(AF42>0,IF(AD42>0,'Economies classées'!$A$22,'Economies classées'!$A$24),\"\") & IF(AE42>0, \" \" & 'Economies classées'!$A$23,\"\")","v":""},{"$f":"IF(AD42>0,'Economies classées'!$A$42& TEXT(AD42,\"0%\") & \" \" & CHAR(10),\"\") & IF(AF42>0,'Economies classées'!$A$43 & TEXT(AF42,\"0%\") & \" \" & CHAR(10),\"\") & IF(AE42>0,'Economies classées'!$A$44 & TEXT(AE42,\"0%\")& \" \" & CHAR(10),\"\")","v":""}]
[]
[]
[]
[]
[]
[]
[null,{"$f":"INDEX(ClaLiGANa,MATCH(B1,ClaListeVe,0))","v":{"$error":"#N/A"}},{"$error":"#N/A"},{"$error":"#N/A"},{"$error":"#N/A"},{"$error":"#N/A"},{"$error":"#N/A"},{"$error":"#N/A"},{"$error":"#N/A"},{"$error":"#N/A"},{"$error":"#N/A"},{"$error":"#N/A"},{"$error":"#N/A"},{"$error":"#N/A"},{"$error":"#N/A"},{"$error":"#N/A"},{"$error":"#N/A"},{"$error":"#N/A"},{"$error":"#N/A"},{"$error":"#N/A"},{"$error":"#N/A"},{"$error":"#N/A"},{"$error":"#N/A"},{"$error":"#N/A"},{"$error":"#N/A"},{"$error":"#N/A"},{"$error":"#N/A"}]

{"sheet":"Analyse Préliminaire air compr","index":7,"n_rows":46,"n_cols":39,"rows_kept":46,"cut":false,"hidden":false,"merged":[[23,15,23,16],[17,2,17,9],[19,2,19,9],[21,2,21,9],[30,15,30,16],[25,2,25,4],[26,2,26,4],[26,5,26,7],[27,5,27,7],[23,2,23,4],[23,5,23,7],[25,5,25,7],[31,15,31,16],[28,5,28,7],[29,5,29,7],[30,5,30,7],[31,5,31,7],[34,4,37,16],[1,13,1,14],[1,15,1,16],[25,13,25,14],[25,15,25,16],[26,13,26,14],[26,15,26,16],[27,13,27,14],[27,2,27,4],[28,2,28,4],[29,2,29,4],[1,9,1,10],[30,2,30,4],[24,2,24,4],[24,5,24,7],[31,2,31,4],[1,19,1,20],[13,2,13,11],[15,2,15,11],[7,2,7,3],[8,2,8,3],[1,1,1,2],[1,3,1,4],[1,5,1,6],[1,7,1,8],[1,11,1,12],[1,17,1,18],[3,1,3,2],[2,13,2,14],[6,5,6,22],[7,5,7,22],[8,5,8,20],[32,13,32,14],[13,12,13,14],[15,12,15,14],[19,12,19,14],[21,12,21,14],[28,13,28,14],[29,13,29,14],[30,13,30,14],[31,13,31,14],[24,13,24,14],[23,13,23,14],[17,12,17,16],[28,15,28,16],[27,15,27,16],[24,15,24,16],[29,15,29,16]]}
[null,1]
[null,{"$f":"HYPERLINK(NomFichier&Listes!C48&\"'!A1\",Traduction!$A$13)","v":"Menu"},null,{"$f":"HYPERLINK(NomFichier&Listes!C49&\"'!A1\",Traduction!$A$11)","v":"Introduction"},null,{"$f":"HYPERLINK(NomFichier&Listes!C50&\"'!G7\",Traduction!$A$12)","v":"Entreprise"},null,{"$f":"HYPERLINK(NomFichier&Listes!C51&\"'!O22\",Traduction!$A$701)","v":"Quick-check"},null,{"$f":"HYPERLINK(NomFichier&Listes!C53&\"'!E10\",Traduction!$A$77)","v":"Pompe(s)"},null,{"$f":"HYPERLINK(NomFichier&Listes!C54&\"'!E10\",Traduction!$A$78)","v":"Ventilateur(s)"},null,{"$f":"HYPERLINK(NomFichier&Listes!C55&\"'!M12\",Traduction!$A$10)","v":"Air comprimé"},null,{"$f":"HYPERLINK(NomFichier&Listes!C57&\"'!F10\",Traduction!$A$545)","v":"Groupe froid"},null,{"$f":"HYPERLINK(NomFichier&Listes!$C$56&\"'!E10\",Traduction!$A$702)","v":"Autre"},null,{"$f":"Traduction!$A$79","v":"Résultats"}]
[]
[null,{"$f":"IFERROR(HYPERLINK(NomFichier&B46&\"'!A1\",B46),\"\")","v":""}]
[]
[null,{"$f":"Traduction!$A$198","v":"Analyse préliminaire: Système d'air comprimé"},null,null,null,null,null,null,null,null,null,null,null,null,null,null,null,null,null,null,null,null,null,null,null,null,null,null,null,null,null,null,null,null,null,null,"Economie AP+ [kWh/a]","Economie AP+ [%]","Consommation annuelle AP+"]
[null,null,{"$f":"Traduction!$A$125","v":"But:"},null,null,{"$f":"Traduction!$A$133","v":"Lister, pour le réseau d'air comprimé, les compresseurs et disposer d'une première estimation des économies qui peuvent être escomptées."},null,null,null,null,null,null,null,null,null,null,null,null,null,null,null,null,null,null,null,null,null,null,null,null,null,null,"Nombre d'entrainement listé",null,{"$f":"IF(AH13>0,1,0)","v":0}]
[null,null,{"$f":"Traduction!$A$126","v":"Résultat:"},null,null,{"$f":"Traduction!$A$533","v":"Economies attendues"},null,null,null,null,null,null,null,null,null,null,null,null,null,null,null,null,null,null,null,null,null,null,null,null,null,null,{"$f":"Traduction!$A$167","v":"Nombre de compresseurs"},null,{"$f":"COUNTIFS(AE26:AE32,\">0\")","v":0}]
[null,null,{"$f":"Traduction!$A$127","v":"Instructions:"},null,null,{"$f":"Traduction!$A$137","v":"Complétez le tableau pour les compresseurs. En cas de besoin cliquez sur l'aide ci-après pour afficher l'aide à la sélection."},null,null,null,null,null,null,null,null,null,null,null,null,null,null,null,{"$f":"HYPERLINK(Traduction!$A$628&\"/Info_entrainement.htm\",Traduction!$A$718)","v":"Aide"}]
[]
[]
[null,null,null,null,null,null,null,null,null,null,null,null,null,null,null,null,null,null,null,null,null,null,null,null,null,null,null,null,null,null,null,null,null,null,null,null,null,null,{"$f":"Traduction!$A$200","v":"Texte pour mesure"}]
[null,null,{"$f":"Traduction!$A$168","v":"Réseau d'air comprimée"},null,null,null,null,null,null,null,null,null,null,null,null,null,null,null,null,null,null,null,null,null,null,null,null,null,null,{"$f":"Traduction!$A$175","v":"Consommation totale du réseau"},null,null,null,{"$f":"SUM(N26:N32)","v":0},{"$f":"Traduction!$A$167","v":"Nombre de compresseurs"},null,{"$f":"ROUNDDOWN(COUNTA(I26:M32)/5,0)","v":0},null,{"$f":"IF(AH14>0,'Economies classées'!A38 & \"; \",\"\") & IF(AH18>0,'Economies classées'!A37 & \"; \",\"\") & IF(AH16>0,'Economies classées'!A40 & \"; \",\"\") & IF(SUM(AF26:AF32)+SUM(AG26:AG32)>0,'Economies classées'!A39,\"\")","v":""}]
[null,null,{"$f":"Traduction!$A$141","v":"Nom/code/description"},null,null,null,null,null,null,null,null,null,null,null,null,null,null,null,null,null,null,null,null,null,null,null,null,null,null,{"$f":"Traduction!$A$550","v":"Economie du à l'ajustement de pression [kWh/a]"},null,null,null,{"$f":"IF(M16=Listes!J26,AH13*0.5*0.07,0)","v":0},null,null,null,null,"Text pour économies"]
[]
[null,null,{"$f":"Traduction!$A$169","v":"Avez-vous déjà optimisé la pression?"},null,null,null,null,null,null,null,null,null,null,null,null,null,null,null,null,null,null,null,null,null,null,null,null,null,null,"Economie du à une meilleures gestion  [kWh/a]",null,null,null,{"$f":"IF(M22=Listes!J26,IF(M20>2,0.1,IF(M20>1,0.05,0))*AH13,0)","v":0},null,null,null,null,{"$f":"IF(AH14>0,'Economies classées'!A38 &  \" \" & TEXT(AH14/AH13,\"0%\")   & \" \" & CHAR(10),\"\") & IF(AH18>0,'Economies classées'!A37 & \" \" & TEXT(AH18/AH13,\"0%\")& \" \" & CHAR(10),\"\") & IF(AH16>0,'Economies classées'!A40 &\" \" & TEXT(AH16/AH13,\"0%\")& \" \" & CHAR(10),\"\") & IF(SUM(AF26:AF32)+SUM(AG26:AG32)>0,'Economies classées'!A39 & \" \" & TEXT((SUM(AF26:AF32)+SUM(AG26:AG32))/AH13,\"0%\"),\"\")","v":""}]
[]
[null,null,{"$f":"Traduction!$A$170","v":"État du réseau d'air comprimée"},null,null,null,null,null,null,null,{"$f":"HYPERLINK(Traduction!A628 & \"/info_etatreseau.htm\",Traduction!$A$718)","v":"Aide"},null,null,null,null,null,null,null,null,null,null,null,null,null,null,null,null,null,null,{"$f":"Traduction!$A$551","v":"Economie du à une reduction des fuites [kWh/a]"},null,null,null,{"$f":"IFERROR(AH13*INDEX(fcet,MATCH(M18,etatres,0)),0)","v":0}]
[]
[null,null,{"$f":"Traduction!$A$173","v":"Nombre de compresseurs fonctionnant simultanément"},null,null,null,null,null,null,null,{"$f":"HYPERLINK(Traduction!A628 & \"/info_redondance.htm\",Traduction!$A$718)","v":"Aide"},null,null,null,null,null,null,null,null,null,null,null,null,null,null,null,null,null,null,{"$f":"Traduction!$A$179","v":"Economies totales réseau [kWh/a]"},null,null,null,{"$f":"SUM(AH14:AH18)","v":0}]
[]
[null,null,{"$f":"Traduction!$A$174","v":"Système de commande électronique centralisé"},null,null,null,null,null,null,null,{"$f":"HYPERLINK(Traduction!A628 & \"/info_CPsystgest.htm\",Traduction!$A$718)","v":"Aide"},null,null,null,null,null,null,null,null,null,null,null,null,null,null,null,null,null,null,{"$f":"Traduction!$A$180","v":"Economie Totale"},null,null,null,{"$f":"AH20+SUM(AF26:AF32)+SUM(AG26:AG32)","v":0},{"$f":"AH22/AH13","v":{"$error":"#DIV/0!"}},null,{"$f":"SUM(AF26:AF32)+SUM(AG26:AG32)","v":0}]
[]
[null,null,{"$f":"HYPERLINK(Traduction!$A$628 & \"/info_localisation.htm\",Traduction!$A$718)","v":"Aide"},null,null,null,null,null,{"$f":"HYPERLINK(Traduction!$A$628 & \"/info_pnomcp.htm\",Traduction!$A$718)","v":"Aide"},null,{"$f":"HYPERLINK(Traduction!$A$628 & \"/info_heurecp.htm\",Traduction!$A$718)","v":"Aide"},{"$f":"HYPERLINK(Traduction!$A$628 & \"/info_tauxcharge.htm\",Traduction!$A$718)","v":"Aide"},null,{"$f":"HYPERLINK(Traduction!$A$628 & \"/info_conso_estiméeCP.htm\",Traduction!$A$718)","v":"Aide"},null,{"$f":"HYPERLINK(Traduction!$A$628 & \"/info_conso_forcée.htm\",Traduction!$A$718)","v":"Aide"}]
[null,{"$f":"Traduction!$A$138","v":"Numéro d'entrainement"},{"$f":"Traduction!$A$140","v":"Localisation"},null,null,{"$f":"Traduction!$A$141","v":"Nom/code/description"},null,null,{"$f":"Traduction!$A$181","v":"Puissance nominale du compresseur [kW]"},{"$f":"Traduction!$A$182","v":"Année de construction du compresseur [année]"},{"$f":"Traduction!$A$183","v":"Heures annuelles de fonctionnement du compresseur [h]"},{"$f":"Traduction!$A$184","v":"Taux de charge [%]"},{"$f":"Traduction!$A$185","v":"Est-ce un compresseur avec variateur de fréquence (VF ou VV)"},{"$f":"Traduction!$A$53","v":"Consommation électrique annuelle estimée du compresseur [kWh/a]"},null,{"$f":"Traduction!$A$152","v":"Forcer la consommation annuelle [kWh/a]"},null,null,null,null,null,null,null,null,null,null,null,null,null,{"$f":"Traduction!$A$186","v":"Âge du compresseur"},{"$f":"Traduction!$A$184","v":"Taux de charge [%]"},{"$f":"Traduction!$A$188","v":"Economie remplacement du compresseur technologique [kWh/a]"},{"$f":"Traduction!$A$189","v":"Economie ajout de variateur [kWh/a]"}]
[null,301,null,null,null,null,null,null,null,null,null,null,null,{"$f":"IF(P26=\"\",IF(I26<>\"\",ROUND(I26*K26*IF(M26=Listes!$J$26,(0.3+0.7*AE26)*1.1,(0.04+AE26)*1.15),-2),\"\"),P26)","v":""},null,null,null,null,null,null,null,null,null,null,null,null,null,null,null,{"$f":"YEAR(TODAY())-J26","v":2020},{"$f":"IFERROR(INDEX(fpm,MATCH(L26,tauxchargcp,0)),0)","v":0},{"$f":"IFERROR(IF(AD26>14,0.1,IF(AD26>9,0.03,0))*N26,\"\")","v":""},{"$f":"IF(AND(M26=Listes!$J$26,AE26<0.7),(0.26-0.3*AE26)*K26*I26,0)","v":0},{"$f":"(0.26-0.3*AE26)","v":0.26}]
[null,302,null,null,null,null,null,null,null,null,null,null,null,{"$f":"IF(P27=\"\",IF(I27<>\"\",ROUND(I27*K27*IF(M27=Listes!$J$26,(0.3+0.7*AE27)*1.1,(0.04+AE27)*1.15),-2),\"\"),P27)","v":""},null,null,null,null,null,null,null,null,null,null,null,null,null,null,null,2020,0,"",{"$f":"IF(AND(M27=Listes!$J$26,AE27<0.7),(0.26-0.3*AE27)*K27*I27,0)","v":0}]
[null,303,null,null,null,null,null,null,null,null,null,null,null,{"$f":"IF(P28=\"\",IF(I28<>\"\",ROUND(I28*K28*IF(M28=Listes!$J$26,(0.3+0.7*AE28)*1.1,(0.04+AE28)*1.15),-2),\"\"),P28)","v":""},null,null,null,null,null,null,null,null,null,null,null,null,null,null,null,2020,0,"",{"$f":"IF(AND(M28=Listes!$J$26,AE28<0.7),(0.26-0.3*AE28)*K28*I28,0)","v":0}]
[null,304,null,null,null,null,null,null,null,null,null,null,null,{"$f":"IF(P29=\"\",IF(I29<>\"\",ROUND(I29*K29*IF(M29=Listes!$J$26,(0.3+0.7*AE29)*1.1,(0.04+AE29)*1.15),-2),\"\"),P29)","v":""},null,null,null,null,null,null,null,null,null,null,null,null,null,null,null,2020,0,"",{"$f":"IF(AND(M29=Listes!$J$26,AE29<0.7),(0.26-0.3*AE29)*K29*I29,0)","v":0}]
[null,305,null,null,null,null,null,null,null,null,null,null,null,{"$f":"IF(P30=\"\",IF(I30<>\"\",ROUND(I30*K30*IF(M30=Listes!$J$26,(0.3+0.7*AE30)*1.1,(0.04+AE30)*1.15),-2),\"\"),P30)","v":""},null,null,null,null,null,null,null,null,null,null,null,null,null,null,null,2020,0,"",{"$f":"IF(AND(M30=Listes!$J$26,AE30<0.7),(0.26-0.3*AE30)*K30*I30,0)","v":0}]
[null,306,null,null,null,null,null,null,null,null,null,null,null,{"$f":"IF(P31=\"\",IF(I31<>\"\",ROUND(I31*K31*IF(M31=Listes!$J$26,(0.3+0.7*AE31)*1.1,(0.04+AE31)*1.15),-2),\"\"),P31)","v":""},null,null,null,null,null,null,null,null,null,null,null,null,null,null,null,2020,0,"",{"$f":"IF(AND(M31=Listes!$J$26,AE31<0.7),(0.26-0.3*AE31)*K31*I31,0)","v":0}]
[null,307,null,null,null,null,null,null,null,null,null,null,null,{"$f":"IF(P32=\"\",IF(I32<>\"\",ROUND(I32*K32*IF(M32=Listes!$J$26,(0.3+0.7*AE32)*1.1,(0.04+AE32)*1.15),-2),\"\"),P32)","v":""},null,null,null,null,null,null,null,null,null,null,null,null,null,null,null,2020,0,"",{"$f":"IF(AND(M32=Listes!$J$26,AE32<0.7),(0.26-0.3*AE32)*K32*I32,0)","v":0}]
[null,null,null,null,null,null,null,null,null,null,null,null,"Total:",{"$f":"AH13","v":0}]
[]
[null,{"$f":"Traduction!A613","v":"Commentaires"},null,null,"Un joli commentaire complètement inutile.."]
[]
[]
[]
[]
[]
[]
[]
[]
[]
[]
[null,{"$f":"INDEX(ClaLiGANa,MATCH(B1,ClaListeCP,0))","v":{"$error":"#N/A"}}]

{"sheet":"AP Groupe froid","index":8,"n_rows":21,"n_cols":42,"rows_kept":21,"cut":false,"hidden":false,"merged":[[6,5,6,24],[7,5,7,24],[8,5,8,24],[8,2,8,4],[7,2,7,3],[2,15,2,16],[3,1,3,2],[3,3,3,4],[3,5,3,6],[3,7,3,8],[3,9,3,10],[3,11,3,12],[14,25,14,28],[15,25,15,28],[16,25,16,28],[1,1,1,2],[1,3,1,4],[1,5,1,6],[1,7,1,8],[1,11,1,12],[1,13,1,14],[1,15,1,16],[1,17,1,18],[1,9,1,10],[1,19,1,20],[14,21,14,22],[15,21,15,22],[16,21,16,22],[14,23,14,24],[15,23,15,24],[16,23,16,24],[14,8,14,10],[15,8,15,10],[16,8,16,10],[14,15,14,18],[15,15,15,18],[16,15,16,18],[14,2,14,4],[15,2,15,4],[16,2,16,4],[13,5,13,7],[14,5,14,7],[15,5,15,7],[16,5,16,7],[13,2,13,4],[13,8,13,10],[13,21,13,22],[13,25,13,28],[13,23,13,24],[13,15,13,18],[11,25,11,28],[11,23,11,24],[12,5,12,7],[12,2,12,4],[11,2,11,4],[11,5,11,7],[11,21,11,22],[11,15,11,18],[11,8,11,10],[12,23,12,24],[12,21,12,22],[12,15,12,18],[12,8,12,10],[12,25,12,28]]}
[null,1,null,2,null,3,null,4]
[null,{"$f":"HYPERLINK(NomFichier&Listes!C48&\"'!A1\",Traduction!$A$13)","v":"Menu"},null,{"$f":"HYPERLINK(NomFichier&Listes!C49&\"'!A1\",Traduction!$A$11)","v":"Introduction"},null,{"$f":"HYPERLINK(NomFichier&Listes!C50&\"'!G7\",Traduction!$A$12)","v":"Entreprise"},null,{"$f":"HYPERLINK(NomFichier&Listes!C51&\"'!O22\",Traduction!$A$701)","v":"Quick-check"},null,{"$f":"HYPERLINK(NomFichier&Listes!C53&\"'!E10\",Traduction!$A$77)","v":"Pompe(s)"},null,{"$f":"HYPERLINK(NomFichier&Listes!C54&\"'!E10\",Traduction!$A$78)","v":"Ventilateur(s)"},null,{"$f":"HYPERLINK(NomFichier&Listes!C55&\"'!M12\",Traduction!$A$10)","v":"Air comprimé"},null,{"$f":"HYPERLINK(NomFichier&Listes!C57&\"'!F10\",Traduction!$A$545)","v":"Groupe froid"},null,{"$f":"HYPERLINK(NomFichier&Listes!$C$56&\"'!E10\",Traduction!$A$702)","v":"Autre"},null,{"$f":"Traduction!$A$79","v":"Résultats"}]
[]
[null,{"$f":"IFERROR(HYPERLINK(NomFichier&B21&\"'!A1\",B21),\"\")","v":""},null,{"$f":"IFERROR(HYPERLINK(NomFichier&D21&\"'!A1\",D21),\"\")","v":""},null,{"$f":"IFERROR(HYPERLINK(NomFichier&F21&\"'!A1\",F21),\"\")","v":""},null,{"$f":"IFERROR(HYPERLINK(NomFichier&H21&\"'!A1\",H21),\"\")","v":""}]
[]
[null,null,{"$f":"Traduction!A653","v":"Analyse préliminaire: Liste des installations production de froid"},null,null,null,null,null,null,null,null,null,null,null,null,null,null,null,null,null,null,null,null,null,null,null,null,null,null,null,null,null,null,null,null,null,null,null,{"$f":"Traduction!$A$695","v":"Gain technologiques sur l'installation"}]
[null,null,{"$f":"Traduction!$A$125","v":"But:"},null,null,{"$f":"Traduction!A722","v":"Lister les principales installations de froid et disposer d'une première estimation des économies qui peuvent être escomptées"},null,null,null,null,null,null,null,null,null,null,null,null,null,null,null,null,null,null,null,null,null,null,null,null,null,null,null,null,null,null,null,null,{"$f":"Traduction!$A$696","v":"Gain sur l'efficacité des moteurs"}]
[null,null,{"$f":"Traduction!$A$126","v":"Résultat:"},null,null,{"$f":"Traduction!A721","v":"Economies associées à ces installations de froid"},null,null,null,null,null,null,null,null,null,null,null,null,null,null,null,null,null,null,null,null,null,null,null,null,null,null,null,null,null,"Nombre d'entrainement listé",null,{"$f":"ROUNDDOWN(COUNTA(L14:U17)/6,0)","v":0},{"$f":"Traduction!$A$697","v":"Gain sur le compresseurs à vitesse variable"}]
[null,null,{"$f":"Traduction!$A$127","v":"Instructions:"},null,null,{"$f":"Traduction!A720","v":"Complétez le tableau ci-dessous, en cas de besoin cliquez sur l'aide ci-après pour afficher l'aide à la sélection"},null,null,null,null,null,null,null,null,null,null,null,null,null,null,null,null,null,null,null,{"$f":"HYPERLINK(Traduction!$A$628&\"/Info_entrainement.htm\",Traduction!$A$718)","v":"Aide"},null,null,null,null,null,null,null,null,null,null,null,null,{"$f":"Traduction!$A$698","v":"Gain sur la régulation de la vitesse et du tiroir des compresseurs"}]
[null,null,null,null,null,null,null,null,null,null,null,null,null,null,null,null,null,null,null,null,null,null,null,null,null,null,null,null,null,null,null,null,null,null,null,null,null,null,{"$f":"Traduction!$A$699","v":"Gain d'optimisation de la pression de condensation "}]
[]
[null,null,null,null,null,{"$f":"HYPERLINK(Traduction!$A$628 & \"/info_localisation.htm\",Traduction!$A$718)","v":"Aide"},null,null,null,null,null,{"$f":"HYPERLINK(Traduction!$A$628 & \"/Info_GF_âge de l'installation.htm\",Traduction!$A$718)","v":"Aide"},{"$f":"HYPERLINK(Traduction!$A$628 & \"/info_classeeff.htm\",Traduction!$A$718)","v":"Aide"},{"$f":"HYPERLINK(Traduction!$A$628 & \"/Info_GF_profil d'heures.htm\",Traduction!$A$718)","v":"Aide"},{"$f":"HYPERLINK(Traduction!$A$628 & \"/Info_GF_puissance électrique.htm\",Traduction!$A$718)","v":"Aide"},{"$f":"HYPERLINK(Traduction!$A$628 & \"/Info_GF_mode de régulation.htm\",Traduction!$A$718)","v":"Aide"},null,null,null,{"$f":"HYPERLINK(Traduction!$A$628 & \"/Info_GF_temp cond.htm\",Traduction!$A$718)","v":"Aide"},{"$f":"HYPERLINK(Traduction!$A$628 & \"/Info_GF_FC.htm\",Traduction!$A$718)","v":"Aide"},null,null,{"$f":"HYPERLINK(Traduction!$A$628&\"/info_conso_forcée.htm\",Traduction!$A$718)","v":"Aide"},null,{"$f":"HYPERLINK(Traduction!$A$628&\"/info_commentaire.htm\",Traduction!$A$718)","v":"Aide"},null,null,null,null,null,null,null,null,null,null,null,null,{"$f":"Traduction!$A$700","v":"Gain free-cooling"}]
[null,{"$f":"Traduction!$A$138","v":"Numéro d'entrainement"},{"$f":"Traduction!$A$139","v":"Type d'entraînement "},null,null,{"$f":"Traduction!A140","v":"Localisation"},null,null,{"$f":"Traduction!A141","v":"Nom/code/description"},null,null,{"$f":"Traduction!A662","v":"Année de construction de l'installation"},{"$f":"Traduction!A681","v":"Classe d'efficacité du moteur (si moteur et compresseur séparés)"},{"$f":"Traduction!A663","v":"Profil d'heures de fonctionnement annuel de l'installation [h/an]"},{"$f":"Traduction!$A$664","v":"Puissance électrique nonimale totale des compresseurs [kW]"},{"$f":"Traduction!A665","v":"Mode de régulation des compresseurs "},null,null,null,{"$f":"Traduction!A670","v":"La température de condensation est-elle constante ?"},{"$f":"Traduction!A673","v":"Existe-t-il un système de free-cooling ?"},{"$f":"Traduction!$A$151","v":"Consommation annuelle estimée [kWh/a]"},null,{"$f":"Traduction!$A$152","v":"Forcer la consommation annuelle [kWh/a]"},null,{"$f":"Traduction!A66","v":"Commentaires"},null,null,null,"Consommation annuelle estimées [kWh/a]",{"$f":"Traduction!$A$154","v":"Economies [kWh/a]"},{"$f":"Traduction!$A$155","v":"Economies [%]"},"âge de l'installation ","Gains efficacité moteur électrique","Gains sur l'âge de l'installation [%]","Gains régulation des compresseurs [%]","Gains optimisation de la pression de condensation [%]","Gains Free-Cooling [%]","Origine des gains",{"$f":"Traduction!$A$222","v":"Economie AP+ [kWh/a]"},{"$f":"Traduction!$A$223","v":"Economie AP+ [%]"},{"$f":"Traduction!$A$224","v":"Consommation annuelle AP+"}]
[null,401,{"$f":"Traduction!$A$658","v":"Groupe de froid"},null,null,null,null,null,null,null,null,null,null,null,null,null,null,null,null,null,null,{"$f":"IFERROR(AD14,\"\")","v":""},null,null,null,null,null,null,null,{"$f":"IFERROR(IF(X14=\"\",VLOOKUP(N14,GF_heuresfonct,2)*O14,X14),\"\")","v":""},{"$f":"IFERROR(AF14*AD14,\"\")","v":""},{"$f":"IFERROR(AI14+AJ14+AK14+AL14+AH14,\"\")","v":""},{"$f":"IF(L14=\"\",\"\",YEAR(TODAY())-L14)","v":""},{"$f":"IFERROR((VLOOKUP((M14&IF(O14<=20,\"p4\",IF(O14>=100,\"p6\",\"p5\"))),GF_efficacitémoteur,2,0)),\"\")","v":""},{"$f":"IF(AG14<=5,Eval_eco_pom_ven!$E$80,IF(AG14=\"\",\"\",IF(AND(AG14>5,AG14<=10),Eval_eco_pom_ven!$E$81,IF(AND(AG14>10,AG14<=15),Eval_eco_pom_ven!$E$82,IF(AND(AG14>15,AG14<=20),Eval_eco_pom_ven!$E$83,Eval_eco_pom_ven!$E$84)))))","v":""},{"$f":"IFERROR((VLOOKUP(P14,GF_GainsCompr,4,0)),\"\")","v":""},{"$f":"IFERROR((VLOOKUP((T14&N14),GF_gainpressioncondGA,2,0)),\"\")","v":""},{"$f":"IFERROR((VLOOKUP((U14&N14),GF_GainsFC,2,0)),\"\")","v":""},{"$f":"IF(N14=\"\",\"\",IF(AI14>0%,$AM$6&\" \"&TEXT(AI14,\"0%\")&\"\"&CHAR(10),\"\")&IF(AH14>0%,$AM$7&\" \"&TEXT(AH14,\"0%\")&\"\"&CHAR(10),\"\")&IF(AJ14=2%,$AM$9&\" \"&TEXT(AJ14,\"0%\")&\"\"&CHAR(10),\"\")&IF(AJ14>=7%,$AM$8&\" \"&TEXT(AJ14,\"0%\")&\"\"&CHAR(10),\"\")&IF(AK14>0%,$AM$10&\" \"&TEXT(AK14,\"0%\")&\"\"&CHAR(10),\"\")&IF(AL14>0%,$AM$12&\" \"&TEXT(AL14,\"0%\")&\"\"&CHAR(10),\"\"))","v":""}]
[null,402,{"$f":"Traduction!$A$658","v":"Groupe de froid"},null,null,null,null,null,null,null,null,null,null,null,null,null,null,null,null,null,null,{"$f":"IFERROR(AD15,\"\")","v":""},null,null,null,null,null,null,null,{"$f":"IFERROR(IF(X15=\"\",VLOOKUP(N15,GF_heuresfonct,2)*O15,X15),\"\")","v":""},{"$f":"IFERROR(AF15*AD15,\"\")","v":""},{"$f":"IFERROR(AI15+AJ15+AK15+AL15+AH15,\"\")","v":""},{"$f":"IF(L15=\"\",\"\",YEAR(TODAY())-L15)","v":""},{"$f":"IFERROR((VLOOKUP((M15&IF(O15<=20,\"p4\",IF(O15>=100,\"p6\",\"p5\"))),GF_efficacitémoteur,2,0)),\"\")","v":""},{"$f":"IF(AG15<=5,Eval_eco_pom_ven!$E$80,IF(AG15=\"\",\"\",IF(AND(AG15>5,AG15<=10),Eval_eco_pom_ven!$E$81,IF(AND(AG15>10,AG15<=15),Eval_eco_pom_ven!$E$82,IF(AND(AG15>15,AG15<=20),Eval_eco_pom_ven!$E$83,Eval_eco_pom_ven!$E$84)))))","v":""},{"$f":"IFERROR((VLOOKUP(P15,GF_GainsCompr,4,0)),\"\")","v":""},{"$f":"IFERROR((VLOOKUP((T15&N15),GF_gainpressioncondGA,2,0)),\"\")","v":""},{"$f":"IFERROR((VLOOKUP((U15&N15),GF_GainsFC,2,0)),\"\")","v":""},{"$f":"IF(N15=\"\",\"\",IF(AI15>0%,$AM$6&\" \"&TEXT(AI15,\"0%\")&\"\"&CHAR(10),\"\")&IF(AH15>0%,$AM$7&\" \"&TEXT(AH15,\"0%\")&\"\"&CHAR(10),\"\")&IF(AJ15=2%,$AM$9&\" \"&TEXT(AJ15,\"0%\")&\"\"&CHAR(10),\"\")&IF(AJ15>=7%,$AM$8&\" \"&TEXT(AJ15,\"0%\")&\"\"&CHAR(10),\"\")&IF(AK15>0%,$AM$10&\" \"&TEXT(AK15,\"0%\")&\"\"&CHAR(10),\"\")&IF(AL15>0%,$AM$12&\" \"&TEXT(AL15,\"0%\")&\"\"&CHAR(10),\"\"))","v":""}]
[null,403,{"$f":"Traduction!$A$658","v":"Groupe de froid"},null,null,null,null,null,null,null,null,null,null,null,null,null,null,null,null,null,null,"",null,null,null,null,null,null,null,{"$f":"IFERROR(IF(X16=\"\",VLOOKUP(N16,GF_heuresfonct,2)*O16,X16),\"\")","v":""},"",{"$f":"IFERROR(AI16+AJ16+AK16+AL16+AH16,\"\")","v":""},{"$f":"IF(L16=\"\",\"\",YEAR(TODAY())-L16)","v":""},{"$f":"IFERROR((VLOOKUP((M16&IF(O16<=20,\"p4\",IF(O16>=100,\"p6\",\"p5\"))),GF_efficacitémoteur,2,0)),\"\")","v":""},{"$f":"IF(AG16<=5,Eval_eco_pom_ven!$E$80,IF(AG16=\"\",\"\",IF(AND(AG16>5,AG16<=10),Eval_eco_pom_ven!$E$81,IF(AND(AG16>10,AG16<=15),Eval_eco_pom_ven!$E$82,IF(AND(AG16>15,AG16<=20),Eval_eco_pom_ven!$E$83,Eval_eco_pom_ven!$E$84)))))","v":""},{"$f":"IFERROR((VLOOKUP(P16,GF_GainsCompr,4,0)),\"\")","v":""},{"$f":"IFERROR((VLOOKUP((T16&N16),GF_gainpressioncondGA,2,0)),\"\")","v":""},{"$f":"IFERROR((VLOOKUP((U16&N16),GF_GainsFC,2,0)),\"\")","v":""},""]
[null,404,{"$f":"Traduction!$A$658","v":"Groupe de froid"},null,null,null,null,null,null,null,null,null,null,null,null,null,null,null,null,null,null,"",null,null,null,null,null,null,null,{"$f":"IFERROR(IF(X17=\"\",VLOOKUP(N17,GF_heuresfonct,2)*O17,X17),\"\")","v":""},"","",{"$f":"IF(L17=\"\",\"\",YEAR(TODAY())-L17)","v":""},{"$f":"IFERROR((VLOOKUP((M17&IF(O17<=20,\"p4\",IF(O17>=100,\"p6\",\"p5\"))),GF_efficacitémoteur,2,0)),\"\")","v":""},{"$f":"IF(AG17<=5,Eval_eco_pom_ven!$E$80,IF(AG17=\"\",\"\",IF(AND(AG17>5,AG17<=10),Eval_eco_pom_ven!$E$81,IF(AND(AG17>10,AG17<=15),Eval_eco_pom_ven!$E$82,IF(AND(AG17>15,AG17<=20),Eval_eco_pom_ven!$E$83,Eval_eco_pom_ven!$E$84)))))","v":""},{"$f":"IFERROR((VLOOKUP(P17,GF_GainsCompr,4,0)),\"\")","v":""},{"$f":"IFERROR((VLOOKUP((T17&N17),GF_gainpressioncondGA,2,0)),\"\")","v":""},{"$f":"IFERROR((VLOOKUP((U17&N17),GF_GainsFC,2,0)),\"\")","v":""},""]
[]
[]
[]
[null,{"$f":"INDEX(ClaLiGANa,MATCH(B1,ClaListeGF,0))","v":{"$error":"#N/A"}},{"$error":"#N/A"},{"$error":"#N/A"},{"$error":"#N/A"},{"$error":"#N/A"},{"$error":"#N/A"},{"$error":"#N/A"},{"$error":"#N/A"}]

{"sheet":"Analyse Préliminaire Autres","index":9,"n_rows":42,"n_cols":31,"rows_kept":42,"cut":false,"hidden":false,"merged":[[4,5,4,20],[5,5,5,20],[6,5,6,20],[6,2,6,4],[5,2,5,4],[15,2,15,3],[16,2,16,3],[17,2,17,3],[15,4,15,6],[16,4,16,6],[17,4,17,6],[15,7,15,9],[16,7,16,9],[17,7,17,9],[15,17,15,20],[16,17,16,20],[17,17,17,20],[9,2,9,3],[9,4,9,6],[9,7,9,9],[9,17,9,20],[8,4,8,6],[8,17,8,20],[8,7,8,9],[18,2,18,3],[19,2,19,3],[10,2,10,3],[11,2,11,3],[12,2,12,3],[13,2,13,3],[14,2,14,3],[25,2,25,3],[26,2,26,3],[27,2,27,3],[28,2,28,3],[29,2,29,3],[20,2,20,3],[21,2,21,3],[22,2,22,3],[23,2,23,3],[24,2,24,3],[35,2,35,3],[36,2,36,3],[37,2,37,3],[38,2,38,3],[39,2,39,3],[30,2,30,3],[31,2,31,3],[32,2,32,3],[33,2,33,3],[34,2,34,3],[18,4,18,6],[19,4,19,6],[10,4,10,6],[11,4,11,6],[12,4,12,6],[13,4,13,6],[14,4,14,6],[25,4,25,6],[26,4,26,6],[27,4,27,6],[28,4,28,6],[29,4,29,6],[20,4,20,6],[21,4,21,6],[22,4,22,6],[23,4,23,6],[24,4,24,6],[35,4,35,6],[36,4,36,6],[37,4,37,6],[38,4,38,6],[39,4,39,6],[30,4,30,6],[31,4,31,6],[32,4,32,6],[33,4,33,6],[34,4,34,6],[18,7,18,9],[19,7,19,9],[10,7,10,9],[11,7,11,9],[12,7,12,9],[13,7,13,9],[14,7,14,9],[25,7,25,9],[26,7,26,9],[27,7,27,9],[28,7,28,9],[29,7,29,9],[20,7,20,9],[21,7,21,9],[22,7,22,9],[23,7,23,9],[24,7,24,9],[35,7,35,9],[36,7,36,9],[37,7,37,9],[38,7,38,9],[39,7,39,9],[30,7,30,9],[31,7,31,9],[32,7,32,9],[33,7,33,9],[34,7,34,9],[31,17,31,20],[35,17,35,20],[18,17,18,20],[19,17,19,20],[10,17,10,20],[11,17,11,20],[12,17,12,20],[13,17,13,20],[14,17,14,20],[25,17,25,20],[26,17,26,20],[32,17,32,20],[33,17,33,20],[34,17,34,20],[27,17,27,20],[28,17,28,20],[29,17,29,20],[20,17,20,20],[21,17,21,20],[22,17,22,20],[23,17,23,20],[24,17,24,20],[8,2,8,3],[1,19,1,20],[40,2,40,3],[40,4,40,6],[40,7,40,9],[40,17,40,20],[41,2,41,3],[41,4,41,6],[41,7,41,9],[41,17,41,20],[1,11,1,12],[1,13,1,14],[1,15,1,16],[1,17,1,18],[1,1,1,2],[1,3,1,4],[1,5,1,6],[1,7,1,8],[1,9,1,10],[36,17,36,20],[37,17,37,20],[38,17,38,20],[39,17,39,20],[30,17,30,20]]}
[]
[null,{"$f":"HYPERLINK(NomFichier&Listes!C48&\"'!A1\",Traduction!$A$13)","v":"Menu"},null,{"$f":"HYPERLINK(NomFichier&Listes!C49&\"'!A1\",Traduction!$A$11)","v":"Introduction"},null,{"$f":"HYPERLINK(NomFichier&Listes!C50&\"'!G7\",Traduction!$A$12)","v":"Entreprise"},null,{"$f":"HYPERLINK(NomFichier&Listes!C51&\"'!O22\",Traduction!$A$701)","v":"Quick-check"},null,{"$f":"HYPERLINK(NomFichier&Listes!C53&\"'!E10\",Traduction!$A$77)","v":"Pompe(s)"},null,{"$f":"HYPERLINK(NomFichier&Listes!C54&\"'!E10\",Traduction!$A$78)","v":"Ventilateur(s)"},null,{"$f":"HYPERLINK(NomFichier&Listes!C55&\"'!M12\",Traduction!$A$10)","v":"Air comprimé"},null,{"$f":"HYPERLINK(NomFichier&Listes!C57&\"'!F10\",Traduction!$A$545)","v":"Groupe froid"},null,{"$f":"HYPERLINK(NomFichier&Listes!$C$56&\"'!E10\",Traduction!$A$702)","v":"Autre"},null,{"$f":"Traduction!$A$79","v":"Résultats"}]
[]
[null,null,{"$f":"Traduction!A723","v":"Analyse préliminaire: Autres"}]
[null,null,{"$f":"Traduction!$A$125","v":"But:"},null,null,"Lister les principales pompes et disposer d'une première estimation des économies qui peuvent être escomptées",null,null,null,null,null,null,null,null,null,null,null,null,null,null,null,null,null,null,null,null,null,null,{"$f":"Traduction!$A$716","v":"Gain technologique moteur "}]
[null,null,{"$f":"Traduction!$A$126","v":"Résultat:"},null,null,"Economies associées à ces entrainements",null,null,null,null,null,null,null,null,null,null,null,null,null,null,null,null,null,null,"Nombre d'entrainement listé",null,null,{"$f":"ROUNDDOWN(COUNTA(H11:O42)/6,0)","v":0},{"$f":"Traduction!$A$715","v":"Gain régulation"}]
[null,null,{"$f":"Traduction!$A$127","v":"Instructions:"},null,null,"Complétez le tableau ci-dessous. En cas de besoin cliquez sur le bouton pour afficher l'aide au sélectionnement. Considérez les pompes avec une puissance nominale de plus de 10 kW."]
[]
[null,null,null,null,{"$f":"HYPERLINK(Traduction!$A$628 & \"/info_localisation.htm\",Traduction!A718)","v":"Aide"},null,null,null,null,null,{"$f":"HYPERLINK(Traduction!A628&\"/info_Pnom_mot.htm\",Traduction!A718)","v":"Aide"},{"$f":"HYPERLINK(Traduction!$A$628&\"/info_an_construct.htm\",Traduction!$A$718)","v":"Aide"},{"$f":"HYPERLINK(Traduction!$A$628&\"/info_classeeff.htm\",Traduction!$A$718)","v":"Aide"},{"$f":"HYPERLINK(Traduction!$A$628&\"/info_h_fonct.htm\",Traduction!$A$718)","v":"Aide"},{"$f":"HYPERLINK(Traduction!$A$628&\"/info_autre_regler_vtesse.htm\",Traduction!$A$718)","v":"Aide"},{"$f":"HYPERLINK(Traduction!$A$628&\"/info_conso_estimée.htm\",Traduction!$A$718)","v":"Aide"},{"$f":"HYPERLINK(Traduction!$A$628&\"/info_conso_forcée.htm\",Traduction!$A$718)","v":"Aide"},{"$f":"HYPERLINK(Traduction!$A$628&\"/info_commentaire.htm\",Traduction!$A$718)","v":"Aide"}]
[null,{"$f":"Traduction!$A$138","v":"Numéro d'entrainement"},{"$f":"Traduction!$A$139","v":"Type d'entraînement "},null,{"$f":"Traduction!$A$140","v":"Localisation"},null,null,{"$f":"Traduction!A141","v":"Nom/code/description"},null,null,{"$f":"Traduction!$A$142","v":"Puissance nominale du moteur [kW]"},{"$f":"Traduction!$A$712","v":"Année de construction de l'entrainement [année]"},{"$f":"Traduction!$A$163","v":"Classe d'efficacité  du moteur"},{"$f":"Traduction!$A$146","v":"Heures de fonctionnement individuelles [heures/année]"},{"$f":"Traduction!$A$717","v":"Pourrait-on avantageusement régler la vitesse par l’ajout d’un convertisseur"},{"$f":"Traduction!$A$151","v":"Consommation annuelle estimée [kWh/a]"},{"$f":"Traduction!$A$152","v":"Forcer la consommation annuelle [kWh/a]"},{"$f":"Traduction!$A$613","v":"Commentaires"},null,null,null,{"$f":"Traduction!#REF!","v":{"$error":"#REF!"}},{"$f":"Traduction!$A$154","v":"Economies [kWh/a]"},{"$f":"Traduction!$A$155","v":"Economies [%]"},{"$f":"Traduction!A713","v":"Gains technologique [%]"},{"$f":"Traduction!$A$714","v":"Gain variateur de fréquence"},"Code","Origine des gains",{"$f":"Traduction!$A$222","v":"Economie AP+ [kWh/a]"},{"$f":"Traduction!$A$223","v":"Economie AP+ [%]"},{"$f":"Traduction!$A$224","v":"Consommation annuelle AP+"}]
[null,501,"Autre",null,null,null,null,null,null,null,null,null,null,null,null,{"$f":"IF(Q11>0,Q11,V11)","v":0},null,null,null,null,null,{"$f":"IF(Q11>0,Q11,IFERROR(N11*K11*0.6,0))","v":0},{"$f":"IFERROR(P11*X11,\"\")","v":""},{"$f":"IF(Y11=\"\",\"\",(Y11+Z11))","v":""},{"$f":"IF(K11,VLOOKUP(AA11,effautres,2,0),\"\")","v":""},{"$f":"IF(O11=Listes!$J$25,0.08,0)","v":0},{"$f":"M11 & IF(K11<20,\"p4\",IF(K11<100,\"p5\",\"p6\"))","v":"p4"},{"$f":"IF(N11=\"\",\"\",IF(Y11>0%,$AC$5&\" \"&TEXT(Y11,\"0%\")&\"\"&CHAR(10),\"\")&IF(Z11>0%,$AC$6&\" \"&TEXT(Z11,\"0%\")&\"\"&CHAR(10),\"\"))","v":""}]
[null,502,"Autre",null,null,null,null,null,null,null,null,null,null,null,null,{"$f":"IF(Q12>0,Q12,V12)","v":0},null,null,null,null,null,{"$f":"IF(Q12>0,Q12,IFERROR(N12*K12*0.6,0))","v":0},{"$f":"IFERROR(P12*X12,\"\")","v":""},{"$f":"IF(Y12=\"\",\"\",(Y12+Z12))","v":""},{"$f":"IF(K12,VLOOKUP(AA12,effautres,2,0),\"\")","v":""},{"$f":"IF(O12=Listes!$J$25,0.08,0)","v":0},"p4",{"$f":"IF(N12=\"\",\"\",IF(Y12>0%,$AC$5&\" \"&TEXT(Y12,\"0%\")&\"\"&CHAR(10),\"\")&IF(Z12>0%,$AC$6&\" \"&TEXT(Z12,\"0%\")&\"\"&CHAR(10),\"\"))","v":""}]
[null,503,"Autre",null,null,null,null,null,null,null,null,null,null,null,null,0,null,null,null,null,null,0,"","",{"$f":"IF(K13,VLOOKUP(AA13,effautres,2,0),\"\")","v":""},{"$f":"IF(O13=Listes!$J$25,0.08,0)","v":0},"p4"]
[null,504,"Autre",null,null,null,null,null,null,null,null,null,null,null,null,0,null,null,null,null,null,0,"","","",{"$f":"IF(O14=Listes!$J$25,0.08,0)","v":0},"p4"]
[null,505,"Autre",null,null,null,null,null,null,null,null,null,null,null,null,0,null,null,null,null,null,0,"","","",{"$f":"IF(O15=Listes!$J$25,0.08,0)","v":0},"p4"]
[null,506,"Autre",null,null,null,null,null,null,null,null,null,null,null,null,{"$f":"IF(Q16>0,Q16,V16)","v":0},null,null,null,null,null,0,"","","",{"$f":"IF(O16=Listes!$J$25,0.08,0)","v":0},"p4"]
[null,507,"Autre",null,null,null,null,null,null,null,null,null,null,null,null,0,null,null,null,null,null,0,"","","",{"$f":"IF(O17=Listes!$J$25,0.08,0)","v":0},"p4"]
[null,508,"Autre",null,null,null,null,null,null,null,null,null,null,null,null,0,null,null,null,null,null,0,"","","",{"$f":"IF(O18=Listes!$J$25,0.08,0)","v":0},"p4"]
[null,509,"Autre",null,null,null,null,null,null,null,null,null,null,null,null,0,null,null,null,null,null,0,"","","",{"$f":"IF(O19=Listes!$J$25,0.08,0)","v":0},"p4"]
[null,510,"Autre",null,null,null,null,null,null,null,null,null,null,null,null,0,null,null,null,null,null,0,"","","",{"$f":"IF(O20=Listes!$J$25,0.08,0)","v":0},"p4"]
[null,511,"Autre",null,null,null,null,null,null,null,null,null,null,null,null,0,null,null,null,null,null,0,"","","",{"$f":"IF(O21=Listes!$J$25,0.08,0)","v":0},"p4"]
[null,512,"Autre",null,null,null,null,null,null,null,null,null,null,null,null,0,null,null,null,null,null,0,"","","",{"$f":"IF(O22=Listes!$J$25,0.08,0)","v":0},"p4"]
[null,513,"Autre",null,null,null,null,null,null,null,null,null,null,null,null,0,null,null,null,null,null,0,"","","",{"$f":"IF(O23=Listes!$J$25,0.08,0)","v":0},"p4"]
[null,514,"Autre",null,null,null,null,null,null,null,null,null,null,null,null,0,null,null,null,null,null,0,"","","",{"$f":"IF(O24=Listes!$J$25,0.08,0)","v":0},"p4"]
[null,515,"Autre",null,null,null,null,null,null,null,null,null,null,null,null,0,null,null,null,null,null,0,"","","",{"$f":"IF(O25=Listes!$J$25,0.08,0)","v":0},"p4"]
[null,516,"Autre",null,null,null,null,null,null,null,null,null,null,null,null,0,null,null,null,null,null,0,"","","",{"$f":"IF(O26=Listes!$J$25,0.08,0)","v":0},"p4"]
[null,517,"Autre",null,null,null,null,null,null,null,null,null,null,null,null,0,null,null,null,null,null,0,"","","",{"$f":"IF(O27=Listes!$J$25,0.08,0)","v":0},"p4"]
[null,518,"Autre",null,null,null,null,null,null,null,null,null,null,null,null,0,null,null,null,null,null,0,"","","",{"$f":"IF(O28=Listes!$J$25,0.08,0)","v":0},"p4"]
[null,519,"Autre",null,null,null,null,null,null,null,null,null,null,null,null,0,null,null,null,null,null,0,"","","",{"$f":"IF(O29=Listes!$J$25,0.08,0)","v":0},"p4"]
[null,520,"Autre",null,null,null,null,null,null,null,null,null,null,null,null,0,null,null,null,null,null,0,"","","",{"$f":"IF(O30=Listes!$J$25,0.08,0)","v":0},"p4"]
[null,521,"Autre",null,null,null,null,null,null,null,null,null,null,null,null,0,null,null,null,null,null,0,"","","",{"$f":"IF(O31=Listes!$J$25,0.08,0)","v":0},"p4"]
[null,522,"Autre",null,null,null,null,null,null,null,null,null,null,null,null,0,null,null,null,null,null,0,"","","",{"$f":"IF(O32=Listes!$J$25,0.08,0)","v":0},"p4"]
[null,523,"Autre",null,null,null,null,null,null,null,null,null,null,null,null,0,null,null,null,null,null,0,"","","",{"$f":"IF(O33=Listes!$J$25,0.08,0)","v":0},"p4"]
[null,524,"Autre",null,null,null,null,null,null,null,null,null,null,null,null,0,null,null,null,null,null,0,"","","",{"$f":"IF(O34=Listes!$J$25,0.08,0)","v":0},"p4"]
[null,525,"Autre",null,null,null,null,null,null,null,null,null,null,null,null,0,null,null,null,null,null,0,"","","",{"$f":"IF(O35=Listes!$J$25,0.08,0)","v":0},"p4"]
[null,526,"Autre",null,null,null,null,null,null,null,null,null,null,null,null,0,null,null,null,null,null,0,"","","",{"$f":"IF(O36=Listes!$J$25,0.08,0)","v":0},"p4"]
[null,527,"Autre",null,null,null,null,null,null,null,null,null,null,null,null,0,null,null,null,null,null,0,"","","",{"$f":"IF(O37=Listes!$J$25,0.08,0)","v":0},"p4"]
[null,528,"Autre",null,null,null,null,null,null,null,null,null,null,null,null,0,null,null,null,null,null,0,"","","",{"$f":"IF(O38=Listes!$J$25,0.08,0)","v":0},"p4"]
[null,529,"Autre",null,null,null,null,null,null,null,null,null,null,null,null,0,null,null,null,null,null,0,"","","",{"$f":"IF(O39=Listes!$J$25,0.08,0)","v":0},"p4"]
[null,530,"Autre",null,null,null,null,null,null,null,null,null,null,null,null,0,null,null,null,null,null,0,"","","",{"$f":"IF(O40=Listes!$J$25,0.08,0)","v":0},"p4"]
[null,531,"Autre",null,null,null,null,null,null,null,null,null,null,null,null,{"$f":"IF(Q41>0,Q41,V41)","v":0},null,null,null,null,null,0,"","","",{"$f":"IF(O41=Listes!$J$25,0.08,0)","v":0},"p4"]
[null,532,"Autre",null,null,null,null,null,null,null,null,null,null,null,null,0,null,null,null,null,null,0,"","","",{"$f":"IF(O42=Listes!$J$25,0.08,0)","v":0},"p4"]

{"sheet":"Eval_eco_pom_ven","index":10,"n_rows":90,"n_cols":17,"rows_kept":90,"cut":false,"hidden":false,"merged":[]}
["Tableau pour l'évalutation des économies dûes au pompes"]
[]
["Analys préliminaire [source: Guide de bonne pratique pompe]"]
[null,{"$f":"Traduction!$A$351","v":"Gain du à la classe d'efficacité et de la puissance du moteur"}]
[null,{"$f":"Traduction!$A$124","v":"Veuillez choisir le type d'entrainement que vous souhaiter lister en cliquant sur le rectangle bleu correspondant"},{"$f":"Traduction!$A$163","v":"Classe d'efficacité  du moteur"},{"$f":"Traduction!$A$355","v":"Gamme de puissance"},"Economies moteur [effeffp]",{"$f":"Traduction!$A$357","v":"Code [codeffp]"},"Economie Entrainement [effeffep]",null,null,"Estimation consommation actuelle"]
[null,{"$f":"Traduction!$A$8","v":"Pompes"},"Eff3",{"$f":"Traduction!$A$360","v":"<20 kW"},0.1,{"$f":"B6 & C6 & IF(D6=\"<20 kW\",\"p1\",IF(D6=\"20-100 kW\",\"p2\",\"p3\"))","v":"PompesEff3p1"},0.02,null,null,"Variation demande","CF","Pseudo- taux de charge (de la puissance du moteur, effpompeestpr)","Code [codepompeestpr]",null,null,{"$f":"Traduction!$A$163","v":"Classe d'efficacité  du moteur"},0]
[null,{"$f":"Traduction!$A$8","v":"Pompes"},"Eff3",{"$f":"Traduction!$A$361","v":"20-100 kW"},0.05,{"$f":"B7 & C7 & IF(D7=\"<20 kW\",\"p1\",IF(D7=\"20-100 kW\",\"p2\",\"p3\"))","v":"PompesEff3p2"},0.03,null,null,{"$f":"Traduction!$A$5","v":"non"},{"$f":"Traduction!$A$5","v":"non"},0.6,{"$f":"J7 &K7","v":"nonnon"},null,null,"Eff3",1998]
[null,{"$f":"Traduction!$A$8","v":"Pompes"},"Eff3",{"$f":"Traduction!$A$422","v":"> 100 kW"},0.04,"PompesEff3p3",0.01,null,null,{"$f":"Traduction!$A$5","v":"non"},{"$f":"Traduction!$A$4","v":"oui"},0.6,{"$f":"J8 &K8","v":"nonoui"},null,null,"IE1",2005]
[null,{"$f":"Traduction!$A$8","v":"Pompes"},"IE1",{"$f":"Traduction!$A$360","v":"<20 kW"},7.0000000000000007E-2,"PompesIE1p1",0.01,null,null,{"$f":"Traduction!$A$4","v":"oui"},{"$f":"Traduction!$A$5","v":"non"},0.5,"ouinon",null,null,"IE2",2010]
[null,{"$f":"Traduction!$A$8","v":"Pompes"},"IE1",{"$f":"Traduction!$A$361","v":"20-100 kW"},0.04,"PompesIE1p2",0.01,null,null,{"$f":"Traduction!$A$4","v":"oui"},{"$f":"Traduction!$A$4","v":"oui"},0.4,"ouioui",null,null,"IE3",2014]
[null,{"$f":"Traduction!$A$8","v":"Pompes"},"IE1",{"$f":"Traduction!$A$422","v":"> 100 kW"},0.03,"PompesIE1p3",0.01,null,null,null,null,null,null,null,null,"IE4",2017]
[null,{"$f":"Traduction!$A$8","v":"Pompes"},"IE2",{"$f":"Traduction!$A$360","v":"<20 kW"},0.03,"PompesIE2p1",0.01]
[null,{"$f":"Traduction!$A$8","v":"Pompes"},"IE2",{"$f":"Traduction!$A$361","v":"20-100 kW"},0.02,"PompesIE2p2",0.01]
[null,{"$f":"Traduction!$A$8","v":"Pompes"},"IE2",{"$f":"Traduction!$A$422","v":"> 100 kW"},0.02,"PompesIE2p3",0]
[null,{"$f":"Traduction!$A$8","v":"Pompes"},"IE3",{"$f":"Traduction!$A$360","v":"<20 kW"},0,"PompesIE3p1",0]
[null,{"$f":"Traduction!$A$8","v":"Pompes"},"IE3",{"$f":"Traduction!$A$361","v":"20-100 kW"},0,"PompesIE3p2",0,null,null,"Estimation consommation actuelle autres entraînements "]
[null,{"$f":"Traduction!$A$8","v":"Pompes"},"IE3",{"$f":"Traduction!$A$422","v":"> 100 kW"},0,"PompesIE3p3",0,null,null,"Variation demande","CF","Pseudo- taux de charge (de la puissance du moteur, effmoteur)","Code [codemoteurstpr]",null,null,{"$f":"Traduction!$A$163","v":"Classe d'efficacité  du moteur"},0]
[null,{"$f":"Traduction!$A$8","v":"Pompes"},"IE4",{"$f":"Traduction!$A$360","v":"<20 kW"},0,"PompesIE4p1",0,null,null,{"$f":"Traduction!$A$5","v":"non"},{"$f":"Traduction!$A$5","v":"non"},0.6,{"$f":"J18 &K18","v":"nonnon"},null,null,"Eff3",1998]
[null,{"$f":"Traduction!$A$8","v":"Pompes"},"IE4",{"$f":"Traduction!$A$361","v":"20-100 kW"},0,"PompesIE4p2",0,null,null,{"$f":"Traduction!$A$5","v":"non"},{"$f":"Traduction!$A$4","v":"oui"},0.55000000000000004,{"$f":"J19 &K19","v":"nonoui"},null,null,"IE1",2005]
[null,{"$f":"Traduction!$A$8","v":"Pompes"},"IE4",{"$f":"Traduction!$A$422","v":"> 100 kW"},0,"PompesIE4p3",0,null,null,{"$f":"Traduction!$A$4","v":"oui"},{"$f":"Traduction!$A$5","v":"non"},0.5,"ouinon",null,null,"IE2",2010]
[null,{"$f":"Traduction!$A$144","v":"Ventilation"},"Eff3",{"$f":"Traduction!$A$360","v":"<20 kW"},0.1,{"$f":"B21 & C21 & IF(D21=\"<20 kW\",\"p1\",IF(D21=\"20-100 kW\",\"p2\",\"p3\"))","v":"VentilationEff3p1"},0.02,null,null,{"$f":"Traduction!$A$4","v":"oui"},{"$f":"Traduction!$A$4","v":"oui"},0.4,"ouioui",null,null,"IE3",2014]
[null,{"$f":"Traduction!$A$144","v":"Ventilation"},"Eff3",{"$f":"Traduction!$A$361","v":"20-100 kW"},0.05,{"$f":"B22 & C22 & IF(D22=\"<20 kW\",\"p1\",IF(D22=\"20-100 kW\",\"p2\",\"p3\"))","v":"VentilationEff3p2"},0.03,null,null,null,null,null,null,null,null,"IE4",2017]
[null,{"$f":"Traduction!$A$144","v":"Ventilation"},"Eff3",{"$f":"Traduction!$A$422","v":"> 100 kW"},0.04,"VentilationEff3p3",0.01]
[null,{"$f":"Traduction!$A$144","v":"Ventilation"},"IE1",{"$f":"Traduction!$A$360","v":"<20 kW"},7.0000000000000007E-2,"VentilationIE1p1",0.01]
[null,{"$f":"Traduction!$A$144","v":"Ventilation"},"IE1",{"$f":"Traduction!$A$361","v":"20-100 kW"},0.04,"VentilationIE1p2",0.01]
[null,{"$f":"Traduction!$A$144","v":"Ventilation"},"IE1",{"$f":"Traduction!$A$422","v":"> 100 kW"},0.03,"VentilationIE1p3",0.01]
[null,{"$f":"Traduction!$A$144","v":"Ventilation"},"IE2",{"$f":"Traduction!$A$360","v":"<20 kW"},0.03,"VentilationIE2p1",0.01]
[null,{"$f":"Traduction!$A$144","v":"Ventilation"},"IE2",{"$f":"Traduction!$A$361","v":"20-100 kW"},0.02,"VentilationIE2p2",0.01]
[null,{"$f":"Traduction!$A$144","v":"Ventilation"},"IE2",{"$f":"Traduction!$A$422","v":"> 100 kW"},0.02,"VentilationIE2p3",0]
[null,{"$f":"Traduction!$A$144","v":"Ventilation"},"IE3",{"$f":"Traduction!$A$360","v":"<20 kW"},0,"VentilationIE3p1",0]
[null,{"$f":"Traduction!$A$144","v":"Ventilation"},"IE3",{"$f":"Traduction!$A$361","v":"20-100 kW"},0,"VentilationIE3p2",0]
[null,{"$f":"Traduction!$A$144","v":"Ventilation"},"IE3",{"$f":"Traduction!$A$422","v":"> 100 kW"},0,"VentilationIE3p3",0]
[null,{"$f":"Traduction!$A$144","v":"Ventilation"},"IE4",{"$f":"Traduction!$A$360","v":"<20 kW"},0,"VentilationIE4p1",0]
[null,{"$f":"Traduction!$A$144","v":"Ventilation"},"IE4",{"$f":"Traduction!$A$361","v":"20-100 kW"},0,"VentilationIE4p2",0]
[null,{"$f":"Traduction!$A$144","v":"Ventilation"},"IE4",{"$f":"Traduction!$A$422","v":"> 100 kW"},0,"VentilationIE4p3",0]
[]
[]
[]
[null,"Eff3",{"$f":"Listes!$G$53","v":"Eff3 "},{"$f":"Traduction!$A$360","v":"<20 kW"},{"$f":"C39 & IF(D39=\"<20 kW\",\"p4\",IF(D39=\"20-100 kW\",\"p5\",\"p6\"))","v":"Eff3 p4"},7.0000000000000007E-2,{"$f":"B39 & IF(D39=\"<20 kW\",\"p4\",IF(D39=\"20-100 kW\",\"p5\",\"p6\"))","v":"Eff3p4"},7.0000000000000007E-2,null,{"$f":"J20","v":"oui"}]
[null,"Eff3",{"$f":"C39","v":"Eff3 "},{"$f":"Traduction!$A$361","v":"20-100 kW"},{"$f":"C40 & IF(D40=\"<20 kW\",\"p4\",IF(D40=\"20-100 kW\",\"p5\",\"p6\"))","v":"Eff3 p5"},0.04,{"$f":"B40 & IF(D40=\"<20 kW\",\"p4\",IF(D40=\"20-100 kW\",\"p5\",\"p6\"))","v":"Eff3p5"},0.04,null,{"$f":"J19","v":"non"}]
[null,"Eff3",{"$f":"C40","v":"Eff3 "},{"$f":"Traduction!$A$422","v":"> 100 kW"},"Eff3 p6",0.03,"Eff3p6",0.03,null,{"$f":"J39&J40&J39","v":"ouinonoui"}]
[null,"IE1",{"$f":"Listes!$G$54","v":"IE1"},{"$f":"Traduction!$A$360","v":"<20 kW"},"IE1p4",0.05,"IE1p4",0.05]
[null,"IE1",{"$f":"Listes!$G$54","v":"IE1"},{"$f":"Traduction!$A$361","v":"20-100 kW"},"IE1p5",0.03,"IE1p5",0.03]
[null,"IE1",{"$f":"Listes!$G$54","v":"IE1"},{"$f":"Traduction!$A$422","v":"> 100 kW"},"IE1p6",0.02,"IE1p6",0.02]
[null,"IE2",{"$f":"Listes!$G$55","v":"IE2"},{"$f":"Traduction!$A$360","v":"<20 kW"},"IE2p4",0.04,"IE2p4",0.04]
[null,"IE2",{"$f":"Listes!$G$55","v":"IE2"},{"$f":"Traduction!$A$361","v":"20-100 kW"},"IE2p5",0.02,"IE2p5",0.02]
[null,"IE2",{"$f":"Listes!$G$55","v":"IE2"},{"$f":"Traduction!$A$422","v":"> 100 kW"},"IE2p6",0.01,"IE2p6",0.01]
[null,"IE3",{"$f":"Listes!$G$56","v":"IE3"},{"$f":"Traduction!$A$360","v":"<20 kW"},"IE3p4",0.02,"IE3p4",0.02]
[null,"IE3",{"$f":"Listes!$G$56","v":"IE3"},{"$f":"Traduction!$A$361","v":"20-100 kW"},"IE3p5",0.01,"IE3p5",0.01]
[null,"IE3",{"$f":"Listes!$G$56","v":"IE3"},{"$f":"Traduction!$A$422","v":"> 100 kW"},"IE3p6",5.0000000000000001E-3,"IE3p6",5.0000000000000001E-3]
[null,"IE4",{"$f":"Listes!$G$57","v":"IE4"},{"$f":"Traduction!$A$360","v":"<20 kW"},"IE4p4",0,"IE4p4",0]
[null,"IE4",{"$f":"Listes!$G$57","v":"IE4"},{"$f":"Traduction!$A$361","v":"20-100 kW"},"IE4p5",0,"IE4p5",0]
[null,"IE4",{"$f":"Listes!$G$57","v":"IE4"},{"$f":"Traduction!$A$422","v":"> 100 kW"},"IE4p6",0,"IE4p6",0]
[]
[]
[null,{"$f":"Traduction!A666","v":"Tout ou rien par marche/arrêt"},null,null,0.08]
[null,{"$f":"Traduction!A667","v":"Cascade des compresseurs"},null,null,0.05]
[null,{"$f":"Traduction!A668","v":"Tiroir sans variation de vitesse du moteur "},null,null,0.02]
[null,{"$f":"Traduction!A669","v":"Variation de vitesse / tête de cylindre"},null,null,0]
[null,{"$f":"Listes!J26","v":"non"},{"$f":"Traduction!A678","v":"A"},{"$f":"B60&C60","v":"nonA"},0,null,{"$f":"D60","v":"nonA"},0]
[null,{"$f":"Listes!J26","v":"non"},{"$f":"Traduction!A679","v":"B"},{"$f":"B61&C61","v":"nonB"},0,null,{"$f":"D61","v":"nonB"},0]
[null,{"$f":"Listes!J26","v":"non"},{"$f":"Traduction!A680","v":"C"},"nonC",0,null,"nonC",0]
[null,{"$f":"Listes!J25","v":"oui"},{"$f":"Traduction!A678","v":"A"},"ouiA",0.09,null,"ouiA",0.1]
[null,{"$f":"Listes!J25","v":"oui"},{"$f":"Traduction!A679","v":"B"},"ouiB",0.12,null,"ouiB",0.15]
[null,{"$f":"Listes!J25","v":"oui"},{"$f":"Traduction!A680","v":"C"},"ouiC",0.04,null,"ouiC",0.06]
[null,{"$f":"Listes!J27","v":"Ne sais pas"},{"$f":"Traduction!A678","v":"A"},"Ne sais pasA",4.4999999999999998E-2,null,"Ne sais pasA",0.05]
[null,{"$f":"Listes!J27","v":"Ne sais pas"},{"$f":"Traduction!A679","v":"B"},"Ne sais pasB",0.06,null,"Ne sais pasB",7.4999999999999997E-2]
[null,{"$f":"Listes!J27","v":"Ne sais pas"},{"$f":"Traduction!A680","v":"C"},"Ne sais pasC",0.02,null,"Ne sais pasC",0.03]
[]
[null,{"$f":"Listes!J26","v":"non"},{"$f":"Traduction!A678","v":"A"},{"$f":"B70&C70","v":"nonA"},0.2]
[null,{"$f":"Listes!J26","v":"non"},{"$f":"Traduction!A679","v":"B"},{"$f":"B71&C71","v":"nonB"},0.3]
[null,{"$f":"Listes!J26","v":"non"},{"$f":"Traduction!A680","v":"C"},"nonC",0]
[null,{"$f":"Listes!J25","v":"oui"},{"$f":"Traduction!A678","v":"A"},"ouiA",0]
[null,{"$f":"Listes!J25","v":"oui"},{"$f":"Traduction!A679","v":"B"},"ouiB",0]
[null,{"$f":"Listes!J25","v":"oui"},{"$f":"Traduction!A680","v":"C"},"ouiC",0]
[null,{"$f":"Listes!J27","v":"Ne sais pas"},{"$f":"Traduction!A678","v":"A"},"Ne sais pasA",0.1]
[null,{"$f":"Listes!J27","v":"Ne sais pas"},{"$f":"Traduction!A679","v":"B"},"Ne sais pasB",0.15]
[null,{"$f":"Listes!J27","v":"Ne sais pas"},{"$f":"Traduction!A680","v":"C"},"Ne sais pasC",0]
[]
[null,5,null,null,0]
[null,10,null,null,5.0000000000000001E-3]
[null,15,null,null,0.01]
[null,20,null,null,1.4999999999999999E-2]
[null,">20",null,null,0.02]
[]
[null,null,null,"0°C",0]
[null,null,null,"1°C",0.03]
[null,null,null,"2°C",0.06]
[null,null,null,"3°C",0.09]
[null,null,null,"4°C",0.12]

{"sheet":"Classement des économies","index":11,"n_rows":123,"n_cols":92,"rows_kept":123,"cut":false,"hidden":false,"merged":[[6,2,6,4],[13,11,13,12],[13,13,13,14],[106,19,106,21],[107,19,107,21],[108,19,108,21],[101,19,101,21],[102,19,102,21],[103,19,103,21],[104,19,104,21],[105,19,105,21],[99,19,99,21],[100,19,100,21],[96,19,96,21],[97,19,97,21],[98,19,98,21],[81,19,81,21],[82,19,82,21],[83,19,83,21],[84,19,84,21],[85,19,85,21],[76,19,76,21],[77,19,77,21],[78,19,78,21],[79,19,79,21],[80,19,80,21],[91,19,91,21],[92,19,92,21],[93,19,93,21],[94,19,94,21],[95,19,95,21],[86,19,86,21],[87,19,87,21],[88,19,88,21],[89,19,89,21],[90,19,90,21],[71,19,71,21],[72,19,72,21],[73,19,73,21],[74,19,74,21],[75,19,75,21],[66,19,66,21],[67,19,67,21],[68,19,68,21],[69,19,69,21],[70,19,70,21],[61,19,61,21],[62,19,62,21],[63,19,63,21],[64,19,64,21],[65,19,65,21],[56,19,56,21],[57,19,57,21],[58,19,58,21],[59,19,59,21],[60,19,60,21],[51,19,51,21],[52,19,52,21],[53,19,53,21],[54,19,54,21],[55,19,55,21],[46,19,46,21],[47,19,47,21],[48,19,48,21],[49,19,49,21],[50,19,50,21],[96,17,96,18],[87,17,87,18],[88,17,88,18],[89,17,89,18],[90,17,90,18],[91,17,91,18],[82,17,82,18],[83,17,83,18],[84,17,84,18],[85,17,85,18],[86,17,86,18],[29,19,29,21],[30,19,30,21],[31,19,31,21],[32,19,32,21],[33,19,33,21],[34,19,34,21],[35,19,35,21],[36,19,36,21],[37,19,37,21],[38,19,38,21],[39,19,39,21],[40,19,40,21],[107,17,107,18],[108,17,108,18],[102,17,102,18],[103,17,103,18],[104,17,104,18],[105,17,105,18],[106,17,106,18],[97,17,97,18],[98,17,98,18],[99,17,99,18],[100,17,100,18],[101,17,101,18],[92,17,92,18],[41,19,41,21],[42,19,42,21],[43,19,43,21],[44,19,44,21],[45,19,45,21],[93,17,93,18],[94,17,94,18],[95,17,95,18],[78,17,78,18],[79,17,79,18],[80,17,80,18],[81,17,81,18],[72,17,72,18],[73,17,73,18],[74,17,74,18],[75,17,75,18],[76,17,76,18],[77,17,77,18],[56,17,56,18],[67,17,67,18],[68,17,68,18],[69,17,69,18],[70,17,70,18],[71,17,71,18],[62,17,62,18],[63,17,63,18],[64,17,64,18],[65,17,65,18],[66,17,66,18],[38,17,38,18],[39,17,39,18],[40,17,40,18],[41,17,41,18],[108,15,108,16],[47,17,47,18],[48,17,48,18],[49,17,49,18],[50,17,50,18],[51,17,51,18],[42,17,42,18],[43,17,43,18],[44,17,44,18],[45,17,45,18],[46,17,46,18],[57,17,57,18],[58,17,58,18],[59,17,59,18],[60,17,60,18],[61,17,61,18],[52,17,52,18],[53,17,53,18],[54,17,54,18],[55,17,55,18],[29,17,29,18],[30,17,30,18],[31,17,31,18],[32,17,32,18],[33,17,33,18],[34,17,34,18],[35,17,35,18],[36,17,36,18],[37,17,37,18],[103,15,103,16],[104,15,104,16],[105,15,105,16],[106,15,106,16],[107,15,107,16],[98,15,98,16],[99,15,99,16],[100,15,100,16],[101,15,101,16],[102,15,102,16],[93,15,93,16],[94,15,94,16],[95,15,95,16],[96,15,96,16],[97,15,97,16],[88,15,88,16],[89,15,89,16],[90,15,90,16],[91,15,91,16],[92,15,92,16],[83,15,83,16],[84,15,84,16],[85,15,85,16],[86,15,86,16],[87,15,87,16],[78,15,78,16],[79,15,79,16],[80,15,80,16],[81,15,81,16],[82,15,82,16],[73,15,73,16],[74,15,74,16],[75,15,75,16],[76,15,76,16],[77,15,77,16],[68,15,68,16],[69,15,69,16],[70,15,70,16],[71,15,71,16],[72,15,72,16],[63,15,63,16],[64,15,64,16],[65,15,65,16],[66,15,66,16],[67,15,67,16],[58,15,58,16],[59,15,59,16],[60,15,60,16],[61,15,61,16],[62,15,62,16],[35,15,35,16],[36,15,36,16],[37,15,37,16],[108,13,108,14],[43,15,43,16],[44,15,44,16],[45,15,45,16],[46,15,46,16],[47,15,47,16],[38,15,38,16],[39,15,39,16],[40,15,40,16],[41,15,41,16],[42,15,42,16],[53,15,53,16],[54,15,54,16],[55,15,55,16],[56,15,56,16],[57,15,57,16],[48,15,48,16],[49,15,49,16],[50,15,50,16],[51,15,51,16],[52,15,52,16],[26,15,26,16],[27,15,27,16],[28,15,28,16],[29,15,29,16],[30,15,30,16],[31,15,31,16],[32,15,32,16],[33,15,33,16],[34,15,34,16],[103,13,103,14],[104,13,104,14],[105,13,105,14],[106,13,106,14],[107,13,107,14],[98,13,98,14],[99,13,99,14],[100,13,100,14],[101,13,101,14],[102,13,102,14],[93,13,93,14],[94,13,94,14],[95,13,95,14],[96,13,96,14],[97,13,97,14],[88,13,88,14],[89,13,89,14],[90,13,90,14],[91,13,91,14],[92,13,92,14],[83,13,83,14],[84,13,84,14],[85,13,85,14],[86,13,86,14],[87,13,87,14],[78,13,78,14],[79,13,79,14],[80,13,80,14],[81,13,81,14],[82,13,82,14],[73,13,73,14],[74,13,74,14],[75,13,75,14],[76,13,76,14],[77,13,77,14],[68,13,68,14],[69,13,69,14],[70,13,70,14],[71,13,71,14],[72,13,72,14],[63,13,63,14],[64,13,64,14],[65,13,65,14],[66,13,66,14],[67,13,67,14],[58,13,58,14],[59,13,59,14],[60,13,60,14],[61,13,61,14],[62,13,62,14],[53,13,53,14],[54,13,54,14],[55,13,55,14],[56,13,56,14],[57,13,57,14],[48,13,48,14],[49,13,49,14],[50,13,50,14],[51,13,51,14],[52,13,52,14],[43,13,43,14],[44,13,44,14],[45,13,45,14],[46,13,46,14],[47,13,47,14],[107,11,107,12],[108,11,108,12],[29,13,29,14],[30,13,30,14],[31,13,31,14],[32,13,32,14],[33,13,33,14],[34,13,34,14],[35,13,35,14],[36,13,36,14],[37,13,37,14],[38,13,38,14],[39,13,39,14],[40,13,40,14],[41,13,41,14],[42,13,42,14],[102,11,102,12],[103,11,103,12],[104,11,104,12],[106,11,106,12],[97,11,97,12],[98,11,98,12],[99,11,99,12],[100,11,100,12],[101,11,101,12],[92,11,92,12],[93,11,93,12],[94,11,94,12],[95,11,95,12],[96,11,96,12],[89,11,89,12],[90,11,90,12],[91,11,91,12],[82,11,82,12],[83,11,83,12],[84,11,84,12],[85,11,85,12],[86,11,86,12],[105,11,105,12],[80,11,80,12],[81,11,81,12],[72,11,72,12],[73,11,73,12],[74,11,74,12],[75,11,75,12],[76,11,76,12],[87,11,87,12],[88,11,88,12],[71,11,71,12],[62,11,62,12],[63,11,63,12],[64,11,64,12],[65,11,65,12],[66,11,66,12],[77,11,77,12],[78,11,78,12],[79,11,79,12],[52,11,52,12],[53,11,53,12],[54,11,54,12],[55,11,55,12],[56,11,56,12],[67,11,67,12],[68,11,68,12],[69,11,69,12],[70,11,70,12],[34,11,34,12],[35,11,35,12],[36,11,36,12],[37,11,37,12],[38,11,38,12],[39,11,39,12],[40,11,40,12],[41,11,41,12],[108,7,108,9],[47,11,47,12],[48,11,48,12],[49,11,49,12],[50,11,50,12],[51,11,51,12],[42,11,42,12],[43,11,43,12],[44,11,44,12],[45,11,45,12],[46,11,46,12],[57,11,57,12],[58,11,58,12],[59,11,59,12],[60,11,60,12],[61,11,61,12],[103,7,103,9],[104,7,104,9],[105,7,105,9],[106,7,106,9],[107,7,107,9],[98,7,98,9],[99,7,99,9],[100,7,100,9],[101,7,101,9],[102,7,102,9],[94,7,94,9],[95,7,95,9],[96,7,96,9],[97,7,97,9],[88,7,88,9],[89,7,89,9],[90,7,90,9],[91,7,91,9],[92,7,92,9],[85,7,85,9],[86,7,86,9],[87,7,87,9],[78,7,78,9],[79,7,79,9],[80,7,80,9],[81,7,81,9],[82,7,82,9],[93,7,93,9],[76,7,76,9],[77,7,77,9],[68,7,68,9],[69,7,69,9],[70,7,70,9],[71,7,71,9],[72,7,72,9],[83,7,83,9],[84,7,84,9],[67,7,67,9],[58,7,58,9],[59,7,59,9],[60,7,60,9],[61,7,61,9],[62,7,62,9],[73,7,73,9],[74,7,74,9],[75,7,75,9],[34,7,34,9],[35,7,35,9],[36,7,36,9],[37,7,37,9],[38,7,38,9],[39,7,39,9],[40,7,40,9],[41,7,41,9],[42,7,42,9],[104,4,104,6],[105,4,105,6],[106,4,106,6],[107,4,107,6],[108,4,108,6],[43,7,43,9],[44,7,44,9],[45,7,45,9],[46,7,46,9],[47,7,47,9],[53,7,53,9],[54,7,54,9],[55,7,55,9],[56,7,56,9],[57,7,57,9],[48,7,48,9],[49,7,49,9],[50,7,50,9],[51,7,51,9],[52,7,52,9],[63,7,63,9],[64,7,64,9],[65,7,65,9],[66,7,66,9],[99,4,99,6],[100,4,100,6],[101,4,101,6],[102,4,102,6],[103,4,103,6],[94,4,94,6],[95,4,95,6],[96,4,96,6],[97,4,97,6],[98,4,98,6],[89,4,89,6],[90,4,90,6],[91,4,91,6],[92,4,92,6],[93,4,93,6],[84,4,84,6],[85,4,85,6],[86,4,86,6],[87,4,87,6],[88,4,88,6],[79,4,79,6],[80,4,80,6],[81,4,81,6],[82,4,82,6],[83,4,83,6],[74,4,74,6],[75,4,75,6],[76,4,76,6],[77,4,77,6],[78,4,78,6],[69,4,69,6],[70,4,70,6],[71,4,71,6],[72,4,72,6],[73,4,73,6],[64,4,64,6],[65,4,65,6],[66,4,66,6],[67,4,67,6],[68,4,68,6],[59,4,59,6],[60,4,60,6],[61,4,61,6],[62,4,62,6],[63,4,63,6],[54,4,54,6],[55,4,55,6],[56,4,56,6],[57,4,57,6],[58,4,58,6],[49,4,49,6],[50,4,50,6],[51,4,51,6],[52,4,52,6],[53,4,53,6],[44,4,44,6],[45,4,45,6],[46,4,46,6],[47,4,47,6],[48,4,48,6],[39,4,39,6],[40,4,40,6],[41,4,41,6],[42,4,42,6],[43,4,43,6],[34,4,34,6],[35,4,35,6],[36,4,36,6],[37,4,37,6],[38,4,38,6],[29,4,29,6],[30,4,30,6],[31,4,31,6],[32,4,32,6],[33,4,33,6],[14,13,14,14],[16,13,16,14],[18,13,18,14],[18,11,18,12],[28,13,28,14],[29,7,29,9],[30,7,30,9],[31,7,31,9],[32,7,32,9],[33,7,33,9],[29,11,29,12],[30,11,30,12],[31,11,31,12],[32,11,32,12],[33,11,33,12],[23,4,23,6],[23,7,23,9],[23,11,23,12],[23,13,23,14],[12,2,12,5],[1,14,1,15],[1,16,1,17],[1,18,1,19],[24,4,24,6],[24,7,24,9],[24,11,24,12],[24,13,24,14],[24,15,24,16],[24,17,24,18],[24,19,24,21],[6,5,6,6],[4,2,4,22],[3,21,3,22],[14,11,14,12],[16,11,16,12],[1,2,1,3],[1,4,1,5],[1,6,1,7],[1,8,1,9],[1,12,1,13],[1,10,1,11],[1,20,1,21],[23,15,23,16],[25,17,25,18],[25,19,25,21],[26,17,26,18],[27,17,27,18],[28,17,28,18],[26,19,26,21],[27,19,27,21],[28,19,28,21],[25,4,25,6],[26,4,26,6],[27,4,27,6],[28,4,28,6],[25,7,25,9],[26,7,26,9],[27,7,27,9],[28,7,28,9],[25,11,25,12],[26,11,26,12],[27,11,27,12],[28,11,28,12],[25,13,25,14],[26,13,26,14],[27,13,27,14],[25,15,25,16],[14,16,14,21],[23,17,23,18],[23,19,23,21],[22,4,22,6],[22,7,22,9],[22,11,22,12],[22,13,22,14],[22,15,22,16],[22,17,22,18],[22,19,22,21]]}
[]
[null,null,{"$f":"HYPERLINK(NomFichier&Listes!C48&\"'!A1\",Traduction!$A$13)","v":"Menu"},null,{"$f":"HYPERLINK(NomFichier&Listes!C49&\"'!A1\",Traduction!$A$11)","v":"Introduction"},null,{"$f":"HYPERLINK(NomFichier&Listes!C50&\"'!G7\",Traduction!$A$12)","v":"Entreprise"},null,{"$f":"HYPERLINK(NomFichier&Listes!C51&\"'!O22\",Traduction!$A$701)","v":"Quick-check"},null,{"$f":"HYPERLINK(NomFichier&Listes!C53&\"'!E10\",Traduction!$A$77)","v":"Pompe(s)"},null,{"$f":"HYPERLINK(NomFichier&Listes!C54&\"'!E10\",Traduction!$A$78)","v":"Ventilateur(s)"},null,{"$f":"HYPERLINK(NomFichier&Listes!C55&\"'!M12\",Traduction!$A$10)","v":"Air comprimé"},null,{"$f":"HYPERLINK(NomFichier&Listes!C57&\"'!F10\",Traduction!$A$545)","v":"Groupe froid"},null,{"$f":"HYPERLINK(NomFichier&Listes!$C$56&\"'!E10\",Traduction!$A$702)","v":"Autre"},null,{"$f":"Traduction!$A$79","v":"Résultats"}]
[]
[null,null,{"$f":"Traduction!$A$202","v":"Analyse préliminaire: Résultats classés"},null,null,null,null,null,null,null,null,null,null,null,null,null,null,null,null,null,null,null,null,null,null,null,null,null,null,null,null,null,null,null,null,{"$f":"Traduction!$A$10","v":"Air comprimé"},null,null,null,null,null,null,null,null,null,null,null,null,null,null,null,null,null,null,null,null,null,null,null,null,null,null,null,null,null,null,null,null,null,null,null,null,null,null,null,null,null,null,null,null,null,{"$f":"Traduction!$A$203","v":"Cette entrainement a déjà fait l'objet d'une analyse préliminaire, voulez vous réécrire le valeurs de l'analyse préliminaire"}]
[null,null,{"$f":"Traduction!$A$204","v":"Sur cette page, les potentiels d'économies sont classés selon leur pertinence. Cliquez sur le bouton de la première colonne pour préciser les potentiels d'économies d'un entrainement particulier avec l'analyse préliminaire + (si vous disposez d'informations additionnelles)"},null,null,null,null,null,null,null,null,null,null,null,null,null,null,null,null,null,null,null,null,null,null,null,null,null,null,null,null,null,null,null,null,{"$f":"Traduction!$A$25","v":"Autres entraînements électriques importants"}]
[]
[null,null,{"$f":"Traduction!$A$205","v":"Prix  de l'électricité "},null,null,{"$f":"PrixElec","v":0.15010000000000001},null,null,null,null,null,{"$f":"Traduction!$A$207","v":"Approfondissement très recommandé (économie > 20 MWh/a et > 20 % de la consommation, âge > 8 ans)"},null,null,null,null,null,null,null,null,null,null,null,null,null,null,null,null,null,null,null,null,null,{"$f":"Traduction!$A$45","v":"Classement"},null,"Economines"]
[]
[null,null,null,null,null,null,null,null,null,null,null,{"$f":"Traduction!$A$208","v":"Approfondissement moyennement recommandé (économie > 10 MWh/a, âge > 5 ans)"},null,null,null,null,null,null,null,null,null,null,null,null,null,null,null,null,null,null,null,null,null,2]
[]
[null,null,null,null,null,null,null,null,null,null,null,{"$f":"Traduction!$A$209","v":"Approfondissement pas recommandé"},null,null,null,null,null,null,null,null,null,null,null,null,null,null,null,null,null,null,null,null,null,1]
[]
[null,null,{"$f":"HYPERLINK(NomFichier&Listes!C59&\"'!A1\",Traduction!$A$40)","v":"Synthèse"}]
[null,null,null,null,null,null,null,null,null,null,null,{"$f":"Traduction!$A$210","v":"kWh/an"},null,{"$f":"Traduction!$A$211","v":"CHF/an"}]
[null,null,{"$f":"Traduction!$A$554","v":"Économies des installations intéressantes"},null,null,null,null,null,null,null,null,{"$f":"ROUND(AM116,-2)","v":0},null,{"$f":"L15*$F$7","v":0},null,null,{"$f":"HYPERLINK(Traduction!$A$628 & \"/Calc_Classe_econ.htm\",Traduction!A644)","v":"Méthode de calcul : classification"}]
[]
[null,null,{"$f":"Traduction!$A$555","v":"Économies des installations moyennement intéressantes"},null,null,null,null,null,null,null,null,{"$f":"ROUND(AM117,-2)","v":0},null,{"$f":"L17*$F$7","v":0},null,null,null,null,null,null,null,null,null,null,null,null,null,null,null,null,null,null,null,null,null,null,null,null,null,null,null,null,null,null,null,null,null,null,null,null,null,null,null,null,null,null,null,null,null,null,null,null,null,null,null,null,null,null,null,null,null,null,null,null,null,null,null,null,null,null,null,null,null,null,null,null,{"$f":"INDEX('Analyse Préliminaire Pompe'!X$13:X$47,$A27)","v":0}]
[]
[null,null,{"$f":"Traduction!$A$64","v":"Total"},null,null,null,null,null,null,null,null,{"$f":"SUM(L15:L17)","v":0},null,{"$f":"N17+N15","v":0},null,null,null,null,null,null,null,null,null,null,null,null,null,null,null,null,null,null,null,null,null,null,null,null,null,null,null,null,null,null,null,null,null,null,null,null,null,null,null,null,null,null,null,null,null,null,null,null,null,null,null,null,null,null,null,null,null,null,null,null,null,null,null,null,null,null,null,null,null,null,null,null,{"$f":"$A27","v":3}]
[null,null,null,null,null,null,null,null,null,null,null,null,null,null,null,null,null,null,null,null,null,null,null,null,null,null,null,null,null,null,null,null,null,null,{"$f":"Traduction!$A$215","v":"Nombre entrainement total"},null,null,null,null,null,null,null,null,null,null,null,null,null,null,null,null,null,null,null,null,null,null,null,null,null,null,null,null,null,null,null,null,null,null,null,{"$f":"nbappomp+nbapair+nbapven+nbaautre+nbafroid","v":0},null,null,null,null,null,null,null,null,null,null,null,null,null,null,null,{"$f":"INDEX('Analyse Préliminaire Pompe'!X$13:X$47,3)","v":0}]
[null,null,null,{"$f":"Traduction!A735","v":"Résultats: Estimations des gains"},null,null,null,null,null,null,null,null,null,null,null,null,null,null,null,null,null,null,null,null,null,null,null,null,null,null,null,null,null,null,"Pompe et ventil 1er ligne",null,null,null,null,null,null,null,null,null,null,null,null,null,null,null,null,null,null,null,null,null,null,null,null,null,null,null,null,null,null,null,null,null,null,null,{"$f":"ROW(CE_BegVePu)+3","v":25}]
[]
[null,null,null,null,null,null,null,null,null,null,{"$f":"HYPERLINK(Traduction!$A$628 & \"/info_eco_rel_total.htm\",Traduction!$A$718)","v":"Aide"},{"$f":"HYPERLINK(Traduction!$A$628 & \"/info_economies.htm\",Traduction!$A$719)","v":"Méthode de calcul"},null,{"$f":"HYPERLINK(Traduction!$A$628 & \"/info_economies_1_4_8 ans.htm\",Traduction!$A$718)","v":"Aide"},null,{"$f":"HYPERLINK(Traduction!$A$628 & \"/info_economies_1_4_8 ans.htm\",Traduction!$A$718)","v":"Aide"}]
[1,{"$f":"L24","v":"Economies [kWh/a]  (± 30 %)"},{"$f":"Traduction!$A$216","v":"Analyse préliminaire plus : cliquer sur le bouton"},{"$f":"Traduction!$A$138","v":"Numéro d'entrainement"},{"$f":"Traduction!A365","v":"Type d'entrainement"},null,null,{"$f":"Traduction!$A$141","v":"Nom/code/description"},null,null,{"$f":"Traduction!$A$218","v":"Economies totales [%]"},{"$f":"Traduction!$A$534","v":"Economies [kWh/a]  (± 30 %)"},null,{"$f":"Traduction!$A$535","v":"Economies annuelles [CHF/a]  (± 30 %)"},null,{"$f":"Traduction!A616","v":"Economies sur 4 ans [CHF/4a]  (± 30 %)"},null,{"$f":"Traduction!$A$151","v":"Consommation annuelle estimée [kWh/a]"},null,{"$f":"Traduction!A613","v":"Commentaires"},null,null,{"$f":"Traduction!$A$539","v":"Origines des gains"},{"$f":"Traduction!$A$140","v":"Localisation"},{"$f":"Traduction!$A$220","v":"Puissance nominale [kW]"},{"$f":"Traduction!$A$221","v":"Année de construction [années]"},{"$f":"Traduction!$A$163","v":"Classe d'efficacité  du moteur"},{"$f":"Traduction!$A$146","v":"Heures de fonctionnement individuelles [heures/année]"},{"$f":"Traduction!$A$147","v":"Demande variable"},{"$f":"Traduction!$A$149","v":"Convertisseur de fréquence réglé"},{"$f":"Traduction!$A$150","v":"Relevage ou circulation "},"Optimisation système [kWh/a]",{"$f":"Traduction!$A$222","v":"Economie AP+ [kWh/a]"},{"$f":"Traduction!$A$223","v":"Economie AP+ [%]"},{"$f":"Traduction!$A$224","v":"Consommation annuelle AP+"},{"$f":"Traduction!$A$43","v":"Classification"},null,null,{"$f":"Traduction!$A$234","v":"Nom AP+"},"AP+vide"," Pompe?","Ventil","Air comp","GF","Autre",null,"Eco Pompe","Ventil","Air comp","GF","Autre",null,"ConsPompe","Ventil","Air comp","GF","Autre",null,"GAPPompe","Ventil","Air comp","GF","Autre",null,"GARankPompe","Ventil","Air comp","GF","Autre",null,{"$f":"Traduction!$A$8","v":"Pompes"},{"$f":"Traduction!$A$9","v":"Ventilateurs"},{"$f":"Traduction!$A$227","v":"Eco Pompe"},{"$f":"Traduction!$A$228","v":"EcoVentil"},{"$f":"Traduction!$A$229","v":"Conso pompe"},{"$f":"Traduction!$A$230","v":"Consventil"},{"$f":"Traduction!$A$10","v":"Air comprimé"},null,{"$f":"Traduction!$A$232","v":"Eco air comp"},{"$f":"Traduction!$A$233","v":"Cons air comp"},{"$f":"Traduction!$A$234","v":"Nom AP+"},{"$f":"Traduction!$A$45","v":"Classement"},{"$f":"Traduction!$A$25","v":"Autres entraînements électriques importants"},"Autre eco","Autre conso",null,"Commentaires GA+",null,"Liste GAP Pompe","Liste GAP Ventil","Liste GAPCP","ListGAP Froid"]
[1,null,null,{"$f":"IF(A25<=nbappomp,INDEX('Analyse Préliminaire Pompe'!$B$13:$B$47,A25),IF(A25<=nbappomp+nbapven,INDEX('Analyse Préliminaire Ventilateu'!$B$13:$B$44,A25-nbappomp),IF(A25<=nbappomp+nbapven+nbapair,301,IF(A25<=nbappomp+nbapven+nbapair+nbaautre,INDEX('Analyse Préliminaire Autres'!$B$11:$B$42,A25-nbappomp-nbapven-nbapair),IF(A25<=nbappomp+nbapven+nbapair+nbaautre+nbafroid,INDEX('AP Groupe froid'!$B$14:$B$17,A25-nbappomp-nbapven-nbapair-nbaautre),\"\")))))","v":""},{"$f":"IF(A25<=nbappomp,INDEX('Analyse Préliminaire Pompe'!$C$13:$C$47,A25),IF(A25<=nbappomp+nbapven,INDEX('Analyse Préliminaire Ventilateu'!$C$13:$C$44,A25-nbappomp),IF(A25<=nbappomp+nbapven+nbapair,$AJ$4,IF(A25<=nbappomp+nbapven+nbapair+nbaautre,INDEX('Analyse Préliminaire Autres'!$C$11:$C$42,A25-nbappomp-nbapven-nbapair),IF(A25<=nbappomp+nbapven+nbapair+nbaautre+nbafroid,INDEX('AP Groupe froid'!$C$14:$C$17,A25-nbappomp-nbapven-nbapair-nbaautre),\"\")))))","v":""},null,null,{"$f":"IF(A25<=nbappomp,INDEX('Analyse Préliminaire Pompe'!$H$13:$H$47,A25),IF(A25<=nbappomp+nbapven,INDEX('Analyse Préliminaire Ventilateu'!$H$13:$H$44,A25-nbappomp),IF(A25<=nbappomp+nbapven+nbapair,$AJ$4,IF(A25<=nbappomp+nbapven+nbapair+nbaautre,INDEX('Analyse Préliminaire Autres'!$H$11:$H$42,A25-nbappomp-nbapven-nbapair),IF(A25<=nbappomp+nbapven+nbapair+nbaautre+nbafroid,INDEX('AP Groupe froid'!$I$14:$I$17,A25-nbappomp-nbapven-nbapair-nbaautre),\"\")))))","v":""},null,null,{"$f":"IF(AH25=\"\",IF($A25<=nbappomp,INDEX('Analyse Préliminaire Pompe'!AE$13:AE$47,$A25),IF($A25<=nbappomp+nbapven,INDEX('Analyse Préliminaire Ventilateu'!AC$13:AC$44,$A25-nbappomp),IF($A25<=nbappomp+nbapven+nbapair,'Analyse Préliminaire air compr'!$AI$22,IF(A25<=nbappomp+nbapven+nbapair+nbaautre,INDEX('Analyse Préliminaire Autres'!$X$11:$X$42,A25-nbappomp-nbapven-nbapair),IF(A25<=nbappomp+nbapven+nbapair+nbaautre+nbafroid,INDEX('AP Groupe froid'!$AF$14:$AF$17,A25-nbappomp-nbapven-nbapair-nbaautre),\"\"))))),AH25)","v":""},{"$f":"IF(AG25=\"\",IF($A25<=nbappomp,INDEX('Analyse Préliminaire Pompe'!AD$13:AD$47,$A25),IF($A25<=nbappomp+nbapven,INDEX('Analyse Préliminaire Ventilateu'!AB$13:AB$44,$A25-nbappomp),IF($A25<=nbappomp+nbapven+nbapair,'Analyse Préliminaire air compr'!$AH$22,IF(A25<=nbappomp+nbapven+nbapair+nbaautre,INDEX('Analyse Préliminaire Autres'!$W$11:$W$42,A25-nbappomp-nbapven-nbapair),IF(A25<=nbappomp+nbapven+nbapair+nbaautre+nbafroid,INDEX('AP Groupe froid'!$AE$14:$AE$17,A25-nbappomp-nbapven-nbapair-nbaautre),\"\"))))),AG25)","v":""},null,{"$f":"IF(L25=\"\",\"\",L25*$F$7)","v":""},null,{"$f":"IFERROR(ROUND(IF(L25=\"\",\"\",L25*$F$7*4),-3),\"\")","v":""},null,{"$f":"IF(AI25=\"\",IF($A25<=nbappomp,INDEX('Analyse Préliminaire Pompe'!T$13:T$47,$A25),IF($A25<=nbappomp+nbapven,INDEX('Analyse Préliminaire Ventilateu'!R$13:R$44,$A25-nbappomp),IF($A25<=nbappomp+nbapven+nbapair,'Analyse Préliminaire air compr'!$AH$13,IF(A25<=nbappomp+nbapven+nbapair+nbaautre,INDEX('Analyse Préliminaire Autres'!$P$11:$P$42,A25-nbappomp-nbapven-nbapair),IF(A25<=nbappomp+nbapven+nbapair+nbaautre+nbafroid,INDEX('AP Groupe froid'!$AD$14:$AD$17,A25-nbappomp-nbapven-nbapair-nbaautre),\"\"))))),AI25)","v":""},null,{"$f":"IF($A25<=nbappomp,INDEX('Analyse Préliminaire Pompe'!X$13:X$47,$A25),IF($A25<=nbappomp+nbapven,INDEX('Analyse Préliminaire Ventilateu'!V$13:V$44,$A25-nbappomp),IF($A25<=nbappomp+nbapven+nbapair,'Analyse Préliminaire air compr'!$E$35,IF(A25<=nbappomp+nbapven+nbapair+nbaautre,INDEX('Analyse Préliminaire Autres'!$R$11:$R$42,A25-nbappomp-nbapven-nbapair),IF(A25<=nbappomp+nbapven+nbapair+nbaautre+nbafroid,INDEX('AP Groupe froid'!$Z$14:$Z$17,A25-nbappomp-nbapven-nbapair-nbaautre),\"\")))))","v":""},null,null,{"$f":"IF(AG25=\"\",IF($A25<=nbappomp,INDEX('Analyse Préliminaire Pompe'!AN$13:AN$47,$A25),IF($A25<=nbappomp+nbapven,INDEX('Analyse Préliminaire Ventilateu'!AL$13:AL$44,$A25-nbappomp),IF($A25<=nbappomp+nbapven+nbapair,'Analyse Préliminaire air compr'!$AM$16,IF(A25<=nbappomp+nbapven+nbapair+nbaautre,INDEX('Analyse Préliminaire Autres'!$AB$11:$AB$42,A25-nbappomp-nbapven-nbapair),IF(A25<=nbappomp+nbapven+nbapair+nbaautre+nbafroid,INDEX('AP Groupe froid'!$AM$14:$AM$17,A25-nbappomp-nbapven-nbapair-nbaautre),\"\"))))),'Economies classées'!$A$47)","v":""},{"$f":"IF($A25<=nbappomp,INDEX('Analyse Préliminaire Pompe'!E$13:E$47,$A25),IF($A25<=nbappomp+nbapven,INDEX('Analyse Préliminaire Ventilateu'!E$13:E$44,$A25-nbappomp),IF($A25<=nbappomp+nbapven+nbapair,\"voir detail\",IF(A25<=nbappomp+nbapven+nbapair+nbaautre,INDEX('Analyse Préliminaire Autres'!$E$11:$E$42,A25-nbappomp-nbapven-nbapair),IF(A25<=nbappomp+nbapven+nbapair+nbaautre+nbafroid,INDEX('AP Groupe froid'!$F$14:$F$17,A25-nbappomp-nbapven-nbapair-nbaautre),\"\")))))","v":""},{"$f":"IF($A25<=nbappomp,INDEX('Analyse Préliminaire Pompe'!K$13:K$47,$A25),IF($A25<=nbappomp+nbapven,INDEX('Analyse Préliminaire Ventilateu'!K$13:K$44,$A25-nbappomp),IF($A25<=nbappomp+nbapven+nbapair,SUM('Analyse Préliminaire air compr'!$I$26:$I$32),IF(A25<=nbappomp+nbapven+nbapair+nbaautre,INDEX('Analyse Préliminaire Autres'!$K$11:$K$42,A25-nbappomp-nbapven-nbapair),IF(A25<=nbappomp+nbapven+nbapair+nbaautre+nbafroid,INDEX('AP Groupe froid'!$O$14:$O$17,A25-nbappomp-nbapven-nbapair-nbaautre),\"\")))))","v":""},{"$f":"IF($A25<=nbappomp,INDEX('Analyse Préliminaire Pompe'!L$13:L$47,$A25),IF($A25<=nbappomp+nbapven,INDEX('Analyse Préliminaire Ventilateu'!L$13:L$44,$A25-nbappomp),IF($A25<=nbappomp+nbapven+nbapair,MIN('Analyse Préliminaire air compr'!$J$26:$J$32),IF(A25<=nbappomp+nbapven+nbapair+nbaautre,INDEX('Analyse Préliminaire Autres'!$L$11:$L$42,A25-nbappomp-nbapven-nbapair),IF($A25<=nbappomp+nbapven+nbapair,'Analyse Préliminaire air compr'!$AM$16,IF(A25<=nbappomp+nbapven+nbapair+nbaautre+nbafroid,INDEX('AP Groupe froid'!$L$14:$L$17,A25-nbappomp-nbapven-nbapair-nbaautre),\"\"))))))","v":""},{"$f":"IF($A25<=nbappomp,INDEX('Analyse Préliminaire Pompe'!M$13:M$47,$A25),IF($A25<=nbappomp+nbapven,INDEX('Analyse Préliminaire Ventilateu'!M$13:M$44,$A25-nbappomp),IF($A25<=nbappomp+nbapven+nbapair,\"\",IF(A25<=nbappomp+nbapven+nbapair+nbaautre,INDEX('Analyse Préliminaire Autres'!$M$11:$M$42,A25-nbappomp-nbapven-nbapair),IF($A25<=nbappomp+nbapven+nbapair,'Analyse Préliminaire air compr'!$AM$16,IF(A25<=nbappomp+nbapven+nbapair+nbaautre+nbafroid,INDEX('AP Groupe froid'!$M$14:$M$17,A25-nbappomp-nbapven-nbapair-nbaautre),\"\"))))))","v":""},{"$f":"IF($A25<=nbappomp,INDEX('Analyse Préliminaire Pompe'!N$13:N$47,$A25),IF($A25<=nbappomp+nbapven,INDEX('Analyse Préliminaire Ventilateu'!N$13:N$44,$A25-nbappomp),IF($A25<=nbappomp+nbapven+nbapair,\"\",IF(A25<=nbappomp+nbapven+nbapair+nbaautre,INDEX('Analyse Préliminaire Autres'!$N$11:$N$42,A25-nbappomp-nbapven-nbapair),\"\"))))","v":""},{"$f":"IF($A25<=nbappomp,INDEX('Analyse Préliminaire Pompe'!O$13:O$47,$A25),IF($A25<=nbappomp+nbapven,INDEX('Analyse Préliminaire Ventilateu'!O$13:O$44,$A25-nbappomp),IF($A25<=nbappomp+nbapven+nbapair,\"\",IF(A25<=nbappomp+nbapven+nbapair+nbaautre,INDEX('Analyse Préliminaire Autres'!$O$11:$O$42,A25-nbappomp-nbapven-nbapair),\"\"))))","v":""},{"$f":"IF($A25<=nbappomp,INDEX('Analyse Préliminaire Pompe'!P$13:P$47,$A25),IF($A25<=nbappomp+nbapven,INDEX('Analyse Préliminaire Ventilateu'!P$13:P$44,$A25-nbappomp),IF($A25<=nbappomp+nbapven+nbapair,\"\",IF(A25<=nbappomp+nbapven+nbapair+nbaautre,INDEX('Analyse Préliminaire Autres'!#REF!,A25-nbappomp-nbapven-nbapair),\"\"))))","v":""},{"$f":"IF($A25<=nbappomp,INDEX('Analyse Préliminaire Pompe'!Q$13:Q$47,$A25),IF($A25<=nbappomp+nbapven,\"\",IF($A25<=nbappomp+nbapven+nbapair,\"\",\"\")))","v":""},{"$f":"IF(AI25=\"\",IF($A25<=nbappomp,INDEX('Analyse Préliminaire Pompe'!S$13:S$47,$A25),IF($A25<=nbappomp+nbapven,INDEX('Analyse Préliminaire Ventilateu'!Q$13:Q$44,$A25-nbappomp),IF($A25<=nbappomp+nbapven+nbapair,\"\",IF(A25<=nbappomp+nbapven+nbapair+nbaautre,\"\",\"\")))),AI25)","v":""},{"$f":"IF(AN25,\"\",IF($A25<=nbappomp,INDEX('Analyse Préliminaire Pompe'!AO$13:AO$47,$A25),IF($A25<=nbappomp+nbapven,INDEX('Analyse Préliminaire Ventilateu'!AM$13:AM$44,$A25-nbappomp),IF($A25<=nbappomp+nbapven+nbapair,EcoAPkWhCP,IF(A25<=nbappomp+nbapven+nbapair+nbaautre,INDEX('Analyse Préliminaire Autres'!$E$11:$E$42,A25-nbappomp-nbapven-nbapair),IF($A25<=nbappomp+nbapven+nbapair+nbaautre+nbafroid,INDEX('AP Groupe froid'!$AN$14:$AN$17,$A25-nbappomp-nbapven-nbapair-nbaautre),\"\"))))))","v":""},{"$f":"IF(AN25,\"\",IF($A25<=nbappomp,INDEX('Analyse Préliminaire Pompe'!AP$13:AP$47,$A25),IF($A25<=nbappomp+nbapven,INDEX('Analyse Préliminaire Ventilateu'!AN$13:AN$44,$A25-nbappomp),IF($A25<=nbappomp+nbapven+nbapair,EcoAPpercCP,IF(A25<=nbappomp+nbapven+nbapair+nbaautre,INDEX('Analyse Préliminaire Autres'!#REF!,A25-nbappomp-nbapven-nbapair),IF($A25<=nbappomp+nbapven+nbapair+nbaautre+nbafroid,INDEX('AP Groupe froid'!$AO$14:$AO$17,$A25-nbappomp-nbapven-nbapair-nbaautre),\"\"))))))","v":""},{"$f":"IF(AN25,\"\",IF($A25<=nbappomp,INDEX('Analyse Préliminaire Pompe'!AQ$13:AQ$47,$A25),IF($A25<=nbappomp+nbapven,INDEX('Analyse Préliminaire Ventilateu'!AO$13:AO$44,$A25-nbappomp),IF($A25<=nbappomp+nbapven+nbapair,consoanncp,IF(A25<=nbappomp+nbapven+nbapair+nbaautre,INDEX('Analyse Préliminaire Autres'!#REF!,A25-nbappomp-nbapven-nbapair),IF($A25<=nbappomp+nbapven+nbapair+nbaautre+nbafroid,INDEX('AP Groupe froid'!$AP$14:$AP$17,$A25-nbappomp-nbapven-nbapair-nbaautre),\"\"))))))","v":""},{"$f":"IF(R25=\"\",-1,IF(AND($L25>'Economies classées'!$B$2,$K25>0.2,YEAR(TODAY())-$Z25>8),2,IF(AND($L25>'Economies classées'!$B$3,YEAR(TODAY())-$Z25>5),1,0)))","v":-1},null,null,{"$f":"IF(AG25=\"\",\"\",IF(AO25=1,\"APP_\",IF(AP25=1,\"APVe_\",IF(AQ25=1,\"APCP_\",IF(AR25=1,\"APPGF_\",1))))& D25)","v":""},{"$f":"IF($A25<=nbappomp,ISBLANK(INDEX('Analyse Préliminaire Pompe'!AO$13:AO$47,$A25)),IF($A25<=nbappomp+nbapven,ISBLANK(INDEX('Analyse Préliminaire Ventilateu'!AM$13:AM$44,$A25-nbappomp)),IF($A25<=nbappomp+nbapven+nbapair,ISBLANK(EcoAPkWhCP),IF(A25<=nbappomp+nbapven+nbapair+nbaautre,ISBLANK(INDEX('Analyse Préliminaire Autres'!AC$11:AC$42,A25-nbappomp-nbapven-nbapair)),IF(A25<=nbappomp+nbapven+nbapair+nbaautre+nbafroid,ISBLANK(INDEX('AP Groupe froid'!$AN$14:$AN$17,A25-nbappomp-nbapven-nbapair-nbaautre)),FALSE)))))","v":false},{"$f":"IF(E25=Listes!$H$25,1,0)","v":0},{"$f":"IF(E25=Listes!$H$26,1,0)","v":0},{"$f":"IF(E25=$AJ$4,1,0)","v":0},{"$f":"IF(E25=GF_lis,1,0)","v":0},{"$f":"IF(E25=Listes!$H$28,1,0)","v":0},null,{"$f":"IF($L25=\"\",0,AO25*$L25)","v":0},{"$f":"IF($L25=\"\",0,AP25*$L25)","v":0},0,0,0,null,{"$f":"IF($R25=\"\",0,AO25*$R25)","v":0},{"$f":"IF($R25=\"\",0,AP25*$R25)","v":0},0,0,0,null,{"$f":"IF(AND(AO25=1,NOT($AN25)),$A25,\"\")","v":""},{"$f":"IF(AND(AP25=1,NOT($AN25)),$A25,\"\")","v":""},{"$f":"IF(AND(AQ25=1,NOT($AN25)),$A25,\"\")","v":""},{"$f":"IF(AND(AR25=1,NOT($AN25)),$A25,\"\")","v":""},{"$f":"IF(AND(AS25=1,NOT($AN25)),$A25,\"\")","v":""},null,{"$f":"IFERROR(RANK(BG25,BG$25:BG$109),-1)","v":-1},{"$f":"IFERROR(RANK(BH25,BH$25:BH$109),-1)","v":-1},-1,-1,null,null,{"$f":"IF(E25=Listes!$H$25,1,0)","v":0},{"$f":"IF(E25=Listes!$H$26,1,0)","v":0},{"$f":"IF($L25=\"\",0,BS25*$L25)","v":0},{"$f":"IF($L25=\"\",0,BT25*$L25)","v":0},{"$f":"IF($R25=\"\",0,BS25*$R25)","v":0},{"$f":"IF($R25=\"\",0,BT25*$R25)","v":0},{"$f":"IF(E25=$AJ$4,1,0)","v":0},null,{"$f":"IF($L25=\"\",0,BY25*$L25)","v":0},{"$f":"IF($R25=\"\",0,BY25*$R25)","v":0},{"$f":"IF(AG25=\"\",\"\",IF(BS25=1,\"APP_\" & D25,IF(BT25=1,\"APVe_201\",1)))","v":""},{"$f":"RANK(AG25,$AG$25:$AG$109)","v":{"$error":"#VALUE!"}},{"$f":"IF(E25=$AJ$5,1,0)","v":0},{"$f":"IF($L25=\"\",0,CE25*$L25)","v":0},{"$f":"IF($R25=\"\",0,CE25*$R25)","v":0},null,null,null,{"$f":"IF(AND(BS25=1,NOT($AN25)),$AG25,\"\")","v":""},{"$f":"IF(AND(BT25=1,NOT($AN25)),$AG25,\"\")","v":""},{"$f":"IF(AND(BY25=1,NOT($AN25)),$AG25,\"\")","v":""}]
[2,{"$f":"L26","v":""},null,{"$f":"IF(A26<=nbappomp,INDEX('Analyse Préliminaire Pompe'!$B$13:$B$47,A26),IF(A26<=nbappomp+nbapven,INDEX('Analyse Préliminaire Ventilateu'!$B$13:$B$44,A26-nbappomp),IF(A26<=nbappomp+nbapven+nbapair,301,IF(A26<=nbappomp+nbapven+nbapair+nbaautre,INDEX('Analyse Préliminaire Autres'!$B$11:$B$42,A26-nbappomp-nbapven-nbapair),IF(A26<=nbappomp+nbapven+nbapair+nbaautre+nbafroid,INDEX('AP Groupe froid'!$B$14:$B$17,A26-nbappomp-nbapven-nbapair-nbaautre),\"\")))))","v":""},{"$f":"IF(A26<=nbappomp,INDEX('Analyse Préliminaire Pompe'!$C$13:$C$47,A26),IF(A26<=nbappomp+nbapven,INDEX('Analyse Préliminaire Ventilateu'!$C$13:$C$44,A26-nbappomp),IF(A26<=nbappomp+nbapven+nbapair,$AJ$4,IF(A26<=nbappomp+nbapven+nbapair+nbaautre,INDEX('Analyse Préliminaire Autres'!$C$11:$C$42,A26-nbappomp-nbapven-nbapair),IF(A26<=nbappomp+nbapven+nbapair+nbaautre+nbafroid,INDEX('AP Groupe froid'!$C$14:$C$17,A26-nbappomp-nbapven-nbapair-nbaautre),\"\")))))","v":""},null,null,{"$f":"IF(A26<=nbappomp,INDEX('Analyse Préliminaire Pompe'!$H$13:$H$47,A26),IF(A26<=nbappomp+nbapven,INDEX('Analyse Préliminaire Ventilateu'!$H$13:$H$44,A26-nbappomp),IF(A26<=nbappomp+nbapven+nbapair,$AJ$4,IF(A26<=nbappomp+nbapven+nbapair+nbaautre,INDEX('Analyse Préliminaire Autres'!$H$11:$H$42,A26-nbappomp-nbapven-nbapair),IF(A26<=nbappomp+nbapven+nbapair+nbaautre+nbafroid,INDEX('AP Groupe froid'!$I$14:$I$17,A26-nbappomp-nbapven-nbapair-nbaautre),\"\")))))","v":""},null,null,{"$f":"IF(AH26=\"\",IF($A26<=nbappomp,INDEX('Analyse Préliminaire Pompe'!AE$13:AE$47,$A26),IF($A26<=nbappomp+nbapven,INDEX('Analyse Préliminaire Ventilateu'!AC$13:AC$44,$A26-nbappomp),IF($A26<=nbappomp+nbapven+nbapair,'Analyse Préliminaire air compr'!$AI$22,IF(A26<=nbappomp+nbapven+nbapair+nbaautre,INDEX('Analyse Préliminaire Autres'!$X$11:$X$42,A26-nbappomp-nbapven-nbapair),IF(A26<=nbappomp+nbapven+nbapair+nbaautre+nbafroid,INDEX('AP Groupe froid'!$AF$14:$AF$17,A26-nbappomp-nbapven-nbapair-nbaautre),\"\"))))),AH26)","v":""},{"$f":"IF(AG26=\"\",IF($A26<=nbappomp,INDEX('Analyse Préliminaire Pompe'!AD$13:AD$47,$A26),IF($A26<=nbappomp+nbapven,INDEX('Analyse Préliminaire Ventilateu'!AB$13:AB$44,$A26-nbappomp),IF($A26<=nbappomp+nbapven+nbapair,'Analyse Préliminaire air compr'!$AH$22,IF(A26<=nbappomp+nbapven+nbapair+nbaautre,INDEX('Analyse Préliminaire Autres'!$W$11:$W$42,A26-nbappomp-nbapven-nbapair),IF(A26<=nbappomp+nbapven+nbapair+nbaautre+nbafroid,INDEX('AP Groupe froid'!$AE$14:$AE$17,A26-nbappomp-nbapven-nbapair-nbaautre),\"\"))))),AG26)","v":""},null,{"$f":"IF(L26=\"\",\"\",L26*$F$7)","v":""},null,{"$f":"IFERROR(ROUND(IF(L26=\"\",\"\",L26*$F$7*4),-3),\"\")","v":""},null,{"$f":"IF(AI26=\"\",IF($A26<=nbappomp,INDEX('Analyse Préliminaire Pompe'!T$13:T$47,$A26),IF($A26<=nbappomp+nbapven,INDEX('Analyse Préliminaire Ventilateu'!R$13:R$44,$A26-nbappomp),IF($A26<=nbappomp+nbapven+nbapair,'Analyse Préliminaire air compr'!$AH$13,IF(A26<=nbappomp+nbapven+nbapair+nbaautre,INDEX('Analyse Préliminaire Autres'!$P$11:$P$42,A26-nbappomp-nbapven-nbapair),IF(A26<=nbappomp+nbapven+nbapair+nbaautre+nbafroid,INDEX('AP Groupe froid'!$AD$14:$AD$17,A26-nbappomp-nbapven-nbapair-nbaautre),\"\"))))),AI26)","v":""},null,{"$f":"IF($A26<=nbappomp,INDEX('Analyse Préliminaire Pompe'!X$13:X$47,$A26),IF($A26<=nbappomp+nbapven,INDEX('Analyse Préliminaire Ventilateu'!V$13:V$44,$A26-nbappomp),IF($A26<=nbappomp+nbapven+nbapair,'Analyse Préliminaire air compr'!$E$35,IF(A26<=nbappomp+nbapven+nbapair+nbaautre,INDEX('Analyse Préliminaire Autres'!$R$11:$R$42,A26-nbappomp-nbapven-nbapair),IF(A26<=nbappomp+nbapven+nbapair+nbaautre+nbafroid,INDEX('AP Groupe froid'!$Z$14:$Z$17,A26-nbappomp-nbapven-nbapair-nbaautre),\"\")))))","v":""},null,null,{"$f":"IF(AG26=\"\",IF($A26<=nbappomp,INDEX('Analyse Préliminaire Pompe'!AN$13:AN$47,$A26),IF($A26<=nbappomp+nbapven,INDEX('Analyse Préliminaire Ventilateu'!AL$13:AL$44,$A26-nbappomp),IF($A26<=nbappomp+nbapven+nbapair,'Analyse Préliminaire air compr'!$AM$16,IF(A26<=nbappomp+nbapven+nbapair+nbaautre,INDEX('Analyse Préliminaire Autres'!$AB$11:$AB$42,A26-nbappomp-nbapven-nbapair),IF(A26<=nbappomp+nbapven+nbapair+nbaautre+nbafroid,INDEX('AP Groupe froid'!$AM$14:$AM$17,A26-nbappomp-nbapven-nbapair-nbaautre),\"\"))))),'Economies classées'!$A$47)","v":""},{"$f":"IF($A26<=nbappomp,INDEX('Analyse Préliminaire Pompe'!E$13:E$47,$A26),IF($A26<=nbappomp+nbapven,INDEX('Analyse Préliminaire Ventilateu'!E$13:E$44,$A26-nbappomp),IF($A26<=nbappomp+nbapven+nbapair,\"voir detail\",IF(A26<=nbappomp+nbapven+nbapair+nbaautre,INDEX('Analyse Préliminaire Autres'!$E$11:$E$42,A26-nbappomp-nbapven-nbapair),IF(A26<=nbappomp+nbapven+nbapair+nbaautre+nbafroid,INDEX('AP Groupe froid'!$F$14:$F$17,A26-nbappomp-nbapven-nbapair-nbaautre),\"\")))))","v":""},{"$f":"IF($A26<=nbappomp,INDEX('Analyse Préliminaire Pompe'!K$13:K$47,$A26),IF($A26<=nbappomp+nbapven,INDEX('Analyse Préliminaire Ventilateu'!K$13:K$44,$A26-nbappomp),IF($A26<=nbappomp+nbapven+nbapair,SUM('Analyse Préliminaire air compr'!$I$26:$I$32),IF(A26<=nbappomp+nbapven+nbapair+nbaautre,INDEX('Analyse Préliminaire Autres'!$K$11:$K$42,A26-nbappomp-nbapven-nbapair),IF(A26<=nbappomp+nbapven+nbapair+nbaautre+nbafroid,INDEX('AP Groupe froid'!$O$14:$O$17,A26-nbappomp-nbapven-nbapair-nbaautre),\"\")))))","v":""},{"$f":"IF($A26<=nbappomp,INDEX('Analyse Préliminaire Pompe'!L$13:L$47,$A26),IF($A26<=nbappomp+nbapven,INDEX('Analyse Préliminaire Ventilateu'!L$13:L$44,$A26-nbappomp),IF($A26<=nbappomp+nbapven+nbapair,MIN('Analyse Préliminaire air compr'!$J$26:$J$32),IF(A26<=nbappomp+nbapven+nbapair+nbaautre,INDEX('Analyse Préliminaire Autres'!$L$11:$L$42,A26-nbappomp-nbapven-nbapair),IF($A26<=nbappomp+nbapven+nbapair,'Analyse Préliminaire air compr'!$AM$16,IF(A26<=nbappomp+nbapven+nbapair+nbaautre+nbafroid,INDEX('AP Groupe froid'!$L$14:$L$17,A26-nbappomp-nbapven-nbapair-nbaautre),\"\"))))))","v":""},{"$f":"IF($A26<=nbappomp,INDEX('Analyse Préliminaire Pompe'!M$13:M$47,$A26),IF($A26<=nbappomp+nbapven,INDEX('Analyse Préliminaire Ventilateu'!M$13:M$44,$A26-nbappomp),IF($A26<=nbappomp+nbapven+nbapair,\"\",IF(A26<=nbappomp+nbapven+nbapair+nbaautre,INDEX('Analyse Préliminaire Autres'!$M$11:$M$42,A26-nbappomp-nbapven-nbapair),IF($A26<=nbappomp+nbapven+nbapair,'Analyse Préliminaire air compr'!$AM$16,IF(A26<=nbappomp+nbapven+nbapair+nbaautre+nbafroid,INDEX('AP Groupe froid'!$M$14:$M$17,A26-nbappomp-nbapven-nbapair-nbaautre),\"\"))))))","v":""},{"$f":"IF($A26<=nbappomp,INDEX('Analyse Préliminaire Pompe'!N$13:N$47,$A26),IF($A26<=nbappomp+nbapven,INDEX('Analyse Préliminaire Ventilateu'!N$13:N$44,$A26-nbappomp),IF($A26<=nbappomp+nbapven+nbapair,\"\",IF(A26<=nbappomp+nbapven+nbapair+nbaautre,INDEX('Analyse Préliminaire Autres'!$N$11:$N$42,A26-nbappomp-nbapven-nbapair),\"\"))))","v":""},{"$f":"IF($A26<=nbappomp,INDEX('Analyse Préliminaire Pompe'!O$13:O$47,$A26),IF($A26<=nbappomp+nbapven,INDEX('Analyse Préliminaire Ventilateu'!O$13:O$44,$A26-nbappomp),IF($A26<=nbappomp+nbapven+nbapair,\"\",IF(A26<=nbappomp+nbapven+nbapair+nbaautre,INDEX('Analyse Préliminaire Autres'!$O$11:$O$42,A26-nbappomp-nbapven-nbapair),\"\"))))","v":""},{"$f":"IF($A26<=nbappomp,INDEX('Analyse Préliminaire Pompe'!P$13:P$47,$A26),IF($A26<=nbappomp+nbapven,INDEX('Analyse Préliminaire Ventilateu'!P$13:P$44,$A26-nbappomp),IF($A26<=nbappomp+nbapven+nbapair,\"\",IF(A26<=nbappomp+nbapven+nbapair+nbaautre,INDEX('Analyse Préliminaire Autres'!#REF!,A26-nbappomp-nbapven-nbapair),\"\"))))","v":""},{"$f":"IF($A26<=nbappomp,INDEX('Analyse Préliminaire Pompe'!Q$13:Q$47,$A26),IF($A26<=nbappomp+nbapven,\"\",IF($A26<=nbappomp+nbapven+nbapair,\"\",\"\")))","v":""},{"$f":"IF(AI26=\"\",IF($A26<=nbappomp,INDEX('Analyse Préliminaire Pompe'!S$13:S$47,$A26),IF($A26<=nbappomp+nbapven,INDEX('Analyse Préliminaire Ventilateu'!Q$13:Q$44,$A26-nbappomp),IF($A26<=nbappomp+nbapven+nbapair,\"\",IF(A26<=nbappomp+nbapven+nbapair+nbaautre,\"\",\"\")))),AI26)","v":""},{"$f":"IF(AN26,\"\",IF($A26<=nbappomp,INDEX('Analyse Préliminaire Pompe'!AO$13:AO$47,$A26),IF($A26<=nbappomp+nbapven,INDEX('Analyse Préliminaire Ventilateu'!AM$13:AM$44,$A26-nbappomp),IF($A26<=nbappomp+nbapven+nbapair,EcoAPkWhCP,IF(A26<=nbappomp+nbapven+nbapair+nbaautre,INDEX('Analyse Préliminaire Autres'!$E$11:$E$42,A26-nbappomp-nbapven-nbapair),IF($A26<=nbappomp+nbapven+nbapair+nbaautre+nbafroid,INDEX('AP Groupe froid'!$AN$14:$AN$17,$A26-nbappomp-nbapven-nbapair-nbaautre),\"\"))))))","v":""},{"$f":"IF(AN26,\"\",IF($A26<=nbappomp,INDEX('Analyse Préliminaire Pompe'!AP$13:AP$47,$A26),IF($A26<=nbappomp+nbapven,INDEX('Analyse Préliminaire Ventilateu'!AN$13:AN$44,$A26-nbappomp),IF($A26<=nbappomp+nbapven+nbapair,EcoAPpercCP,IF(A26<=nbappomp+nbapven+nbapair+nbaautre,INDEX('Analyse Préliminaire Autres'!$E$11:$E$42,A26-nbappomp-nbapven-nbapair),IF($A26<=nbappomp+nbapven+nbapair+nbaautre+nbafroid,INDEX('AP Groupe froid'!$AO$14:$AO$17,$A26-nbappomp-nbapven-nbapair-nbaautre),\"\"))))))","v":""},{"$f":"IF(AN26,\"\",IF($A26<=nbappomp,INDEX('Analyse Préliminaire Pompe'!AQ$13:AQ$47,$A26),IF($A26<=nbappomp+nbapven,INDEX('Analyse Préliminaire Ventilateu'!AO$13:AO$44,$A26-nbappomp),IF($A26<=nbappomp+nbapven+nbapair,consoanncp,IF(A26<=nbappomp+nbapven+nbapair+nbaautre,INDEX('Analyse Préliminaire Autres'!$E$11:$E$42,A26-nbappomp-nbapven-nbapair),IF($A26<=nbappomp+nbapven+nbapair+nbaautre+nbafroid,INDEX('AP Groupe froid'!$AP$14:$AP$17,$A26-nbappomp-nbapven-nbapair-nbaautre),\"\"))))))","v":""},{"$f":"IF(R26=\"\",-1,IF(AND($L26>'Economies classées'!$B$2,$K26>0.2,YEAR(TODAY())-$Z26>8),2,IF(AND($L26>'Economies classées'!$B$3,YEAR(TODAY())-$Z26>5),1,0)))","v":-1},null,null,{"$f":"IF(AG26=\"\",\"\",IF(AO26=1,\"APP_\",IF(AP26=1,\"APVe_\",IF(AQ26=1,\"APCP_\",IF(AR26=1,\"APPGF_\",1))))& D26)","v":""},{"$f":"IF($A26<=nbappomp,ISBLANK(INDEX('Analyse Préliminaire Pompe'!AO$13:AO$47,$A26)),IF($A26<=nbappomp+nbapven,ISBLANK(INDEX('Analyse Préliminaire Ventilateu'!AM$13:AM$44,$A26-nbappomp)),IF($A26<=nbappomp+nbapven+nbapair,ISBLANK(EcoAPkWhCP),IF(A26<=nbappomp+nbapven+nbapair+nbaautre,ISBLANK(INDEX('Analyse Préliminaire Autres'!AC$11:AC$42,A26-nbappomp-nbapven-nbapair)),IF(A26<=nbappomp+nbapven+nbapair+nbaautre+nbafroid,ISBLANK(INDEX('AP Groupe froid'!$AN$14:$AN$17,A26-nbappomp-nbapven-nbapair-nbaautre)),FALSE)))))","v":false},{"$f":"IF(E26=Listes!$H$25,1,0)","v":0},{"$f":"IF(E26=Listes!$H$26,1,0)","v":0},{"$f":"IF(E26=$AJ$4,1,0)","v":0},0,{"$f":"IF(E26=Listes!$H$28,1,0)","v":0},null,{"$f":"IF($L26=\"\",0,AO26*$L26)","v":0},{"$f":"IF($L26=\"\",0,AP26*$L26)","v":0},{"$f":"IF($L26=\"\",0,AQ26*$L26)","v":0},{"$f":"IF($L26=\"\",0,AR26*$L26)","v":0},{"$f":"IF($L26=\"\",0,AS26*$L26)","v":0},null,{"$f":"IF($R26=\"\",0,AO26*$R26)","v":0},{"$f":"IF($R26=\"\",0,AP26*$R26)","v":0},{"$f":"IF($R26=\"\",0,AQ26*$R26)","v":0},{"$f":"IF($R26=\"\",0,AR26*$R26)","v":0},{"$f":"IF($R26=\"\",0,AS26*$R26)","v":0},null,{"$f":"IF(AND(AO26=1,NOT($AN26)),$A26,\"\")","v":""},{"$f":"IF(AND(AP26=1,NOT($AN26)),$A26,\"\")","v":""},{"$f":"IF(AND(AQ26=1,NOT($AN26)),$A26,\"\")","v":""},{"$f":"IF(AND(AR26=1,NOT($AN26)),$A26,\"\")","v":""},{"$f":"IF(AND(AS26=1,NOT($AN26)),$A26,\"\")","v":""},null,{"$f":"IFERROR(RANK(BG26,BG$25:BG$109),-1)","v":-1},{"$f":"IFERROR(RANK(BH26,BH$25:BH$109),-1)","v":-1},{"$f":"IFERROR(RANK(BI26,BI$25:BI$109),-1)","v":-1},{"$f":"IFERROR(RANK(BJ26,BJ$25:BJ$109),-1)","v":-1},null,null,{"$f":"IF(E26=Listes!$H$25,1,0)","v":0},{"$f":"IF(E26=Listes!$H$26,1,0)","v":0},{"$f":"IF($L26=\"\",0,BS26*$L26)","v":0},{"$f":"IF($L26=\"\",0,BT26*$L26)","v":0},{"$f":"IF($R26=\"\",0,BS26*$R26)","v":0},{"$f":"IF($R26=\"\",0,BT26*$R26)","v":0},0,null,0,0,"",{"$f":"RANK(AG26,$AG$25:$AG$109)","v":{"$error":"#VALUE!"}},0,{"$f":"IF($L26=\"\",0,CE26*$L26)","v":0},{"$f":"IF($R26=\"\",0,CE26*$R26)","v":0},null,0,null,"",""]
[3,{"$f":"L27","v":""},null,{"$f":"IF(A27<=nbappomp,INDEX('Analyse Préliminaire Pompe'!$B$13:$B$47,A27),IF(A27<=nbappomp+nbapven,INDEX('Analyse Préliminaire Ventilateu'!$B$13:$B$44,A27-nbappomp),IF(A27<=nbappomp+nbapven+nbapair,301,IF(A27<=nbappomp+nbapven+nbapair+nbaautre,INDEX('Analyse Préliminaire Autres'!$B$11:$B$42,A27-nbappomp-nbapven-nbapair),IF(A27<=nbappomp+nbapven+nbapair+nbaautre+nbafroid,INDEX('AP Groupe froid'!$B$14:$B$17,A27-nbappomp-nbapven-nbapair-nbaautre),\"\")))))","v":""},{"$f":"IF(A27<=nbappomp,INDEX('Analyse Préliminaire Pompe'!$C$13:$C$47,A27),IF(A27<=nbappomp+nbapven,INDEX('Analyse Préliminaire Ventilateu'!$C$13:$C$44,A27-nbappomp),IF(A27<=nbappomp+nbapven+nbapair,$AJ$4,IF(A27<=nbappomp+nbapven+nbapair+nbaautre,INDEX('Analyse Préliminaire Autres'!$C$11:$C$42,A27-nbappomp-nbapven-nbapair),IF(A27<=nbappomp+nbapven+nbapair+nbaautre+nbafroid,INDEX('AP Groupe froid'!$C$14:$C$17,A27-nbappomp-nbapven-nbapair-nbaautre),\"\")))))","v":""},null,null,{"$f":"IF(A27<=nbappomp,INDEX('Analyse Préliminaire Pompe'!$H$13:$H$47,A27),IF(A27<=nbappomp+nbapven,INDEX('Analyse Préliminaire Ventilateu'!$H$13:$H$44,A27-nbappomp),IF(A27<=nbappomp+nbapven+nbapair,$AJ$4,IF(A27<=nbappomp+nbapven+nbapair+nbaautre,INDEX('Analyse Préliminaire Autres'!$H$11:$H$42,A27-nbappomp-nbapven-nbapair),IF(A27<=nbappomp+nbapven+nbapair+nbaautre+nbafroid,INDEX('AP Groupe froid'!$I$14:$I$17,A27-nbappomp-nbapven-nbapair-nbaautre),\"\")))))","v":""},null,null,{"$f":"IF(AH27=\"\",IF($A27<=nbappomp,INDEX('Analyse Préliminaire Pompe'!AE$13:AE$47,$A27),IF($A27<=nbappomp+nbapven,INDEX('Analyse Préliminaire Ventilateu'!AC$13:AC$44,$A27-nbappomp),IF($A27<=nbappomp+nbapven+nbapair,'Analyse Préliminaire air compr'!$AI$22,IF(A27<=nbappomp+nbapven+nbapair+nbaautre,INDEX('Analyse Préliminaire Autres'!$X$11:$X$42,A27-nbappomp-nbapven-nbapair),IF(A27<=nbappomp+nbapven+nbapair+nbaautre+nbafroid,INDEX('AP Groupe froid'!$AF$14:$AF$17,A27-nbappomp-nbapven-nbapair-nbaautre),\"\"))))),AH27)","v":""},{"$f":"IF(AG27=\"\",IF($A27<=nbappomp,INDEX('Analyse Préliminaire Pompe'!AD$13:AD$47,$A27),IF($A27<=nbappomp+nbapven,INDEX('Analyse Préliminaire Ventilateu'!AB$13:AB$44,$A27-nbappomp),IF($A27<=nbappomp+nbapven+nbapair,'Analyse Préliminaire air compr'!$AH$22,IF(A27<=nbappomp+nbapven+nbapair+nbaautre,INDEX('Analyse Préliminaire Autres'!$W$11:$W$42,A27-nbappomp-nbapven-nbapair),IF(A27<=nbappomp+nbapven+nbapair+nbaautre+nbafroid,INDEX('AP Groupe froid'!$AE$14:$AE$17,A27-nbappomp-nbapven-nbapair-nbaautre),\"\"))))),AG27)","v":""},null,{"$f":"IF(L27=\"\",\"\",L27*$F$7)","v":""},null,{"$f":"IFERROR(ROUND(IF(L27=\"\",\"\",L27*$F$7*4),-3),\"\")","v":""},null,{"$f":"IF(AI27=\"\",IF($A27<=nbappomp,INDEX('Analyse Préliminaire Pompe'!T$13:T$47,$A27),IF($A27<=nbappomp+nbapven,INDEX('Analyse Préliminaire Ventilateu'!R$13:R$44,$A27-nbappomp),IF($A27<=nbappomp+nbapven+nbapair,'Analyse Préliminaire air compr'!$AH$13,IF(A27<=nbappomp+nbapven+nbapair+nbaautre,INDEX('Analyse Préliminaire Autres'!$P$11:$P$42,A27-nbappomp-nbapven-nbapair),IF(A27<=nbappomp+nbapven+nbapair+nbaautre+nbafroid,INDEX('AP Groupe froid'!$AD$14:$AD$17,A27-nbappomp-nbapven-nbapair-nbaautre),\"\"))))),AI27)","v":""},null,{"$f":"IF($A27<=nbappomp,INDEX('Analyse Préliminaire Pompe'!X$13:X$47,$A27),IF($A27<=nbappomp+nbapven,INDEX('Analyse Préliminaire Ventilateu'!V$13:V$44,$A27-nbappomp),IF($A27<=nbappomp+nbapven+nbapair,'Analyse Préliminaire air compr'!$E$35,IF(A27<=nbappomp+nbapven+nbapair+nbaautre,INDEX('Analyse Préliminaire Autres'!$R$11:$R$42,A27-nbappomp-nbapven-nbapair),IF(A27<=nbappomp+nbapven+nbapair+nbaautre+nbafroid,INDEX('AP Groupe froid'!$Z$14:$Z$17,A27-nbappomp-nbapven-nbapair-nbaautre),\"\")))))","v":""},null,null,{"$f":"IF(AG27=\"\",IF($A27<=nbappomp,INDEX('Analyse Préliminaire Pompe'!AN$13:AN$47,$A27),IF($A27<=nbappomp+nbapven,INDEX('Analyse Préliminaire Ventilateu'!AL$13:AL$44,$A27-nbappomp),IF($A27<=nbappomp+nbapven+nbapair,'Analyse Préliminaire air compr'!$AM$16,IF(A27<=nbappomp+nbapven+nbapair+nbaautre,INDEX('Analyse Préliminaire Autres'!$AB$11:$AB$42,A27-nbappomp-nbapven-nbapair),IF(A27<=nbappomp+nbapven+nbapair+nbaautre+nbafroid,INDEX('AP Groupe froid'!$AM$14:$AM$17,A27-nbappomp-nbapven-nbapair-nbaautre),\"\"))))),'Economies classées'!$A$47)","v":""},{"$f":"IF($A27<=nbappomp,INDEX('Analyse Préliminaire Pompe'!E$13:E$47,$A27),IF($A27<=nbappomp+nbapven,INDEX('Analyse Préliminaire Ventilateu'!E$13:E$44,$A27-nbappomp),IF($A27<=nbappomp+nbapven+nbapair,\"voir detail\",IF(A27<=nbappomp+nbapven+nbapair+nbaautre,INDEX('Analyse Préliminaire Autres'!$E$11:$E$42,A27-nbappomp-nbapven-nbapair),IF(A27<=nbappomp+nbapven+nbapair+nbaautre+nbafroid,INDEX('AP Groupe froid'!$F$14:$F$17,A27-nbappomp-nbapven-nbapair-nbaautre),\"\")))))","v":""},{"$f":"IF($A27<=nbappomp,INDEX('Analyse Préliminaire Pompe'!K$13:K$47,$A27),IF($A27<=nbappomp+nbapven,INDEX('Analyse Préliminaire Ventilateu'!K$13:K$44,$A27-nbappomp),IF($A27<=nbappomp+nbapven+nbapair,SUM('Analyse Préliminaire air compr'!$I$26:$I$32),IF(A27<=nbappomp+nbapven+nbapair+nbaautre,INDEX('Analyse Préliminaire Autres'!$K$11:$K$42,A27-nbappomp-nbapven-nbapair),IF(A27<=nbappomp+nbapven+nbapair+nbaautre+nbafroid,INDEX('AP Groupe froid'!$O$14:$O$17,A27-nbappomp-nbapven-nbapair-nbaautre),\"\")))))","v":""},{"$f":"IF($A27<=nbappomp,INDEX('Analyse Préliminaire Pompe'!L$13:L$47,$A27),IF($A27<=nbappomp+nbapven,INDEX('Analyse Préliminaire Ventilateu'!L$13:L$44,$A27-nbappomp),IF($A27<=nbappomp+nbapven+nbapair,MIN('Analyse Préliminaire air compr'!$J$26:$J$32),IF(A27<=nbappomp+nbapven+nbapair+nbaautre,INDEX('Analyse Préliminaire Autres'!$L$11:$L$42,A27-nbappomp-nbapven-nbapair),IF($A27<=nbappomp+nbapven+nbapair,'Analyse Préliminaire air compr'!$AM$16,IF(A27<=nbappomp+nbapven+nbapair+nbaautre+nbafroid,INDEX('AP Groupe froid'!$L$14:$L$17,A27-nbappomp-nbapven-nbapair-nbaautre),\"\"))))))","v":""},{"$f":"IF($A27<=nbappomp,INDEX('Analyse Préliminaire Pompe'!M$13:M$47,$A27),IF($A27<=nbappomp+nbapven,INDEX('Analyse Préliminaire Ventilateu'!M$13:M$44,$A27-nbappomp),IF($A27<=nbappomp+nbapven+nbapair,\"\",IF(A27<=nbappomp+nbapven+nbapair+nbaautre,INDEX('Analyse Préliminaire Autres'!$M$11:$M$42,A27-nbappomp-nbapven-nbapair),IF($A27<=nbappomp+nbapven+nbapair,'Analyse Préliminaire air compr'!$AM$16,IF(A27<=nbappomp+nbapven+nbapair+nbaautre+nbafroid,INDEX('AP Groupe froid'!$M$14:$M$17,A27-nbappomp-nbapven-nbapair-nbaautre),\"\"))))))","v":""},{"$f":"IF($A27<=nbappomp,INDEX('Analyse Préliminaire Pompe'!N$13:N$47,$A27),IF($A27<=nbappomp+nbapven,INDEX('Analyse Préliminaire Ventilateu'!N$13:N$44,$A27-nbappomp),IF($A27<=nbappomp+nbapven+nbapair,\"\",IF(A27<=nbappomp+nbapven+nbapair+nbaautre,INDEX('Analyse Préliminaire Autres'!$N$11:$N$42,A27-nbappomp-nbapven-nbapair),\"\"))))","v":""},{"$f":"IF($A27<=nbappomp,INDEX('Analyse Préliminaire Pompe'!O$13:O$47,$A27),IF($A27<=nbappomp+nbapven,INDEX('Analyse Préliminaire Ventilateu'!O$13:O$44,$A27-nbappomp),IF($A27<=nbappomp+nbapven+nbapair,\"\",IF(A27<=nbappomp+nbapven+nbapair+nbaautre,INDEX('Analyse Préliminaire Autres'!$O$11:$O$42,A27-nbappomp-nbapven-nbapair),\"\"))))","v":""},{"$f":"IF($A27<=nbappomp,INDEX('Analyse Préliminaire Pompe'!P$13:P$47,$A27),IF($A27<=nbappomp+nbapven,INDEX('Analyse Préliminaire Ventilateu'!P$13:P$44,$A27-nbappomp),IF($A27<=nbappomp+nbapven+nbapair,\"\",IF(A27<=nbappomp+nbapven+nbapair+nbaautre,INDEX('Analyse Préliminaire Autres'!#REF!,A27-nbappomp-nbapven-nbapair),\"\"))))","v":""},{"$f":"IF($A27<=nbappomp,INDEX('Analyse Préliminaire Pompe'!Q$13:Q$47,$A27),IF($A27<=nbappomp+nbapven,\"\",IF($A27<=nbappomp+nbapven+nbapair,\"\",\"\")))","v":""},{"$f":"IF(AI27=\"\",IF($A27<=nbappomp,INDEX('Analyse Préliminaire Pompe'!S$13:S$47,$A27),IF($A27<=nbappomp+nbapven,INDEX('Analyse Préliminaire Ventilateu'!Q$13:Q$44,$A27-nbappomp),IF($A27<=nbappomp+nbapven+nbapair,\"\",IF(A27<=nbappomp+nbapven+nbapair+nbaautre,\"\",\"\")))),AI27)","v":""},{"$f":"IF(AN27,\"\",IF($A27<=nbappomp,INDEX('Analyse Préliminaire Pompe'!AO$13:AO$47,$A27),IF($A27<=nbappomp+nbapven,INDEX('Analyse Préliminaire Ventilateu'!AM$13:AM$44,$A27-nbappomp),IF($A27<=nbappomp+nbapven+nbapair,EcoAPkWhCP,IF(A27<=nbappomp+nbapven+nbapair+nbaautre,INDEX('Analyse Préliminaire Autres'!$E$11:$E$42,A27-nbappomp-nbapven-nbapair),IF($A27<=nbappomp+nbapven+nbapair+nbaautre+nbafroid,INDEX('AP Groupe froid'!$AN$14:$AN$17,$A27-nbappomp-nbapven-nbapair-nbaautre),\"\"))))))","v":""},{"$f":"IF(AN27,\"\",IF($A27<=nbappomp,INDEX('Analyse Préliminaire Pompe'!AP$13:AP$47,$A27),IF($A27<=nbappomp+nbapven,INDEX('Analyse Préliminaire Ventilateu'!AN$13:AN$44,$A27-nbappomp),IF($A27<=nbappomp+nbapven+nbapair,EcoAPpercCP,IF(A27<=nbappomp+nbapven+nbapair+nbaautre,INDEX('Analyse Préliminaire Autres'!$E$11:$E$42,A27-nbappomp-nbapven-nbapair),IF($A27<=nbappomp+nbapven+nbapair+nbaautre+nbafroid,INDEX('AP Groupe froid'!$AO$14:$AO$17,$A27-nbappomp-nbapven-nbapair-nbaautre),\"\"))))))","v":""},{"$f":"IF(AN27,\"\",IF($A27<=nbappomp,INDEX('Analyse Préliminaire Pompe'!AQ$13:AQ$47,$A27),IF($A27<=nbappomp+nbapven,INDEX('Analyse Préliminaire Ventilateu'!AO$13:AO$44,$A27-nbappomp),IF($A27<=nbappomp+nbapven+nbapair,consoanncp,IF(A27<=nbappomp+nbapven+nbapair+nbaautre,INDEX('Analyse Préliminaire Autres'!$E$11:$E$42,A27-nbappomp-nbapven-nbapair),IF($A27<=nbappomp+nbapven+nbapair+nbaautre+nbafroid,INDEX('AP Groupe froid'!$AP$14:$AP$17,$A27-nbappomp-nbapven-nbapair-nbaautre),\"\"))))))","v":""},{"$f":"IF(R27=\"\",-1,IF(AND($L27>'Economies classées'!$B$2,$K27>0.2,YEAR(TODAY())-$Z27>8),2,IF(AND($L27>'Economies classées'!$B$3,YEAR(TODAY())-$Z27>5),1,0)))","v":-1},null,null,{"$f":"IF(AG27=\"\",\"\",IF(AO27=1,\"APP_\",IF(AP27=1,\"APVe_\",IF(AQ27=1,\"APCP_\",IF(AR27=1,\"APPGF_\",1))))& D27)","v":""},{"$f":"IF($A27<=nbappomp,ISBLANK(INDEX('Analyse Préliminaire Pompe'!AO$13:AO$47,$A27)),IF($A27<=nbappomp+nbapven,ISBLANK(INDEX('Analyse Préliminaire Ventilateu'!AM$13:AM$44,$A27-nbappomp)),IF($A27<=nbappomp+nbapven+nbapair,ISBLANK(EcoAPkWhCP),IF(A27<=nbappomp+nbapven+nbapair+nbaautre,ISBLANK(INDEX('Analyse Préliminaire Autres'!AC$11:AC$42,A27-nbappomp-nbapven-nbapair)),IF(A27<=nbappomp+nbapven+nbapair+nbaautre+nbafroid,ISBLANK(INDEX('AP Groupe froid'!$AN$14:$AN$17,A27-nbappomp-nbapven-nbapair-nbaautre)),FALSE)))))","v":false},{"$f":"IF(E27=Listes!$H$25,1,0)","v":0},{"$f":"IF(E27=Listes!$H$26,1,0)","v":0},0,0,{"$f":"IF(E27=Listes!$H$28,1,0)","v":0},null,0,0,0,0,0,null,0,0,0,0,0,null,"","","","","",null,-1,-1,-1,-1,null,null,{"$f":"IF(E27=Listes!$H$25,1,0)","v":0},{"$f":"IF(E27=Listes!$H$26,1,0)","v":0},0,0,0,0,0,null,0,0,"",{"$error":"#VALUE!"},0,0,0,null,null,null,"",""]
[4,{"$f":"L28","v":""},null,{"$f":"IF(A28<=nbappomp,INDEX('Analyse Préliminaire Pompe'!$B$13:$B$47,A28),IF(A28<=nbappomp+nbapven,INDEX('Analyse Préliminaire Ventilateu'!$B$13:$B$44,A28-nbappomp),IF(A28<=nbappomp+nbapven+nbapair,301,IF(A28<=nbappomp+nbapven+nbapair+nbaautre,INDEX('Analyse Préliminaire Autres'!$B$11:$B$42,A28-nbappomp-nbapven-nbapair),IF(A28<=nbappomp+nbapven+nbapair+nbaautre+nbafroid,INDEX('AP Groupe froid'!$B$14:$B$17,A28-nbappomp-nbapven-nbapair-nbaautre),\"\")))))","v":""},{"$f":"IF(A28<=nbappomp,INDEX('Analyse Préliminaire Pompe'!$C$13:$C$47,A28),IF(A28<=nbappomp+nbapven,INDEX('Analyse Préliminaire Ventilateu'!$C$13:$C$44,A28-nbappomp),IF(A28<=nbappomp+nbapven+nbapair,$AJ$4,IF(A28<=nbappomp+nbapven+nbapair+nbaautre,INDEX('Analyse Préliminaire Autres'!$C$11:$C$42,A28-nbappomp-nbapven-nbapair),IF(A28<=nbappomp+nbapven+nbapair+nbaautre+nbafroid,INDEX('AP Groupe froid'!$C$14:$C$17,A28-nbappomp-nbapven-nbapair-nbaautre),\"\")))))","v":""},null,null,{"$f":"IF(A28<=nbappomp,INDEX('Analyse Préliminaire Pompe'!$H$13:$H$47,A28),IF(A28<=nbappomp+nbapven,INDEX('Analyse Préliminaire Ventilateu'!$H$13:$H$44,A28-nbappomp),IF(A28<=nbappomp+nbapven+nbapair,$AJ$4,IF(A28<=nbappomp+nbapven+nbapair+nbaautre,INDEX('Analyse Préliminaire Autres'!$H$11:$H$42,A28-nbappomp-nbapven-nbapair),IF(A28<=nbappomp+nbapven+nbapair+nbaautre+nbafroid,INDEX('AP Groupe froid'!$I$14:$I$17,A28-nbappomp-nbapven-nbapair-nbaautre),\"\")))))","v":""},null,null,{"$f":"IF(AH28=\"\",IF($A28<=nbappomp,INDEX('Analyse Préliminaire Pompe'!AE$13:AE$47,$A28),IF($A28<=nbappomp+nbapven,INDEX('Analyse Préliminaire Ventilateu'!AC$13:AC$44,$A28-nbappomp),IF($A28<=nbappomp+nbapven+nbapair,'Analyse Préliminaire air compr'!$AI$22,IF(A28<=nbappomp+nbapven+nbapair+nbaautre,INDEX('Analyse Préliminaire Autres'!$X$11:$X$42,A28-nbappomp-nbapven-nbapair),IF(A28<=nbappomp+nbapven+nbapair+nbaautre+nbafroid,INDEX('AP Groupe froid'!$AF$14:$AF$17,A28-nbappomp-nbapven-nbapair-nbaautre),\"\"))))),AH28)","v":""},{"$f":"IF(AG28=\"\",IF($A28<=nbappomp,INDEX('Analyse Préliminaire Pompe'!AD$13:AD$47,$A28),IF($A28<=nbappomp+nbapven,INDEX('Analyse Préliminaire Ventilateu'!AB$13:AB$44,$A28-nbappomp),IF($A28<=nbappomp+nbapven+nbapair,'Analyse Préliminaire air compr'!$AH$22,IF(A28<=nbappomp+nbapven+nbapair+nbaautre,INDEX('Analyse Préliminaire Autres'!$W$11:$W$42,A28-nbappomp-nbapven-nbapair),IF(A28<=nbappomp+nbapven+nbapair+nbaautre+nbafroid,INDEX('AP Groupe froid'!$AE$14:$AE$17,A28-nbappomp-nbapven-nbapair-nbaautre),\"\"))))),AG28)","v":""},null,"",null,"",null,{"$f":"IF(AI28=\"\",IF($A28<=nbappomp,INDEX('Analyse Préliminaire Pompe'!T$13:T$47,$A28),IF($A28<=nbappomp+nbapven,INDEX('Analyse Préliminaire Ventilateu'!R$13:R$44,$A28-nbappomp),IF($A28<=nbappomp+nbapven+nbapair,'Analyse Préliminaire air compr'!$AH$13,IF(A28<=nbappomp+nbapven+nbapair+nbaautre,INDEX('Analyse Préliminaire Autres'!$P$11:$P$42,A28-nbappomp-nbapven-nbapair),IF(A28<=nbappomp+nbapven+nbapair+nbaautre+nbafroid,INDEX('AP Groupe froid'!$AD$14:$AD$17,A28-nbappomp-nbapven-nbapair-nbaautre),\"\"))))),AI28)","v":""},null,{"$f":"IF($A28<=nbappomp,INDEX('Analyse Préliminaire Pompe'!X$13:X$47,$A28),IF($A28<=nbappomp+nbapven,INDEX('Analyse Préliminaire Ventilateu'!V$13:V$44,$A28-nbappomp),IF($A28<=nbappomp+nbapven+nbapair,'Analyse Préliminaire air compr'!$E$35,IF(A28<=nbappomp+nbapven+nbapair+nbaautre,INDEX('Analyse Préliminaire Autres'!$R$11:$R$42,A28-nbappomp-nbapven-nbapair),IF(A28<=nbappomp+nbapven+nbapair+nbaautre+nbafroid,INDEX('AP Groupe froid'!$Z$14:$Z$17,A28-nbappomp-nbapven-nbapair-nbaautre),\"\")))))","v":""},null,null,{"$f":"IF(AG28=\"\",IF($A28<=nbappomp,INDEX('Analyse Préliminaire Pompe'!AN$13:AN$47,$A28),IF($A28<=nbappomp+nbapven,INDEX('Analyse Préliminaire Ventilateu'!AL$13:AL$44,$A28-nbappomp),IF($A28<=nbappomp+nbapven+nbapair,'Analyse Préliminaire air compr'!$AM$16,IF(A28<=nbappomp+nbapven+nbapair+nbaautre,INDEX('Analyse Préliminaire Autres'!$AB$11:$AB$42,A28-nbappomp-nbapven-nbapair),IF(A28<=nbappomp+nbapven+nbapair+nbaautre+nbafroid,INDEX('AP Groupe froid'!$AM$14:$AM$17,A28-nbappomp-nbapven-nbapair-nbaautre),\"\"))))),'Economies classées'!$A$47)","v":""},{"$f":"IF($A28<=nbappomp,INDEX('Analyse Préliminaire Pompe'!E$13:E$47,$A28),IF($A28<=nbappomp+nbapven,INDEX('Analyse Préliminaire Ventilateu'!E$13:E$44,$A28-nbappomp),IF($A28<=nbappomp+nbapven+nbapair,\"voir detail\",IF(A28<=nbappomp+nbapven+nbapair+nbaautre,INDEX('Analyse Préliminaire Autres'!$E$11:$E$42,A28-nbappomp-nbapven-nbapair),IF(A28<=nbappomp+nbapven+nbapair+nbaautre+nbafroid,INDEX('AP Groupe froid'!$F$14:$F$17,A28-nbappomp-nbapven-nbapair-nbaautre),\"\")))))","v":""},{"$f":"IF($A28<=nbappomp,INDEX('Analyse Préliminaire Pompe'!K$13:K$47,$A28),IF($A28<=nbappomp+nbapven,INDEX('Analyse Préliminaire Ventilateu'!K$13:K$44,$A28-nbappomp),IF($A28<=nbappomp+nbapven+nbapair,SUM('Analyse Préliminaire air compr'!$I$26:$I$32),IF(A28<=nbappomp+nbapven+nbapair+nbaautre,INDEX('Analyse Préliminaire Autres'!$K$11:$K$42,A28-nbappomp-nbapven-nbapair),IF(A28<=nbappomp+nbapven+nbapair+nbaautre+nbafroid,INDEX('AP Groupe froid'!$O$14:$O$17,A28-nbappomp-nbapven-nbapair-nbaautre),\"\")))))","v":""},{"$f":"IF($A28<=nbappomp,INDEX('Analyse Préliminaire Pompe'!L$13:L$47,$A28),IF($A28<=nbappomp+nbapven,INDEX('Analyse Préliminaire Ventilateu'!L$13:L$44,$A28-nbappomp),IF($A28<=nbappomp+nbapven+nbapair,MIN('Analyse Préliminaire air compr'!$J$26:$J$32),IF(A28<=nbappomp+nbapven+nbapair+nbaautre,INDEX('Analyse Préliminaire Autres'!$L$11:$L$42,A28-nbappomp-nbapven-nbapair),IF($A28<=nbappomp+nbapven+nbapair,'Analyse Préliminaire air compr'!$AM$16,IF(A28<=nbappomp+nbapven+nbapair+nbaautre+nbafroid,INDEX('AP Groupe froid'!$L$14:$L$17,A28-nbappomp-nbapven-nbapair-nbaautre),\"\"))))))","v":""},{"$f":"IF($A28<=nbappomp,INDEX('Analyse Préliminaire Pompe'!M$13:M$47,$A28),IF($A28<=nbappomp+nbapven,INDEX('Analyse Préliminaire Ventilateu'!M$13:M$44,$A28-nbappomp),IF($A28<=nbappomp+nbapven+nbapair,\"\",IF(A28<=nbappomp+nbapven+nbapair+nbaautre,INDEX('Analyse Préliminaire Autres'!$M$11:$M$42,A28-nbappomp-nbapven-nbapair),IF($A28<=nbappomp+nbapven+nbapair,'Analyse Préliminaire air compr'!$AM$16,IF(A28<=nbappomp+nbapven+nbapair+nbaautre+nbafroid,INDEX('AP Groupe froid'!$M$14:$M$17,A28-nbappomp-nbapven-nbapair-nbaautre),\"\"))))))","v":""},{"$f":"IF($A28<=nbappomp,INDEX('Analyse Préliminaire Pompe'!N$13:N$47,$A28),IF($A28<=nbappomp+nbapven,INDEX('Analyse Préliminaire Ventilateu'!N$13:N$44,$A28-nbappomp),IF($A28<=nbappomp+nbapven+nbapair,\"\",IF(A28<=nbappomp+nbapven+nbapair+nbaautre,INDEX('Analyse Préliminaire Autres'!$N$11:$N$42,A28-nbappomp-nbapven-nbapair),\"\"))))","v":""},{"$f":"IF($A28<=nbappomp,INDEX('Analyse Préliminaire Pompe'!O$13:O$47,$A28),IF($A28<=nbappomp+nbapven,INDEX('Analyse Préliminaire Ventilateu'!O$13:O$44,$A28-nbappomp),IF($A28<=nbappomp+nbapven+nbapair,\"\",IF(A28<=nbappomp+nbapven+nbapair+nbaautre,INDEX('Analyse Préliminaire Autres'!$O$11:$O$42,A28-nbappomp-nbapven-nbapair),\"\"))))","v":""},{"$f":"IF($A28<=nbappomp,INDEX('Analyse Préliminaire Pompe'!P$13:P$47,$A28),IF($A28<=nbappomp+nbapven,INDEX('Analyse Préliminaire Ventilateu'!P$13:P$44,$A28-nbappomp),IF($A28<=nbappomp+nbapven+nbapair,\"\",IF(A28<=nbappomp+nbapven+nbapair+nbaautre,INDEX('Analyse Préliminaire Autres'!#REF!,A28-nbappomp-nbapven-nbapair),\"\"))))","v":""},{"$f":"IF($A28<=nbappomp,INDEX('Analyse Préliminaire Pompe'!Q$13:Q$47,$A28),IF($A28<=nbappomp+nbapven,\"\",IF($A28<=nbappomp+nbapven+nbapair,\"\",\"\")))","v":""}," ",{"$f":"IF(AN28,\"\",IF($A28<=nbappomp,INDEX('Analyse Préliminaire Pompe'!AO$13:AO$47,$A28),IF($A28<=nbappomp+nbapven,INDEX('Analyse Préliminaire Ventilateu'!AM$13:AM$44,$A28-nbappomp),IF($A28<=nbappomp+nbapven+nbapair,EcoAPkWhCP,IF(A28<=nbappomp+nbapven+nbapair+nbaautre,INDEX('Analyse Préliminaire Autres'!$E$11:$E$42,A28-nbappomp-nbapven-nbapair),IF($A28<=nbappomp+nbapven+nbapair+nbaautre+nbafroid,INDEX('AP Groupe froid'!$AN$14:$AN$17,$A28-nbappomp-nbapven-nbapair-nbaautre),\"\"))))))","v":""},{"$f":"IF(AN28,\"\",IF($A28<=nbappomp,INDEX('Analyse Préliminaire Pompe'!AP$13:AP$47,$A28),IF($A28<=nbappomp+nbapven,INDEX('Analyse Préliminaire Ventilateu'!AN$13:AN$44,$A28-nbappomp),IF($A28<=nbappomp+nbapven+nbapair,EcoAPpercCP,IF(A28<=nbappomp+nbapven+nbapair+nbaautre,INDEX('Analyse Préliminaire Autres'!$E$11:$E$42,A28-nbappomp-nbapven-nbapair),IF($A28<=nbappomp+nbapven+nbapair+nbaautre+nbafroid,INDEX('AP Groupe froid'!$AO$14:$AO$17,$A28-nbappomp-nbapven-nbapair-nbaautre),\"\"))))))","v":""},{"$f":"IF(AN28,\"\",IF($A28<=nbappomp,INDEX('Analyse Préliminaire Pompe'!AQ$13:AQ$47,$A28),IF($A28<=nbappomp+nbapven,INDEX('Analyse Préliminaire Ventilateu'!AO$13:AO$44,$A28-nbappomp),IF($A28<=nbappomp+nbapven+nbapair,consoanncp,IF(A28<=nbappomp+nbapven+nbapair+nbaautre,INDEX('Analyse Préliminaire Autres'!$E$11:$E$42,A28-nbappomp-nbapven-nbapair),IF($A28<=nbappomp+nbapven+nbapair+nbaautre+nbafroid,INDEX('AP Groupe froid'!$AP$14:$AP$17,$A28-nbappomp-nbapven-nbapair-nbaautre),\"\"))))))","v":""},{"$f":"IF(R28=\"\",-1,IF(AND($L28>'Economies classées'!$B$2,$K28>0.2,YEAR(TODAY())-$Z28>8),2,IF(AND($L28>'Economies classées'!$B$3,YEAR(TODAY())-$Z28>5),1,0)))","v":-1},null,null,"",{"$f":"IF($A28<=nbappomp,ISBLANK(INDEX('Analyse Préliminaire Pompe'!AO$13:AO$47,$A28)),IF($A28<=nbappomp+nbapven,ISBLANK(INDEX('Analyse Préliminaire Ventilateu'!AM$13:AM$44,$A28-nbappomp)),IF($A28<=nbappomp+nbapven+nbapair,ISBLANK(EcoAPkWhCP),IF(A28<=nbappomp+nbapven+nbapair+nbaautre,ISBLANK(INDEX('Analyse Préliminaire Autres'!AC$11:AC$42,A28-nbappomp-nbapven-nbapair)),IF(A28<=nbappomp+nbapven+nbapair+nbaautre+nbafroid,ISBLANK(INDEX('AP Groupe froid'!$AN$14:$AN$17,A28-nbappomp-nbapven-nbapair-nbaautre)),FALSE)))))","v":false},{"$f":"IF(E28=Listes!$H$25,1,0)","v":0},{"$f":"IF(E28=Listes!$H$26,1,0)","v":0},0,0,{"$f":"IF(E28=Listes!$H$28,1,0)","v":0},null,0,0,0,0,0,null,0,0,0,0,0,null,"","","","","",null,-1,-1,-1,-1,null,null,{"$f":"IF(E28=Listes!$H$25,1,0)","v":0},{"$f":"IF(E28=Listes!$H$26,1,0)","v":0},0,0,0,0,0,null,0,0,"",{"$error":"#VALUE!"},0,0,0,null,0,null,"",""]
[5,"",null,{"$f":"IF(A29<=nbappomp,INDEX('Analyse Préliminaire Pompe'!$B$13:$B$47,A29),IF(A29<=nbappomp+nbapven,INDEX('Analyse Préliminaire Ventilateu'!$B$13:$B$44,A29-nbappomp),IF(A29<=nbappomp+nbapven+nbapair,301,IF(A29<=nbappomp+nbapven+nbapair+nbaautre,INDEX('Analyse Préliminaire Autres'!$B$11:$B$42,A29-nbappomp-nbapven-nbapair),IF(A29<=nbappomp+nbapven+nbapair+nbaautre+nbafroid,INDEX('AP Groupe froid'!$B$14:$B$17,A29-nbappomp-nbapven-nbapair-nbaautre),\"\")))))","v":""},{"$f":"IF(A29<=nbappomp,INDEX('Analyse Préliminaire Pompe'!$C$13:$C$47,A29),IF(A29<=nbappomp+nbapven,INDEX('Analyse Préliminaire Ventilateu'!$C$13:$C$44,A29-nbappomp),IF(A29<=nbappomp+nbapven+nbapair,$AJ$4,IF(A29<=nbappomp+nbapven+nbapair+nbaautre,INDEX('Analyse Préliminaire Autres'!$C$11:$C$42,A29-nbappomp-nbapven-nbapair),IF(A29<=nbappomp+nbapven+nbapair+nbaautre+nbafroid,INDEX('AP Groupe froid'!$C$14:$C$17,A29-nbappomp-nbapven-nbapair-nbaautre),\"\")))))","v":""},null,null,{"$f":"IF(A29<=nbappomp,INDEX('Analyse Préliminaire Pompe'!$H$13:$H$47,A29),IF(A29<=nbappomp+nbapven,INDEX('Analyse Préliminaire Ventilateu'!$H$13:$H$44,A29-nbappomp),IF(A29<=nbappomp+nbapven+nbapair,$AJ$4,IF(A29<=nbappomp+nbapven+nbapair+nbaautre,INDEX('Analyse Préliminaire Autres'!$H$11:$H$42,A29-nbappomp-nbapven-nbapair),IF(A29<=nbappomp+nbapven+nbapair+nbaautre+nbafroid,INDEX('AP Groupe froid'!$I$14:$I$17,A29-nbappomp-nbapven-nbapair-nbaautre),\"\")))))","v":""},null,null,{"$f":"IF(AH29=\"\",IF($A29<=nbappomp,INDEX('Analyse Préliminaire Pompe'!AE$13:AE$47,$A29),IF($A29<=nbappomp+nbapven,INDEX('Analyse Préliminaire Ventilateu'!AC$13:AC$44,$A29-nbappomp),IF($A29<=nbappomp+nbapven+nbapair,'Analyse Préliminaire air compr'!$AI$22,IF(A29<=nbappomp+nbapven+nbapair+nbaautre,INDEX('Analyse Préliminaire Autres'!$X$11:$X$42,A29-nbappomp-nbapven-nbapair),IF(A29<=nbappomp+nbapven+nbapair+nbaautre+nbafroid,INDEX('AP Groupe froid'!$AF$14:$AF$17,A29-nbappomp-nbapven-nbapair-nbaautre),\"\"))))),AH29)","v":""},{"$f":"IF(AG29=\"\",IF($A29<=nbappomp,INDEX('Analyse Préliminaire Pompe'!AD$13:AD$47,$A29),IF($A29<=nbappomp+nbapven,INDEX('Analyse Préliminaire Ventilateu'!AB$13:AB$44,$A29-nbappomp),IF($A29<=nbappomp+nbapven+nbapair,'Analyse Préliminaire air compr'!$AH$22,IF(A29<=nbappomp+nbapven+nbapair+nbaautre,INDEX('Analyse Préliminaire Autres'!$W$11:$W$42,A29-nbappomp-nbapven-nbapair),IF(A29<=nbappomp+nbapven+nbapair+nbaautre+nbafroid,INDEX('AP Groupe froid'!$AE$14:$AE$17,A29-nbappomp-nbapven-nbapair-nbaautre),\"\"))))),AG29)","v":""},null,"",null,"",null,{"$f":"IF(AI29=\"\",IF($A29<=nbappomp,INDEX('Analyse Préliminaire Pompe'!T$13:T$47,$A29),IF($A29<=nbappomp+nbapven,INDEX('Analyse Préliminaire Ventilateu'!R$13:R$44,$A29-nbappomp),IF($A29<=nbappomp+nbapven+nbapair,'Analyse Préliminaire air compr'!$AH$13,IF(A29<=nbappomp+nbapven+nbapair+nbaautre,INDEX('Analyse Préliminaire Autres'!$P$11:$P$42,A29-nbappomp-nbapven-nbapair),IF(A29<=nbappomp+nbapven+nbapair+nbaautre+nbafroid,INDEX('AP Groupe froid'!$AD$14:$AD$17,A29-nbappomp-nbapven-nbapair-nbaautre),\"\"))))),AI29)","v":""},null,{"$f":"IF($A29<=nbappomp,INDEX('Analyse Préliminaire Pompe'!X$13:X$47,$A29),IF($A29<=nbappomp+nbapven,INDEX('Analyse Préliminaire Ventilateu'!V$13:V$44,$A29-nbappomp),IF($A29<=nbappomp+nbapven+nbapair,'Analyse Préliminaire air compr'!$E$35,IF(A29<=nbappomp+nbapven+nbapair+nbaautre,INDEX('Analyse Préliminaire Autres'!$R$11:$R$42,A29-nbappomp-nbapven-nbapair),IF(A29<=nbappomp+nbapven+nbapair+nbaautre+nbafroid,INDEX('AP Groupe froid'!$Z$14:$Z$17,A29-nbappomp-nbapven-nbapair-nbaautre),\"\")))))","v":""},null,null,{"$f":"IF(AG29=\"\",IF($A29<=nbappomp,INDEX('Analyse Préliminaire Pompe'!AN$13:AN$47,$A29),IF($A29<=nbappomp+nbapven,INDEX('Analyse Préliminaire Ventilateu'!AL$13:AL$44,$A29-nbappomp),IF($A29<=nbappomp+nbapven+nbapair,'Analyse Préliminaire air compr'!$AM$16,IF(A29<=nbappomp+nbapven+nbapair+nbaautre,INDEX('Analyse Préliminaire Autres'!$AB$11:$AB$42,A29-nbappomp-nbapven-nbapair),IF(A29<=nbappomp+nbapven+nbapair+nbaautre+nbafroid,INDEX('AP Groupe froid'!$AM$14:$AM$17,A29-nbappomp-nbapven-nbapair-nbaautre),\"\"))))),'Economies classées'!$A$47)","v":""},{"$f":"IF($A29<=nbappomp,INDEX('Analyse Préliminaire Pompe'!E$13:E$47,$A29),IF($A29<=nbappomp+nbapven,INDEX('Analyse Préliminaire Ventilateu'!E$13:E$44,$A29-nbappomp),IF($A29<=nbappomp+nbapven+nbapair,\"voir detail\",IF(A29<=nbappomp+nbapven+nbapair+nbaautre,INDEX('Analyse Préliminaire Autres'!$E$11:$E$42,A29-nbappomp-nbapven-nbapair),IF(A29<=nbappomp+nbapven+nbapair+nbaautre+nbafroid,INDEX('AP Groupe froid'!$F$14:$F$17,A29-nbappomp-nbapven-nbapair-nbaautre),\"\")))))","v":""},{"$f":"IF($A29<=nbappomp,INDEX('Analyse Préliminaire Pompe'!K$13:K$47,$A29),IF($A29<=nbappomp+nbapven,INDEX('Analyse Préliminaire Ventilateu'!K$13:K$44,$A29-nbappomp),IF($A29<=nbappomp+nbapven+nbapair,SUM('Analyse Préliminaire air compr'!$I$26:$I$32),IF(A29<=nbappomp+nbapven+nbapair+nbaautre,INDEX('Analyse Préliminaire Autres'!$K$11:$K$42,A29-nbappomp-nbapven-nbapair),IF(A29<=nbappomp+nbapven+nbapair+nbaautre+nbafroid,INDEX('AP Groupe froid'!$O$14:$O$17,A29-nbappomp-nbapven-nbapair-nbaautre),\"\")))))","v":""},{"$f":"IF($A29<=nbappomp,INDEX('Analyse Préliminaire Pompe'!L$13:L$47,$A29),IF($A29<=nbappomp+nbapven,INDEX('Analyse Préliminaire Ventilateu'!L$13:L$44,$A29-nbappomp),IF($A29<=nbappomp+nbapven+nbapair,MIN('Analyse Préliminaire air compr'!$J$26:$J$32),IF(A29<=nbappomp+nbapven+nbapair+nbaautre,INDEX('Analyse Préliminaire Autres'!$L$11:$L$42,A29-nbappomp-nbapven-nbapair),IF($A29<=nbappomp+nbapven+nbapair,'Analyse Préliminaire air compr'!$AM$16,IF(A29<=nbappomp+nbapven+nbapair+nbaautre+nbafroid,INDEX('AP Groupe froid'!$L$14:$L$17,A29-nbappomp-nbapven-nbapair-nbaautre),\"\"))))))","v":""},{"$f":"IF($A29<=nbappomp,INDEX('Analyse Préliminaire Pompe'!M$13:M$47,$A29),IF($A29<=nbappomp+nbapven,INDEX('Analyse Préliminaire Ventilateu'!M$13:M$44,$A29-nbappomp),IF($A29<=nbappomp+nbapven+nbapair,\"\",IF(A29<=nbappomp+nbapven+nbapair+nbaautre,INDEX('Analyse Préliminaire Autres'!$M$11:$M$42,A29-nbappomp-nbapven-nbapair),IF($A29<=nbappomp+nbapven+nbapair,'Analyse Préliminaire air compr'!$AM$16,IF(A29<=nbappomp+nbapven+nbapair+nbaautre+nbafroid,INDEX('AP Groupe froid'!$M$14:$M$17,A29-nbappomp-nbapven-nbapair-nbaautre),\"\"))))))","v":""},{"$f":"IF($A29<=nbappomp,INDEX('Analyse Préliminaire Pompe'!N$13:N$47,$A29),IF($A29<=nbappomp+nbapven,INDEX('Analyse Préliminaire Ventilateu'!N$13:N$44,$A29-nbappomp),IF($A29<=nbappomp+nbapven+nbapair,\"\",IF(A29<=nbappomp+nbapven+nbapair+nbaautre,INDEX('Analyse Préliminaire Autres'!$N$11:$N$42,A29-nbappomp-nbapven-nbapair),\"\"))))","v":""},{"$f":"IF($A29<=nbappomp,INDEX('Analyse Préliminaire Pompe'!O$13:O$47,$A29),IF($A29<=nbappomp+nbapven,INDEX('Analyse Préliminaire Ventilateu'!O$13:O$44,$A29-nbappomp),IF($A29<=nbappomp+nbapven+nbapair,\"\",IF(A29<=nbappomp+nbapven+nbapair+nbaautre,INDEX('Analyse Préliminaire Autres'!$O$11:$O$42,A29-nbappomp-nbapven-nbapair),\"\"))))","v":""},{"$f":"IF($A29<=nbappomp,INDEX('Analyse Préliminaire Pompe'!P$13:P$47,$A29),IF($A29<=nbappomp+nbapven,INDEX('Analyse Préliminaire Ventilateu'!P$13:P$44,$A29-nbappomp),IF($A29<=nbappomp+nbapven+nbapair,\"\",IF(A29<=nbappomp+nbapven+nbapair+nbaautre,INDEX('Analyse Préliminaire Autres'!#REF!,A29-nbappomp-nbapven-nbapair),\"\"))))","v":""},{"$f":"IF($A29<=nbappomp,INDEX('Analyse Préliminaire Pompe'!Q$13:Q$47,$A29),IF($A29<=nbappomp+nbapven,\"\",IF($A29<=nbappomp+nbapven+nbapair,\"\",\"\")))","v":""},{"$f":"IF(AI29=\"\",IF($A29<=nbappomp,INDEX('Analyse Préliminaire Pompe'!S$13:S$47,$A29),IF($A29<=nbappomp+nbapven,INDEX('Analyse Préliminaire Ventilateu'!Q$13:Q$44,$A29-nbappomp),IF($A29<=nbappomp+nbapven+nbapair,\"\",IF(A29<=nbappomp+nbapven+nbapair+nbaautre,\"\",\"\")))),AI29)","v":""},{"$f":"IF(AN29,\"\",IF($A29<=nbappomp,INDEX('Analyse Préliminaire Pompe'!AO$13:AO$47,$A29),IF($A29<=nbappomp+nbapven,INDEX('Analyse Préliminaire Ventilateu'!AM$13:AM$44,$A29-nbappomp),IF($A29<=nbappomp+nbapven+nbapair,EcoAPkWhCP,IF(A29<=nbappomp+nbapven+nbapair+nbaautre,INDEX('Analyse Préliminaire Autres'!$E$11:$E$42,A29-nbappomp-nbapven-nbapair),IF($A29<=nbappomp+nbapven+nbapair+nbaautre+nbafroid,INDEX('AP Groupe froid'!$AN$14:$AN$17,$A29-nbappomp-nbapven-nbapair-nbaautre),\"\"))))))","v":""},{"$f":"IF(AN29,\"\",IF($A29<=nbappomp,INDEX('Analyse Préliminaire Pompe'!AP$13:AP$47,$A29),IF($A29<=nbappomp+nbapven,INDEX('Analyse Préliminaire Ventilateu'!AN$13:AN$44,$A29-nbappomp),IF($A29<=nbappomp+nbapven+nbapair,EcoAPpercCP,IF(A29<=nbappomp+nbapven+nbapair+nbaautre,INDEX('Analyse Préliminaire Autres'!$E$11:$E$42,A29-nbappomp-nbapven-nbapair),IF($A29<=nbappomp+nbapven+nbapair+nbaautre+nbafroid,INDEX('AP Groupe froid'!$AO$14:$AO$17,$A29-nbappomp-nbapven-nbapair-nbaautre),\"\"))))))","v":""},{"$f":"IF(AN29,\"\",IF($A29<=nbappomp,INDEX('Analyse Préliminaire Pompe'!AQ$13:AQ$47,$A29),IF($A29<=nbappomp+nbapven,INDEX('Analyse Préliminaire Ventilateu'!AO$13:AO$44,$A29-nbappomp),IF($A29<=nbappomp+nbapven+nbapair,consoanncp,IF(A29<=nbappomp+nbapven+nbapair+nbaautre,INDEX('Analyse Préliminaire Autres'!$E$11:$E$42,A29-nbappomp-nbapven-nbapair),IF($A29<=nbappomp+nbapven+nbapair+nbaautre+nbafroid,INDEX('AP Groupe froid'!$AP$14:$AP$17,$A29-nbappomp-nbapven-nbapair-nbaautre),\"\"))))))","v":""},{"$f":"IF(R29=\"\",-1,IF(AND($L29>'Economies classées'!$B$2,$K29>0.2,YEAR(TODAY())-$Z29>8),2,IF(AND($L29>'Economies classées'!$B$3,YEAR(TODAY())-$Z29>5),1,0)))","v":-1},null,null,"",{"$f":"IF($A29<=nbappomp,ISBLANK(INDEX('Analyse Préliminaire Pompe'!AO$13:AO$47,$A29)),IF($A29<=nbappomp+nbapven,ISBLANK(INDEX('Analyse Préliminaire Ventilateu'!AM$13:AM$44,$A29-nbappomp)),IF($A29<=nbappomp+nbapven+nbapair,ISBLANK(EcoAPkWhCP),IF(A29<=nbappomp+nbapven+nbapair+nbaautre,ISBLANK(INDEX('Analyse Préliminaire Autres'!AC$11:AC$42,A29-nbappomp-nbapven-nbapair)),IF(A29<=nbappomp+nbapven+nbapair+nbaautre+nbafroid,ISBLANK(INDEX('AP Groupe froid'!$AN$14:$AN$17,A29-nbappomp-nbapven-nbapair-nbaautre)),FALSE)))))","v":false},{"$f":"IF(E29=Listes!$H$25,1,0)","v":0},{"$f":"IF(E29=Listes!$H$26,1,0)","v":0},0,0,{"$f":"IF(E29=Listes!$H$28,1,0)","v":0},null,0,0,0,0,0,null,0,0,0,0,0,null,"","","","","",null,-1,-1,-1,-1,null,null,{"$f":"IF(E29=Listes!$H$25,1,0)","v":0},{"$f":"IF(E29=Listes!$H$26,1,0)","v":0},0,0,0,0,0,null,0,0,"",{"$error":"#VALUE!"},0,0,0,null,null,null,"",""]
[6,"",null,{"$f":"IF(A30<=nbappomp,INDEX('Analyse Préliminaire Pompe'!$B$13:$B$47,A30),IF(A30<=nbappomp+nbapven,INDEX('Analyse Préliminaire Ventilateu'!$B$13:$B$44,A30-nbappomp),IF(A30<=nbappomp+nbapven+nbapair,301,IF(A30<=nbappomp+nbapven+nbapair+nbaautre,INDEX('Analyse Préliminaire Autres'!$B$11:$B$42,A30-nbappomp-nbapven-nbapair),IF(A30<=nbappomp+nbapven+nbapair+nbaautre+nbafroid,INDEX('AP Groupe froid'!$B$14:$B$17,A30-nbappomp-nbapven-nbapair-nbaautre),\"\")))))","v":""},{"$f":"IF(A30<=nbappomp,INDEX('Analyse Préliminaire Pompe'!$C$13:$C$47,A30),IF(A30<=nbappomp+nbapven,INDEX('Analyse Préliminaire Ventilateu'!$C$13:$C$44,A30-nbappomp),IF(A30<=nbappomp+nbapven+nbapair,$AJ$4,IF(A30<=nbappomp+nbapven+nbapair+nbaautre,INDEX('Analyse Préliminaire Autres'!$C$11:$C$42,A30-nbappomp-nbapven-nbapair),IF(A30<=nbappomp+nbapven+nbapair+nbaautre+nbafroid,INDEX('AP Groupe froid'!$C$14:$C$17,A30-nbappomp-nbapven-nbapair-nbaautre),\"\")))))","v":""},null,null,{"$f":"IF(A30<=nbappomp,INDEX('Analyse Préliminaire Pompe'!$H$13:$H$47,A30),IF(A30<=nbappomp+nbapven,INDEX('Analyse Préliminaire Ventilateu'!$H$13:$H$44,A30-nbappomp),IF(A30<=nbappomp+nbapven+nbapair,$AJ$4,IF(A30<=nbappomp+nbapven+nbapair+nbaautre,INDEX('Analyse Préliminaire Autres'!$H$11:$H$42,A30-nbappomp-nbapven-nbapair),IF(A30<=nbappomp+nbapven+nbapair+nbaautre+nbafroid,INDEX('AP Groupe froid'!$I$14:$I$17,A30-nbappomp-nbapven-nbapair-nbaautre),\"\")))))","v":""},null,null,{"$f":"IF(AH30=\"\",IF($A30<=nbappomp,INDEX('Analyse Préliminaire Pompe'!AE$13:AE$47,$A30),IF($A30<=nbappomp+nbapven,INDEX('Analyse Préliminaire Ventilateu'!AC$13:AC$44,$A30-nbappomp),IF($A30<=nbappomp+nbapven+nbapair,'Analyse Préliminaire air compr'!$AI$22,IF(A30<=nbappomp+nbapven+nbapair+nbaautre,INDEX('Analyse Préliminaire Autres'!$X$11:$X$42,A30-nbappomp-nbapven-nbapair),IF(A30<=nbappomp+nbapven+nbapair+nbaautre+nbafroid,INDEX('AP Groupe froid'!$AF$14:$AF$17,A30-nbappomp-nbapven-nbapair-nbaautre),\"\"))))),AH30)","v":""},{"$f":"IF(AG30=\"\",IF($A30<=nbappomp,INDEX('Analyse Préliminaire Pompe'!AD$13:AD$47,$A30),IF($A30<=nbappomp+nbapven,INDEX('Analyse Préliminaire Ventilateu'!AB$13:AB$44,$A30-nbappomp),IF($A30<=nbappomp+nbapven+nbapair,'Analyse Préliminaire air compr'!$AH$22,IF(A30<=nbappomp+nbapven+nbapair+nbaautre,INDEX('Analyse Préliminaire Autres'!$W$11:$W$42,A30-nbappomp-nbapven-nbapair),IF(A30<=nbappomp+nbapven+nbapair+nbaautre+nbafroid,INDEX('AP Groupe froid'!$AE$14:$AE$17,A30-nbappomp-nbapven-nbapair-nbaautre),\"\"))))),AG30)","v":""},null,"",null,"",null,{"$f":"IF(AI30=\"\",IF($A30<=nbappomp,INDEX('Analyse Préliminaire Pompe'!T$13:T$47,$A30),IF($A30<=nbappomp+nbapven,INDEX('Analyse Préliminaire Ventilateu'!R$13:R$44,$A30-nbappomp),IF($A30<=nbappomp+nbapven+nbapair,'Analyse Préliminaire air compr'!$AH$13,IF(A30<=nbappomp+nbapven+nbapair+nbaautre,INDEX('Analyse Préliminaire Autres'!$P$11:$P$42,A30-nbappomp-nbapven-nbapair),IF(A30<=nbappomp+nbapven+nbapair+nbaautre+nbafroid,INDEX('AP Groupe froid'!$AD$14:$AD$17,A30-nbappomp-nbapven-nbapair-nbaautre),\"\"))))),AI30)","v":""},null,{"$f":"IF($A30<=nbappomp,INDEX('Analyse Préliminaire Pompe'!X$13:X$47,$A30),IF($A30<=nbappomp+nbapven,INDEX('Analyse Préliminaire Ventilateu'!V$13:V$44,$A30-nbappomp),IF($A30<=nbappomp+nbapven+nbapair,'Analyse Préliminaire air compr'!$E$35,IF(A30<=nbappomp+nbapven+nbapair+nbaautre,INDEX('Analyse Préliminaire Autres'!$R$11:$R$42,A30-nbappomp-nbapven-nbapair),IF(A30<=nbappomp+nbapven+nbapair+nbaautre+nbafroid,INDEX('AP Groupe froid'!$Z$14:$Z$17,A30-nbappomp-nbapven-nbapair-nbaautre),\"\")))))","v":""},null,null,{"$f":"IF(AG30=\"\",IF($A30<=nbappomp,INDEX('Analyse Préliminaire Pompe'!AN$13:AN$47,$A30),IF($A30<=nbappomp+nbapven,INDEX('Analyse Préliminaire Ventilateu'!AL$13:AL$44,$A30-nbappomp),IF($A30<=nbappomp+nbapven+nbapair,'Analyse Préliminaire air compr'!$AM$16,IF(A30<=nbappomp+nbapven+nbapair+nbaautre,INDEX('Analyse Préliminaire Autres'!$AB$11:$AB$42,A30-nbappomp-nbapven-nbapair),IF(A30<=nbappomp+nbapven+nbapair+nbaautre+nbafroid,INDEX('AP Groupe froid'!$AM$14:$AM$17,A30-nbappomp-nbapven-nbapair-nbaautre),\"\"))))),'Economies classées'!$A$47)","v":""},{"$f":"IF($A30<=nbappomp,INDEX('Analyse Préliminaire Pompe'!E$13:E$47,$A30),IF($A30<=nbappomp+nbapven,INDEX('Analyse Préliminaire Ventilateu'!E$13:E$44,$A30-nbappomp),IF($A30<=nbappomp+nbapven+nbapair,\"voir detail\",IF(A30<=nbappomp+nbapven+nbapair+nbaautre,INDEX('Analyse Préliminaire Autres'!$E$11:$E$42,A30-nbappomp-nbapven-nbapair),IF(A30<=nbappomp+nbapven+nbapair+nbaautre+nbafroid,INDEX('AP Groupe froid'!$F$14:$F$17,A30-nbappomp-nbapven-nbapair-nbaautre),\"\")))))","v":""},{"$f":"IF($A30<=nbappomp,INDEX('Analyse Préliminaire Pompe'!K$13:K$47,$A30),IF($A30<=nbappomp+nbapven,INDEX('Analyse Préliminaire Ventilateu'!K$13:K$44,$A30-nbappomp),IF($A30<=nbappomp+nbapven+nbapair,SUM('Analyse Préliminaire air compr'!$I$26:$I$32),IF(A30<=nbappomp+nbapven+nbapair+nbaautre,INDEX('Analyse Préliminaire Autres'!$K$11:$K$42,A30-nbappomp-nbapven-nbapair),IF(A30<=nbappomp+nbapven+nbapair+nbaautre+nbafroid,INDEX('AP Groupe froid'!$O$14:$O$17,A30-nbappomp-nbapven-nbapair-nbaautre),\"\")))))","v":""},{"$f":"IF($A30<=nbappomp,INDEX('Analyse Préliminaire Pompe'!L$13:L$47,$A30),IF($A30<=nbappomp+nbapven,INDEX('Analyse Préliminaire Ventilateu'!L$13:L$44,$A30-nbappomp),IF($A30<=nbappomp+nbapven+nbapair,MIN('Analyse Préliminaire air compr'!$J$26:$J$32),IF(A30<=nbappomp+nbapven+nbapair+nbaautre,INDEX('Analyse Préliminaire Autres'!$L$11:$L$42,A30-nbappomp-nbapven-nbapair),IF($A30<=nbappomp+nbapven+nbapair,'Analyse Préliminaire air compr'!$AM$16,IF(A30<=nbappomp+nbapven+nbapair+nbaautre+nbafroid,INDEX('AP Groupe froid'!$L$14:$L$17,A30-nbappomp-nbapven-nbapair-nbaautre),\"\"))))))","v":""},{"$f":"IF($A30<=nbappomp,INDEX('Analyse Préliminaire Pompe'!M$13:M$47,$A30),IF($A30<=nbappomp+nbapven,INDEX('Analyse Préliminaire Ventilateu'!M$13:M$44,$A30-nbappomp),IF($A30<=nbappomp+nbapven+nbapair,\"\",IF(A30<=nbappomp+nbapven+nbapair+nbaautre,INDEX('Analyse Préliminaire Autres'!$M$11:$M$42,A30-nbappomp-nbapven-nbapair),IF($A30<=nbappomp+nbapven+nbapair,'Analyse Préliminaire air compr'!$AM$16,IF(A30<=nbappomp+nbapven+nbapair+nbaautre+nbafroid,INDEX('AP Groupe froid'!$M$14:$M$17,A30-nbappomp-nbapven-nbapair-nbaautre),\"\"))))))","v":""},{"$f":"IF($A30<=nbappomp,INDEX('Analyse Préliminaire Pompe'!N$13:N$47,$A30),IF($A30<=nbappomp+nbapven,INDEX('Analyse Préliminaire Ventilateu'!N$13:N$44,$A30-nbappomp),IF($A30<=nbappomp+nbapven+nbapair,\"\",IF(A30<=nbappomp+nbapven+nbapair+nbaautre,INDEX('Analyse Préliminaire Autres'!$N$11:$N$42,A30-nbappomp-nbapven-nbapair),\"\"))))","v":""},{"$f":"IF($A30<=nbappomp,INDEX('Analyse Préliminaire Pompe'!O$13:O$47,$A30),IF($A30<=nbappomp+nbapven,INDEX('Analyse Préliminaire Ventilateu'!O$13:O$44,$A30-nbappomp),IF($A30<=nbappomp+nbapven+nbapair,\"\",IF(A30<=nbappomp+nbapven+nbapair+nbaautre,INDEX('Analyse Préliminaire Autres'!$O$11:$O$42,A30-nbappomp-nbapven-nbapair),\"\"))))","v":""},{"$f":"IF($A30<=nbappomp,INDEX('Analyse Préliminaire Pompe'!P$13:P$47,$A30),IF($A30<=nbappomp+nbapven,INDEX('Analyse Préliminaire Ventilateu'!P$13:P$44,$A30-nbappomp),IF($A30<=nbappomp+nbapven+nbapair,\"\",IF(A30<=nbappomp+nbapven+nbapair+nbaautre,INDEX('Analyse Préliminaire Autres'!#REF!,A30-nbappomp-nbapven-nbapair),\"\"))))","v":""},{"$f":"IF($A30<=nbappomp,INDEX('Analyse Préliminaire Pompe'!Q$13:Q$47,$A30),IF($A30<=nbappomp+nbapven,\"\",IF($A30<=nbappomp+nbapven+nbapair,\"\",\"\")))","v":""},{"$f":"IF(AI30=\"\",IF($A30<=nbappomp,INDEX('Analyse Préliminaire Pompe'!S$13:S$47,$A30),IF($A30<=nbappomp+nbapven,INDEX('Analyse Préliminaire Ventilateu'!Q$13:Q$44,$A30-nbappomp),IF($A30<=nbappomp+nbapven+nbapair,\"\",IF(A30<=nbappomp+nbapven+nbapair+nbaautre,\"\",\"\")))),AI30)","v":""},{"$f":"IF(AN30,\"\",IF($A30<=nbappomp,INDEX('Analyse Préliminaire Pompe'!AO$13:AO$47,$A30),IF($A30<=nbappomp+nbapven,INDEX('Analyse Préliminaire Ventilateu'!AM$13:AM$44,$A30-nbappomp),IF($A30<=nbappomp+nbapven+nbapair,EcoAPkWhCP,IF(A30<=nbappomp+nbapven+nbapair+nbaautre,INDEX('Analyse Préliminaire Autres'!$E$11:$E$42,A30-nbappomp-nbapven-nbapair),IF($A30<=nbappomp+nbapven+nbapair+nbaautre+nbafroid,INDEX('AP Groupe froid'!$AN$14:$AN$17,$A30-nbappomp-nbapven-nbapair-nbaautre),\"\"))))))","v":""},{"$f":"IF(AN30,\"\",IF($A30<=nbappomp,INDEX('Analyse Préliminaire Pompe'!AP$13:AP$47,$A30),IF($A30<=nbappomp+nbapven,INDEX('Analyse Préliminaire Ventilateu'!AN$13:AN$44,$A30-nbappomp),IF($A30<=nbappomp+nbapven+nbapair,EcoAPpercCP,IF(A30<=nbappomp+nbapven+nbapair+nbaautre,INDEX('Analyse Préliminaire Autres'!$E$11:$E$42,A30-nbappomp-nbapven-nbapair),IF($A30<=nbappomp+nbapven+nbapair+nbaautre+nbafroid,INDEX('AP Groupe froid'!$AO$14:$AO$17,$A30-nbappomp-nbapven-nbapair-nbaautre),\"\"))))))","v":""},{"$f":"IF(AN30,\"\",IF($A30<=nbappomp,INDEX('Analyse Préliminaire Pompe'!AQ$13:AQ$47,$A30),IF($A30<=nbappomp+nbapven,INDEX('Analyse Préliminaire Ventilateu'!AO$13:AO$44,$A30-nbappomp),IF($A30<=nbappomp+nbapven+nbapair,consoanncp,IF(A30<=nbappomp+nbapven+nbapair+nbaautre,INDEX('Analyse Préliminaire Autres'!$E$11:$E$42,A30-nbappomp-nbapven-nbapair),IF($A30<=nbappomp+nbapven+nbapair+nbaautre+nbafroid,INDEX('AP Groupe froid'!$AP$14:$AP$17,$A30-nbappomp-nbapven-nbapair-nbaautre),\"\"))))))","v":""},{"$f":"IF(R30=\"\",-1,IF(AND($L30>'Economies classées'!$B$2,$K30>0.2,YEAR(TODAY())-$Z30>8),2,IF(AND($L30>'Economies classées'!$B$3,YEAR(TODAY())-$Z30>5),1,0)))","v":-1},null,null,"",{"$f":"IF($A30<=nbappomp,ISBLANK(INDEX('Analyse Préliminaire Pompe'!AO$13:AO$47,$A30)),IF($A30<=nbappomp+nbapven,ISBLANK(INDEX('Analyse Préliminaire Ventilateu'!AM$13:AM$44,$A30-nbappomp)),IF($A30<=nbappomp+nbapven+nbapair,ISBLANK(EcoAPkWhCP),IF(A30<=nbappomp+nbapven+nbapair+nbaautre,ISBLANK(INDEX('Analyse Préliminaire Autres'!AC$11:AC$42,A30-nbappomp-nbapven-nbapair)),IF(A30<=nbappomp+nbapven+nbapair+nbaautre+nbafroid,ISBLANK(INDEX('AP Groupe froid'!$AN$14:$AN$17,A30-nbappomp-nbapven-nbapair-nbaautre)),FALSE)))))","v":false},{"$f":"IF(E30=Listes!$H$25,1,0)","v":0},{"$f":"IF(E30=Listes!$H$26,1,0)","v":0},0,0,{"$f":"IF(E30=Listes!$H$28,1,0)","v":0},null,0,0,0,0,0,null,0,0,0,0,0,null,"","","","","",null,-1,-1,-1,-1,null,null,{"$f":"IF(E30=Listes!$H$25,1,0)","v":0},{"$f":"IF(E30=Listes!$H$26,1,0)","v":0},0,0,0,0,0,null,0,0,"",{"$error":"#VALUE!"},0,0,0,null,null,null,"",""]
[7,"",null,{"$f":"IF(A31<=nbappomp,INDEX('Analyse Préliminaire Pompe'!$B$13:$B$47,A31),IF(A31<=nbappomp+nbapven,INDEX('Analyse Préliminaire Ventilateu'!$B$13:$B$44,A31-nbappomp),IF(A31<=nbappomp+nbapven+nbapair,301,IF(A31<=nbappomp+nbapven+nbapair+nbaautre,INDEX('Analyse Préliminaire Autres'!$B$11:$B$42,A31-nbappomp-nbapven-nbapair),IF(A31<=nbappomp+nbapven+nbapair+nbaautre+nbafroid,INDEX('AP Groupe froid'!$B$14:$B$17,A31-nbappomp-nbapven-nbapair-nbaautre),\"\")))))","v":""},{"$f":"IF(A31<=nbappomp,INDEX('Analyse Préliminaire Pompe'!$C$13:$C$47,A31),IF(A31<=nbappomp+nbapven,INDEX('Analyse Préliminaire Ventilateu'!$C$13:$C$44,A31-nbappomp),IF(A31<=nbappomp+nbapven+nbapair,$AJ$4,IF(A31<=nbappomp+nbapven+nbapair+nbaautre,INDEX('Analyse Préliminaire Autres'!$C$11:$C$42,A31-nbappomp-nbapven-nbapair),IF(A31<=nbappomp+nbapven+nbapair+nbaautre+nbafroid,INDEX('AP Groupe froid'!$C$14:$C$17,A31-nbappomp-nbapven-nbapair-nbaautre),\"\")))))","v":""},null,null,{"$f":"IF(A31<=nbappomp,INDEX('Analyse Préliminaire Pompe'!$H$13:$H$47,A31),IF(A31<=nbappomp+nbapven,INDEX('Analyse Préliminaire Ventilateu'!$H$13:$H$44,A31-nbappomp),IF(A31<=nbappomp+nbapven+nbapair,$AJ$4,IF(A31<=nbappomp+nbapven+nbapair+nbaautre,INDEX('Analyse Préliminaire Autres'!$H$11:$H$42,A31-nbappomp-nbapven-nbapair),IF(A31<=nbappomp+nbapven+nbapair+nbaautre+nbafroid,INDEX('AP Groupe froid'!$I$14:$I$17,A31-nbappomp-nbapven-nbapair-nbaautre),\"\")))))","v":""},null,null,{"$f":"IF(AH31=\"\",IF($A31<=nbappomp,INDEX('Analyse Préliminaire Pompe'!AE$13:AE$47,$A31),IF($A31<=nbappomp+nbapven,INDEX('Analyse Préliminaire Ventilateu'!AC$13:AC$44,$A31-nbappomp),IF($A31<=nbappomp+nbapven+nbapair,'Analyse Préliminaire air compr'!$AI$22,IF(A31<=nbappomp+nbapven+nbapair+nbaautre,INDEX('Analyse Préliminaire Autres'!$X$11:$X$42,A31-nbappomp-nbapven-nbapair),IF(A31<=nbappomp+nbapven+nbapair+nbaautre+nbafroid,INDEX('AP Groupe froid'!$AF$14:$AF$17,A31-nbappomp-nbapven-nbapair-nbaautre),\"\"))))),AH31)","v":""},{"$f":"IF(AG31=\"\",IF($A31<=nbappomp,INDEX('Analyse Préliminaire Pompe'!AD$13:AD$47,$A31),IF($A31<=nbappomp+nbapven,INDEX('Analyse Préliminaire Ventilateu'!AB$13:AB$44,$A31-nbappomp),IF($A31<=nbappomp+nbapven+nbapair,'Analyse Préliminaire air compr'!$AH$22,IF(A31<=nbappomp+nbapven+nbapair+nbaautre,INDEX('Analyse Préliminaire Autres'!$W$11:$W$42,A31-nbappomp-nbapven-nbapair),IF(A31<=nbappomp+nbapven+nbapair+nbaautre+nbafroid,INDEX('AP Groupe froid'!$AE$14:$AE$17,A31-nbappomp-nbapven-nbapair-nbaautre),\"\"))))),AG31)","v":""},null,"",null,"",null,{"$f":"IF(AI31=\"\",IF($A31<=nbappomp,INDEX('Analyse Préliminaire Pompe'!T$13:T$47,$A31),IF($A31<=nbappomp+nbapven,INDEX('Analyse Préliminaire Ventilateu'!R$13:R$44,$A31-nbappomp),IF($A31<=nbappomp+nbapven+nbapair,'Analyse Préliminaire air compr'!$AH$13,IF(A31<=nbappomp+nbapven+nbapair+nbaautre,INDEX('Analyse Préliminaire Autres'!$P$11:$P$42,A31-nbappomp-nbapven-nbapair),IF(A31<=nbappomp+nbapven+nbapair+nbaautre+nbafroid,INDEX('AP Groupe froid'!$AD$14:$AD$17,A31-nbappomp-nbapven-nbapair-nbaautre),\"\"))))),AI31)","v":""},null,{"$f":"IF($A31<=nbappomp,INDEX('Analyse Préliminaire Pompe'!X$13:X$47,$A31),IF($A31<=nbappomp+nbapven,INDEX('Analyse Préliminaire Ventilateu'!V$13:V$44,$A31-nbappomp),IF($A31<=nbappomp+nbapven+nbapair,'Analyse Préliminaire air compr'!$E$35,IF(A31<=nbappomp+nbapven+nbapair+nbaautre,INDEX('Analyse Préliminaire Autres'!$R$11:$R$42,A31-nbappomp-nbapven-nbapair),IF(A31<=nbappomp+nbapven+nbapair+nbaautre+nbafroid,INDEX('AP Groupe froid'!$Z$14:$Z$17,A31-nbappomp-nbapven-nbapair-nbaautre),\"\")))))","v":""},null,null,{"$f":"IF(AG31=\"\",IF($A31<=nbappomp,INDEX('Analyse Préliminaire Pompe'!AN$13:AN$47,$A31),IF($A31<=nbappomp+nbapven,INDEX('Analyse Préliminaire Ventilateu'!AL$13:AL$44,$A31-nbappomp),IF($A31<=nbappomp+nbapven+nbapair,'Analyse Préliminaire air compr'!$AM$16,IF(A31<=nbappomp+nbapven+nbapair+nbaautre,INDEX('Analyse Préliminaire Autres'!$AB$11:$AB$42,A31-nbappomp-nbapven-nbapair),IF(A31<=nbappomp+nbapven+nbapair+nbaautre+nbafroid,INDEX('AP Groupe froid'!$AM$14:$AM$17,A31-nbappomp-nbapven-nbapair-nbaautre),\"\"))))),'Economies classées'!$A$47)","v":""},{"$f":"IF($A31<=nbappomp,INDEX('Analyse Préliminaire Pompe'!E$13:E$47,$A31),IF($A31<=nbappomp+nbapven,INDEX('Analyse Préliminaire Ventilateu'!E$13:E$44,$A31-nbappomp),IF($A31<=nbappomp+nbapven+nbapair,\"voir detail\",IF(A31<=nbappomp+nbapven+nbapair+nbaautre,INDEX('Analyse Préliminaire Autres'!$E$11:$E$42,A31-nbappomp-nbapven-nbapair),IF(A31<=nbappomp+nbapven+nbapair+nbaautre+nbafroid,INDEX('AP Groupe froid'!$F$14:$F$17,A31-nbappomp-nbapven-nbapair-nbaautre),\"\")))))","v":""},{"$f":"IF($A31<=nbappomp,INDEX('Analyse Préliminaire Pompe'!K$13:K$47,$A31),IF($A31<=nbappomp+nbapven,INDEX('Analyse Préliminaire Ventilateu'!K$13:K$44,$A31-nbappomp),IF($A31<=nbappomp+nbapven+nbapair,SUM('Analyse Préliminaire air compr'!$I$26:$I$32),IF(A31<=nbappomp+nbapven+nbapair+nbaautre,INDEX('Analyse Préliminaire Autres'!$K$11:$K$42,A31-nbappomp-nbapven-nbapair),IF(A31<=nbappomp+nbapven+nbapair+nbaautre+nbafroid,INDEX('AP Groupe froid'!$O$14:$O$17,A31-nbappomp-nbapven-nbapair-nbaautre),\"\")))))","v":""},{"$f":"IF($A31<=nbappomp,INDEX('Analyse Préliminaire Pompe'!L$13:L$47,$A31),IF($A31<=nbappomp+nbapven,INDEX('Analyse Préliminaire Ventilateu'!L$13:L$44,$A31-nbappomp),IF($A31<=nbappomp+nbapven+nbapair,MIN('Analyse Préliminaire air compr'!$J$26:$J$32),IF(A31<=nbappomp+nbapven+nbapair+nbaautre,INDEX('Analyse Préliminaire Autres'!$L$11:$L$42,A31-nbappomp-nbapven-nbapair),IF($A31<=nbappomp+nbapven+nbapair,'Analyse Préliminaire air compr'!$AM$16,IF(A31<=nbappomp+nbapven+nbapair+nbaautre+nbafroid,INDEX('AP Groupe froid'!$L$14:$L$17,A31-nbappomp-nbapven-nbapair-nbaautre),\"\"))))))","v":""},{"$f":"IF($A31<=nbappomp,INDEX('Analyse Préliminaire Pompe'!M$13:M$47,$A31),IF($A31<=nbappomp+nbapven,INDEX('Analyse Préliminaire Ventilateu'!M$13:M$44,$A31-nbappomp),IF($A31<=nbappomp+nbapven+nbapair,\"\",IF(A31<=nbappomp+nbapven+nbapair+nbaautre,INDEX('Analyse Préliminaire Autres'!$M$11:$M$42,A31-nbappomp-nbapven-nbapair),IF($A31<=nbappomp+nbapven+nbapair,'Analyse Préliminaire air compr'!$AM$16,IF(A31<=nbappomp+nbapven+nbapair+nbaautre+nbafroid,INDEX('AP Groupe froid'!$M$14:$M$17,A31-nbappomp-nbapven-nbapair-nbaautre),\"\"))))))","v":""},{"$f":"IF($A31<=nbappomp,INDEX('Analyse Préliminaire Pompe'!N$13:N$47,$A31),IF($A31<=nbappomp+nbapven,INDEX('Analyse Préliminaire Ventilateu'!N$13:N$44,$A31-nbappomp),IF($A31<=nbappomp+nbapven+nbapair,\"\",IF(A31<=nbappomp+nbapven+nbapair+nbaautre,INDEX('Analyse Préliminaire Autres'!$N$11:$N$42,A31-nbappomp-nbapven-nbapair),\"\"))))","v":""},{"$f":"IF($A31<=nbappomp,INDEX('Analyse Préliminaire Pompe'!O$13:O$47,$A31),IF($A31<=nbappomp+nbapven,INDEX('Analyse Préliminaire Ventilateu'!O$13:O$44,$A31-nbappomp),IF($A31<=nbappomp+nbapven+nbapair,\"\",IF(A31<=nbappomp+nbapven+nbapair+nbaautre,INDEX('Analyse Préliminaire Autres'!$O$11:$O$42,A31-nbappomp-nbapven-nbapair),\"\"))))","v":""},{"$f":"IF($A31<=nbappomp,INDEX('Analyse Préliminaire Pompe'!P$13:P$47,$A31),IF($A31<=nbappomp+nbapven,INDEX('Analyse Préliminaire Ventilateu'!P$13:P$44,$A31-nbappomp),IF($A31<=nbappomp+nbapven+nbapair,\"\",IF(A31<=nbappomp+nbapven+nbapair+nbaautre,INDEX('Analyse Préliminaire Autres'!#REF!,A31-nbappomp-nbapven-nbapair),\"\"))))","v":""},{"$f":"IF($A31<=nbappomp,INDEX('Analyse Préliminaire Pompe'!Q$13:Q$47,$A31),IF($A31<=nbappomp+nbapven,\"\",IF($A31<=nbappomp+nbapven+nbapair,\"\",\"\")))","v":""},{"$f":"IF(AI31=\"\",IF($A31<=nbappomp,INDEX('Analyse Préliminaire Pompe'!S$13:S$47,$A31),IF($A31<=nbappomp+nbapven,INDEX('Analyse Préliminaire Ventilateu'!Q$13:Q$44,$A31-nbappomp),IF($A31<=nbappomp+nbapven+nbapair,\"\",IF(A31<=nbappomp+nbapven+nbapair+nbaautre,\"\",\"\")))),AI31)","v":""},{"$f":"IF(AN31,\"\",IF($A31<=nbappomp,INDEX('Analyse Préliminaire Pompe'!AO$13:AO$47,$A31),IF($A31<=nbappomp+nbapven,INDEX('Analyse Préliminaire Ventilateu'!AM$13:AM$44,$A31-nbappomp),IF($A31<=nbappomp+nbapven+nbapair,EcoAPkWhCP,IF(A31<=nbappomp+nbapven+nbapair+nbaautre,INDEX('Analyse Préliminaire Autres'!$E$11:$E$42,A31-nbappomp-nbapven-nbapair),IF($A31<=nbappomp+nbapven+nbapair+nbaautre+nbafroid,INDEX('AP Groupe froid'!$AN$14:$AN$17,$A31-nbappomp-nbapven-nbapair-nbaautre),\"\"))))))","v":""},{"$f":"IF(AN31,\"\",IF($A31<=nbappomp,INDEX('Analyse Préliminaire Pompe'!AP$13:AP$47,$A31),IF($A31<=nbappomp+nbapven,INDEX('Analyse Préliminaire Ventilateu'!AN$13:AN$44,$A31-nbappomp),IF($A31<=nbappomp+nbapven+nbapair,EcoAPpercCP,IF(A31<=nbappomp+nbapven+nbapair+nbaautre,INDEX('Analyse Préliminaire Autres'!$E$11:$E$42,A31-nbappomp-nbapven-nbapair),IF($A31<=nbappomp+nbapven+nbapair+nbaautre+nbafroid,INDEX('AP Groupe froid'!$AO$14:$AO$17,$A31-nbappomp-nbapven-nbapair-nbaautre),\"\"))))))","v":""},{"$f":"IF(AN31,\"\",IF($A31<=nbappomp,INDEX('Analyse Préliminaire Pompe'!AQ$13:AQ$47,$A31),IF($A31<=nbappomp+nbapven,INDEX('Analyse Préliminaire Ventilateu'!AO$13:AO$44,$A31-nbappomp),IF($A31<=nbappomp+nbapven+nbapair,consoanncp,IF(A31<=nbappomp+nbapven+nbapair+nbaautre,INDEX('Analyse Préliminaire Autres'!$E$11:$E$42,A31-nbappomp-nbapven-nbapair),IF($A31<=nbappomp+nbapven+nbapair+nbaautre+nbafroid,INDEX('AP Groupe froid'!$AP$14:$AP$17,$A31-nbappomp-nbapven-nbapair-nbaautre),\"\"))))))","v":""},{"$f":"IF(R31=\"\",-1,IF(AND($L31>'Economies classées'!$B$2,$K31>0.2,YEAR(TODAY())-$Z31>8),2,IF(AND($L31>'Economies classées'!$B$3,YEAR(TODAY())-$Z31>5),1,0)))","v":-1},null,null,"",{"$f":"IF($A31<=nbappomp,ISBLANK(INDEX('Analyse Préliminaire Pompe'!AO$13:AO$47,$A31)),IF($A31<=nbappomp+nbapven,ISBLANK(INDEX('Analyse Préliminaire Ventilateu'!AM$13:AM$44,$A31-nbappomp)),IF($A31<=nbappomp+nbapven+nbapair,ISBLANK(EcoAPkWhCP),IF(A31<=nbappomp+nbapven+nbapair+nbaautre,ISBLANK(INDEX('Analyse Préliminaire Autres'!AC$11:AC$42,A31-nbappomp-nbapven-nbapair)),IF(A31<=nbappomp+nbapven+nbapair+nbaautre+nbafroid,ISBLANK(INDEX('AP Groupe froid'!$AN$14:$AN$17,A31-nbappomp-nbapven-nbapair-nbaautre)),FALSE)))))","v":false},{"$f":"IF(E31=Listes!$H$25,1,0)","v":0},{"$f":"IF(E31=Listes!$H$26,1,0)","v":0},0,0,{"$f":"IF(E31=Listes!$H$28,1,0)","v":0},null,0,0,0,0,0,null,0,0,0,0,0,null,"","","","","",null,-1,-1,-1,-1,null,null,{"$f":"IF(E31=Listes!$H$25,1,0)","v":0},{"$f":"IF(E31=Listes!$H$26,1,0)","v":0},0,0,0,0,0,null,0,0,"",{"$error":"#VALUE!"},0,0,0,null,null,null,"",""]
[8,"",null,{"$f":"IF(A32<=nbappomp,INDEX('Analyse Préliminaire Pompe'!$B$13:$B$47,A32),IF(A32<=nbappomp+nbapven,INDEX('Analyse Préliminaire Ventilateu'!$B$13:$B$44,A32-nbappomp),IF(A32<=nbappomp+nbapven+nbapair,301,IF(A32<=nbappomp+nbapven+nbapair+nbaautre,INDEX('Analyse Préliminaire Autres'!$B$11:$B$42,A32-nbappomp-nbapven-nbapair),IF(A32<=nbappomp+nbapven+nbapair+nbaautre+nbafroid,INDEX('AP Groupe froid'!$B$14:$B$17,A32-nbappomp-nbapven-nbapair-nbaautre),\"\")))))","v":""},{"$f":"IF(A32<=nbappomp,INDEX('Analyse Préliminaire Pompe'!$C$13:$C$47,A32),IF(A32<=nbappomp+nbapven,INDEX('Analyse Préliminaire Ventilateu'!$C$13:$C$44,A32-nbappomp),IF(A32<=nbappomp+nbapven+nbapair,$AJ$4,IF(A32<=nbappomp+nbapven+nbapair+nbaautre,INDEX('Analyse Préliminaire Autres'!$C$11:$C$42,A32-nbappomp-nbapven-nbapair),IF(A32<=nbappomp+nbapven+nbapair+nbaautre+nbafroid,INDEX('AP Groupe froid'!$C$14:$C$17,A32-nbappomp-nbapven-nbapair-nbaautre),\"\")))))","v":""},null,null,{"$f":"IF(A32<=nbappomp,INDEX('Analyse Préliminaire Pompe'!$H$13:$H$47,A32),IF(A32<=nbappomp+nbapven,INDEX('Analyse Préliminaire Ventilateu'!$H$13:$H$44,A32-nbappomp),IF(A32<=nbappomp+nbapven+nbapair,$AJ$4,IF(A32<=nbappomp+nbapven+nbapair+nbaautre,INDEX('Analyse Préliminaire Autres'!$H$11:$H$42,A32-nbappomp-nbapven-nbapair),IF(A32<=nbappomp+nbapven+nbapair+nbaautre+nbafroid,INDEX('AP Groupe froid'!$I$14:$I$17,A32-nbappomp-nbapven-nbapair-nbaautre),\"\")))))","v":""},null,null,{"$f":"IF(AH32=\"\",IF($A32<=nbappomp,INDEX('Analyse Préliminaire Pompe'!AE$13:AE$47,$A32),IF($A32<=nbappomp+nbapven,INDEX('Analyse Préliminaire Ventilateu'!AC$13:AC$44,$A32-nbappomp),IF($A32<=nbappomp+nbapven+nbapair,'Analyse Préliminaire air compr'!$AI$22,IF(A32<=nbappomp+nbapven+nbapair+nbaautre,INDEX('Analyse Préliminaire Autres'!$X$11:$X$42,A32-nbappomp-nbapven-nbapair),IF(A32<=nbappomp+nbapven+nbapair+nbaautre+nbafroid,INDEX('AP Groupe froid'!$AF$14:$AF$17,A32-nbappomp-nbapven-nbapair-nbaautre),\"\"))))),AH32)","v":""},{"$f":"IF(AG32=\"\",IF($A32<=nbappomp,INDEX('Analyse Préliminaire Pompe'!AD$13:AD$47,$A32),IF($A32<=nbappomp+nbapven,INDEX('Analyse Préliminaire Ventilateu'!AB$13:AB$44,$A32-nbappomp),IF($A32<=nbappomp+nbapven+nbapair,'Analyse Préliminaire air compr'!$AH$22,IF(A32<=nbappomp+nbapven+nbapair+nbaautre,INDEX('Analyse Préliminaire Autres'!$W$11:$W$42,A32-nbappomp-nbapven-nbapair),IF(A32<=nbappomp+nbapven+nbapair+nbaautre+nbafroid,INDEX('AP Groupe froid'!$AE$14:$AE$17,A32-nbappomp-nbapven-nbapair-nbaautre),\"\"))))),AG32)","v":""},null,"",null,"",null,{"$f":"IF(AI32=\"\",IF($A32<=nbappomp,INDEX('Analyse Préliminaire Pompe'!T$13:T$47,$A32),IF($A32<=nbappomp+nbapven,INDEX('Analyse Préliminaire Ventilateu'!R$13:R$44,$A32-nbappomp),IF($A32<=nbappomp+nbapven+nbapair,'Analyse Préliminaire air compr'!$AH$13,IF(A32<=nbappomp+nbapven+nbapair+nbaautre,INDEX('Analyse Préliminaire Autres'!$P$11:$P$42,A32-nbappomp-nbapven-nbapair),IF(A32<=nbappomp+nbapven+nbapair+nbaautre+nbafroid,INDEX('AP Groupe froid'!$AD$14:$AD$17,A32-nbappomp-nbapven-nbapair-nbaautre),\"\"))))),AI32)","v":""},null,{"$f":"IF($A32<=nbappomp,INDEX('Analyse Préliminaire Pompe'!X$13:X$47,$A32),IF($A32<=nbappomp+nbapven,INDEX('Analyse Préliminaire Ventilateu'!V$13:V$44,$A32-nbappomp),IF($A32<=nbappomp+nbapven+nbapair,'Analyse Préliminaire air compr'!$E$35,IF(A32<=nbappomp+nbapven+nbapair+nbaautre,INDEX('Analyse Préliminaire Autres'!$R$11:$R$42,A32-nbappomp-nbapven-nbapair),IF(A32<=nbappomp+nbapven+nbapair+nbaautre+nbafroid,INDEX('AP Groupe froid'!$Z$14:$Z$17,A32-nbappomp-nbapven-nbapair-nbaautre),\"\")))))","v":""},null,null,{"$f":"IF(AG32=\"\",IF($A32<=nbappomp,INDEX('Analyse Préliminaire Pompe'!AN$13:AN$47,$A32),IF($A32<=nbappomp+nbapven,INDEX('Analyse Préliminaire Ventilateu'!AL$13:AL$44,$A32-nbappomp),IF($A32<=nbappomp+nbapven+nbapair,'Analyse Préliminaire air compr'!$AM$16,IF(A32<=nbappomp+nbapven+nbapair+nbaautre,INDEX('Analyse Préliminaire Autres'!$AB$11:$AB$42,A32-nbappomp-nbapven-nbapair),IF(A32<=nbappomp+nbapven+nbapair+nbaautre+nbafroid,INDEX('AP Groupe froid'!$AM$14:$AM$17,A32-nbappomp-nbapven-nbapair-nbaautre),\"\"))))),'Economies classées'!$A$47)","v":""},{"$f":"IF($A32<=nbappomp,INDEX('Analyse Préliminaire Pompe'!E$13:E$47,$A32),IF($A32<=nbappomp+nbapven,INDEX('Analyse Préliminaire Ventilateu'!E$13:E$44,$A32-nbappomp),IF($A32<=nbappomp+nbapven+nbapair,\"voir detail\",IF(A32<=nbappomp+nbapven+nbapair+nbaautre,INDEX('Analyse Préliminaire Autres'!$E$11:$E$42,A32-nbappomp-nbapven-nbapair),IF(A32<=nbappomp+nbapven+nbapair+nbaautre+nbafroid,INDEX('AP Groupe froid'!$F$14:$F$17,A32-nbappomp-nbapven-nbapair-nbaautre),\"\")))))","v":""},{"$f":"IF($A32<=nbappomp,INDEX('Analyse Préliminaire Pompe'!K$13:K$47,$A32),IF($A32<=nbappomp+nbapven,INDEX('Analyse Préliminaire Ventilateu'!K$13:K$44,$A32-nbappomp),IF($A32<=nbappomp+nbapven+nbapair,SUM('Analyse Préliminaire air compr'!$I$26:$I$32),IF(A32<=nbappomp+nbapven+nbapair+nbaautre,INDEX('Analyse Préliminaire Autres'!$K$11:$K$42,A32-nbappomp-nbapven-nbapair),IF(A32<=nbappomp+nbapven+nbapair+nbaautre+nbafroid,INDEX('AP Groupe froid'!$O$14:$O$17,A32-nbappomp-nbapven-nbapair-nbaautre),\"\")))))","v":""},{"$f":"IF($A32<=nbappomp,INDEX('Analyse Préliminaire Pompe'!L$13:L$47,$A32),IF($A32<=nbappomp+nbapven,INDEX('Analyse Préliminaire Ventilateu'!L$13:L$44,$A32-nbappomp),IF($A32<=nbappomp+nbapven+nbapair,MIN('Analyse Préliminaire air compr'!$J$26:$J$32),IF(A32<=nbappomp+nbapven+nbapair+nbaautre,INDEX('Analyse Préliminaire Autres'!$L$11:$L$42,A32-nbappomp-nbapven-nbapair),IF($A32<=nbappomp+nbapven+nbapair,'Analyse Préliminaire air compr'!$AM$16,IF(A32<=nbappomp+nbapven+nbapair+nbaautre+nbafroid,INDEX('AP Groupe froid'!$L$14:$L$17,A32-nbappomp-nbapven-nbapair-nbaautre),\"\"))))))","v":""},{"$f":"IF($A32<=nbappomp,INDEX('Analyse Préliminaire Pompe'!M$13:M$47,$A32),IF($A32<=nbappomp+nbapven,INDEX('Analyse Préliminaire Ventilateu'!M$13:M$44,$A32-nbappomp),IF($A32<=nbappomp+nbapven+nbapair,\"\",IF(A32<=nbappomp+nbapven+nbapair+nbaautre,INDEX('Analyse Préliminaire Autres'!$M$11:$M$42,A32-nbappomp-nbapven-nbapair),IF($A32<=nbappomp+nbapven+nbapair,'Analyse Préliminaire air compr'!$AM$16,IF(A32<=nbappomp+nbapven+nbapair+nbaautre+nbafroid,INDEX('AP Groupe froid'!$M$14:$M$17,A32-nbappomp-nbapven-nbapair-nbaautre),\"\"))))))","v":""},{"$f":"IF($A32<=nbappomp,INDEX('Analyse Préliminaire Pompe'!N$13:N$47,$A32),IF($A32<=nbappomp+nbapven,INDEX('Analyse Préliminaire Ventilateu'!N$13:N$44,$A32-nbappomp),IF($A32<=nbappomp+nbapven+nbapair,\"\",IF(A32<=nbappomp+nbapven+nbapair+nbaautre,INDEX('Analyse Préliminaire Autres'!$N$11:$N$42,A32-nbappomp-nbapven-nbapair),\"\"))))","v":""},{"$f":"IF($A32<=nbappomp,INDEX('Analyse Préliminaire Pompe'!O$13:O$47,$A32),IF($A32<=nbappomp+nbapven,INDEX('Analyse Préliminaire Ventilateu'!O$13:O$44,$A32-nbappomp),IF($A32<=nbappomp+nbapven+nbapair,\"\",IF(A32<=nbappomp+nbapven+nbapair+nbaautre,INDEX('Analyse Préliminaire Autres'!$O$11:$O$42,A32-nbappomp-nbapven-nbapair),\"\"))))","v":""},{"$f":"IF($A32<=nbappomp,INDEX('Analyse Préliminaire Pompe'!P$13:P$47,$A32),IF($A32<=nbappomp+nbapven,INDEX('Analyse Préliminaire Ventilateu'!P$13:P$44,$A32-nbappomp),IF($A32<=nbappomp+nbapven+nbapair,\"\",IF(A32<=nbappomp+nbapven+nbapair+nbaautre,INDEX('Analyse Préliminaire Autres'!#REF!,A32-nbappomp-nbapven-nbapair),\"\"))))","v":""},{"$f":"IF($A32<=nbappomp,INDEX('Analyse Préliminaire Pompe'!Q$13:Q$47,$A32),IF($A32<=nbappomp+nbapven,\"\",IF($A32<=nbappomp+nbapven+nbapair,\"\",\"\")))","v":""},{"$f":"IF(AI32=\"\",IF($A32<=nbappomp,INDEX('Analyse Préliminaire Pompe'!S$13:S$47,$A32),IF($A32<=nbappomp+nbapven,INDEX('Analyse Préliminaire Ventilateu'!Q$13:Q$44,$A32-nbappomp),IF($A32<=nbappomp+nbapven+nbapair,\"\",IF(A32<=nbappomp+nbapven+nbapair+nbaautre,\"\",\"\")))),AI32)","v":""},{"$f":"IF(AN32,\"\",IF($A32<=nbappomp,INDEX('Analyse Préliminaire Pompe'!AO$13:AO$47,$A32),IF($A32<=nbappomp+nbapven,INDEX('Analyse Préliminaire Ventilateu'!AM$13:AM$44,$A32-nbappomp),IF($A32<=nbappomp+nbapven+nbapair,EcoAPkWhCP,IF(A32<=nbappomp+nbapven+nbapair+nbaautre,INDEX('Analyse Préliminaire Autres'!$E$11:$E$42,A32-nbappomp-nbapven-nbapair),IF($A32<=nbappomp+nbapven+nbapair+nbaautre+nbafroid,INDEX('AP Groupe froid'!$AN$14:$AN$17,$A32-nbappomp-nbapven-nbapair-nbaautre),\"\"))))))","v":""},{"$f":"IF(AN32,\"\",IF($A32<=nbappomp,INDEX('Analyse Préliminaire Pompe'!AP$13:AP$47,$A32),IF($A32<=nbappomp+nbapven,INDEX('Analyse Préliminaire Ventilateu'!AN$13:AN$44,$A32-nbappomp),IF($A32<=nbappomp+nbapven+nbapair,EcoAPpercCP,IF(A32<=nbappomp+nbapven+nbapair+nbaautre,INDEX('Analyse Préliminaire Autres'!$E$11:$E$42,A32-nbappomp-nbapven-nbapair),IF($A32<=nbappomp+nbapven+nbapair+nbaautre+nbafroid,INDEX('AP Groupe froid'!$AO$14:$AO$17,$A32-nbappomp-nbapven-nbapair-nbaautre),\"\"))))))","v":""},{"$f":"IF(AN32,\"\",IF($A32<=nbappomp,INDEX('Analyse Préliminaire Pompe'!AQ$13:AQ$47,$A32),IF($A32<=nbappomp+nbapven,INDEX('Analyse Préliminaire Ventilateu'!AO$13:AO$44,$A32-nbappomp),IF($A32<=nbappomp+nbapven+nbapair,consoanncp,IF(A32<=nbappomp+nbapven+nbapair+nbaautre,INDEX('Analyse Préliminaire Autres'!$E$11:$E$42,A32-nbappomp-nbapven-nbapair),IF($A32<=nbappomp+nbapven+nbapair+nbaautre+nbafroid,INDEX('AP Groupe froid'!$AP$14:$AP$17,$A32-nbappomp-nbapven-nbapair-nbaautre),\"\"))))))","v":""},{"$f":"IF(R32=\"\",-1,IF(AND($L32>'Economies classées'!$B$2,$K32>0.2,YEAR(TODAY())-$Z32>8),2,IF(AND($L32>'Economies classées'!$B$3,YEAR(TODAY())-$Z32>5),1,0)))","v":-1},null,null,"",{"$f":"IF($A32<=nbappomp,ISBLANK(INDEX('Analyse Préliminaire Pompe'!AO$13:AO$47,$A32)),IF($A32<=nbappomp+nbapven,ISBLANK(INDEX('Analyse Préliminaire Ventilateu'!AM$13:AM$44,$A32-nbappomp)),IF($A32<=nbappomp+nbapven+nbapair,ISBLANK(EcoAPkWhCP),IF(A32<=nbappomp+nbapven+nbapair+nbaautre,ISBLANK(INDEX('Analyse Préliminaire Autres'!AC$11:AC$42,A32-nbappomp-nbapven-nbapair)),IF(A32<=nbappomp+nbapven+nbapair+nbaautre+nbafroid,ISBLANK(INDEX('AP Groupe froid'!$AN$14:$AN$17,A32-nbappomp-nbapven-nbapair-nbaautre)),FALSE)))))","v":false},{"$f":"IF(E32=Listes!$H$25,1,0)","v":0},{"$f":"IF(E32=Listes!$H$26,1,0)","v":0},0,0,{"$f":"IF(E32=Listes!$H$28,1,0)","v":0},null,0,0,0,0,0,null,0,0,0,0,0,null,"","","","","",null,-1,-1,-1,-1,null,null,{"$f":"IF(E32=Listes!$H$25,1,0)","v":0},{"$f":"IF(E32=Listes!$H$26,1,0)","v":0},0,0,0,0,0,null,0,0,null,{"$error":"#VALUE!"},0,0,0,null,null,null,"",""]
[9,"",null,{"$f":"IF(A33<=nbappomp,INDEX('Analyse Préliminaire Pompe'!$B$13:$B$47,A33),IF(A33<=nbappomp+nbapven,INDEX('Analyse Préliminaire Ventilateu'!$B$13:$B$44,A33-nbappomp),IF(A33<=nbappomp+nbapven+nbapair,301,IF(A33<=nbappomp+nbapven+nbapair+nbaautre,INDEX('Analyse Préliminaire Autres'!$B$11:$B$42,A33-nbappomp-nbapven-nbapair),IF(A33<=nbappomp+nbapven+nbapair+nbaautre+nbafroid,INDEX('AP Groupe froid'!$B$14:$B$17,A33-nbappomp-nbapven-nbapair-nbaautre),\"\")))))","v":""},{"$f":"IF(A33<=nbappomp,INDEX('Analyse Préliminaire Pompe'!$C$13:$C$47,A33),IF(A33<=nbappomp+nbapven,INDEX('Analyse Préliminaire Ventilateu'!$C$13:$C$44,A33-nbappomp),IF(A33<=nbappomp+nbapven+nbapair,$AJ$4,IF(A33<=nbappomp+nbapven+nbapair+nbaautre,INDEX('Analyse Préliminaire Autres'!$C$11:$C$42,A33-nbappomp-nbapven-nbapair),IF(A33<=nbappomp+nbapven+nbapair+nbaautre+nbafroid,INDEX('AP Groupe froid'!$C$14:$C$17,A33-nbappomp-nbapven-nbapair-nbaautre),\"\")))))","v":""},null,null,{"$f":"IF(A33<=nbappomp,INDEX('Analyse Préliminaire Pompe'!$H$13:$H$47,A33),IF(A33<=nbappomp+nbapven,INDEX('Analyse Préliminaire Ventilateu'!$H$13:$H$44,A33-nbappomp),IF(A33<=nbappomp+nbapven+nbapair,$AJ$4,IF(A33<=nbappomp+nbapven+nbapair+nbaautre,INDEX('Analyse Préliminaire Autres'!$H$11:$H$42,A33-nbappomp-nbapven-nbapair),IF(A33<=nbappomp+nbapven+nbapair+nbaautre+nbafroid,INDEX('AP Groupe froid'!$I$14:$I$17,A33-nbappomp-nbapven-nbapair-nbaautre),\"\")))))","v":""},null,null,{"$f":"IF(AH33=\"\",IF($A33<=nbappomp,INDEX('Analyse Préliminaire Pompe'!AE$13:AE$47,$A33),IF($A33<=nbappomp+nbapven,INDEX('Analyse Préliminaire Ventilateu'!AC$13:AC$44,$A33-nbappomp),IF($A33<=nbappomp+nbapven+nbapair,'Analyse Préliminaire air compr'!$AI$22,IF(A33<=nbappomp+nbapven+nbapair+nbaautre,INDEX('Analyse Préliminaire Autres'!$X$11:$X$42,A33-nbappomp-nbapven-nbapair),IF(A33<=nbappomp+nbapven+nbapair+nbaautre+nbafroid,INDEX('AP Groupe froid'!$AF$14:$AF$17,A33-nbappomp-nbapven-nbapair-nbaautre),\"\"))))),AH33)","v":""},{"$f":"IF(AG33=\"\",IF($A33<=nbappomp,INDEX('Analyse Préliminaire Pompe'!AD$13:AD$47,$A33),IF($A33<=nbappomp+nbapven,INDEX('Analyse Préliminaire Ventilateu'!AB$13:AB$44,$A33-nbappomp),IF($A33<=nbappomp+nbapven+nbapair,'Analyse Préliminaire air compr'!$AH$22,IF(A33<=nbappomp+nbapven+nbapair+nbaautre,INDEX('Analyse Préliminaire Autres'!$W$11:$W$42,A33-nbappomp-nbapven-nbapair),IF(A33<=nbappomp+nbapven+nbapair+nbaautre+nbafroid,INDEX('AP Groupe froid'!$AE$14:$AE$17,A33-nbappomp-nbapven-nbapair-nbaautre),\"\"))))),AG33)","v":""},null,"",null,"",null,{"$f":"IF(AI33=\"\",IF($A33<=nbappomp,INDEX('Analyse Préliminaire Pompe'!T$13:T$47,$A33),IF($A33<=nbappomp+nbapven,INDEX('Analyse Préliminaire Ventilateu'!R$13:R$44,$A33-nbappomp),IF($A33<=nbappomp+nbapven+nbapair,'Analyse Préliminaire air compr'!$AH$13,IF(A33<=nbappomp+nbapven+nbapair+nbaautre,INDEX('Analyse Préliminaire Autres'!$P$11:$P$42,A33-nbappomp-nbapven-nbapair),IF(A33<=nbappomp+nbapven+nbapair+nbaautre+nbafroid,INDEX('AP Groupe froid'!$AD$14:$AD$17,A33-nbappomp-nbapven-nbapair-nbaautre),\"\"))))),AI33)","v":""},null,{"$f":"IF($A33<=nbappomp,INDEX('Analyse Préliminaire Pompe'!X$13:X$47,$A33),IF($A33<=nbappomp+nbapven,INDEX('Analyse Préliminaire Ventilateu'!V$13:V$44,$A33-nbappomp),IF($A33<=nbappomp+nbapven+nbapair,'Analyse Préliminaire air compr'!$E$35,IF(A33<=nbappomp+nbapven+nbapair+nbaautre,INDEX('Analyse Préliminaire Autres'!$R$11:$R$42,A33-nbappomp-nbapven-nbapair),IF(A33<=nbappomp+nbapven+nbapair+nbaautre+nbafroid,INDEX('AP Groupe froid'!$Z$14:$Z$17,A33-nbappomp-nbapven-nbapair-nbaautre),\"\")))))","v":""},null,null,{"$f":"IF(AG33=\"\",IF($A33<=nbappomp,INDEX('Analyse Préliminaire Pompe'!AN$13:AN$47,$A33),IF($A33<=nbappomp+nbapven,INDEX('Analyse Préliminaire Ventilateu'!AL$13:AL$44,$A33-nbappomp),IF($A33<=nbappomp+nbapven+nbapair,'Analyse Préliminaire air compr'!$AM$16,IF(A33<=nbappomp+nbapven+nbapair+nbaautre,INDEX('Analyse Préliminaire Autres'!$AB$11:$AB$42,A33-nbappomp-nbapven-nbapair),IF(A33<=nbappomp+nbapven+nbapair+nbaautre+nbafroid,INDEX('AP Groupe froid'!$AM$14:$AM$17,A33-nbappomp-nbapven-nbapair-nbaautre),\"\"))))),'Economies classées'!$A$47)","v":""},{"$f":"IF($A33<=nbappomp,INDEX('Analyse Préliminaire Pompe'!E$13:E$47,$A33),IF($A33<=nbappomp+nbapven,INDEX('Analyse Préliminaire Ventilateu'!E$13:E$44,$A33-nbappomp),IF($A33<=nbappomp+nbapven+nbapair,\"voir detail\",IF(A33<=nbappomp+nbapven+nbapair+nbaautre,INDEX('Analyse Préliminaire Autres'!$E$11:$E$42,A33-nbappomp-nbapven-nbapair),IF(A33<=nbappomp+nbapven+nbapair+nbaautre+nbafroid,INDEX('AP Groupe froid'!$F$14:$F$17,A33-nbappomp-nbapven-nbapair-nbaautre),\"\")))))","v":""},{"$f":"IF($A33<=nbappomp,INDEX('Analyse Préliminaire Pompe'!K$13:K$47,$A33),IF($A33<=nbappomp+nbapven,INDEX('Analyse Préliminaire Ventilateu'!K$13:K$44,$A33-nbappomp),IF($A33<=nbappomp+nbapven+nbapair,SUM('Analyse Préliminaire air compr'!$I$26:$I$32),IF(A33<=nbappomp+nbapven+nbapair+nbaautre,INDEX('Analyse Préliminaire Autres'!$K$11:$K$42,A33-nbappomp-nbapven-nbapair),IF(A33<=nbappomp+nbapven+nbapair+nbaautre+nbafroid,INDEX('AP Groupe froid'!$O$14:$O$17,A33-nbappomp-nbapven-nbapair-nbaautre),\"\")))))","v":""},{"$f":"IF($A33<=nbappomp,INDEX('Analyse Préliminaire Pompe'!L$13:L$47,$A33),IF($A33<=nbappomp+nbapven,INDEX('Analyse Préliminaire Ventilateu'!L$13:L$44,$A33-nbappomp),IF($A33<=nbappomp+nbapven+nbapair,MIN('Analyse Préliminaire air compr'!$J$26:$J$32),IF(A33<=nbappomp+nbapven+nbapair+nbaautre,INDEX('Analyse Préliminaire Autres'!$L$11:$L$42,A33-nbappomp-nbapven-nbapair),IF($A33<=nbappomp+nbapven+nbapair,'Analyse Préliminaire air compr'!$AM$16,IF(A33<=nbappomp+nbapven+nbapair+nbaautre+nbafroid,INDEX('AP Groupe froid'!$L$14:$L$17,A33-nbappomp-nbapven-nbapair-nbaautre),\"\"))))))","v":""},{"$f":"IF($A33<=nbappomp,INDEX('Analyse Préliminaire Pompe'!M$13:M$47,$A33),IF($A33<=nbappomp+nbapven,INDEX('Analyse Préliminaire Ventilateu'!M$13:M$44,$A33-nbappomp),IF($A33<=nbappomp+nbapven+nbapair,\"\",IF(A33<=nbappomp+nbapven+nbapair+nbaautre,INDEX('Analyse Préliminaire Autres'!$M$11:$M$42,A33-nbappomp-nbapven-nbapair),IF($A33<=nbappomp+nbapven+nbapair,'Analyse Préliminaire air compr'!$AM$16,IF(A33<=nbappomp+nbapven+nbapair+nbaautre+nbafroid,INDEX('AP Groupe froid'!$M$14:$M$17,A33-nbappomp-nbapven-nbapair-nbaautre),\"\"))))))","v":""},{"$f":"IF($A33<=nbappomp,INDEX('Analyse Préliminaire Pompe'!N$13:N$47,$A33),IF($A33<=nbappomp+nbapven,INDEX('Analyse Préliminaire Ventilateu'!N$13:N$44,$A33-nbappomp),IF($A33<=nbappomp+nbapven+nbapair,\"\",IF(A33<=nbappomp+nbapven+nbapair+nbaautre,INDEX('Analyse Préliminaire Autres'!$N$11:$N$42,A33-nbappomp-nbapven-nbapair),\"\"))))","v":""},{"$f":"IF($A33<=nbappomp,INDEX('Analyse Préliminaire Pompe'!O$13:O$47,$A33),IF($A33<=nbappomp+nbapven,INDEX('Analyse Préliminaire Ventilateu'!O$13:O$44,$A33-nbappomp),IF($A33<=nbappomp+nbapven+nbapair,\"\",IF(A33<=nbappomp+nbapven+nbapair+nbaautre,INDEX('Analyse Préliminaire Autres'!$O$11:$O$42,A33-nbappomp-nbapven-nbapair),\"\"))))","v":""},{"$f":"IF($A33<=nbappomp,INDEX('Analyse Préliminaire Pompe'!P$13:P$47,$A33),IF($A33<=nbappomp+nbapven,INDEX('Analyse Préliminaire Ventilateu'!P$13:P$44,$A33-nbappomp),IF($A33<=nbappomp+nbapven+nbapair,\"\",IF(A33<=nbappomp+nbapven+nbapair+nbaautre,INDEX('Analyse Préliminaire Autres'!#REF!,A33-nbappomp-nbapven-nbapair),\"\"))))","v":""},{"$f":"IF($A33<=nbappomp,INDEX('Analyse Préliminaire Pompe'!Q$13:Q$47,$A33),IF($A33<=nbappomp+nbapven,\"\",IF($A33<=nbappomp+nbapven+nbapair,\"\",\"\")))","v":""},{"$f":"IF(AI33=\"\",IF($A33<=nbappomp,INDEX('Analyse Préliminaire Pompe'!S$13:S$47,$A33),IF($A33<=nbappomp+nbapven,INDEX('Analyse Préliminaire Ventilateu'!Q$13:Q$44,$A33-nbappomp),IF($A33<=nbappomp+nbapven+nbapair,\"\",IF(A33<=nbappomp+nbapven+nbapair+nbaautre,\"\",\"\")))),AI33)","v":""},{"$f":"IF(AN33,\"\",IF($A33<=nbappomp,INDEX('Analyse Préliminaire Pompe'!AO$13:AO$47,$A33),IF($A33<=nbappomp+nbapven,INDEX('Analyse Préliminaire Ventilateu'!AM$13:AM$44,$A33-nbappomp),IF($A33<=nbappomp+nbapven+nbapair,EcoAPkWhCP,IF(A33<=nbappomp+nbapven+nbapair+nbaautre,INDEX('Analyse Préliminaire Autres'!$E$11:$E$42,A33-nbappomp-nbapven-nbapair),IF($A33<=nbappomp+nbapven+nbapair+nbaautre+nbafroid,INDEX('AP Groupe froid'!$AN$14:$AN$17,$A33-nbappomp-nbapven-nbapair-nbaautre),\"\"))))))","v":""},{"$f":"IF(AN33,\"\",IF($A33<=nbappomp,INDEX('Analyse Préliminaire Pompe'!AP$13:AP$47,$A33),IF($A33<=nbappomp+nbapven,INDEX('Analyse Préliminaire Ventilateu'!AN$13:AN$44,$A33-nbappomp),IF($A33<=nbappomp+nbapven+nbapair,EcoAPpercCP,IF(A33<=nbappomp+nbapven+nbapair+nbaautre,INDEX('Analyse Préliminaire Autres'!$E$11:$E$42,A33-nbappomp-nbapven-nbapair),IF($A33<=nbappomp+nbapven+nbapair+nbaautre+nbafroid,INDEX('AP Groupe froid'!$AO$14:$AO$17,$A33-nbappomp-nbapven-nbapair-nbaautre),\"\"))))))","v":""},{"$f":"IF(AN33,\"\",IF($A33<=nbappomp,INDEX('Analyse Préliminaire Pompe'!AQ$13:AQ$47,$A33),IF($A33<=nbappomp+nbapven,INDEX('Analyse Préliminaire Ventilateu'!AO$13:AO$44,$A33-nbappomp),IF($A33<=nbappomp+nbapven+nbapair,consoanncp,IF(A33<=nbappomp+nbapven+nbapair+nbaautre,INDEX('Analyse Préliminaire Autres'!$E$11:$E$42,A33-nbappomp-nbapven-nbapair),IF($A33<=nbappomp+nbapven+nbapair+nbaautre+nbafroid,INDEX('AP Groupe froid'!$AP$14:$AP$17,$A33-nbappomp-nbapven-nbapair-nbaautre),\"\"))))))","v":""},{"$f":"IF(R33=\"\",-1,IF(AND($L33>'Economies classées'!$B$2,$K33>0.2,YEAR(TODAY())-$Z33>8),2,IF(AND($L33>'Economies classées'!$B$3,YEAR(TODAY())-$Z33>5),1,0)))","v":-1},null,null,"",{"$f":"IF($A33<=nbappomp,ISBLANK(INDEX('Analyse Préliminaire Pompe'!AO$13:AO$47,$A33)),IF($A33<=nbappomp+nbapven,ISBLANK(INDEX('Analyse Préliminaire Ventilateu'!AM$13:AM$44,$A33-nbappomp)),IF($A33<=nbappomp+nbapven+nbapair,ISBLANK(EcoAPkWhCP),IF(A33<=nbappomp+nbapven+nbapair+nbaautre,ISBLANK(INDEX('Analyse Préliminaire Autres'!AC$11:AC$42,A33-nbappomp-nbapven-nbapair)),IF(A33<=nbappomp+nbapven+nbapair+nbaautre+nbafroid,ISBLANK(INDEX('AP Groupe froid'!$AN$14:$AN$17,A33-nbappomp-nbapven-nbapair-nbaautre)),FALSE)))))","v":false},{"$f":"IF(E33=Listes!$H$25,1,0)","v":0},{"$f":"IF(E33=Listes!$H$26,1,0)","v":0},0,0,{"$f":"IF(E33=Listes!$H$28,1,0)","v":0},null,0,0,0,0,0,null,0,0,0,0,0,null,"","","","","",null,-1,-1,-1,-1,null,null,{"$f":"IF(E33=Listes!$H$25,1,0)","v":0},{"$f":"IF(E33=Listes!$H$26,1,0)","v":0},0,0,0,0,0,null,0,0,null,{"$error":"#VALUE!"},0,0,0,null,null,null,"",""]
[10,"",null,{"$f":"IF(A34<=nbappomp,INDEX('Analyse Préliminaire Pompe'!$B$13:$B$47,A34),IF(A34<=nbappomp+nbapven,INDEX('Analyse Préliminaire Ventilateu'!$B$13:$B$44,A34-nbappomp),IF(A34<=nbappomp+nbapven+nbapair,301,IF(A34<=nbappomp+nbapven+nbapair+nbaautre,INDEX('Analyse Préliminaire Autres'!$B$11:$B$42,A34-nbappomp-nbapven-nbapair),IF(A34<=nbappomp+nbapven+nbapair+nbaautre+nbafroid,INDEX('AP Groupe froid'!$B$14:$B$17,A34-nbappomp-nbapven-nbapair-nbaautre),\"\")))))","v":""},{"$f":"IF(A34<=nbappomp,INDEX('Analyse Préliminaire Pompe'!$C$13:$C$47,A34),IF(A34<=nbappomp+nbapven,INDEX('Analyse Préliminaire Ventilateu'!$C$13:$C$44,A34-nbappomp),IF(A34<=nbappomp+nbapven+nbapair,$AJ$4,IF(A34<=nbappomp+nbapven+nbapair+nbaautre,INDEX('Analyse Préliminaire Autres'!$C$11:$C$42,A34-nbappomp-nbapven-nbapair),IF(A34<=nbappomp+nbapven+nbapair+nbaautre+nbafroid,INDEX('AP Groupe froid'!$C$14:$C$17,A34-nbappomp-nbapven-nbapair-nbaautre),\"\")))))","v":""},null,null,{"$f":"IF(A34<=nbappomp,INDEX('Analyse Préliminaire Pompe'!$H$13:$H$47,A34),IF(A34<=nbappomp+nbapven,INDEX('Analyse Préliminaire Ventilateu'!$H$13:$H$44,A34-nbappomp),IF(A34<=nbappomp+nbapven+nbapair,$AJ$4,IF(A34<=nbappomp+nbapven+nbapair+nbaautre,INDEX('Analyse Préliminaire Autres'!$H$11:$H$42,A34-nbappomp-nbapven-nbapair),IF(A34<=nbappomp+nbapven+nbapair+nbaautre+nbafroid,INDEX('AP Groupe froid'!$I$14:$I$17,A34-nbappomp-nbapven-nbapair-nbaautre),\"\")))))","v":""},null,null,{"$f":"IF(AH34=\"\",IF($A34<=nbappomp,INDEX('Analyse Préliminaire Pompe'!AE$13:AE$47,$A34),IF($A34<=nbappomp+nbapven,INDEX('Analyse Préliminaire Ventilateu'!AC$13:AC$44,$A34-nbappomp),IF($A34<=nbappomp+nbapven+nbapair,'Analyse Préliminaire air compr'!$AI$22,IF(A34<=nbappomp+nbapven+nbapair+nbaautre,INDEX('Analyse Préliminaire Autres'!$X$11:$X$42,A34-nbappomp-nbapven-nbapair),IF(A34<=nbappomp+nbapven+nbapair+nbaautre+nbafroid,INDEX('AP Groupe froid'!$AF$14:$AF$17,A34-nbappomp-nbapven-nbapair-nbaautre),\"\"))))),AH34)","v":""},{"$f":"IF(AG34=\"\",IF($A34<=nbappomp,INDEX('Analyse Préliminaire Pompe'!AD$13:AD$47,$A34),IF($A34<=nbappomp+nbapven,INDEX('Analyse Préliminaire Ventilateu'!AB$13:AB$44,$A34-nbappomp),IF($A34<=nbappomp+nbapven+nbapair,'Analyse Préliminaire air compr'!$AH$22,IF(A34<=nbappomp+nbapven+nbapair+nbaautre,INDEX('Analyse Préliminaire Autres'!$W$11:$W$42,A34-nbappomp-nbapven-nbapair),IF(A34<=nbappomp+nbapven+nbapair+nbaautre+nbafroid,INDEX('AP Groupe froid'!$AE$14:$AE$17,A34-nbappomp-nbapven-nbapair-nbaautre),\"\"))))),AG34)","v":""},null,"",null,"",null,{"$f":"IF(AI34=\"\",IF($A34<=nbappomp,INDEX('Analyse Préliminaire Pompe'!T$13:T$47,$A34),IF($A34<=nbappomp+nbapven,INDEX('Analyse Préliminaire Ventilateu'!R$13:R$44,$A34-nbappomp),IF($A34<=nbappomp+nbapven+nbapair,'Analyse Préliminaire air compr'!$AH$13,IF(A34<=nbappomp+nbapven+nbapair+nbaautre,INDEX('Analyse Préliminaire Autres'!$P$11:$P$42,A34-nbappomp-nbapven-nbapair),IF(A34<=nbappomp+nbapven+nbapair+nbaautre+nbafroid,INDEX('AP Groupe froid'!$AD$14:$AD$17,A34-nbappomp-nbapven-nbapair-nbaautre),\"\"))))),AI34)","v":""},null,{"$f":"IF($A34<=nbappomp,INDEX('Analyse Préliminaire Pompe'!X$13:X$47,$A34),IF($A34<=nbappomp+nbapven,INDEX('Analyse Préliminaire Ventilateu'!V$13:V$44,$A34-nbappomp),IF($A34<=nbappomp+nbapven+nbapair,'Analyse Préliminaire air compr'!$E$35,IF(A34<=nbappomp+nbapven+nbapair+nbaautre,INDEX('Analyse Préliminaire Autres'!$R$11:$R$42,A34-nbappomp-nbapven-nbapair),IF(A34<=nbappomp+nbapven+nbapair+nbaautre+nbafroid,INDEX('AP Groupe froid'!$Z$14:$Z$17,A34-nbappomp-nbapven-nbapair-nbaautre),\"\")))))","v":""},null,null,{"$f":"IF(AG34=\"\",IF($A34<=nbappomp,INDEX('Analyse Préliminaire Pompe'!AN$13:AN$47,$A34),IF($A34<=nbappomp+nbapven,INDEX('Analyse Préliminaire Ventilateu'!AL$13:AL$44,$A34-nbappomp),IF($A34<=nbappomp+nbapven+nbapair,'Analyse Préliminaire air compr'!$AM$16,IF(A34<=nbappomp+nbapven+nbapair+nbaautre,INDEX('Analyse Préliminaire Autres'!$AB$11:$AB$42,A34-nbappomp-nbapven-nbapair),IF(A34<=nbappomp+nbapven+nbapair+nbaautre+nbafroid,INDEX('AP Groupe froid'!$AM$14:$AM$17,A34-nbappomp-nbapven-nbapair-nbaautre),\"\"))))),'Economies classées'!$A$47)","v":""},{"$f":"IF($A34<=nbappomp,INDEX('Analyse Préliminaire Pompe'!E$13:E$47,$A34),IF($A34<=nbappomp+nbapven,INDEX('Analyse Préliminaire Ventilateu'!E$13:E$44,$A34-nbappomp),IF($A34<=nbappomp+nbapven+nbapair,\"voir detail\",IF(A34<=nbappomp+nbapven+nbapair+nbaautre,INDEX('Analyse Préliminaire Autres'!$E$11:$E$42,A34-nbappomp-nbapven-nbapair),IF(A34<=nbappomp+nbapven+nbapair+nbaautre+nbafroid,INDEX('AP Groupe froid'!$F$14:$F$17,A34-nbappomp-nbapven-nbapair-nbaautre),\"\")))))","v":""},{"$f":"IF($A34<=nbappomp,INDEX('Analyse Préliminaire Pompe'!K$13:K$47,$A34),IF($A34<=nbappomp+nbapven,INDEX('Analyse Préliminaire Ventilateu'!K$13:K$44,$A34-nbappomp),IF($A34<=nbappomp+nbapven+nbapair,SUM('Analyse Préliminaire air compr'!$I$26:$I$32),IF(A34<=nbappomp+nbapven+nbapair+nbaautre,INDEX('Analyse Préliminaire Autres'!$K$11:$K$42,A34-nbappomp-nbapven-nbapair),IF(A34<=nbappomp+nbapven+nbapair+nbaautre+nbafroid,INDEX('AP Groupe froid'!$O$14:$O$17,A34-nbappomp-nbapven-nbapair-nbaautre),\"\")))))","v":""},{"$f":"IF($A34<=nbappomp,INDEX('Analyse Préliminaire Pompe'!L$13:L$47,$A34),IF($A34<=nbappomp+nbapven,INDEX('Analyse Préliminaire Ventilateu'!L$13:L$44,$A34-nbappomp),IF($A34<=nbappomp+nbapven+nbapair,MIN('Analyse Préliminaire air compr'!$J$26:$J$32),IF(A34<=nbappomp+nbapven+nbapair+nbaautre,INDEX('Analyse Préliminaire Autres'!$L$11:$L$42,A34-nbappomp-nbapven-nbapair),IF($A34<=nbappomp+nbapven+nbapair,'Analyse Préliminaire air compr'!$AM$16,IF(A34<=nbappomp+nbapven+nbapair+nbaautre+nbafroid,INDEX('AP Groupe froid'!$L$14:$L$17,A34-nbappomp-nbapven-nbapair-nbaautre),\"\"))))))","v":""},{"$f":"IF($A34<=nbappomp,INDEX('Analyse Préliminaire Pompe'!M$13:M$47,$A34),IF($A34<=nbappomp+nbapven,INDEX('Analyse Préliminaire Ventilateu'!M$13:M$44,$A34-nbappomp),IF($A34<=nbappomp+nbapven+nbapair,\"\",IF(A34<=nbappomp+nbapven+nbapair+nbaautre,INDEX('Analyse Préliminaire Autres'!$M$11:$M$42,A34-nbappomp-nbapven-nbapair),IF($A34<=nbappomp+nbapven+nbapair,'Analyse Préliminaire air compr'!$AM$16,IF(A34<=nbappomp+nbapven+nbapair+nbaautre+nbafroid,INDEX('AP Groupe froid'!$M$14:$M$17,A34-nbappomp-nbapven-nbapair-nbaautre),\"\"))))))","v":""},{"$f":"IF($A34<=nbappomp,INDEX('Analyse Préliminaire Pompe'!N$13:N$47,$A34),IF($A34<=nbappomp+nbapven,INDEX('Analyse Préliminaire Ventilateu'!N$13:N$44,$A34-nbappomp),IF($A34<=nbappomp+nbapven+nbapair,\"\",IF(A34<=nbappomp+nbapven+nbapair+nbaautre,INDEX('Analyse Préliminaire Autres'!$N$11:$N$42,A34-nbappomp-nbapven-nbapair),\"\"))))","v":""},{"$f":"IF($A34<=nbappomp,INDEX('Analyse Préliminaire Pompe'!O$13:O$47,$A34),IF($A34<=nbappomp+nbapven,INDEX('Analyse Préliminaire Ventilateu'!O$13:O$44,$A34-nbappomp),IF($A34<=nbappomp+nbapven+nbapair,\"\",IF(A34<=nbappomp+nbapven+nbapair+nbaautre,INDEX('Analyse Préliminaire Autres'!$O$11:$O$42,A34-nbappomp-nbapven-nbapair),\"\"))))","v":""},{"$f":"IF($A34<=nbappomp,INDEX('Analyse Préliminaire Pompe'!P$13:P$47,$A34),IF($A34<=nbappomp+nbapven,INDEX('Analyse Préliminaire Ventilateu'!P$13:P$44,$A34-nbappomp),IF($A34<=nbappomp+nbapven+nbapair,\"\",IF(A34<=nbappomp+nbapven+nbapair+nbaautre,INDEX('Analyse Préliminaire Autres'!#REF!,A34-nbappomp-nbapven-nbapair),\"\"))))","v":""},{"$f":"IF($A34<=nbappomp,INDEX('Analyse Préliminaire Pompe'!Q$13:Q$47,$A34),IF($A34<=nbappomp+nbapven,\"\",IF($A34<=nbappomp+nbapven+nbapair,\"\",\"\")))","v":""},{"$f":"IF(AI34=\"\",IF($A34<=nbappomp,INDEX('Analyse Préliminaire Pompe'!S$13:S$47,$A34),IF($A34<=nbappomp+nbapven,INDEX('Analyse Préliminaire Ventilateu'!Q$13:Q$44,$A34-nbappomp),IF($A34<=nbappomp+nbapven+nbapair,\"\",IF(A34<=nbappomp+nbapven+nbapair+nbaautre,\"\",\"\")))),AI34)","v":""},{"$f":"IF(AN34,\"\",IF($A34<=nbappomp,INDEX('Analyse Préliminaire Pompe'!AO$13:AO$47,$A34),IF($A34<=nbappomp+nbapven,INDEX('Analyse Préliminaire Ventilateu'!AM$13:AM$44,$A34-nbappomp),IF($A34<=nbappomp+nbapven+nbapair,EcoAPkWhCP,IF(A34<=nbappomp+nbapven+nbapair+nbaautre,INDEX('Analyse Préliminaire Autres'!$E$11:$E$42,A34-nbappomp-nbapven-nbapair),IF($A34<=nbappomp+nbapven+nbapair+nbaautre+nbafroid,INDEX('AP Groupe froid'!$AN$14:$AN$17,$A34-nbappomp-nbapven-nbapair-nbaautre),\"\"))))))","v":""},{"$f":"IF(AN34,\"\",IF($A34<=nbappomp,INDEX('Analyse Préliminaire Pompe'!AP$13:AP$47,$A34),IF($A34<=nbappomp+nbapven,INDEX('Analyse Préliminaire Ventilateu'!AN$13:AN$44,$A34-nbappomp),IF($A34<=nbappomp+nbapven+nbapair,EcoAPpercCP,IF(A34<=nbappomp+nbapven+nbapair+nbaautre,INDEX('Analyse Préliminaire Autres'!$E$11:$E$42,A34-nbappomp-nbapven-nbapair),IF($A34<=nbappomp+nbapven+nbapair+nbaautre+nbafroid,INDEX('AP Groupe froid'!$AO$14:$AO$17,$A34-nbappomp-nbapven-nbapair-nbaautre),\"\"))))))","v":""},{"$f":"IF(AN34,\"\",IF($A34<=nbappomp,INDEX('Analyse Préliminaire Pompe'!AQ$13:AQ$47,$A34),IF($A34<=nbappomp+nbapven,INDEX('Analyse Préliminaire Ventilateu'!AO$13:AO$44,$A34-nbappomp),IF($A34<=nbappomp+nbapven+nbapair,consoanncp,IF(A34<=nbappomp+nbapven+nbapair+nbaautre,INDEX('Analyse Préliminaire Autres'!$E$11:$E$42,A34-nbappomp-nbapven-nbapair),IF($A34<=nbappomp+nbapven+nbapair+nbaautre+nbafroid,INDEX('AP Groupe froid'!$AP$14:$AP$17,$A34-nbappomp-nbapven-nbapair-nbaautre),\"\"))))))","v":""},{"$f":"IF(R34=\"\",-1,IF(AND($L34>'Economies classées'!$B$2,$K34>0.2,YEAR(TODAY())-$Z34>8),2,IF(AND($L34>'Economies classées'!$B$3,YEAR(TODAY())-$Z34>5),1,0)))","v":-1},null,null,"",{"$f":"IF($A34<=nbappomp,ISBLANK(INDEX('Analyse Préliminaire Pompe'!AO$13:AO$47,$A34)),IF($A34<=nbappomp+nbapven,ISBLANK(INDEX('Analyse Préliminaire Ventilateu'!AM$13:AM$44,$A34-nbappomp)),IF($A34<=nbappomp+nbapven+nbapair,ISBLANK(EcoAPkWhCP),IF(A34<=nbappomp+nbapven+nbapair+nbaautre,ISBLANK(INDEX('Analyse Préliminaire Autres'!AC$11:AC$42,A34-nbappomp-nbapven-nbapair)),IF(A34<=nbappomp+nbapven+nbapair+nbaautre+nbafroid,ISBLANK(INDEX('AP Groupe froid'!$AN$14:$AN$17,A34-nbappomp-nbapven-nbapair-nbaautre)),FALSE)))))","v":false},{"$f":"IF(E34=Listes!$H$25,1,0)","v":0},{"$f":"IF(E34=Listes!$H$26,1,0)","v":0},0,0,{"$f":"IF(E34=Listes!$H$28,1,0)","v":0},null,0,0,0,0,0,null,0,0,0,0,0,null,"","","","","",null,-1,-1,-1,-1,null,null,{"$f":"IF(E34=Listes!$H$25,1,0)","v":0},{"$f":"IF(E34=Listes!$H$26,1,0)","v":0},0,0,0,0,0,null,0,0,null,{"$error":"#VALUE!"},0,0,0,null,null,null,"",""]
[11,"",null,{"$f":"IF(A35<=nbappomp,INDEX('Analyse Préliminaire Pompe'!$B$13:$B$47,A35),IF(A35<=nbappomp+nbapven,INDEX('Analyse Préliminaire Ventilateu'!$B$13:$B$44,A35-nbappomp),IF(A35<=nbappomp+nbapven+nbapair,301,IF(A35<=nbappomp+nbapven+nbapair+nbaautre,INDEX('Analyse Préliminaire Autres'!$B$11:$B$42,A35-nbappomp-nbapven-nbapair),IF(A35<=nbappomp+nbapven+nbapair+nbaautre+nbafroid,INDEX('AP Groupe froid'!$B$14:$B$17,A35-nbappomp-nbapven-nbapair-nbaautre),\"\")))))","v":""},{"$f":"IF(A35<=nbappomp,INDEX('Analyse Préliminaire Pompe'!$C$13:$C$47,A35),IF(A35<=nbappomp+nbapven,INDEX('Analyse Préliminaire Ventilateu'!$C$13:$C$44,A35-nbappomp),IF(A35<=nbappomp+nbapven+nbapair,$AJ$4,IF(A35<=nbappomp+nbapven+nbapair+nbaautre,INDEX('Analyse Préliminaire Autres'!$C$11:$C$42,A35-nbappomp-nbapven-nbapair),IF(A35<=nbappomp+nbapven+nbapair+nbaautre+nbafroid,INDEX('AP Groupe froid'!$C$14:$C$17,A35-nbappomp-nbapven-nbapair-nbaautre),\"\")))))","v":""},null,null,{"$f":"IF(A35<=nbappomp,INDEX('Analyse Préliminaire Pompe'!$H$13:$H$47,A35),IF(A35<=nbappomp+nbapven,INDEX('Analyse Préliminaire Ventilateu'!$H$13:$H$44,A35-nbappomp),IF(A35<=nbappomp+nbapven+nbapair,$AJ$4,IF(A35<=nbappomp+nbapven+nbapair+nbaautre,INDEX('Analyse Préliminaire Autres'!$H$11:$H$42,A35-nbappomp-nbapven-nbapair),IF(A35<=nbappomp+nbapven+nbapair+nbaautre+nbafroid,INDEX('AP Groupe froid'!$I$14:$I$17,A35-nbappomp-nbapven-nbapair-nbaautre),\"\")))))","v":""},null,null,{"$f":"IF(AH35=\"\",IF($A35<=nbappomp,INDEX('Analyse Préliminaire Pompe'!AE$13:AE$47,$A35),IF($A35<=nbappomp+nbapven,INDEX('Analyse Préliminaire Ventilateu'!AC$13:AC$44,$A35-nbappomp),IF($A35<=nbappomp+nbapven+nbapair,'Analyse Préliminaire air compr'!$AI$22,IF(A35<=nbappomp+nbapven+nbapair+nbaautre,INDEX('Analyse Préliminaire Autres'!$X$11:$X$42,A35-nbappomp-nbapven-nbapair),IF(A35<=nbappomp+nbapven+nbapair+nbaautre+nbafroid,INDEX('AP Groupe froid'!$AF$14:$AF$17,A35-nbappomp-nbapven-nbapair-nbaautre),\"\"))))),AH35)","v":""},{"$f":"IF(AG35=\"\",IF($A35<=nbappomp,INDEX('Analyse Préliminaire Pompe'!AD$13:AD$47,$A35),IF($A35<=nbappomp+nbapven,INDEX('Analyse Préliminaire Ventilateu'!AB$13:AB$44,$A35-nbappomp),IF($A35<=nbappomp+nbapven+nbapair,'Analyse Préliminaire air compr'!$AH$22,IF(A35<=nbappomp+nbapven+nbapair+nbaautre,INDEX('Analyse Préliminaire Autres'!$W$11:$W$42,A35-nbappomp-nbapven-nbapair),IF(A35<=nbappomp+nbapven+nbapair+nbaautre+nbafroid,INDEX('AP Groupe froid'!$AE$14:$AE$17,A35-nbappomp-nbapven-nbapair-nbaautre),\"\"))))),AG35)","v":""},null,"",null,"",null,{"$f":"IF(AI35=\"\",IF($A35<=nbappomp,INDEX('Analyse Préliminaire Pompe'!T$13:T$47,$A35),IF($A35<=nbappomp+nbapven,INDEX('Analyse Préliminaire Ventilateu'!R$13:R$44,$A35-nbappomp),IF($A35<=nbappomp+nbapven+nbapair,'Analyse Préliminaire air compr'!$AH$13,IF(A35<=nbappomp+nbapven+nbapair+nbaautre,INDEX('Analyse Préliminaire Autres'!$P$11:$P$42,A35-nbappomp-nbapven-nbapair),IF(A35<=nbappomp+nbapven+nbapair+nbaautre+nbafroid,INDEX('AP Groupe froid'!$AD$14:$AD$17,A35-nbappomp-nbapven-nbapair-nbaautre),\"\"))))),AI35)","v":""},null,{"$f":"IF($A35<=nbappomp,INDEX('Analyse Préliminaire Pompe'!X$13:X$47,$A35),IF($A35<=nbappomp+nbapven,INDEX('Analyse Préliminaire Ventilateu'!V$13:V$44,$A35-nbappomp),IF($A35<=nbappomp+nbapven+nbapair,'Analyse Préliminaire air compr'!$E$35,IF(A35<=nbappomp+nbapven+nbapair+nbaautre,INDEX('Analyse Préliminaire Autres'!$R$11:$R$42,A35-nbappomp-nbapven-nbapair),IF(A35<=nbappomp+nbapven+nbapair+nbaautre+nbafroid,INDEX('AP Groupe froid'!$Z$14:$Z$17,A35-nbappomp-nbapven-nbapair-nbaautre),\"\")))))","v":""},null,null,{"$f":"IF(AG35=\"\",IF($A35<=nbappomp,INDEX('Analyse Préliminaire Pompe'!AN$13:AN$47,$A35),IF($A35<=nbappomp+nbapven,INDEX('Analyse Préliminaire Ventilateu'!AL$13:AL$44,$A35-nbappomp),IF($A35<=nbappomp+nbapven+nbapair,'Analyse Préliminaire air compr'!$AM$16,IF(A35<=nbappomp+nbapven+nbapair+nbaautre,INDEX('Analyse Préliminaire Autres'!$AB$11:$AB$42,A35-nbappomp-nbapven-nbapair),IF(A35<=nbappomp+nbapven+nbapair+nbaautre+nbafroid,INDEX('AP Groupe froid'!$AM$14:$AM$17,A35-nbappomp-nbapven-nbapair-nbaautre),\"\"))))),'Economies classées'!$A$47)","v":""},{"$f":"IF($A35<=nbappomp,INDEX('Analyse Préliminaire Pompe'!E$13:E$47,$A35),IF($A35<=nbappomp+nbapven,INDEX('Analyse Préliminaire Ventilateu'!E$13:E$44,$A35-nbappomp),IF($A35<=nbappomp+nbapven+nbapair,\"voir detail\",IF(A35<=nbappomp+nbapven+nbapair+nbaautre,INDEX('Analyse Préliminaire Autres'!$E$11:$E$42,A35-nbappomp-nbapven-nbapair),IF(A35<=nbappomp+nbapven+nbapair+nbaautre+nbafroid,INDEX('AP Groupe froid'!$F$14:$F$17,A35-nbappomp-nbapven-nbapair-nbaautre),\"\")))))","v":""},{"$f":"IF($A35<=nbappomp,INDEX('Analyse Préliminaire Pompe'!K$13:K$47,$A35),IF($A35<=nbappomp+nbapven,INDEX('Analyse Préliminaire Ventilateu'!K$13:K$44,$A35-nbappomp),IF($A35<=nbappomp+nbapven+nbapair,SUM('Analyse Préliminaire air compr'!$I$26:$I$32),IF(A35<=nbappomp+nbapven+nbapair+nbaautre,INDEX('Analyse Préliminaire Autres'!$K$11:$K$42,A35-nbappomp-nbapven-nbapair),IF(A35<=nbappomp+nbapven+nbapair+nbaautre+nbafroid,INDEX('AP Groupe froid'!$O$14:$O$17,A35-nbappomp-nbapven-nbapair-nbaautre),\"\")))))","v":""},{"$f":"IF($A35<=nbappomp,INDEX('Analyse Préliminaire Pompe'!L$13:L$47,$A35),IF($A35<=nbappomp+nbapven,INDEX('Analyse Préliminaire Ventilateu'!L$13:L$44,$A35-nbappomp),IF($A35<=nbappomp+nbapven+nbapair,MIN('Analyse Préliminaire air compr'!$J$26:$J$32),IF(A35<=nbappomp+nbapven+nbapair+nbaautre,INDEX('Analyse Préliminaire Autres'!$L$11:$L$42,A35-nbappomp-nbapven-nbapair),IF($A35<=nbappomp+nbapven+nbapair,'Analyse Préliminaire air compr'!$AM$16,IF(A35<=nbappomp+nbapven+nbapair+nbaautre+nbafroid,INDEX('AP Groupe froid'!$L$14:$L$17,A35-nbappomp-nbapven-nbapair-nbaautre),\"\"))))))","v":""},{"$f":"IF($A35<=nbappomp,INDEX('Analyse Préliminaire Pompe'!M$13:M$47,$A35),IF($A35<=nbappomp+nbapven,INDEX('Analyse Préliminaire Ventilateu'!M$13:M$44,$A35-nbappomp),IF($A35<=nbappomp+nbapven+nbapair,\"\",IF(A35<=nbappomp+nbapven+nbapair+nbaautre,INDEX('Analyse Préliminaire Autres'!$M$11:$M$42,A35-nbappomp-nbapven-nbapair),IF($A35<=nbappomp+nbapven+nbapair,'Analyse Préliminaire air compr'!$AM$16,IF(A35<=nbappomp+nbapven+nbapair+nbaautre+nbafroid,INDEX('AP Groupe froid'!$M$14:$M$17,A35-nbappomp-nbapven-nbapair-nbaautre),\"\"))))))","v":""},{"$f":"IF($A35<=nbappomp,INDEX('Analyse Préliminaire Pompe'!N$13:N$47,$A35),IF($A35<=nbappomp+nbapven,INDEX('Analyse Préliminaire Ventilateu'!N$13:N$44,$A35-nbappomp),IF($A35<=nbappomp+nbapven+nbapair,\"\",IF(A35<=nbappomp+nbapven+nbapair+nbaautre,INDEX('Analyse Préliminaire Autres'!$N$11:$N$42,A35-nbappomp-nbapven-nbapair),\"\"))))","v":""},{"$f":"IF($A35<=nbappomp,INDEX('Analyse Préliminaire Pompe'!O$13:O$47,$A35),IF($A35<=nbappomp+nbapven,INDEX('Analyse Préliminaire Ventilateu'!O$13:O$44,$A35-nbappomp),IF($A35<=nbappomp+nbapven+nbapair,\"\",IF(A35<=nbappomp+nbapven+nbapair+nbaautre,INDEX('Analyse Préliminaire Autres'!$O$11:$O$42,A35-nbappomp-nbapven-nbapair),\"\"))))","v":""},{"$f":"IF($A35<=nbappomp,INDEX('Analyse Préliminaire Pompe'!P$13:P$47,$A35),IF($A35<=nbappomp+nbapven,INDEX('Analyse Préliminaire Ventilateu'!P$13:P$44,$A35-nbappomp),IF($A35<=nbappomp+nbapven+nbapair,\"\",IF(A35<=nbappomp+nbapven+nbapair+nbaautre,INDEX('Analyse Préliminaire Autres'!#REF!,A35-nbappomp-nbapven-nbapair),\"\"))))","v":""},{"$f":"IF($A35<=nbappomp,INDEX('Analyse Préliminaire Pompe'!Q$13:Q$47,$A35),IF($A35<=nbappomp+nbapven,\"\",IF($A35<=nbappomp+nbapven+nbapair,\"\",\"\")))","v":""},{"$f":"IF(AI35=\"\",IF($A35<=nbappomp,INDEX('Analyse Préliminaire Pompe'!S$13:S$47,$A35),IF($A35<=nbappomp+nbapven,INDEX('Analyse Préliminaire Ventilateu'!Q$13:Q$44,$A35-nbappomp),IF($A35<=nbappomp+nbapven+nbapair,\"\",IF(A35<=nbappomp+nbapven+nbapair+nbaautre,\"\",\"\")))),AI35)","v":""},{"$f":"IF(AN35,\"\",IF($A35<=nbappomp,INDEX('Analyse Préliminaire Pompe'!AO$13:AO$47,$A35),IF($A35<=nbappomp+nbapven,INDEX('Analyse Préliminaire Ventilateu'!AM$13:AM$44,$A35-nbappomp),IF($A35<=nbappomp+nbapven+nbapair,EcoAPkWhCP,IF(A35<=nbappomp+nbapven+nbapair+nbaautre,INDEX('Analyse Préliminaire Autres'!$E$11:$E$42,A35-nbappomp-nbapven-nbapair),IF($A35<=nbappomp+nbapven+nbapair+nbaautre+nbafroid,INDEX('AP Groupe froid'!$AN$14:$AN$17,$A35-nbappomp-nbapven-nbapair-nbaautre),\"\"))))))","v":""},{"$f":"IF(AN35,\"\",IF($A35<=nbappomp,INDEX('Analyse Préliminaire Pompe'!AP$13:AP$47,$A35),IF($A35<=nbappomp+nbapven,INDEX('Analyse Préliminaire Ventilateu'!AN$13:AN$44,$A35-nbappomp),IF($A35<=nbappomp+nbapven+nbapair,EcoAPpercCP,IF(A35<=nbappomp+nbapven+nbapair+nbaautre,INDEX('Analyse Préliminaire Autres'!$E$11:$E$42,A35-nbappomp-nbapven-nbapair),IF($A35<=nbappomp+nbapven+nbapair+nbaautre+nbafroid,INDEX('AP Groupe froid'!$AO$14:$AO$17,$A35-nbappomp-nbapven-nbapair-nbaautre),\"\"))))))","v":""},{"$f":"IF(AN35,\"\",IF($A35<=nbappomp,INDEX('Analyse Préliminaire Pompe'!AQ$13:AQ$47,$A35),IF($A35<=nbappomp+nbapven,INDEX('Analyse Préliminaire Ventilateu'!AO$13:AO$44,$A35-nbappomp),IF($A35<=nbappomp+nbapven+nbapair,consoanncp,IF(A35<=nbappomp+nbapven+nbapair+nbaautre,INDEX('Analyse Préliminaire Autres'!$E$11:$E$42,A35-nbappomp-nbapven-nbapair),IF($A35<=nbappomp+nbapven+nbapair+nbaautre+nbafroid,INDEX('AP Groupe froid'!$AP$14:$AP$17,$A35-nbappomp-nbapven-nbapair-nbaautre),\"\"))))))","v":""},{"$f":"IF(R35=\"\",-1,IF(AND($L35>'Economies classées'!$B$2,$K35>0.2,YEAR(TODAY())-$Z35>8),2,IF(AND($L35>'Economies classées'!$B$3,YEAR(TODAY())-$Z35>5),1,0)))","v":-1},null,null,"",{"$f":"IF($A35<=nbappomp,ISBLANK(INDEX('Analyse Préliminaire Pompe'!AO$13:AO$47,$A35)),IF($A35<=nbappomp+nbapven,ISBLANK(INDEX('Analyse Préliminaire Ventilateu'!AM$13:AM$44,$A35-nbappomp)),IF($A35<=nbappomp+nbapven+nbapair,ISBLANK(EcoAPkWhCP),IF(A35<=nbappomp+nbapven+nbapair+nbaautre,ISBLANK(INDEX('Analyse Préliminaire Autres'!AC$11:AC$42,A35-nbappomp-nbapven-nbapair)),IF(A35<=nbappomp+nbapven+nbapair+nbaautre+nbafroid,ISBLANK(INDEX('AP Groupe froid'!$AN$14:$AN$17,A35-nbappomp-nbapven-nbapair-nbaautre)),FALSE)))))","v":false},{"$f":"IF(E35=Listes!$H$25,1,0)","v":0},{"$f":"IF(E35=Listes!$H$26,1,0)","v":0},0,0,{"$f":"IF(E35=Listes!$H$28,1,0)","v":0},null,0,0,0,0,0,null,0,0,0,0,0,null,"","","","","",null,-1,-1,-1,-1,null,null,{"$f":"IF(E35=Listes!$H$25,1,0)","v":0},{"$f":"IF(E35=Listes!$H$26,1,0)","v":0},0,0,0,0,0,null,0,0,null,{"$error":"#VALUE!"},0,0,0,null,null,null,"",""]
[12,"",null,{"$f":"IF(A36<=nbappomp,INDEX('Analyse Préliminaire Pompe'!$B$13:$B$47,A36),IF(A36<=nbappomp+nbapven,INDEX('Analyse Préliminaire Ventilateu'!$B$13:$B$44,A36-nbappomp),IF(A36<=nbappomp+nbapven+nbapair,301,IF(A36<=nbappomp+nbapven+nbapair+nbaautre,INDEX('Analyse Préliminaire Autres'!$B$11:$B$42,A36-nbappomp-nbapven-nbapair),IF(A36<=nbappomp+nbapven+nbapair+nbaautre+nbafroid,INDEX('AP Groupe froid'!$B$14:$B$17,A36-nbappomp-nbapven-nbapair-nbaautre),\"\")))))","v":""},{"$f":"IF(A36<=nbappomp,INDEX('Analyse Préliminaire Pompe'!$C$13:$C$47,A36),IF(A36<=nbappomp+nbapven,INDEX('Analyse Préliminaire Ventilateu'!$C$13:$C$44,A36-nbappomp),IF(A36<=nbappomp+nbapven+nbapair,$AJ$4,IF(A36<=nbappomp+nbapven+nbapair+nbaautre,INDEX('Analyse Préliminaire Autres'!$C$11:$C$42,A36-nbappomp-nbapven-nbapair),IF(A36<=nbappomp+nbapven+nbapair+nbaautre+nbafroid,INDEX('AP Groupe froid'!$C$14:$C$17,A36-nbappomp-nbapven-nbapair-nbaautre),\"\")))))","v":""},null,null,{"$f":"IF(A36<=nbappomp,INDEX('Analyse Préliminaire Pompe'!$H$13:$H$47,A36),IF(A36<=nbappomp+nbapven,INDEX('Analyse Préliminaire Ventilateu'!$H$13:$H$44,A36-nbappomp),IF(A36<=nbappomp+nbapven+nbapair,$AJ$4,IF(A36<=nbappomp+nbapven+nbapair+nbaautre,INDEX('Analyse Préliminaire Autres'!$H$11:$H$42,A36-nbappomp-nbapven-nbapair),IF(A36<=nbappomp+nbapven+nbapair+nbaautre+nbafroid,INDEX('AP Groupe froid'!$I$14:$I$17,A36-nbappomp-nbapven-nbapair-nbaautre),\"\")))))","v":""},null,null,{"$f":"IF(AH36=\"\",IF($A36<=nbappomp,INDEX('Analyse Préliminaire Pompe'!AE$13:AE$47,$A36),IF($A36<=nbappomp+nbapven,INDEX('Analyse Préliminaire Ventilateu'!AC$13:AC$44,$A36-nbappomp),IF($A36<=nbappomp+nbapven+nbapair,'Analyse Préliminaire air compr'!$AI$22,IF(A36<=nbappomp+nbapven+nbapair+nbaautre,INDEX('Analyse Préliminaire Autres'!$X$11:$X$42,A36-nbappomp-nbapven-nbapair),IF(A36<=nbappomp+nbapven+nbapair+nbaautre+nbafroid,INDEX('AP Groupe froid'!$AF$14:$AF$17,A36-nbappomp-nbapven-nbapair-nbaautre),\"\"))))),AH36)","v":""},{"$f":"IF(AG36=\"\",IF($A36<=nbappomp,INDEX('Analyse Préliminaire Pompe'!AD$13:AD$47,$A36),IF($A36<=nbappomp+nbapven,INDEX('Analyse Préliminaire Ventilateu'!AB$13:AB$44,$A36-nbappomp),IF($A36<=nbappomp+nbapven+nbapair,'Analyse Préliminaire air compr'!$AH$22,IF(A36<=nbappomp+nbapven+nbapair+nbaautre,INDEX('Analyse Préliminaire Autres'!$W$11:$W$42,A36-nbappomp-nbapven-nbapair),IF(A36<=nbappomp+nbapven+nbapair+nbaautre+nbafroid,INDEX('AP Groupe froid'!$AE$14:$AE$17,A36-nbappomp-nbapven-nbapair-nbaautre),\"\"))))),AG36)","v":""},null,"",null,"",null,{"$f":"IF(AI36=\"\",IF($A36<=nbappomp,INDEX('Analyse Préliminaire Pompe'!T$13:T$47,$A36),IF($A36<=nbappomp+nbapven,INDEX('Analyse Préliminaire Ventilateu'!R$13:R$44,$A36-nbappomp),IF($A36<=nbappomp+nbapven+nbapair,'Analyse Préliminaire air compr'!$AH$13,IF(A36<=nbappomp+nbapven+nbapair+nbaautre,INDEX('Analyse Préliminaire Autres'!$P$11:$P$42,A36-nbappomp-nbapven-nbapair),IF(A36<=nbappomp+nbapven+nbapair+nbaautre+nbafroid,INDEX('AP Groupe froid'!$AD$14:$AD$17,A36-nbappomp-nbapven-nbapair-nbaautre),\"\"))))),AI36)","v":""},null,{"$f":"IF($A36<=nbappomp,INDEX('Analyse Préliminaire Pompe'!X$13:X$47,$A36),IF($A36<=nbappomp+nbapven,INDEX('Analyse Préliminaire Ventilateu'!V$13:V$44,$A36-nbappomp),IF($A36<=nbappomp+nbapven+nbapair,'Analyse Préliminaire air compr'!$E$35,IF(A36<=nbappomp+nbapven+nbapair+nbaautre,INDEX('Analyse Préliminaire Autres'!$R$11:$R$42,A36-nbappomp-nbapven-nbapair),IF(A36<=nbappomp+nbapven+nbapair+nbaautre+nbafroid,INDEX('AP Groupe froid'!$Z$14:$Z$17,A36-nbappomp-nbapven-nbapair-nbaautre),\"\")))))","v":""},null,null,{"$f":"IF(AG36=\"\",IF($A36<=nbappomp,INDEX('Analyse Préliminaire Pompe'!AN$13:AN$47,$A36),IF($A36<=nbappomp+nbapven,INDEX('Analyse Préliminaire Ventilateu'!AL$13:AL$44,$A36-nbappomp),IF($A36<=nbappomp+nbapven+nbapair,'Analyse Préliminaire air compr'!$AM$16,IF(A36<=nbappomp+nbapven+nbapair+nbaautre,INDEX('Analyse Préliminaire Autres'!$AB$11:$AB$42,A36-nbappomp-nbapven-nbapair),IF(A36<=nbappomp+nbapven+nbapair+nbaautre+nbafroid,INDEX('AP Groupe froid'!$AM$14:$AM$17,A36-nbappomp-nbapven-nbapair-nbaautre),\"\"))))),'Economies classées'!$A$47)","v":""},{"$f":"IF($A36<=nbappomp,INDEX('Analyse Préliminaire Pompe'!E$13:E$47,$A36),IF($A36<=nbappomp+nbapven,INDEX('Analyse Préliminaire Ventilateu'!E$13:E$44,$A36-nbappomp),IF($A36<=nbappomp+nbapven+nbapair,\"voir detail\",IF(A36<=nbappomp+nbapven+nbapair+nbaautre,INDEX('Analyse Préliminaire Autres'!$E$11:$E$42,A36-nbappomp-nbapven-nbapair),IF(A36<=nbappomp+nbapven+nbapair+nbaautre+nbafroid,INDEX('AP Groupe froid'!$F$14:$F$17,A36-nbappomp-nbapven-nbapair-nbaautre),\"\")))))","v":""},{"$f":"IF($A36<=nbappomp,INDEX('Analyse Préliminaire Pompe'!K$13:K$47,$A36),IF($A36<=nbappomp+nbapven,INDEX('Analyse Préliminaire Ventilateu'!K$13:K$44,$A36-nbappomp),IF($A36<=nbappomp+nbapven+nbapair,SUM('Analyse Préliminaire air compr'!$I$26:$I$32),IF(A36<=nbappomp+nbapven+nbapair+nbaautre,INDEX('Analyse Préliminaire Autres'!$K$11:$K$42,A36-nbappomp-nbapven-nbapair),IF(A36<=nbappomp+nbapven+nbapair+nbaautre+nbafroid,INDEX('AP Groupe froid'!$O$14:$O$17,A36-nbappomp-nbapven-nbapair-nbaautre),\"\")))))","v":""},{"$f":"IF($A36<=nbappomp,INDEX('Analyse Préliminaire Pompe'!L$13:L$47,$A36),IF($A36<=nbappomp+nbapven,INDEX('Analyse Préliminaire Ventilateu'!L$13:L$44,$A36-nbappomp),IF($A36<=nbappomp+nbapven+nbapair,MIN('Analyse Préliminaire air compr'!$J$26:$J$32),IF(A36<=nbappomp+nbapven+nbapair+nbaautre,INDEX('Analyse Préliminaire Autres'!$L$11:$L$42,A36-nbappomp-nbapven-nbapair),IF($A36<=nbappomp+nbapven+nbapair,'Analyse Préliminaire air compr'!$AM$16,IF(A36<=nbappomp+nbapven+nbapair+nbaautre+nbafroid,INDEX('AP Groupe froid'!$L$14:$L$17,A36-nbappomp-nbapven-nbapair-nbaautre),\"\"))))))","v":""},{"$f":"IF($A36<=nbappomp,INDEX('Analyse Préliminaire Pompe'!M$13:M$47,$A36),IF($A36<=nbappomp+nbapven,INDEX('Analyse Préliminaire Ventilateu'!M$13:M$44,$A36-nbappomp),IF($A36<=nbappomp+nbapven+nbapair,\"\",IF(A36<=nbappomp+nbapven+nbapair+nbaautre,INDEX('Analyse Préliminaire Autres'!$M$11:$M$42,A36-nbappomp-nbapven-nbapair),IF($A36<=nbappomp+nbapven+nbapair,'Analyse Préliminaire air compr'!$AM$16,IF(A36<=nbappomp+nbapven+nbapair+nbaautre+nbafroid,INDEX('AP Groupe froid'!$M$14:$M$17,A36-nbappomp-nbapven-nbapair-nbaautre),\"\"))))))","v":""},{"$f":"IF($A36<=nbappomp,INDEX('Analyse Préliminaire Pompe'!N$13:N$47,$A36),IF($A36<=nbappomp+nbapven,INDEX('Analyse Préliminaire Ventilateu'!N$13:N$44,$A36-nbappomp),IF($A36<=nbappomp+nbapven+nbapair,\"\",IF(A36<=nbappomp+nbapven+nbapair+nbaautre,INDEX('Analyse Préliminaire Autres'!$N$11:$N$42,A36-nbappomp-nbapven-nbapair),\"\"))))","v":""},{"$f":"IF($A36<=nbappomp,INDEX('Analyse Préliminaire Pompe'!O$13:O$47,$A36),IF($A36<=nbappomp+nbapven,INDEX('Analyse Préliminaire Ventilateu'!O$13:O$44,$A36-nbappomp),IF($A36<=nbappomp+nbapven+nbapair,\"\",IF(A36<=nbappomp+nbapven+nbapair+nbaautre,INDEX('Analyse Préliminaire Autres'!$O$11:$O$42,A36-nbappomp-nbapven-nbapair),\"\"))))","v":""},{"$f":"IF($A36<=nbappomp,INDEX('Analyse Préliminaire Pompe'!P$13:P$47,$A36),IF($A36<=nbappomp+nbapven,INDEX('Analyse Préliminaire Ventilateu'!P$13:P$44,$A36-nbappomp),IF($A36<=nbappomp+nbapven+nbapair,\"\",IF(A36<=nbappomp+nbapven+nbapair+nbaautre,INDEX('Analyse Préliminaire Autres'!#REF!,A36-nbappomp-nbapven-nbapair),\"\"))))","v":""},{"$f":"IF($A36<=nbappomp,INDEX('Analyse Préliminaire Pompe'!Q$13:Q$47,$A36),IF($A36<=nbappomp+nbapven,\"\",IF($A36<=nbappomp+nbapven+nbapair,\"\",\"\")))","v":""},{"$f":"IF(AI36=\"\",IF($A36<=nbappomp,INDEX('Analyse Préliminaire Pompe'!S$13:S$47,$A36),IF($A36<=nbappomp+nbapven,INDEX('Analyse Préliminaire Ventilateu'!Q$13:Q$44,$A36-nbappomp),IF($A36<=nbappomp+nbapven+nbapair,\"\",IF(A36<=nbappomp+nbapven+nbapair+nbaautre,\"\",\"\")))),AI36)","v":""},{"$f":"IF(AN36,\"\",IF($A36<=nbappomp,INDEX('Analyse Préliminaire Pompe'!AO$13:AO$47,$A36),IF($A36<=nbappomp+nbapven,INDEX('Analyse Préliminaire Ventilateu'!AM$13:AM$44,$A36-nbappomp),IF($A36<=nbappomp+nbapven+nbapair,EcoAPkWhCP,IF(A36<=nbappomp+nbapven+nbapair+nbaautre,INDEX('Analyse Préliminaire Autres'!$E$11:$E$42,A36-nbappomp-nbapven-nbapair),IF($A36<=nbappomp+nbapven+nbapair+nbaautre+nbafroid,INDEX('AP Groupe froid'!$AN$14:$AN$17,$A36-nbappomp-nbapven-nbapair-nbaautre),\"\"))))))","v":""},{"$f":"IF(AN36,\"\",IF($A36<=nbappomp,INDEX('Analyse Préliminaire Pompe'!AP$13:AP$47,$A36),IF($A36<=nbappomp+nbapven,INDEX('Analyse Préliminaire Ventilateu'!AN$13:AN$44,$A36-nbappomp),IF($A36<=nbappomp+nbapven+nbapair,EcoAPpercCP,IF(A36<=nbappomp+nbapven+nbapair+nbaautre,INDEX('Analyse Préliminaire Autres'!$E$11:$E$42,A36-nbappomp-nbapven-nbapair),IF($A36<=nbappomp+nbapven+nbapair+nbaautre+nbafroid,INDEX('AP Groupe froid'!$AO$14:$AO$17,$A36-nbappomp-nbapven-nbapair-nbaautre),\"\"))))))","v":""},{"$f":"IF(AN36,\"\",IF($A36<=nbappomp,INDEX('Analyse Préliminaire Pompe'!AQ$13:AQ$47,$A36),IF($A36<=nbappomp+nbapven,INDEX('Analyse Préliminaire Ventilateu'!AO$13:AO$44,$A36-nbappomp),IF($A36<=nbappomp+nbapven+nbapair,consoanncp,IF(A36<=nbappomp+nbapven+nbapair+nbaautre,INDEX('Analyse Préliminaire Autres'!$E$11:$E$42,A36-nbappomp-nbapven-nbapair),IF($A36<=nbappomp+nbapven+nbapair+nbaautre+nbafroid,INDEX('AP Groupe froid'!$AP$14:$AP$17,$A36-nbappomp-nbapven-nbapair-nbaautre),\"\"))))))","v":""},{"$f":"IF(R36=\"\",-1,IF(AND($L36>'Economies classées'!$B$2,$K36>0.2,YEAR(TODAY())-$Z36>8),2,IF(AND($L36>'Economies classées'!$B$3,YEAR(TODAY())-$Z36>5),1,0)))","v":-1},null,null,"",{"$f":"IF($A36<=nbappomp,ISBLANK(INDEX('Analyse Préliminaire Pompe'!AO$13:AO$47,$A36)),IF($A36<=nbappomp+nbapven,ISBLANK(INDEX('Analyse Préliminaire Ventilateu'!AM$13:AM$44,$A36-nbappomp)),IF($A36<=nbappomp+nbapven+nbapair,ISBLANK(EcoAPkWhCP),IF(A36<=nbappomp+nbapven+nbapair+nbaautre,ISBLANK(INDEX('Analyse Préliminaire Autres'!AC$11:AC$42,A36-nbappomp-nbapven-nbapair)),IF(A36<=nbappomp+nbapven+nbapair+nbaautre+nbafroid,ISBLANK(INDEX('AP Groupe froid'!$AN$14:$AN$17,A36-nbappomp-nbapven-nbapair-nbaautre)),FALSE)))))","v":false},{"$f":"IF(E36=Listes!$H$25,1,0)","v":0},{"$f":"IF(E36=Listes!$H$26,1,0)","v":0},0,0,{"$f":"IF(E36=Listes!$H$28,1,0)","v":0},null,0,0,0,0,0,null,0,0,0,0,0,null,"","","","","",null,-1,-1,-1,-1,null,null,{"$f":"IF(E36=Listes!$H$25,1,0)","v":0},{"$f":"IF(E36=Listes!$H$26,1,0)","v":0},0,0,0,0,0,null,0,0,null,{"$error":"#VALUE!"},0,0,0,null,null,null,"",""]
[13,"",null,{"$f":"IF(A37<=nbappomp,INDEX('Analyse Préliminaire Pompe'!$B$13:$B$47,A37),IF(A37<=nbappomp+nbapven,INDEX('Analyse Préliminaire Ventilateu'!$B$13:$B$44,A37-nbappomp),IF(A37<=nbappomp+nbapven+nbapair,301,IF(A37<=nbappomp+nbapven+nbapair+nbaautre,INDEX('Analyse Préliminaire Autres'!$B$11:$B$42,A37-nbappomp-nbapven-nbapair),IF(A37<=nbappomp+nbapven+nbapair+nbaautre+nbafroid,INDEX('AP Groupe froid'!$B$14:$B$17,A37-nbappomp-nbapven-nbapair-nbaautre),\"\")))))","v":""},{"$f":"IF(A37<=nbappomp,INDEX('Analyse Préliminaire Pompe'!$C$13:$C$47,A37),IF(A37<=nbappomp+nbapven,INDEX('Analyse Préliminaire Ventilateu'!$C$13:$C$44,A37-nbappomp),IF(A37<=nbappomp+nbapven+nbapair,$AJ$4,IF(A37<=nbappomp+nbapven+nbapair+nbaautre,INDEX('Analyse Préliminaire Autres'!$C$11:$C$42,A37-nbappomp-nbapven-nbapair),IF(A37<=nbappomp+nbapven+nbapair+nbaautre+nbafroid,INDEX('AP Groupe froid'!$C$14:$C$17,A37-nbappomp-nbapven-nbapair-nbaautre),\"\")))))","v":""},null,null,{"$f":"IF(A37<=nbappomp,INDEX('Analyse Préliminaire Pompe'!$H$13:$H$47,A37),IF(A37<=nbappomp+nbapven,INDEX('Analyse Préliminaire Ventilateu'!$H$13:$H$44,A37-nbappomp),IF(A37<=nbappomp+nbapven+nbapair,$AJ$4,IF(A37<=nbappomp+nbapven+nbapair+nbaautre,INDEX('Analyse Préliminaire Autres'!$H$11:$H$42,A37-nbappomp-nbapven-nbapair),IF(A37<=nbappomp+nbapven+nbapair+nbaautre+nbafroid,INDEX('AP Groupe froid'!$I$14:$I$17,A37-nbappomp-nbapven-nbapair-nbaautre),\"\")))))","v":""},null,null,{"$f":"IF(AH37=\"\",IF($A37<=nbappomp,INDEX('Analyse Préliminaire Pompe'!AE$13:AE$47,$A37),IF($A37<=nbappomp+nbapven,INDEX('Analyse Préliminaire Ventilateu'!AC$13:AC$44,$A37-nbappomp),IF($A37<=nbappomp+nbapven+nbapair,'Analyse Préliminaire air compr'!$AI$22,IF(A37<=nbappomp+nbapven+nbapair+nbaautre,INDEX('Analyse Préliminaire Autres'!$X$11:$X$42,A37-nbappomp-nbapven-nbapair),IF(A37<=nbappomp+nbapven+nbapair+nbaautre+nbafroid,INDEX('AP Groupe froid'!$AF$14:$AF$17,A37-nbappomp-nbapven-nbapair-nbaautre),\"\"))))),AH37)","v":""},{"$f":"IF(AG37=\"\",IF($A37<=nbappomp,INDEX('Analyse Préliminaire Pompe'!AD$13:AD$47,$A37),IF($A37<=nbappomp+nbapven,INDEX('Analyse Préliminaire Ventilateu'!AB$13:AB$44,$A37-nbappomp),IF($A37<=nbappomp+nbapven+nbapair,'Analyse Préliminaire air compr'!$AH$22,IF(A37<=nbappomp+nbapven+nbapair+nbaautre,INDEX('Analyse Préliminaire Autres'!$W$11:$W$42,A37-nbappomp-nbapven-nbapair),IF(A37<=nbappomp+nbapven+nbapair+nbaautre+nbafroid,INDEX('AP Groupe froid'!$AE$14:$AE$17,A37-nbappomp-nbapven-nbapair-nbaautre),\"\"))))),AG37)","v":""},null,"",null,"",null,{"$f":"IF(AI37=\"\",IF($A37<=nbappomp,INDEX('Analyse Préliminaire Pompe'!T$13:T$47,$A37),IF($A37<=nbappomp+nbapven,INDEX('Analyse Préliminaire Ventilateu'!R$13:R$44,$A37-nbappomp),IF($A37<=nbappomp+nbapven+nbapair,'Analyse Préliminaire air compr'!$AH$13,IF(A37<=nbappomp+nbapven+nbapair+nbaautre,INDEX('Analyse Préliminaire Autres'!$P$11:$P$42,A37-nbappomp-nbapven-nbapair),IF(A37<=nbappomp+nbapven+nbapair+nbaautre+nbafroid,INDEX('AP Groupe froid'!$AD$14:$AD$17,A37-nbappomp-nbapven-nbapair-nbaautre),\"\"))))),AI37)","v":""},null,{"$f":"IF($A37<=nbappomp,INDEX('Analyse Préliminaire Pompe'!X$13:X$47,$A37),IF($A37<=nbappomp+nbapven,INDEX('Analyse Préliminaire Ventilateu'!V$13:V$44,$A37-nbappomp),IF($A37<=nbappomp+nbapven+nbapair,'Analyse Préliminaire air compr'!$E$35,IF(A37<=nbappomp+nbapven+nbapair+nbaautre,INDEX('Analyse Préliminaire Autres'!$R$11:$R$42,A37-nbappomp-nbapven-nbapair),IF(A37<=nbappomp+nbapven+nbapair+nbaautre+nbafroid,INDEX('AP Groupe froid'!$Z$14:$Z$17,A37-nbappomp-nbapven-nbapair-nbaautre),\"\")))))","v":""},null,null,{"$f":"IF(AG37=\"\",IF($A37<=nbappomp,INDEX('Analyse Préliminaire Pompe'!AN$13:AN$47,$A37),IF($A37<=nbappomp+nbapven,INDEX('Analyse Préliminaire Ventilateu'!AL$13:AL$44,$A37-nbappomp),IF($A37<=nbappomp+nbapven+nbapair,'Analyse Préliminaire air compr'!$AM$16,IF(A37<=nbappomp+nbapven+nbapair+nbaautre,INDEX('Analyse Préliminaire Autres'!$AB$11:$AB$42,A37-nbappomp-nbapven-nbapair),IF(A37<=nbappomp+nbapven+nbapair+nbaautre+nbafroid,INDEX('AP Groupe froid'!$AM$14:$AM$17,A37-nbappomp-nbapven-nbapair-nbaautre),\"\"))))),'Economies classées'!$A$47)","v":""},{"$f":"IF($A37<=nbappomp,INDEX('Analyse Préliminaire Pompe'!E$13:E$47,$A37),IF($A37<=nbappomp+nbapven,INDEX('Analyse Préliminaire Ventilateu'!E$13:E$44,$A37-nbappomp),IF($A37<=nbappomp+nbapven+nbapair,\"voir detail\",IF(A37<=nbappomp+nbapven+nbapair+nbaautre,INDEX('Analyse Préliminaire Autres'!$E$11:$E$42,A37-nbappomp-nbapven-nbapair),IF(A37<=nbappomp+nbapven+nbapair+nbaautre+nbafroid,INDEX('AP Groupe froid'!$F$14:$F$17,A37-nbappomp-nbapven-nbapair-nbaautre),\"\")))))","v":""},{"$f":"IF($A37<=nbappomp,INDEX('Analyse Préliminaire Pompe'!K$13:K$47,$A37),IF($A37<=nbappomp+nbapven,INDEX('Analyse Préliminaire Ventilateu'!K$13:K$44,$A37-nbappomp),IF($A37<=nbappomp+nbapven+nbapair,SUM('Analyse Préliminaire air compr'!$I$26:$I$32),IF(A37<=nbappomp+nbapven+nbapair+nbaautre,INDEX('Analyse Préliminaire Autres'!$K$11:$K$42,A37-nbappomp-nbapven-nbapair),IF(A37<=nbappomp+nbapven+nbapair+nbaautre+nbafroid,INDEX('AP Groupe froid'!$O$14:$O$17,A37-nbappomp-nbapven-nbapair-nbaautre),\"\")))))","v":""},{"$f":"IF($A37<=nbappomp,INDEX('Analyse Préliminaire Pompe'!L$13:L$47,$A37),IF($A37<=nbappomp+nbapven,INDEX('Analyse Préliminaire Ventilateu'!L$13:L$44,$A37-nbappomp),IF($A37<=nbappomp+nbapven+nbapair,MIN('Analyse Préliminaire air compr'!$J$26:$J$32),IF(A37<=nbappomp+nbapven+nbapair+nbaautre,INDEX('Analyse Préliminaire Autres'!$L$11:$L$42,A37-nbappomp-nbapven-nbapair),IF($A37<=nbappomp+nbapven+nbapair,'Analyse Préliminaire air compr'!$AM$16,IF(A37<=nbappomp+nbapven+nbapair+nbaautre+nbafroid,INDEX('AP Groupe froid'!$L$14:$L$17,A37-nbappomp-nbapven-nbapair-nbaautre),\"\"))))))","v":""},{"$f":"IF($A37<=nbappomp,INDEX('Analyse Préliminaire Pompe'!M$13:M$47,$A37),IF($A37<=nbappomp+nbapven,INDEX('Analyse Préliminaire Ventilateu'!M$13:M$44,$A37-nbappomp),IF($A37<=nbappomp+nbapven+nbapair,\"\",IF(A37<=nbappomp+nbapven+nbapair+nbaautre,INDEX('Analyse Préliminaire Autres'!$M$11:$M$42,A37-nbappomp-nbapven-nbapair),IF($A37<=nbappomp+nbapven+nbapair,'Analyse Préliminaire air compr'!$AM$16,IF(A37<=nbappomp+nbapven+nbapair+nbaautre+nbafroid,INDEX('AP Groupe froid'!$M$14:$M$17,A37-nbappomp-nbapven-nbapair-nbaautre),\"\"))))))","v":""},{"$f":"IF($A37<=nbappomp,INDEX('Analyse Préliminaire Pompe'!N$13:N$47,$A37),IF($A37<=nbappomp+nbapven,INDEX('Analyse Préliminaire Ventilateu'!N$13:N$44,$A37-nbappomp),IF($A37<=nbappomp+nbapven+nbapair,\"\",IF(A37<=nbappomp+nbapven+nbapair+nbaautre,INDEX('Analyse Préliminaire Autres'!$N$11:$N$42,A37-nbappomp-nbapven-nbapair),\"\"))))","v":""},{"$f":"IF($A37<=nbappomp,INDEX('Analyse Préliminaire Pompe'!O$13:O$47,$A37),IF($A37<=nbappomp+nbapven,INDEX('Analyse Préliminaire Ventilateu'!O$13:O$44,$A37-nbappomp),IF($A37<=nbappomp+nbapven+nbapair,\"\",IF(A37<=nbappomp+nbapven+nbapair+nbaautre,INDEX('Analyse Préliminaire Autres'!$O$11:$O$42,A37-nbappomp-nbapven-nbapair),\"\"))))","v":""},{"$f":"IF($A37<=nbappomp,INDEX('Analyse Préliminaire Pompe'!P$13:P$47,$A37),IF($A37<=nbappomp+nbapven,INDEX('Analyse Préliminaire Ventilateu'!P$13:P$44,$A37-nbappomp),IF($A37<=nbappomp+nbapven+nbapair,\"\",IF(A37<=nbappomp+nbapven+nbapair+nbaautre,INDEX('Analyse Préliminaire Autres'!#REF!,A37-nbappomp-nbapven-nbapair),\"\"))))","v":""},{"$f":"IF($A37<=nbappomp,INDEX('Analyse Préliminaire Pompe'!Q$13:Q$47,$A37),IF($A37<=nbappomp+nbapven,\"\",IF($A37<=nbappomp+nbapven+nbapair,\"\",\"\")))","v":""},{"$f":"IF(AI37=\"\",IF($A37<=nbappomp,INDEX('Analyse Préliminaire Pompe'!S$13:S$47,$A37),IF($A37<=nbappomp+nbapven,INDEX('Analyse Préliminaire Ventilateu'!Q$13:Q$44,$A37-nbappomp),IF($A37<=nbappomp+nbapven+nbapair,\"\",IF(A37<=nbappomp+nbapven+nbapair+nbaautre,\"\",\"\")))),AI37)","v":""},{"$f":"IF(AN37,\"\",IF($A37<=nbappomp,INDEX('Analyse Préliminaire Pompe'!AO$13:AO$47,$A37),IF($A37<=nbappomp+nbapven,INDEX('Analyse Préliminaire Ventilateu'!AM$13:AM$44,$A37-nbappomp),IF($A37<=nbappomp+nbapven+nbapair,EcoAPkWhCP,IF(A37<=nbappomp+nbapven+nbapair+nbaautre,INDEX('Analyse Préliminaire Autres'!$E$11:$E$42,A37-nbappomp-nbapven-nbapair),IF($A37<=nbappomp+nbapven+nbapair+nbaautre+nbafroid,INDEX('AP Groupe froid'!$AN$14:$AN$17,$A37-nbappomp-nbapven-nbapair-nbaautre),\"\"))))))","v":""},{"$f":"IF(AN37,\"\",IF($A37<=nbappomp,INDEX('Analyse Préliminaire Pompe'!AP$13:AP$47,$A37),IF($A37<=nbappomp+nbapven,INDEX('Analyse Préliminaire Ventilateu'!AN$13:AN$44,$A37-nbappomp),IF($A37<=nbappomp+nbapven+nbapair,EcoAPpercCP,IF(A37<=nbappomp+nbapven+nbapair+nbaautre,INDEX('Analyse Préliminaire Autres'!$E$11:$E$42,A37-nbappomp-nbapven-nbapair),IF($A37<=nbappomp+nbapven+nbapair+nbaautre+nbafroid,INDEX('AP Groupe froid'!$AO$14:$AO$17,$A37-nbappomp-nbapven-nbapair-nbaautre),\"\"))))))","v":""},{"$f":"IF(AN37,\"\",IF($A37<=nbappomp,INDEX('Analyse Préliminaire Pompe'!AQ$13:AQ$47,$A37),IF($A37<=nbappomp+nbapven,INDEX('Analyse Préliminaire Ventilateu'!AO$13:AO$44,$A37-nbappomp),IF($A37<=nbappomp+nbapven+nbapair,consoanncp,IF(A37<=nbappomp+nbapven+nbapair+nbaautre,INDEX('Analyse Préliminaire Autres'!$E$11:$E$42,A37-nbappomp-nbapven-nbapair),IF($A37<=nbappomp+nbapven+nbapair+nbaautre+nbafroid,INDEX('AP Groupe froid'!$AP$14:$AP$17,$A37-nbappomp-nbapven-nbapair-nbaautre),\"\"))))))","v":""},{"$f":"IF(R37=\"\",-1,IF(AND($L37>'Economies classées'!$B$2,$K37>0.2,YEAR(TODAY())-$Z37>8),2,IF(AND($L37>'Economies classées'!$B$3,YEAR(TODAY())-$Z37>5),1,0)))","v":-1},null,null,"",{"$f":"IF($A37<=nbappomp,ISBLANK(INDEX('Analyse Préliminaire Pompe'!AO$13:AO$47,$A37)),IF($A37<=nbappomp+nbapven,ISBLANK(INDEX('Analyse Préliminaire Ventilateu'!AM$13:AM$44,$A37-nbappomp)),IF($A37<=nbappomp+nbapven+nbapair,ISBLANK(EcoAPkWhCP),IF(A37<=nbappomp+nbapven+nbapair+nbaautre,ISBLANK(INDEX('Analyse Préliminaire Autres'!AC$11:AC$42,A37-nbappomp-nbapven-nbapair)),IF(A37<=nbappomp+nbapven+nbapair+nbaautre+nbafroid,ISBLANK(INDEX('AP Groupe froid'!$AN$14:$AN$17,A37-nbappomp-nbapven-nbapair-nbaautre)),FALSE)))))","v":false},{"$f":"IF(E37=Listes!$H$25,1,0)","v":0},{"$f":"IF(E37=Listes!$H$26,1,0)","v":0},0,0,{"$f":"IF(E37=Listes!$H$28,1,0)","v":0},null,0,0,0,0,0,null,0,0,0,0,0,null,"","","","","",null,-1,-1,-1,-1,null,null,{"$f":"IF(E37=Listes!$H$25,1,0)","v":0},{"$f":"IF(E37=Listes!$H$26,1,0)","v":0},0,0,0,0,0,null,0,0,null,{"$error":"#VALUE!"},0,0,0,null,null,null,"",""]
[14,"",null,{"$f":"IF(A38<=nbappomp,INDEX('Analyse Préliminaire Pompe'!$B$13:$B$47,A38),IF(A38<=nbappomp+nbapven,INDEX('Analyse Préliminaire Ventilateu'!$B$13:$B$44,A38-nbappomp),IF(A38<=nbappomp+nbapven+nbapair,301,IF(A38<=nbappomp+nbapven+nbapair+nbaautre,INDEX('Analyse Préliminaire Autres'!$B$11:$B$42,A38-nbappomp-nbapven-nbapair),IF(A38<=nbappomp+nbapven+nbapair+nbaautre+nbafroid,INDEX('AP Groupe froid'!$B$14:$B$17,A38-nbappomp-nbapven-nbapair-nbaautre),\"\")))))","v":""},{"$f":"IF(A38<=nbappomp,INDEX('Analyse Préliminaire Pompe'!$C$13:$C$47,A38),IF(A38<=nbappomp+nbapven,INDEX('Analyse Préliminaire Ventilateu'!$C$13:$C$44,A38-nbappomp),IF(A38<=nbappomp+nbapven+nbapair,$AJ$4,IF(A38<=nbappomp+nbapven+nbapair+nbaautre,INDEX('Analyse Préliminaire Autres'!$C$11:$C$42,A38-nbappomp-nbapven-nbapair),IF(A38<=nbappomp+nbapven+nbapair+nbaautre+nbafroid,INDEX('AP Groupe froid'!$C$14:$C$17,A38-nbappomp-nbapven-nbapair-nbaautre),\"\")))))","v":""},null,null,{"$f":"IF(A38<=nbappomp,INDEX('Analyse Préliminaire Pompe'!$H$13:$H$47,A38),IF(A38<=nbappomp+nbapven,INDEX('Analyse Préliminaire Ventilateu'!$H$13:$H$44,A38-nbappomp),IF(A38<=nbappomp+nbapven+nbapair,$AJ$4,IF(A38<=nbappomp+nbapven+nbapair+nbaautre,INDEX('Analyse Préliminaire Autres'!$H$11:$H$42,A38-nbappomp-nbapven-nbapair),IF(A38<=nbappomp+nbapven+nbapair+nbaautre+nbafroid,INDEX('AP Groupe froid'!$I$14:$I$17,A38-nbappomp-nbapven-nbapair-nbaautre),\"\")))))","v":""},null,null,{"$f":"IF(AH38=\"\",IF($A38<=nbappomp,INDEX('Analyse Préliminaire Pompe'!AE$13:AE$47,$A38),IF($A38<=nbappomp+nbapven,INDEX('Analyse Préliminaire Ventilateu'!AC$13:AC$44,$A38-nbappomp),IF($A38<=nbappomp+nbapven+nbapair,'Analyse Préliminaire air compr'!$AI$22,IF(A38<=nbappomp+nbapven+nbapair+nbaautre,INDEX('Analyse Préliminaire Autres'!$X$11:$X$42,A38-nbappomp-nbapven-nbapair),IF(A38<=nbappomp+nbapven+nbapair+nbaautre+nbafroid,INDEX('AP Groupe froid'!$AF$14:$AF$17,A38-nbappomp-nbapven-nbapair-nbaautre),\"\"))))),AH38)","v":""},{"$f":"IF(AG38=\"\",IF($A38<=nbappomp,INDEX('Analyse Préliminaire Pompe'!AD$13:AD$47,$A38),IF($A38<=nbappomp+nbapven,INDEX('Analyse Préliminaire Ventilateu'!AB$13:AB$44,$A38-nbappomp),IF($A38<=nbappomp+nbapven+nbapair,'Analyse Préliminaire air compr'!$AH$22,IF(A38<=nbappomp+nbapven+nbapair+nbaautre,INDEX('Analyse Préliminaire Autres'!$W$11:$W$42,A38-nbappomp-nbapven-nbapair),IF(A38<=nbappomp+nbapven+nbapair+nbaautre+nbafroid,INDEX('AP Groupe froid'!$AE$14:$AE$17,A38-nbappomp-nbapven-nbapair-nbaautre),\"\"))))),AG38)","v":""},null,"",null,"",null,{"$f":"IF(AI38=\"\",IF($A38<=nbappomp,INDEX('Analyse Préliminaire Pompe'!T$13:T$47,$A38),IF($A38<=nbappomp+nbapven,INDEX('Analyse Préliminaire Ventilateu'!R$13:R$44,$A38-nbappomp),IF($A38<=nbappomp+nbapven+nbapair,'Analyse Préliminaire air compr'!$AH$13,IF(A38<=nbappomp+nbapven+nbapair+nbaautre,INDEX('Analyse Préliminaire Autres'!$P$11:$P$42,A38-nbappomp-nbapven-nbapair),IF(A38<=nbappomp+nbapven+nbapair+nbaautre+nbafroid,INDEX('AP Groupe froid'!$AD$14:$AD$17,A38-nbappomp-nbapven-nbapair-nbaautre),\"\"))))),AI38)","v":""},null,{"$f":"IF($A38<=nbappomp,INDEX('Analyse Préliminaire Pompe'!X$13:X$47,$A38),IF($A38<=nbappomp+nbapven,INDEX('Analyse Préliminaire Ventilateu'!V$13:V$44,$A38-nbappomp),IF($A38<=nbappomp+nbapven+nbapair,'Analyse Préliminaire air compr'!$E$35,IF(A38<=nbappomp+nbapven+nbapair+nbaautre,INDEX('Analyse Préliminaire Autres'!$R$11:$R$42,A38-nbappomp-nbapven-nbapair),IF(A38<=nbappomp+nbapven+nbapair+nbaautre+nbafroid,INDEX('AP Groupe froid'!$Z$14:$Z$17,A38-nbappomp-nbapven-nbapair-nbaautre),\"\")))))","v":""},null,null,{"$f":"IF(AG38=\"\",IF($A38<=nbappomp,INDEX('Analyse Préliminaire Pompe'!AN$13:AN$47,$A38),IF($A38<=nbappomp+nbapven,INDEX('Analyse Préliminaire Ventilateu'!AL$13:AL$44,$A38-nbappomp),IF($A38<=nbappomp+nbapven+nbapair,'Analyse Préliminaire air compr'!$AM$16,IF(A38<=nbappomp+nbapven+nbapair+nbaautre,INDEX('Analyse Préliminaire Autres'!$AB$11:$AB$42,A38-nbappomp-nbapven-nbapair),IF(A38<=nbappomp+nbapven+nbapair+nbaautre+nbafroid,INDEX('AP Groupe froid'!$AM$14:$AM$17,A38-nbappomp-nbapven-nbapair-nbaautre),\"\"))))),'Economies classées'!$A$47)","v":""},{"$f":"IF($A38<=nbappomp,INDEX('Analyse Préliminaire Pompe'!E$13:E$47,$A38),IF($A38<=nbappomp+nbapven,INDEX('Analyse Préliminaire Ventilateu'!E$13:E$44,$A38-nbappomp),IF($A38<=nbappomp+nbapven+nbapair,\"voir detail\",IF(A38<=nbappomp+nbapven+nbapair+nbaautre,INDEX('Analyse Préliminaire Autres'!$E$11:$E$42,A38-nbappomp-nbapven-nbapair),IF(A38<=nbappomp+nbapven+nbapair+nbaautre+nbafroid,INDEX('AP Groupe froid'!$F$14:$F$17,A38-nbappomp-nbapven-nbapair-nbaautre),\"\")))))","v":""},{"$f":"IF($A38<=nbappomp,INDEX('Analyse Préliminaire Pompe'!K$13:K$47,$A38),IF($A38<=nbappomp+nbapven,INDEX('Analyse Préliminaire Ventilateu'!K$13:K$44,$A38-nbappomp),IF($A38<=nbappomp+nbapven+nbapair,SUM('Analyse Préliminaire air compr'!$I$26:$I$32),IF(A38<=nbappomp+nbapven+nbapair+nbaautre,INDEX('Analyse Préliminaire Autres'!$K$11:$K$42,A38-nbappomp-nbapven-nbapair),IF(A38<=nbappomp+nbapven+nbapair+nbaautre+nbafroid,INDEX('AP Groupe froid'!$O$14:$O$17,A38-nbappomp-nbapven-nbapair-nbaautre),\"\")))))","v":""},{"$f":"IF($A38<=nbappomp,INDEX('Analyse Préliminaire Pompe'!L$13:L$47,$A38),IF($A38<=nbappomp+nbapven,INDEX('Analyse Préliminaire Ventilateu'!L$13:L$44,$A38-nbappomp),IF($A38<=nbappomp+nbapven+nbapair,MIN('Analyse Préliminaire air compr'!$J$26:$J$32),IF(A38<=nbappomp+nbapven+nbapair+nbaautre,INDEX('Analyse Préliminaire Autres'!$L$11:$L$42,A38-nbappomp-nbapven-nbapair),IF($A38<=nbappomp+nbapven+nbapair,'Analyse Préliminaire air compr'!$AM$16,IF(A38<=nbappomp+nbapven+nbapair+nbaautre+nbafroid,INDEX('AP Groupe froid'!$L$14:$L$17,A38-nbappomp-nbapven-nbapair-nbaautre),\"\"))))))","v":""},{"$f":"IF($A38<=nbappomp,INDEX('Analyse Préliminaire Pompe'!M$13:M$47,$A38),IF($A38<=nbappomp+nbapven,INDEX('Analyse Préliminaire Ventilateu'!M$13:M$44,$A38-nbappomp),IF($A38<=nbappomp+nbapven+nbapair,\"\",IF(A38<=nbappomp+nbapven+nbapair+nbaautre,INDEX('Analyse Préliminaire Autres'!$M$11:$M$42,A38-nbappomp-nbapven-nbapair),IF($A38<=nbappomp+nbapven+nbapair,'Analyse Préliminaire air compr'!$AM$16,IF(A38<=nbappomp+nbapven+nbapair+nbaautre+nbafroid,INDEX('AP Groupe froid'!$M$14:$M$17,A38-nbappomp-nbapven-nbapair-nbaautre),\"\"))))))","v":""},{"$f":"IF($A38<=nbappomp,INDEX('Analyse Préliminaire Pompe'!N$13:N$47,$A38),IF($A38<=nbappomp+nbapven,INDEX('Analyse Préliminaire Ventilateu'!N$13:N$44,$A38-nbappomp),IF($A38<=nbappomp+nbapven+nbapair,\"\",IF(A38<=nbappomp+nbapven+nbapair+nbaautre,INDEX('Analyse Préliminaire Autres'!$N$11:$N$42,A38-nbappomp-nbapven-nbapair),\"\"))))","v":""},{"$f":"IF($A38<=nbappomp,INDEX('Analyse Préliminaire Pompe'!O$13:O$47,$A38),IF($A38<=nbappomp+nbapven,INDEX('Analyse Préliminaire Ventilateu'!O$13:O$44,$A38-nbappomp),IF($A38<=nbappomp+nbapven+nbapair,\"\",IF(A38<=nbappomp+nbapven+nbapair+nbaautre,INDEX('Analyse Préliminaire Autres'!$O$11:$O$42,A38-nbappomp-nbapven-nbapair),\"\"))))","v":""},{"$f":"IF($A38<=nbappomp,INDEX('Analyse Préliminaire Pompe'!P$13:P$47,$A38),IF($A38<=nbappomp+nbapven,INDEX('Analyse Préliminaire Ventilateu'!P$13:P$44,$A38-nbappomp),IF($A38<=nbappomp+nbapven+nbapair,\"\",IF(A38<=nbappomp+nbapven+nbapair+nbaautre,INDEX('Analyse Préliminaire Autres'!#REF!,A38-nbappomp-nbapven-nbapair),\"\"))))","v":""},{"$f":"IF($A38<=nbappomp,INDEX('Analyse Préliminaire Pompe'!Q$13:Q$47,$A38),IF($A38<=nbappomp+nbapven,\"\",IF($A38<=nbappomp+nbapven+nbapair,\"\",\"\")))","v":""},{"$f":"IF(AI38=\"\",IF($A38<=nbappomp,INDEX('Analyse Préliminaire Pompe'!S$13:S$47,$A38),IF($A38<=nbappomp+nbapven,INDEX('Analyse Préliminaire Ventilateu'!Q$13:Q$44,$A38-nbappomp),IF($A38<=nbappomp+nbapven+nbapair,\"\",IF(A38<=nbappomp+nbapven+nbapair+nbaautre,\"\",\"\")))),AI38)","v":""},{"$f":"IF(AN38,\"\",IF($A38<=nbappomp,INDEX('Analyse Préliminaire Pompe'!AO$13:AO$47,$A38),IF($A38<=nbappomp+nbapven,INDEX('Analyse Préliminaire Ventilateu'!AM$13:AM$44,$A38-nbappomp),IF($A38<=nbappomp+nbapven+nbapair,EcoAPkWhCP,IF(A38<=nbappomp+nbapven+nbapair+nbaautre,INDEX('Analyse Préliminaire Autres'!$E$11:$E$42,A38-nbappomp-nbapven-nbapair),IF($A38<=nbappomp+nbapven+nbapair+nbaautre+nbafroid,INDEX('AP Groupe froid'!$AN$14:$AN$17,$A38-nbappomp-nbapven-nbapair-nbaautre),\"\"))))))","v":""},{"$f":"IF(AN38,\"\",IF($A38<=nbappomp,INDEX('Analyse Préliminaire Pompe'!AP$13:AP$47,$A38),IF($A38<=nbappomp+nbapven,INDEX('Analyse Préliminaire Ventilateu'!AN$13:AN$44,$A38-nbappomp),IF($A38<=nbappomp+nbapven+nbapair,EcoAPpercCP,IF(A38<=nbappomp+nbapven+nbapair+nbaautre,INDEX('Analyse Préliminaire Autres'!$E$11:$E$42,A38-nbappomp-nbapven-nbapair),IF($A38<=nbappomp+nbapven+nbapair+nbaautre+nbafroid,INDEX('AP Groupe froid'!$AO$14:$AO$17,$A38-nbappomp-nbapven-nbapair-nbaautre),\"\"))))))","v":""},{"$f":"IF(AN38,\"\",IF($A38<=nbappomp,INDEX('Analyse Préliminaire Pompe'!AQ$13:AQ$47,$A38),IF($A38<=nbappomp+nbapven,INDEX('Analyse Préliminaire Ventilateu'!AO$13:AO$44,$A38-nbappomp),IF($A38<=nbappomp+nbapven+nbapair,consoanncp,IF(A38<=nbappomp+nbapven+nbapair+nbaautre,INDEX('Analyse Préliminaire Autres'!$E$11:$E$42,A38-nbappomp-nbapven-nbapair),IF($A38<=nbappomp+nbapven+nbapair+nbaautre+nbafroid,INDEX('AP Groupe froid'!$AP$14:$AP$17,$A38-nbappomp-nbapven-nbapair-nbaautre),\"\"))))))","v":""},{"$f":"IF(R38=\"\",-1,IF(AND($L38>'Economies classées'!$B$2,$K38>0.2,YEAR(TODAY())-$Z38>8),2,IF(AND($L38>'Economies classées'!$B$3,YEAR(TODAY())-$Z38>5),1,0)))","v":-1},null,null,"",{"$f":"IF($A38<=nbappomp,ISBLANK(INDEX('Analyse Préliminaire Pompe'!AO$13:AO$47,$A38)),IF($A38<=nbappomp+nbapven,ISBLANK(INDEX('Analyse Préliminaire Ventilateu'!AM$13:AM$44,$A38-nbappomp)),IF($A38<=nbappomp+nbapven+nbapair,ISBLANK(EcoAPkWhCP),IF(A38<=nbappomp+nbapven+nbapair+nbaautre,ISBLANK(INDEX('Analyse Préliminaire Autres'!AC$11:AC$42,A38-nbappomp-nbapven-nbapair)),IF(A38<=nbappomp+nbapven+nbapair+nbaautre+nbafroid,ISBLANK(INDEX('AP Groupe froid'!$AN$14:$AN$17,A38-nbappomp-nbapven-nbapair-nbaautre)),FALSE)))))","v":false},{"$f":"IF(E38=Listes!$H$25,1,0)","v":0},{"$f":"IF(E38=Listes!$H$26,1,0)","v":0},0,0,{"$f":"IF(E38=Listes!$H$28,1,0)","v":0},null,0,0,0,0,0,null,0,0,0,0,0,null,"","","","","",null,-1,-1,-1,-1,null,null,{"$f":"IF(E38=Listes!$H$25,1,0)","v":0},{"$f":"IF(E38=Listes!$H$26,1,0)","v":0},0,0,0,0,0,null,0,0,null,{"$error":"#VALUE!"},0,0,0,null,null,null,"",""]
[15,"",null,{"$f":"IF(A39<=nbappomp,INDEX('Analyse Préliminaire Pompe'!$B$13:$B$47,A39),IF(A39<=nbappomp+nbapven,INDEX('Analyse Préliminaire Ventilateu'!$B$13:$B$44,A39-nbappomp),IF(A39<=nbappomp+nbapven+nbapair,301,IF(A39<=nbappomp+nbapven+nbapair+nbaautre,INDEX('Analyse Préliminaire Autres'!$B$11:$B$42,A39-nbappomp-nbapven-nbapair),IF(A39<=nbappomp+nbapven+nbapair+nbaautre+nbafroid,INDEX('AP Groupe froid'!$B$14:$B$17,A39-nbappomp-nbapven-nbapair-nbaautre),\"\")))))","v":""},{"$f":"IF(A39<=nbappomp,INDEX('Analyse Préliminaire Pompe'!$C$13:$C$47,A39),IF(A39<=nbappomp+nbapven,INDEX('Analyse Préliminaire Ventilateu'!$C$13:$C$44,A39-nbappomp),IF(A39<=nbappomp+nbapven+nbapair,$AJ$4,IF(A39<=nbappomp+nbapven+nbapair+nbaautre,INDEX('Analyse Préliminaire Autres'!$C$11:$C$42,A39-nbappomp-nbapven-nbapair),IF(A39<=nbappomp+nbapven+nbapair+nbaautre+nbafroid,INDEX('AP Groupe froid'!$C$14:$C$17,A39-nbappomp-nbapven-nbapair-nbaautre),\"\")))))","v":""},null,null,{"$f":"IF(A39<=nbappomp,INDEX('Analyse Préliminaire Pompe'!$H$13:$H$47,A39),IF(A39<=nbappomp+nbapven,INDEX('Analyse Préliminaire Ventilateu'!$H$13:$H$44,A39-nbappomp),IF(A39<=nbappomp+nbapven+nbapair,$AJ$4,IF(A39<=nbappomp+nbapven+nbapair+nbaautre,INDEX('Analyse Préliminaire Autres'!$H$11:$H$42,A39-nbappomp-nbapven-nbapair),IF(A39<=nbappomp+nbapven+nbapair+nbaautre+nbafroid,INDEX('AP Groupe froid'!$I$14:$I$17,A39-nbappomp-nbapven-nbapair-nbaautre),\"\")))))","v":""},null,null,{"$f":"IF(AH39=\"\",IF($A39<=nbappomp,INDEX('Analyse Préliminaire Pompe'!AE$13:AE$47,$A39),IF($A39<=nbappomp+nbapven,INDEX('Analyse Préliminaire Ventilateu'!AC$13:AC$44,$A39-nbappomp),IF($A39<=nbappomp+nbapven+nbapair,'Analyse Préliminaire air compr'!$AI$22,IF(A39<=nbappomp+nbapven+nbapair+nbaautre,INDEX('Analyse Préliminaire Autres'!$X$11:$X$42,A39-nbappomp-nbapven-nbapair),IF(A39<=nbappomp+nbapven+nbapair+nbaautre+nbafroid,INDEX('AP Groupe froid'!$AF$14:$AF$17,A39-nbappomp-nbapven-nbapair-nbaautre),\"\"))))),AH39)","v":""},{"$f":"IF(AG39=\"\",IF($A39<=nbappomp,INDEX('Analyse Préliminaire Pompe'!AD$13:AD$47,$A39),IF($A39<=nbappomp+nbapven,INDEX('Analyse Préliminaire Ventilateu'!AB$13:AB$44,$A39-nbappomp),IF($A39<=nbappomp+nbapven+nbapair,'Analyse Préliminaire air compr'!$AH$22,IF(A39<=nbappomp+nbapven+nbapair+nbaautre,INDEX('Analyse Préliminaire Autres'!$W$11:$W$42,A39-nbappomp-nbapven-nbapair),IF(A39<=nbappomp+nbapven+nbapair+nbaautre+nbafroid,INDEX('AP Groupe froid'!$AE$14:$AE$17,A39-nbappomp-nbapven-nbapair-nbaautre),\"\"))))),AG39)","v":""},null,"",null,"",null,{"$f":"IF(AI39=\"\",IF($A39<=nbappomp,INDEX('Analyse Préliminaire Pompe'!T$13:T$47,$A39),IF($A39<=nbappomp+nbapven,INDEX('Analyse Préliminaire Ventilateu'!R$13:R$44,$A39-nbappomp),IF($A39<=nbappomp+nbapven+nbapair,'Analyse Préliminaire air compr'!$AH$13,IF(A39<=nbappomp+nbapven+nbapair+nbaautre,INDEX('Analyse Préliminaire Autres'!$P$11:$P$42,A39-nbappomp-nbapven-nbapair),IF(A39<=nbappomp+nbapven+nbapair+nbaautre+nbafroid,INDEX('AP Groupe froid'!$AD$14:$AD$17,A39-nbappomp-nbapven-nbapair-nbaautre),\"\"))))),AI39)","v":""},null,{"$f":"IF($A39<=nbappomp,INDEX('Analyse Préliminaire Pompe'!X$13:X$47,$A39),IF($A39<=nbappomp+nbapven,INDEX('Analyse Préliminaire Ventilateu'!V$13:V$44,$A39-nbappomp),IF($A39<=nbappomp+nbapven+nbapair,'Analyse Préliminaire air compr'!$E$35,IF(A39<=nbappomp+nbapven+nbapair+nbaautre,INDEX('Analyse Préliminaire Autres'!$R$11:$R$42,A39-nbappomp-nbapven-nbapair),IF(A39<=nbappomp+nbapven+nbapair+nbaautre+nbafroid,INDEX('AP Groupe froid'!$Z$14:$Z$17,A39-nbappomp-nbapven-nbapair-nbaautre),\"\")))))","v":""},null,null,{"$f":"IF(AG39=\"\",IF($A39<=nbappomp,INDEX('Analyse Préliminaire Pompe'!AN$13:AN$47,$A39),IF($A39<=nbappomp+nbapven,INDEX('Analyse Préliminaire Ventilateu'!AL$13:AL$44,$A39-nbappomp),IF($A39<=nbappomp+nbapven+nbapair,'Analyse Préliminaire air compr'!$AM$16,IF(A39<=nbappomp+nbapven+nbapair+nbaautre,INDEX('Analyse Préliminaire Autres'!$AB$11:$AB$42,A39-nbappomp-nbapven-nbapair),IF(A39<=nbappomp+nbapven+nbapair+nbaautre+nbafroid,INDEX('AP Groupe froid'!$AM$14:$AM$17,A39-nbappomp-nbapven-nbapair-nbaautre),\"\"))))),'Economies classées'!$A$47)","v":""},{"$f":"IF($A39<=nbappomp,INDEX('Analyse Préliminaire Pompe'!E$13:E$47,$A39),IF($A39<=nbappomp+nbapven,INDEX('Analyse Préliminaire Ventilateu'!E$13:E$44,$A39-nbappomp),IF($A39<=nbappomp+nbapven+nbapair,\"voir detail\",IF(A39<=nbappomp+nbapven+nbapair+nbaautre,INDEX('Analyse Préliminaire Autres'!$E$11:$E$42,A39-nbappomp-nbapven-nbapair),IF(A39<=nbappomp+nbapven+nbapair+nbaautre+nbafroid,INDEX('AP Groupe froid'!$F$14:$F$17,A39-nbappomp-nbapven-nbapair-nbaautre),\"\")))))","v":""},{"$f":"IF($A39<=nbappomp,INDEX('Analyse Préliminaire Pompe'!K$13:K$47,$A39),IF($A39<=nbappomp+nbapven,INDEX('Analyse Préliminaire Ventilateu'!K$13:K$44,$A39-nbappomp),IF($A39<=nbappomp+nbapven+nbapair,SUM('Analyse Préliminaire air compr'!$I$26:$I$32),IF(A39<=nbappomp+nbapven+nbapair+nbaautre,INDEX('Analyse Préliminaire Autres'!$K$11:$K$42,A39-nbappomp-nbapven-nbapair),IF(A39<=nbappomp+nbapven+nbapair+nbaautre+nbafroid,INDEX('AP Groupe froid'!$O$14:$O$17,A39-nbappomp-nbapven-nbapair-nbaautre),\"\")))))","v":""},{"$f":"IF($A39<=nbappomp,INDEX('Analyse Préliminaire Pompe'!L$13:L$47,$A39),IF($A39<=nbappomp+nbapven,INDEX('Analyse Préliminaire Ventilateu'!L$13:L$44,$A39-nbappomp),IF($A39<=nbappomp+nbapven+nbapair,MIN('Analyse Préliminaire air compr'!$J$26:$J$32),IF(A39<=nbappomp+nbapven+nbapair+nbaautre,INDEX('Analyse Préliminaire Autres'!$L$11:$L$42,A39-nbappomp-nbapven-nbapair),IF($A39<=nbappomp+nbapven+nbapair,'Analyse Préliminaire air compr'!$AM$16,IF(A39<=nbappomp+nbapven+nbapair+nbaautre+nbafroid,INDEX('AP Groupe froid'!$L$14:$L$17,A39-nbappomp-nbapven-nbapair-nbaautre),\"\"))))))","v":""},{"$f":"IF($A39<=nbappomp,INDEX('Analyse Préliminaire Pompe'!M$13:M$47,$A39),IF($A39<=nbappomp+nbapven,INDEX('Analyse Préliminaire Ventilateu'!M$13:M$44,$A39-nbappomp),IF($A39<=nbappomp+nbapven+nbapair,\"\",IF(A39<=nbappomp+nbapven+nbapair+nbaautre,INDEX('Analyse Préliminaire Autres'!$M$11:$M$42,A39-nbappomp-nbapven-nbapair),IF($A39<=nbappomp+nbapven+nbapair,'Analyse Préliminaire air compr'!$AM$16,IF(A39<=nbappomp+nbapven+nbapair+nbaautre+nbafroid,INDEX('AP Groupe froid'!$M$14:$M$17,A39-nbappomp-nbapven-nbapair-nbaautre),\"\"))))))","v":""},{"$f":"IF($A39<=nbappomp,INDEX('Analyse Préliminaire Pompe'!N$13:N$47,$A39),IF($A39<=nbappomp+nbapven,INDEX('Analyse Préliminaire Ventilateu'!N$13:N$44,$A39-nbappomp),IF($A39<=nbappomp+nbapven+nbapair,\"\",IF(A39<=nbappomp+nbapven+nbapair+nbaautre,INDEX('Analyse Préliminaire Autres'!$N$11:$N$42,A39-nbappomp-nbapven-nbapair),\"\"))))","v":""},{"$f":"IF($A39<=nbappomp,INDEX('Analyse Préliminaire Pompe'!O$13:O$47,$A39),IF($A39<=nbappomp+nbapven,INDEX('Analyse Préliminaire Ventilateu'!O$13:O$44,$A39-nbappomp),IF($A39<=nbappomp+nbapven+nbapair,\"\",IF(A39<=nbappomp+nbapven+nbapair+nbaautre,INDEX('Analyse Préliminaire Autres'!$O$11:$O$42,A39-nbappomp-nbapven-nbapair),\"\"))))","v":""},{"$f":"IF($A39<=nbappomp,INDEX('Analyse Préliminaire Pompe'!P$13:P$47,$A39),IF($A39<=nbappomp+nbapven,INDEX('Analyse Préliminaire Ventilateu'!P$13:P$44,$A39-nbappomp),IF($A39<=nbappomp+nbapven+nbapair,\"\",IF(A39<=nbappomp+nbapven+nbapair+nbaautre,INDEX('Analyse Préliminaire Autres'!#REF!,A39-nbappomp-nbapven-nbapair),\"\"))))","v":""},{"$f":"IF($A39<=nbappomp,INDEX('Analyse Préliminaire Pompe'!Q$13:Q$47,$A39),IF($A39<=nbappomp+nbapven,\"\",IF($A39<=nbappomp+nbapven+nbapair,\"\",\"\")))","v":""},{"$f":"IF(AI39=\"\",IF($A39<=nbappomp,INDEX('Analyse Préliminaire Pompe'!S$13:S$47,$A39),IF($A39<=nbappomp+nbapven,INDEX('Analyse Préliminaire Ventilateu'!Q$13:Q$44,$A39-nbappomp),IF($A39<=nbappomp+nbapven+nbapair,\"\",IF(A39<=nbappomp+nbapven+nbapair+nbaautre,\"\",\"\")))),AI39)","v":""},{"$f":"IF(AN39,\"\",IF($A39<=nbappomp,INDEX('Analyse Préliminaire Pompe'!AO$13:AO$47,$A39),IF($A39<=nbappomp+nbapven,INDEX('Analyse Préliminaire Ventilateu'!AM$13:AM$44,$A39-nbappomp),IF($A39<=nbappomp+nbapven+nbapair,EcoAPkWhCP,IF(A39<=nbappomp+nbapven+nbapair+nbaautre,INDEX('Analyse Préliminaire Autres'!$E$11:$E$42,A39-nbappomp-nbapven-nbapair),IF($A39<=nbappomp+nbapven+nbapair+nbaautre+nbafroid,INDEX('AP Groupe froid'!$AN$14:$AN$17,$A39-nbappomp-nbapven-nbapair-nbaautre),\"\"))))))","v":""},{"$f":"IF(AN39,\"\",IF($A39<=nbappomp,INDEX('Analyse Préliminaire Pompe'!AP$13:AP$47,$A39),IF($A39<=nbappomp+nbapven,INDEX('Analyse Préliminaire Ventilateu'!AN$13:AN$44,$A39-nbappomp),IF($A39<=nbappomp+nbapven+nbapair,EcoAPpercCP,IF(A39<=nbappomp+nbapven+nbapair+nbaautre,INDEX('Analyse Préliminaire Autres'!$E$11:$E$42,A39-nbappomp-nbapven-nbapair),IF($A39<=nbappomp+nbapven+nbapair+nbaautre+nbafroid,INDEX('AP Groupe froid'!$AO$14:$AO$17,$A39-nbappomp-nbapven-nbapair-nbaautre),\"\"))))))","v":""},{"$f":"IF(AN39,\"\",IF($A39<=nbappomp,INDEX('Analyse Préliminaire Pompe'!AQ$13:AQ$47,$A39),IF($A39<=nbappomp+nbapven,INDEX('Analyse Préliminaire Ventilateu'!AO$13:AO$44,$A39-nbappomp),IF($A39<=nbappomp+nbapven+nbapair,consoanncp,IF(A39<=nbappomp+nbapven+nbapair+nbaautre,INDEX('Analyse Préliminaire Autres'!$E$11:$E$42,A39-nbappomp-nbapven-nbapair),IF($A39<=nbappomp+nbapven+nbapair+nbaautre+nbafroid,INDEX('AP Groupe froid'!$AP$14:$AP$17,$A39-nbappomp-nbapven-nbapair-nbaautre),\"\"))))))","v":""},{"$f":"IF(R39=\"\",-1,IF(AND($L39>'Economies classées'!$B$2,$K39>0.2,YEAR(TODAY())-$Z39>8),2,IF(AND($L39>'Economies classées'!$B$3,YEAR(TODAY())-$Z39>5),1,0)))","v":-1},null,null,"",{"$f":"IF($A39<=nbappomp,ISBLANK(INDEX('Analyse Préliminaire Pompe'!AO$13:AO$47,$A39)),IF($A39<=nbappomp+nbapven,ISBLANK(INDEX('Analyse Préliminaire Ventilateu'!AM$13:AM$44,$A39-nbappomp)),IF($A39<=nbappomp+nbapven+nbapair,ISBLANK(EcoAPkWhCP),IF(A39<=nbappomp+nbapven+nbapair+nbaautre,ISBLANK(INDEX('Analyse Préliminaire Autres'!AC$11:AC$42,A39-nbappomp-nbapven-nbapair)),IF(A39<=nbappomp+nbapven+nbapair+nbaautre+nbafroid,ISBLANK(INDEX('AP Groupe froid'!$AN$14:$AN$17,A39-nbappomp-nbapven-nbapair-nbaautre)),FALSE)))))","v":false},{"$f":"IF(E39=Listes!$H$25,1,0)","v":0},{"$f":"IF(E39=Listes!$H$26,1,0)","v":0},0,0,{"$f":"IF(E39=Listes!$H$28,1,0)","v":0},null,0,0,0,0,0,null,0,0,0,0,0,null,"","","","","",null,-1,-1,-1,-1,null,null,{"$f":"IF(E39=Listes!$H$25,1,0)","v":0},{"$f":"IF(E39=Listes!$H$26,1,0)","v":0},0,0,0,0,0,null,0,0,null,{"$error":"#VALUE!"},0,0,0,null,null,null,"",""]
[16,"",null,{"$f":"IF(A40<=nbappomp,INDEX('Analyse Préliminaire Pompe'!$B$13:$B$47,A40),IF(A40<=nbappomp+nbapven,INDEX('Analyse Préliminaire Ventilateu'!$B$13:$B$44,A40-nbappomp),IF(A40<=nbappomp+nbapven+nbapair,301,IF(A40<=nbappomp+nbapven+nbapair+nbaautre,INDEX('Analyse Préliminaire Autres'!$B$11:$B$42,A40-nbappomp-nbapven-nbapair),IF(A40<=nbappomp+nbapven+nbapair+nbaautre+nbafroid,INDEX('AP Groupe froid'!$B$14:$B$17,A40-nbappomp-nbapven-nbapair-nbaautre),\"\")))))","v":""},{"$f":"IF(A40<=nbappomp,INDEX('Analyse Préliminaire Pompe'!$C$13:$C$47,A40),IF(A40<=nbappomp+nbapven,INDEX('Analyse Préliminaire Ventilateu'!$C$13:$C$44,A40-nbappomp),IF(A40<=nbappomp+nbapven+nbapair,$AJ$4,IF(A40<=nbappomp+nbapven+nbapair+nbaautre,INDEX('Analyse Préliminaire Autres'!$C$11:$C$42,A40-nbappomp-nbapven-nbapair),IF(A40<=nbappomp+nbapven+nbapair+nbaautre+nbafroid,INDEX('AP Groupe froid'!$C$14:$C$17,A40-nbappomp-nbapven-nbapair-nbaautre),\"\")))))","v":""},null,null,{"$f":"IF(A40<=nbappomp,INDEX('Analyse Préliminaire Pompe'!$H$13:$H$47,A40),IF(A40<=nbappomp+nbapven,INDEX('Analyse Préliminaire Ventilateu'!$H$13:$H$44,A40-nbappomp),IF(A40<=nbappomp+nbapven+nbapair,$AJ$4,IF(A40<=nbappomp+nbapven+nbapair+nbaautre,INDEX('Analyse Préliminaire Autres'!$H$11:$H$42,A40-nbappomp-nbapven-nbapair),IF(A40<=nbappomp+nbapven+nbapair+nbaautre+nbafroid,INDEX('AP Groupe froid'!$I$14:$I$17,A40-nbappomp-nbapven-nbapair-nbaautre),\"\")))))","v":""},null,null,{"$f":"IF(AH40=\"\",IF($A40<=nbappomp,INDEX('Analyse Préliminaire Pompe'!AE$13:AE$47,$A40),IF($A40<=nbappomp+nbapven,INDEX('Analyse Préliminaire Ventilateu'!AC$13:AC$44,$A40-nbappomp),IF($A40<=nbappomp+nbapven+nbapair,'Analyse Préliminaire air compr'!$AI$22,IF(A40<=nbappomp+nbapven+nbapair+nbaautre,INDEX('Analyse Préliminaire Autres'!$X$11:$X$42,A40-nbappomp-nbapven-nbapair),IF(A40<=nbappomp+nbapven+nbapair+nbaautre+nbafroid,INDEX('AP Groupe froid'!$AF$14:$AF$17,A40-nbappomp-nbapven-nbapair-nbaautre),\"\"))))),AH40)","v":""},{"$f":"IF(AG40=\"\",IF($A40<=nbappomp,INDEX('Analyse Préliminaire Pompe'!AD$13:AD$47,$A40),IF($A40<=nbappomp+nbapven,INDEX('Analyse Préliminaire Ventilateu'!AB$13:AB$44,$A40-nbappomp),IF($A40<=nbappomp+nbapven+nbapair,'Analyse Préliminaire air compr'!$AH$22,IF(A40<=nbappomp+nbapven+nbapair+nbaautre,INDEX('Analyse Préliminaire Autres'!$W$11:$W$42,A40-nbappomp-nbapven-nbapair),IF(A40<=nbappomp+nbapven+nbapair+nbaautre+nbafroid,INDEX('AP Groupe froid'!$AE$14:$AE$17,A40-nbappomp-nbapven-nbapair-nbaautre),\"\"))))),AG40)","v":""},null,"",null,"",null,{"$f":"IF(AI40=\"\",IF($A40<=nbappomp,INDEX('Analyse Préliminaire Pompe'!T$13:T$47,$A40),IF($A40<=nbappomp+nbapven,INDEX('Analyse Préliminaire Ventilateu'!R$13:R$44,$A40-nbappomp),IF($A40<=nbappomp+nbapven+nbapair,'Analyse Préliminaire air compr'!$AH$13,IF(A40<=nbappomp+nbapven+nbapair+nbaautre,INDEX('Analyse Préliminaire Autres'!$P$11:$P$42,A40-nbappomp-nbapven-nbapair),IF(A40<=nbappomp+nbapven+nbapair+nbaautre+nbafroid,INDEX('AP Groupe froid'!$AD$14:$AD$17,A40-nbappomp-nbapven-nbapair-nbaautre),\"\"))))),AI40)","v":""},null,{"$f":"IF($A40<=nbappomp,INDEX('Analyse Préliminaire Pompe'!X$13:X$47,$A40),IF($A40<=nbappomp+nbapven,INDEX('Analyse Préliminaire Ventilateu'!V$13:V$44,$A40-nbappomp),IF($A40<=nbappomp+nbapven+nbapair,'Analyse Préliminaire air compr'!$E$35,IF(A40<=nbappomp+nbapven+nbapair+nbaautre,INDEX('Analyse Préliminaire Autres'!$R$11:$R$42,A40-nbappomp-nbapven-nbapair),IF(A40<=nbappomp+nbapven+nbapair+nbaautre+nbafroid,INDEX('AP Groupe froid'!$Z$14:$Z$17,A40-nbappomp-nbapven-nbapair-nbaautre),\"\")))))","v":""},null,null,{"$f":"IF(AG40=\"\",IF($A40<=nbappomp,INDEX('Analyse Préliminaire Pompe'!AN$13:AN$47,$A40),IF($A40<=nbappomp+nbapven,INDEX('Analyse Préliminaire Ventilateu'!AL$13:AL$44,$A40-nbappomp),IF($A40<=nbappomp+nbapven+nbapair,'Analyse Préliminaire air compr'!$AM$16,IF(A40<=nbappomp+nbapven+nbapair+nbaautre,INDEX('Analyse Préliminaire Autres'!$AB$11:$AB$42,A40-nbappomp-nbapven-nbapair),IF(A40<=nbappomp+nbapven+nbapair+nbaautre+nbafroid,INDEX('AP Groupe froid'!$AM$14:$AM$17,A40-nbappomp-nbapven-nbapair-nbaautre),\"\"))))),'Economies classées'!$A$47)","v":""},{"$f":"IF($A40<=nbappomp,INDEX('Analyse Préliminaire Pompe'!E$13:E$47,$A40),IF($A40<=nbappomp+nbapven,INDEX('Analyse Préliminaire Ventilateu'!E$13:E$44,$A40-nbappomp),IF($A40<=nbappomp+nbapven+nbapair,\"voir detail\",IF(A40<=nbappomp+nbapven+nbapair+nbaautre,INDEX('Analyse Préliminaire Autres'!$E$11:$E$42,A40-nbappomp-nbapven-nbapair),IF(A40<=nbappomp+nbapven+nbapair+nbaautre+nbafroid,INDEX('AP Groupe froid'!$F$14:$F$17,A40-nbappomp-nbapven-nbapair-nbaautre),\"\")))))","v":""},{"$f":"IF($A40<=nbappomp,INDEX('Analyse Préliminaire Pompe'!K$13:K$47,$A40),IF($A40<=nbappomp+nbapven,INDEX('Analyse Préliminaire Ventilateu'!K$13:K$44,$A40-nbappomp),IF($A40<=nbappomp+nbapven+nbapair,SUM('Analyse Préliminaire air compr'!$I$26:$I$32),IF(A40<=nbappomp+nbapven+nbapair+nbaautre,INDEX('Analyse Préliminaire Autres'!$K$11:$K$42,A40-nbappomp-nbapven-nbapair),IF(A40<=nbappomp+nbapven+nbapair+nbaautre+nbafroid,INDEX('AP Groupe froid'!$O$14:$O$17,A40-nbappomp-nbapven-nbapair-nbaautre),\"\")))))","v":""},{"$f":"IF($A40<=nbappomp,INDEX('Analyse Préliminaire Pompe'!L$13:L$47,$A40),IF($A40<=nbappomp+nbapven,INDEX('Analyse Préliminaire Ventilateu'!L$13:L$44,$A40-nbappomp),IF($A40<=nbappomp+nbapven+nbapair,MIN('Analyse Préliminaire air compr'!$J$26:$J$32),IF(A40<=nbappomp+nbapven+nbapair+nbaautre,INDEX('Analyse Préliminaire Autres'!$L$11:$L$42,A40-nbappomp-nbapven-nbapair),IF($A40<=nbappomp+nbapven+nbapair,'Analyse Préliminaire air compr'!$AM$16,IF(A40<=nbappomp+nbapven+nbapair+nbaautre+nbafroid,INDEX('AP Groupe froid'!$L$14:$L$17,A40-nbappomp-nbapven-nbapair-nbaautre),\"\"))))))","v":""},{"$f":"IF($A40<=nbappomp,INDEX('Analyse Préliminaire Pompe'!M$13:M$47,$A40),IF($A40<=nbappomp+nbapven,INDEX('Analyse Préliminaire Ventilateu'!M$13:M$44,$A40-nbappomp),IF($A40<=nbappomp+nbapven+nbapair,\"\",IF(A40<=nbappomp+nbapven+nbapair+nbaautre,INDEX('Analyse Préliminaire Autres'!$M$11:$M$42,A40-nbappomp-nbapven-nbapair),IF($A40<=nbappomp+nbapven+nbapair,'Analyse Préliminaire air compr'!$AM$16,IF(A40<=nbappomp+nbapven+nbapair+nbaautre+nbafroid,INDEX('AP Groupe froid'!$M$14:$M$17,A40-nbappomp-nbapven-nbapair-nbaautre),\"\"))))))","v":""},{"$f":"IF($A40<=nbappomp,INDEX('Analyse Préliminaire Pompe'!N$13:N$47,$A40),IF($A40<=nbappomp+nbapven,INDEX('Analyse Préliminaire Ventilateu'!N$13:N$44,$A40-nbappomp),IF($A40<=nbappomp+nbapven+nbapair,\"\",IF(A40<=nbappomp+nbapven+nbapair+nbaautre,INDEX('Analyse Préliminaire Autres'!$N$11:$N$42,A40-nbappomp-nbapven-nbapair),\"\"))))","v":""},{"$f":"IF($A40<=nbappomp,INDEX('Analyse Préliminaire Pompe'!O$13:O$47,$A40),IF($A40<=nbappomp+nbapven,INDEX('Analyse Préliminaire Ventilateu'!O$13:O$44,$A40-nbappomp),IF($A40<=nbappomp+nbapven+nbapair,\"\",IF(A40<=nbappomp+nbapven+nbapair+nbaautre,INDEX('Analyse Préliminaire Autres'!$O$11:$O$42,A40-nbappomp-nbapven-nbapair),\"\"))))","v":""},{"$f":"IF($A40<=nbappomp,INDEX('Analyse Préliminaire Pompe'!P$13:P$47,$A40),IF($A40<=nbappomp+nbapven,INDEX('Analyse Préliminaire Ventilateu'!P$13:P$44,$A40-nbappomp),IF($A40<=nbappomp+nbapven+nbapair,\"\",IF(A40<=nbappomp+nbapven+nbapair+nbaautre,INDEX('Analyse Préliminaire Autres'!#REF!,A40-nbappomp-nbapven-nbapair),\"\"))))","v":""},{"$f":"IF($A40<=nbappomp,INDEX('Analyse Préliminaire Pompe'!Q$13:Q$47,$A40),IF($A40<=nbappomp+nbapven,\"\",IF($A40<=nbappomp+nbapven+nbapair,\"\",\"\")))","v":""},{"$f":"IF(AI40=\"\",IF($A40<=nbappomp,INDEX('Analyse Préliminaire Pompe'!S$13:S$47,$A40),IF($A40<=nbappomp+nbapven,INDEX('Analyse Préliminaire Ventilateu'!Q$13:Q$44,$A40-nbappomp),IF($A40<=nbappomp+nbapven+nbapair,\"\",IF(A40<=nbappomp+nbapven+nbapair+nbaautre,\"\",\"\")))),AI40)","v":""},{"$f":"IF(AN40,\"\",IF($A40<=nbappomp,INDEX('Analyse Préliminaire Pompe'!AO$13:AO$47,$A40),IF($A40<=nbappomp+nbapven,INDEX('Analyse Préliminaire Ventilateu'!AM$13:AM$44,$A40-nbappomp),IF($A40<=nbappomp+nbapven+nbapair,EcoAPkWhCP,IF(A40<=nbappomp+nbapven+nbapair+nbaautre,INDEX('Analyse Préliminaire Autres'!$E$11:$E$42,A40-nbappomp-nbapven-nbapair),IF($A40<=nbappomp+nbapven+nbapair+nbaautre+nbafroid,INDEX('AP Groupe froid'!$AN$14:$AN$17,$A40-nbappomp-nbapven-nbapair-nbaautre),\"\"))))))","v":""},{"$f":"IF(AN40,\"\",IF($A40<=nbappomp,INDEX('Analyse Préliminaire Pompe'!AP$13:AP$47,$A40),IF($A40<=nbappomp+nbapven,INDEX('Analyse Préliminaire Ventilateu'!AN$13:AN$44,$A40-nbappomp),IF($A40<=nbappomp+nbapven+nbapair,EcoAPpercCP,IF(A40<=nbappomp+nbapven+nbapair+nbaautre,INDEX('Analyse Préliminaire Autres'!$E$11:$E$42,A40-nbappomp-nbapven-nbapair),IF($A40<=nbappomp+nbapven+nbapair+nbaautre+nbafroid,INDEX('AP Groupe froid'!$AO$14:$AO$17,$A40-nbappomp-nbapven-nbapair-nbaautre),\"\"))))))","v":""},{"$f":"IF(AN40,\"\",IF($A40<=nbappomp,INDEX('Analyse Préliminaire Pompe'!AQ$13:AQ$47,$A40),IF($A40<=nbappomp+nbapven,INDEX('Analyse Préliminaire Ventilateu'!AO$13:AO$44,$A40-nbappomp),IF($A40<=nbappomp+nbapven+nbapair,consoanncp,IF(A40<=nbappomp+nbapven+nbapair+nbaautre,INDEX('Analyse Préliminaire Autres'!$E$11:$E$42,A40-nbappomp-nbapven-nbapair),IF($A40<=nbappomp+nbapven+nbapair+nbaautre+nbafroid,INDEX('AP Groupe froid'!$AP$14:$AP$17,$A40-nbappomp-nbapven-nbapair-nbaautre),\"\"))))))","v":""},{"$f":"IF(R40=\"\",-1,IF(AND($L40>'Economies classées'!$B$2,$K40>0.2,YEAR(TODAY())-$Z40>8),2,IF(AND($L40>'Economies classées'!$B$3,YEAR(TODAY())-$Z40>5),1,0)))","v":-1},null,null,"",{"$f":"IF($A40<=nbappomp,ISBLANK(INDEX('Analyse Préliminaire Pompe'!AO$13:AO$47,$A40)),IF($A40<=nbappomp+nbapven,ISBLANK(INDEX('Analyse Préliminaire Ventilateu'!AM$13:AM$44,$A40-nbappomp)),IF($A40<=nbappomp+nbapven+nbapair,ISBLANK(EcoAPkWhCP),IF(A40<=nbappomp+nbapven+nbapair+nbaautre,ISBLANK(INDEX('Analyse Préliminaire Autres'!AC$11:AC$42,A40-nbappomp-nbapven-nbapair)),IF(A40<=nbappomp+nbapven+nbapair+nbaautre+nbafroid,ISBLANK(INDEX('AP Groupe froid'!$AN$14:$AN$17,A40-nbappomp-nbapven-nbapair-nbaautre)),FALSE)))))","v":false},{"$f":"IF(E40=Listes!$H$25,1,0)","v":0},{"$f":"IF(E40=Listes!$H$26,1,0)","v":0},0,0,{"$f":"IF(E40=Listes!$H$28,1,0)","v":0},null,0,0,0,0,0,null,0,0,0,0,0,null,"","","","","",null,-1,-1,-1,-1,null,null,{"$f":"IF(E40=Listes!$H$25,1,0)","v":0},{"$f":"IF(E40=Listes!$H$26,1,0)","v":0},0,0,0,0,0,null,0,0,null,{"$error":"#VALUE!"},0,0,0,null,null,null,"",""]
[17,"",null,{"$f":"IF(A41<=nbappomp,INDEX('Analyse Préliminaire Pompe'!$B$13:$B$47,A41),IF(A41<=nbappomp+nbapven,INDEX('Analyse Préliminaire Ventilateu'!$B$13:$B$44,A41-nbappomp),IF(A41<=nbappomp+nbapven+nbapair,301,IF(A41<=nbappomp+nbapven+nbapair+nbaautre,INDEX('Analyse Préliminaire Autres'!$B$11:$B$42,A41-nbappomp-nbapven-nbapair),IF(A41<=nbappomp+nbapven+nbapair+nbaautre+nbafroid,INDEX('AP Groupe froid'!$B$14:$B$17,A41-nbappomp-nbapven-nbapair-nbaautre),\"\")))))","v":""},{"$f":"IF(A41<=nbappomp,INDEX('Analyse Préliminaire Pompe'!$C$13:$C$47,A41),IF(A41<=nbappomp+nbapven,INDEX('Analyse Préliminaire Ventilateu'!$C$13:$C$44,A41-nbappomp),IF(A41<=nbappomp+nbapven+nbapair,$AJ$4,IF(A41<=nbappomp+nbapven+nbapair+nbaautre,INDEX('Analyse Préliminaire Autres'!$C$11:$C$42,A41-nbappomp-nbapven-nbapair),IF(A41<=nbappomp+nbapven+nbapair+nbaautre+nbafroid,INDEX('AP Groupe froid'!$C$14:$C$17,A41-nbappomp-nbapven-nbapair-nbaautre),\"\")))))","v":""},null,null,{"$f":"IF(A41<=nbappomp,INDEX('Analyse Préliminaire Pompe'!$H$13:$H$47,A41),IF(A41<=nbappomp+nbapven,INDEX('Analyse Préliminaire Ventilateu'!$H$13:$H$44,A41-nbappomp),IF(A41<=nbappomp+nbapven+nbapair,$AJ$4,IF(A41<=nbappomp+nbapven+nbapair+nbaautre,INDEX('Analyse Préliminaire Autres'!$H$11:$H$42,A41-nbappomp-nbapven-nbapair),IF(A41<=nbappomp+nbapven+nbapair+nbaautre+nbafroid,INDEX('AP Groupe froid'!$I$14:$I$17,A41-nbappomp-nbapven-nbapair-nbaautre),\"\")))))","v":""},null,null,{"$f":"IF(AH41=\"\",IF($A41<=nbappomp,INDEX('Analyse Préliminaire Pompe'!AE$13:AE$47,$A41),IF($A41<=nbappomp+nbapven,INDEX('Analyse Préliminaire Ventilateu'!AC$13:AC$44,$A41-nbappomp),IF($A41<=nbappomp+nbapven+nbapair,'Analyse Préliminaire air compr'!$AI$22,IF(A41<=nbappomp+nbapven+nbapair+nbaautre,INDEX('Analyse Préliminaire Autres'!$X$11:$X$42,A41-nbappomp-nbapven-nbapair),IF(A41<=nbappomp+nbapven+nbapair+nbaautre+nbafroid,INDEX('AP Groupe froid'!$AF$14:$AF$17,A41-nbappomp-nbapven-nbapair-nbaautre),\"\"))))),AH41)","v":""},{"$f":"IF(AG41=\"\",IF($A41<=nbappomp,INDEX('Analyse Préliminaire Pompe'!AD$13:AD$47,$A41),IF($A41<=nbappomp+nbapven,INDEX('Analyse Préliminaire Ventilateu'!AB$13:AB$44,$A41-nbappomp),IF($A41<=nbappomp+nbapven+nbapair,'Analyse Préliminaire air compr'!$AH$22,IF(A41<=nbappomp+nbapven+nbapair+nbaautre,INDEX('Analyse Préliminaire Autres'!$W$11:$W$42,A41-nbappomp-nbapven-nbapair),IF(A41<=nbappomp+nbapven+nbapair+nbaautre+nbafroid,INDEX('AP Groupe froid'!$AE$14:$AE$17,A41-nbappomp-nbapven-nbapair-nbaautre),\"\"))))),AG41)","v":""},null,"",null,"",null,{"$f":"IF(AI41=\"\",IF($A41<=nbappomp,INDEX('Analyse Préliminaire Pompe'!T$13:T$47,$A41),IF($A41<=nbappomp+nbapven,INDEX('Analyse Préliminaire Ventilateu'!R$13:R$44,$A41-nbappomp),IF($A41<=nbappomp+nbapven+nbapair,'Analyse Préliminaire air compr'!$AH$13,IF(A41<=nbappomp+nbapven+nbapair+nbaautre,INDEX('Analyse Préliminaire Autres'!$P$11:$P$42,A41-nbappomp-nbapven-nbapair),IF(A41<=nbappomp+nbapven+nbapair+nbaautre+nbafroid,INDEX('AP Groupe froid'!$AD$14:$AD$17,A41-nbappomp-nbapven-nbapair-nbaautre),\"\"))))),AI41)","v":""},null,{"$f":"IF($A41<=nbappomp,INDEX('Analyse Préliminaire Pompe'!X$13:X$47,$A41),IF($A41<=nbappomp+nbapven,INDEX('Analyse Préliminaire Ventilateu'!V$13:V$44,$A41-nbappomp),IF($A41<=nbappomp+nbapven+nbapair,'Analyse Préliminaire air compr'!$E$35,IF(A41<=nbappomp+nbapven+nbapair+nbaautre,INDEX('Analyse Préliminaire Autres'!$R$11:$R$42,A41-nbappomp-nbapven-nbapair),IF(A41<=nbappomp+nbapven+nbapair+nbaautre+nbafroid,INDEX('AP Groupe froid'!$Z$14:$Z$17,A41-nbappomp-nbapven-nbapair-nbaautre),\"\")))))","v":""},null,null,{"$f":"IF(AG41=\"\",IF($A41<=nbappomp,INDEX('Analyse Préliminaire Pompe'!AN$13:AN$47,$A41),IF($A41<=nbappomp+nbapven,INDEX('Analyse Préliminaire Ventilateu'!AL$13:AL$44,$A41-nbappomp),IF($A41<=nbappomp+nbapven+nbapair,'Analyse Préliminaire air compr'!$AM$16,IF(A41<=nbappomp+nbapven+nbapair+nbaautre,INDEX('Analyse Préliminaire Autres'!$AB$11:$AB$42,A41-nbappomp-nbapven-nbapair),IF(A41<=nbappomp+nbapven+nbapair+nbaautre+nbafroid,INDEX('AP Groupe froid'!$AM$14:$AM$17,A41-nbappomp-nbapven-nbapair-nbaautre),\"\"))))),'Economies classées'!$A$47)","v":""},{"$f":"IF($A41<=nbappomp,INDEX('Analyse Préliminaire Pompe'!E$13:E$47,$A41),IF($A41<=nbappomp+nbapven,INDEX('Analyse Préliminaire Ventilateu'!E$13:E$44,$A41-nbappomp),IF($A41<=nbappomp+nbapven+nbapair,\"voir detail\",IF(A41<=nbappomp+nbapven+nbapair+nbaautre,INDEX('Analyse Préliminaire Autres'!$E$11:$E$42,A41-nbappomp-nbapven-nbapair),IF(A41<=nbappomp+nbapven+nbapair+nbaautre+nbafroid,INDEX('AP Groupe froid'!$F$14:$F$17,A41-nbappomp-nbapven-nbapair-nbaautre),\"\")))))","v":""},{"$f":"IF($A41<=nbappomp,INDEX('Analyse Préliminaire Pompe'!K$13:K$47,$A41),IF($A41<=nbappomp+nbapven,INDEX('Analyse Préliminaire Ventilateu'!K$13:K$44,$A41-nbappomp),IF($A41<=nbappomp+nbapven+nbapair,SUM('Analyse Préliminaire air compr'!$I$26:$I$32),IF(A41<=nbappomp+nbapven+nbapair+nbaautre,INDEX('Analyse Préliminaire Autres'!$K$11:$K$42,A41-nbappomp-nbapven-nbapair),IF(A41<=nbappomp+nbapven+nbapair+nbaautre+nbafroid,INDEX('AP Groupe froid'!$O$14:$O$17,A41-nbappomp-nbapven-nbapair-nbaautre),\"\")))))","v":""},{"$f":"IF($A41<=nbappomp,INDEX('Analyse Préliminaire Pompe'!L$13:L$47,$A41),IF($A41<=nbappomp+nbapven,INDEX('Analyse Préliminaire Ventilateu'!L$13:L$44,$A41-nbappomp),IF($A41<=nbappomp+nbapven+nbapair,MIN('Analyse Préliminaire air compr'!$J$26:$J$32),IF(A41<=nbappomp+nbapven+nbapair+nbaautre,INDEX('Analyse Préliminaire Autres'!$L$11:$L$42,A41-nbappomp-nbapven-nbapair),IF($A41<=nbappomp+nbapven+nbapair,'Analyse Préliminaire air compr'!$AM$16,IF(A41<=nbappomp+nbapven+nbapair+nbaautre+nbafroid,INDEX('AP Groupe froid'!$L$14:$L$17,A41-nbappomp-nbapven-nbapair-nbaautre),\"\"))))))","v":""},{"$f":"IF($A41<=nbappomp,INDEX('Analyse Préliminaire Pompe'!M$13:M$47,$A41),IF($A41<=nbappomp+nbapven,INDEX('Analyse Préliminaire Ventilateu'!M$13:M$44,$A41-nbappomp),IF($A41<=nbappomp+nbapven+nbapair,\"\",IF(A41<=nbappomp+nbapven+nbapair+nbaautre,INDEX('Analyse Préliminaire Autres'!$M$11:$M$42,A41-nbappomp-nbapven-nbapair),IF($A41<=nbappomp+nbapven+nbapair,'Analyse Préliminaire air compr'!$AM$16,IF(A41<=nbappomp+nbapven+nbapair+nbaautre+nbafroid,INDEX('AP Groupe froid'!$M$14:$M$17,A41-nbappomp-nbapven-nbapair-nbaautre),\"\"))))))","v":""},{"$f":"IF($A41<=nbappomp,INDEX('Analyse Préliminaire Pompe'!N$13:N$47,$A41),IF($A41<=nbappomp+nbapven,INDEX('Analyse Préliminaire Ventilateu'!N$13:N$44,$A41-nbappomp),IF($A41<=nbappomp+nbapven+nbapair,\"\",IF(A41<=nbappomp+nbapven+nbapair+nbaautre,INDEX('Analyse Préliminaire Autres'!$N$11:$N$42,A41-nbappomp-nbapven-nbapair),\"\"))))","v":""},{"$f":"IF($A41<=nbappomp,INDEX('Analyse Préliminaire Pompe'!O$13:O$47,$A41),IF($A41<=nbappomp+nbapven,INDEX('Analyse Préliminaire Ventilateu'!O$13:O$44,$A41-nbappomp),IF($A41<=nbappomp+nbapven+nbapair,\"\",IF(A41<=nbappomp+nbapven+nbapair+nbaautre,INDEX('Analyse Préliminaire Autres'!$O$11:$O$42,A41-nbappomp-nbapven-nbapair),\"\"))))","v":""},{"$f":"IF($A41<=nbappomp,INDEX('Analyse Préliminaire Pompe'!P$13:P$47,$A41),IF($A41<=nbappomp+nbapven,INDEX('Analyse Préliminaire Ventilateu'!P$13:P$44,$A41-nbappomp),IF($A41<=nbappomp+nbapven+nbapair,\"\",IF(A41<=nbappomp+nbapven+nbapair+nbaautre,INDEX('Analyse Préliminaire Autres'!#REF!,A41-nbappomp-nbapven-nbapair),\"\"))))","v":""},{"$f":"IF($A41<=nbappomp,INDEX('Analyse Préliminaire Pompe'!Q$13:Q$47,$A41),IF($A41<=nbappomp+nbapven,\"\",IF($A41<=nbappomp+nbapven+nbapair,\"\",\"\")))","v":""},{"$f":"IF(AI41=\"\",IF($A41<=nbappomp,INDEX('Analyse Préliminaire Pompe'!S$13:S$47,$A41),IF($A41<=nbappomp+nbapven,INDEX('Analyse Préliminaire Ventilateu'!Q$13:Q$44,$A41-nbappomp),IF($A41<=nbappomp+nbapven+nbapair,\"\",IF(A41<=nbappomp+nbapven+nbapair+nbaautre,\"\",\"\")))),AI41)","v":""},{"$f":"IF(AN41,\"\",IF($A41<=nbappomp,INDEX('Analyse Préliminaire Pompe'!AO$13:AO$47,$A41),IF($A41<=nbappomp+nbapven,INDEX('Analyse Préliminaire Ventilateu'!AM$13:AM$44,$A41-nbappomp),IF($A41<=nbappomp+nbapven+nbapair,EcoAPkWhCP,IF(A41<=nbappomp+nbapven+nbapair+nbaautre,INDEX('Analyse Préliminaire Autres'!$E$11:$E$42,A41-nbappomp-nbapven-nbapair),IF($A41<=nbappomp+nbapven+nbapair+nbaautre+nbafroid,INDEX('AP Groupe froid'!$AN$14:$AN$17,$A41-nbappomp-nbapven-nbapair-nbaautre),\"\"))))))","v":""},{"$f":"IF(AN41,\"\",IF($A41<=nbappomp,INDEX('Analyse Préliminaire Pompe'!AP$13:AP$47,$A41),IF($A41<=nbappomp+nbapven,INDEX('Analyse Préliminaire Ventilateu'!AN$13:AN$44,$A41-nbappomp),IF($A41<=nbappomp+nbapven+nbapair,EcoAPpercCP,IF(A41<=nbappomp+nbapven+nbapair+nbaautre,INDEX('Analyse Préliminaire Autres'!$E$11:$E$42,A41-nbappomp-nbapven-nbapair),IF($A41<=nbappomp+nbapven+nbapair+nbaautre+nbafroid,INDEX('AP Groupe froid'!$AO$14:$AO$17,$A41-nbappomp-nbapven-nbapair-nbaautre),\"\"))))))","v":""},{"$f":"IF(AN41,\"\",IF($A41<=nbappomp,INDEX('Analyse Préliminaire Pompe'!AQ$13:AQ$47,$A41),IF($A41<=nbappomp+nbapven,INDEX('Analyse Préliminaire Ventilateu'!AO$13:AO$44,$A41-nbappomp),IF($A41<=nbappomp+nbapven+nbapair,consoanncp,IF(A41<=nbappomp+nbapven+nbapair+nbaautre,INDEX('Analyse Préliminaire Autres'!$E$11:$E$42,A41-nbappomp-nbapven-nbapair),IF($A41<=nbappomp+nbapven+nbapair+nbaautre+nbafroid,INDEX('AP Groupe froid'!$AP$14:$AP$17,$A41-nbappomp-nbapven-nbapair-nbaautre),\"\"))))))","v":""},{"$f":"IF(R41=\"\",-1,IF(AND($L41>'Economies classées'!$B$2,$K41>0.2,YEAR(TODAY())-$Z41>8),2,IF(AND($L41>'Economies classées'!$B$3,YEAR(TODAY())-$Z41>5),1,0)))","v":-1},null,null,"",{"$f":"IF($A41<=nbappomp,ISBLANK(INDEX('Analyse Préliminaire Pompe'!AO$13:AO$47,$A41)),IF($A41<=nbappomp+nbapven,ISBLANK(INDEX('Analyse Préliminaire Ventilateu'!AM$13:AM$44,$A41-nbappomp)),IF($A41<=nbappomp+nbapven+nbapair,ISBLANK(EcoAPkWhCP),IF(A41<=nbappomp+nbapven+nbapair+nbaautre,ISBLANK(INDEX('Analyse Préliminaire Autres'!AC$11:AC$42,A41-nbappomp-nbapven-nbapair)),IF(A41<=nbappomp+nbapven+nbapair+nbaautre+nbafroid,ISBLANK(INDEX('AP Groupe froid'!$AN$14:$AN$17,A41-nbappomp-nbapven-nbapair-nbaautre)),FALSE)))))","v":false},{"$f":"IF(E41=Listes!$H$25,1,0)","v":0},{"$f":"IF(E41=Listes!$H$26,1,0)","v":0},0,0,{"$f":"IF(E41=Listes!$H$28,1,0)","v":0},null,0,0,0,0,0,null,0,0,0,0,0,null,"","","","","",null,-1,-1,-1,-1,null,null,{"$f":"IF(E41=Listes!$H$25,1,0)","v":0},{"$f":"IF(E41=Listes!$H$26,1,0)","v":0},0,0,0,0,0,null,0,0,null,{"$error":"#VALUE!"},0,0,0,null,null,null,"",""]
[18,"",null,{"$f":"IF(A42<=nbappomp,INDEX('Analyse Préliminaire Pompe'!$B$13:$B$47,A42),IF(A42<=nbappomp+nbapven,INDEX('Analyse Préliminaire Ventilateu'!$B$13:$B$44,A42-nbappomp),IF(A42<=nbappomp+nbapven+nbapair,301,IF(A42<=nbappomp+nbapven+nbapair+nbaautre,INDEX('Analyse Préliminaire Autres'!$B$11:$B$42,A42-nbappomp-nbapven-nbapair),IF(A42<=nbappomp+nbapven+nbapair+nbaautre+nbafroid,INDEX('AP Groupe froid'!$B$14:$B$17,A42-nbappomp-nbapven-nbapair-nbaautre),\"\")))))","v":""},{"$f":"IF(A42<=nbappomp,INDEX('Analyse Préliminaire Pompe'!$C$13:$C$47,A42),IF(A42<=nbappomp+nbapven,INDEX('Analyse Préliminaire Ventilateu'!$C$13:$C$44,A42-nbappomp),IF(A42<=nbappomp+nbapven+nbapair,$AJ$4,IF(A42<=nbappomp+nbapven+nbapair+nbaautre,INDEX('Analyse Préliminaire Autres'!$C$11:$C$42,A42-nbappomp-nbapven-nbapair),IF(A42<=nbappomp+nbapven+nbapair+nbaautre+nbafroid,INDEX('AP Groupe froid'!$C$14:$C$17,A42-nbappomp-nbapven-nbapair-nbaautre),\"\")))))","v":""},null,null,{"$f":"IF(A42<=nbappomp,INDEX('Analyse Préliminaire Pompe'!$H$13:$H$47,A42),IF(A42<=nbappomp+nbapven,INDEX('Analyse Préliminaire Ventilateu'!$H$13:$H$44,A42-nbappomp),IF(A42<=nbappomp+nbapven+nbapair,$AJ$4,IF(A42<=nbappomp+nbapven+nbapair+nbaautre,INDEX('Analyse Préliminaire Autres'!$H$11:$H$42,A42-nbappomp-nbapven-nbapair),IF(A42<=nbappomp+nbapven+nbapair+nbaautre+nbafroid,INDEX('AP Groupe froid'!$I$14:$I$17,A42-nbappomp-nbapven-nbapair-nbaautre),\"\")))))","v":""},null,null,{"$f":"IF(AH42=\"\",IF($A42<=nbappomp,INDEX('Analyse Préliminaire Pompe'!AE$13:AE$47,$A42),IF($A42<=nbappomp+nbapven,INDEX('Analyse Préliminaire Ventilateu'!AC$13:AC$44,$A42-nbappomp),IF($A42<=nbappomp+nbapven+nbapair,'Analyse Préliminaire air compr'!$AI$22,IF(A42<=nbappomp+nbapven+nbapair+nbaautre,INDEX('Analyse Préliminaire Autres'!$X$11:$X$42,A42-nbappomp-nbapven-nbapair),IF(A42<=nbappomp+nbapven+nbapair+nbaautre+nbafroid,INDEX('AP Groupe froid'!$AF$14:$AF$17,A42-nbappomp-nbapven-nbapair-nbaautre),\"\"))))),AH42)","v":""},{"$f":"IF(AG42=\"\",IF($A42<=nbappomp,INDEX('Analyse Préliminaire Pompe'!AD$13:AD$47,$A42),IF($A42<=nbappomp+nbapven,INDEX('Analyse Préliminaire Ventilateu'!AB$13:AB$44,$A42-nbappomp),IF($A42<=nbappomp+nbapven+nbapair,'Analyse Préliminaire air compr'!$AH$22,IF(A42<=nbappomp+nbapven+nbapair+nbaautre,INDEX('Analyse Préliminaire Autres'!$W$11:$W$42,A42-nbappomp-nbapven-nbapair),IF(A42<=nbappomp+nbapven+nbapair+nbaautre+nbafroid,INDEX('AP Groupe froid'!$AE$14:$AE$17,A42-nbappomp-nbapven-nbapair-nbaautre),\"\"))))),AG42)","v":""},null,"",null,"",null,{"$f":"IF(AI42=\"\",IF($A42<=nbappomp,INDEX('Analyse Préliminaire Pompe'!T$13:T$47,$A42),IF($A42<=nbappomp+nbapven,INDEX('Analyse Préliminaire Ventilateu'!R$13:R$44,$A42-nbappomp),IF($A42<=nbappomp+nbapven+nbapair,'Analyse Préliminaire air compr'!$AH$13,IF(A42<=nbappomp+nbapven+nbapair+nbaautre,INDEX('Analyse Préliminaire Autres'!$P$11:$P$42,A42-nbappomp-nbapven-nbapair),IF(A42<=nbappomp+nbapven+nbapair+nbaautre+nbafroid,INDEX('AP Groupe froid'!$AD$14:$AD$17,A42-nbappomp-nbapven-nbapair-nbaautre),\"\"))))),AI42)","v":""},null,{"$f":"IF($A42<=nbappomp,INDEX('Analyse Préliminaire Pompe'!X$13:X$47,$A42),IF($A42<=nbappomp+nbapven,INDEX('Analyse Préliminaire Ventilateu'!V$13:V$44,$A42-nbappomp),IF($A42<=nbappomp+nbapven+nbapair,'Analyse Préliminaire air compr'!$E$35,IF(A42<=nbappomp+nbapven+nbapair+nbaautre,INDEX('Analyse Préliminaire Autres'!$R$11:$R$42,A42-nbappomp-nbapven-nbapair),IF(A42<=nbappomp+nbapven+nbapair+nbaautre+nbafroid,INDEX('AP Groupe froid'!$Z$14:$Z$17,A42-nbappomp-nbapven-nbapair-nbaautre),\"\")))))","v":""},null,null,{"$f":"IF(AG42=\"\",IF($A42<=nbappomp,INDEX('Analyse Préliminaire Pompe'!AN$13:AN$47,$A42),IF($A42<=nbappomp+nbapven,INDEX('Analyse Préliminaire Ventilateu'!AL$13:AL$44,$A42-nbappomp),IF($A42<=nbappomp+nbapven+nbapair,'Analyse Préliminaire air compr'!$AM$16,IF(A42<=nbappomp+nbapven+nbapair+nbaautre,INDEX('Analyse Préliminaire Autres'!$AB$11:$AB$42,A42-nbappomp-nbapven-nbapair),IF(A42<=nbappomp+nbapven+nbapair+nbaautre+nbafroid,INDEX('AP Groupe froid'!$AM$14:$AM$17,A42-nbappomp-nbapven-nbapair-nbaautre),\"\"))))),'Economies classées'!$A$47)","v":""},{"$f":"IF($A42<=nbappomp,INDEX('Analyse Préliminaire Pompe'!E$13:E$47,$A42),IF($A42<=nbappomp+nbapven,INDEX('Analyse Préliminaire Ventilateu'!E$13:E$44,$A42-nbappomp),IF($A42<=nbappomp+nbapven+nbapair,\"voir detail\",IF(A42<=nbappomp+nbapven+nbapair+nbaautre,INDEX('Analyse Préliminaire Autres'!$E$11:$E$42,A42-nbappomp-nbapven-nbapair),IF(A42<=nbappomp+nbapven+nbapair+nbaautre+nbafroid,INDEX('AP Groupe froid'!$F$14:$F$17,A42-nbappomp-nbapven-nbapair-nbaautre),\"\")))))","v":""},{"$f":"IF($A42<=nbappomp,INDEX('Analyse Préliminaire Pompe'!K$13:K$47,$A42),IF($A42<=nbappomp+nbapven,INDEX('Analyse Préliminaire Ventilateu'!K$13:K$44,$A42-nbappomp),IF($A42<=nbappomp+nbapven+nbapair,SUM('Analyse Préliminaire air compr'!$I$26:$I$32),IF(A42<=nbappomp+nbapven+nbapair+nbaautre,INDEX('Analyse Préliminaire Autres'!$K$11:$K$42,A42-nbappomp-nbapven-nbapair),IF(A42<=nbappomp+nbapven+nbapair+nbaautre+nbafroid,INDEX('AP Groupe froid'!$O$14:$O$17,A42-nbappomp-nbapven-nbapair-nbaautre),\"\")))))","v":""},{"$f":"IF($A42<=nbappomp,INDEX('Analyse Préliminaire Pompe'!L$13:L$47,$A42),IF($A42<=nbappomp+nbapven,INDEX('Analyse Préliminaire Ventilateu'!L$13:L$44,$A42-nbappomp),IF($A42<=nbappomp+nbapven+nbapair,MIN('Analyse Préliminaire air compr'!$J$26:$J$32),IF(A42<=nbappomp+nbapven+nbapair+nbaautre,INDEX('Analyse Préliminaire Autres'!$L$11:$L$42,A42-nbappomp-nbapven-nbapair),IF($A42<=nbappomp+nbapven+nbapair,'Analyse Préliminaire air compr'!$AM$16,IF(A42<=nbappomp+nbapven+nbapair+nbaautre+nbafroid,INDEX('AP Groupe froid'!$L$14:$L$17,A42-nbappomp-nbapven-nbapair-nbaautre),\"\"))))))","v":""},{"$f":"IF($A42<=nbappomp,INDEX('Analyse Préliminaire Pompe'!M$13:M$47,$A42),IF($A42<=nbappomp+nbapven,INDEX('Analyse Préliminaire Ventilateu'!M$13:M$44,$A42-nbappomp),IF($A42<=nbappomp+nbapven+nbapair,\"\",IF(A42<=nbappomp+nbapven+nbapair+nbaautre,INDEX('Analyse Préliminaire Autres'!$M$11:$M$42,A42-nbappomp-nbapven-nbapair),IF($A42<=nbappomp+nbapven+nbapair,'Analyse Préliminaire air compr'!$AM$16,IF(A42<=nbappomp+nbapven+nbapair+nbaautre+nbafroid,INDEX('AP Groupe froid'!$M$14:$M$17,A42-nbappomp-nbapven-nbapair-nbaautre),\"\"))))))","v":""},{"$f":"IF($A42<=nbappomp,INDEX('Analyse Préliminaire Pompe'!N$13:N$47,$A42),IF($A42<=nbappomp+nbapven,INDEX('Analyse Préliminaire Ventilateu'!N$13:N$44,$A42-nbappomp),IF($A42<=nbappomp+nbapven+nbapair,\"\",IF(A42<=nbappomp+nbapven+nbapair+nbaautre,INDEX('Analyse Préliminaire Autres'!$N$11:$N$42,A42-nbappomp-nbapven-nbapair),\"\"))))","v":""},{"$f":"IF($A42<=nbappomp,INDEX('Analyse Préliminaire Pompe'!O$13:O$47,$A42),IF($A42<=nbappomp+nbapven,INDEX('Analyse Préliminaire Ventilateu'!O$13:O$44,$A42-nbappomp),IF($A42<=nbappomp+nbapven+nbapair,\"\",IF(A42<=nbappomp+nbapven+nbapair+nbaautre,INDEX('Analyse Préliminaire Autres'!$O$11:$O$42,A42-nbappomp-nbapven-nbapair),\"\"))))","v":""},{"$f":"IF($A42<=nbappomp,INDEX('Analyse Préliminaire Pompe'!P$13:P$47,$A42),IF($A42<=nbappomp+nbapven,INDEX('Analyse Préliminaire Ventilateu'!P$13:P$44,$A42-nbappomp),IF($A42<=nbappomp+nbapven+nbapair,\"\",IF(A42<=nbappomp+nbapven+nbapair+nbaautre,INDEX('Analyse Préliminaire Autres'!#REF!,A42-nbappomp-nbapven-nbapair),\"\"))))","v":""},{"$f":"IF($A42<=nbappomp,INDEX('Analyse Préliminaire Pompe'!Q$13:Q$47,$A42),IF($A42<=nbappomp+nbapven,\"\",IF($A42<=nbappomp+nbapven+nbapair,\"\",\"\")))","v":""},{"$f":"IF(AI42=\"\",IF($A42<=nbappomp,INDEX('Analyse Préliminaire Pompe'!S$13:S$47,$A42),IF($A42<=nbappomp+nbapven,INDEX('Analyse Préliminaire Ventilateu'!Q$13:Q$44,$A42-nbappomp),IF($A42<=nbappomp+nbapven+nbapair,\"\",IF(A42<=nbappomp+nbapven+nbapair+nbaautre,\"\",\"\")))),AI42)","v":""},{"$f":"IF(AN42,\"\",IF($A42<=nbappomp,INDEX('Analyse Préliminaire Pompe'!AO$13:AO$47,$A42),IF($A42<=nbappomp+nbapven,INDEX('Analyse Préliminaire Ventilateu'!AM$13:AM$44,$A42-nbappomp),IF($A42<=nbappomp+nbapven+nbapair,EcoAPkWhCP,IF(A42<=nbappomp+nbapven+nbapair+nbaautre,INDEX('Analyse Préliminaire Autres'!$E$11:$E$42,A42-nbappomp-nbapven-nbapair),IF($A42<=nbappomp+nbapven+nbapair+nbaautre+nbafroid,INDEX('AP Groupe froid'!$AN$14:$AN$17,$A42-nbappomp-nbapven-nbapair-nbaautre),\"\"))))))","v":""},{"$f":"IF(AN42,\"\",IF($A42<=nbappomp,INDEX('Analyse Préliminaire Pompe'!AP$13:AP$47,$A42),IF($A42<=nbappomp+nbapven,INDEX('Analyse Préliminaire Ventilateu'!AN$13:AN$44,$A42-nbappomp),IF($A42<=nbappomp+nbapven+nbapair,EcoAPpercCP,IF(A42<=nbappomp+nbapven+nbapair+nbaautre,INDEX('Analyse Préliminaire Autres'!$E$11:$E$42,A42-nbappomp-nbapven-nbapair),IF($A42<=nbappomp+nbapven+nbapair+nbaautre+nbafroid,INDEX('AP Groupe froid'!$AO$14:$AO$17,$A42-nbappomp-nbapven-nbapair-nbaautre),\"\"))))))","v":""},{"$f":"IF(AN42,\"\",IF($A42<=nbappomp,INDEX('Analyse Préliminaire Pompe'!AQ$13:AQ$47,$A42),IF($A42<=nbappomp+nbapven,INDEX('Analyse Préliminaire Ventilateu'!AO$13:AO$44,$A42-nbappomp),IF($A42<=nbappomp+nbapven+nbapair,consoanncp,IF(A42<=nbappomp+nbapven+nbapair+nbaautre,INDEX('Analyse Préliminaire Autres'!$E$11:$E$42,A42-nbappomp-nbapven-nbapair),IF($A42<=nbappomp+nbapven+nbapair+nbaautre+nbafroid,INDEX('AP Groupe froid'!$AP$14:$AP$17,$A42-nbappomp-nbapven-nbapair-nbaautre),\"\"))))))","v":""},{"$f":"IF(R42=\"\",-1,IF(AND($L42>'Economies classées'!$B$2,$K42>0.2,YEAR(TODAY())-$Z42>8),2,IF(AND($L42>'Economies classées'!$B$3,YEAR(TODAY())-$Z42>5),1,0)))","v":-1},null,null,"",{"$f":"IF($A42<=nbappomp,ISBLANK(INDEX('Analyse Préliminaire Pompe'!AO$13:AO$47,$A42)),IF($A42<=nbappomp+nbapven,ISBLANK(INDEX('Analyse Préliminaire Ventilateu'!AM$13:AM$44,$A42-nbappomp)),IF($A42<=nbappomp+nbapven+nbapair,ISBLANK(EcoAPkWhCP),IF(A42<=nbappomp+nbapven+nbapair+nbaautre,ISBLANK(INDEX('Analyse Préliminaire Autres'!AC$11:AC$42,A42-nbappomp-nbapven-nbapair)),IF(A42<=nbappomp+nbapven+nbapair+nbaautre+nbafroid,ISBLANK(INDEX('AP Groupe froid'!$AN$14:$AN$17,A42-nbappomp-nbapven-nbapair-nbaautre)),FALSE)))))","v":false},{"$f":"IF(E42=Listes!$H$25,1,0)","v":0},{"$f":"IF(E42=Listes!$H$26,1,0)","v":0},0,0,{"$f":"IF(E42=Listes!$H$28,1,0)","v":0},null,0,0,0,0,0,null,0,0,0,0,0,null,"","","","","",null,-1,-1,-1,-1,null,null,{"$f":"IF(E42=Listes!$H$25,1,0)","v":0},{"$f":"IF(E42=Listes!$H$26,1,0)","v":0},0,0,0,0,0,null,0,0,null,{"$error":"#VALUE!"},0,0,0,null,null,null,"",""]
[19,"",null,{"$f":"IF(A43<=nbappomp,INDEX('Analyse Préliminaire Pompe'!$B$13:$B$47,A43),IF(A43<=nbappomp+nbapven,INDEX('Analyse Préliminaire Ventilateu'!$B$13:$B$44,A43-nbappomp),IF(A43<=nbappomp+nbapven+nbapair,301,IF(A43<=nbappomp+nbapven+nbapair+nbaautre,INDEX('Analyse Préliminaire Autres'!$B$11:$B$42,A43-nbappomp-nbapven-nbapair),IF(A43<=nbappomp+nbapven+nbapair+nbaautre+nbafroid,INDEX('AP Groupe froid'!$B$14:$B$17,A43-nbappomp-nbapven-nbapair-nbaautre),\"\")))))","v":""},{"$f":"IF(A43<=nbappomp,INDEX('Analyse Préliminaire Pompe'!$C$13:$C$47,A43),IF(A43<=nbappomp+nbapven,INDEX('Analyse Préliminaire Ventilateu'!$C$13:$C$44,A43-nbappomp),IF(A43<=nbappomp+nbapven+nbapair,$AJ$4,IF(A43<=nbappomp+nbapven+nbapair+nbaautre,INDEX('Analyse Préliminaire Autres'!$C$11:$C$42,A43-nbappomp-nbapven-nbapair),IF(A43<=nbappomp+nbapven+nbapair+nbaautre+nbafroid,INDEX('AP Groupe froid'!$C$14:$C$17,A43-nbappomp-nbapven-nbapair-nbaautre),\"\")))))","v":""},null,null,{"$f":"IF(A43<=nbappomp,INDEX('Analyse Préliminaire Pompe'!$H$13:$H$47,A43),IF(A43<=nbappomp+nbapven,INDEX('Analyse Préliminaire Ventilateu'!$H$13:$H$44,A43-nbappomp),IF(A43<=nbappomp+nbapven+nbapair,$AJ$4,IF(A43<=nbappomp+nbapven+nbapair+nbaautre,INDEX('Analyse Préliminaire Autres'!$H$11:$H$42,A43-nbappomp-nbapven-nbapair),IF(A43<=nbappomp+nbapven+nbapair+nbaautre+nbafroid,INDEX('AP Groupe froid'!$I$14:$I$17,A43-nbappomp-nbapven-nbapair-nbaautre),\"\")))))","v":""},null,null,{"$f":"IF(AH43=\"\",IF($A43<=nbappomp,INDEX('Analyse Préliminaire Pompe'!AE$13:AE$47,$A43),IF($A43<=nbappomp+nbapven,INDEX('Analyse Préliminaire Ventilateu'!AC$13:AC$44,$A43-nbappomp),IF($A43<=nbappomp+nbapven+nbapair,'Analyse Préliminaire air compr'!$AI$22,IF(A43<=nbappomp+nbapven+nbapair+nbaautre,INDEX('Analyse Préliminaire Autres'!$X$11:$X$42,A43-nbappomp-nbapven-nbapair),IF(A43<=nbappomp+nbapven+nbapair+nbaautre+nbafroid,INDEX('AP Groupe froid'!$AF$14:$AF$17,A43-nbappomp-nbapven-nbapair-nbaautre),\"\"))))),AH43)","v":""},{"$f":"IF(AG43=\"\",IF($A43<=nbappomp,INDEX('Analyse Préliminaire Pompe'!AD$13:AD$47,$A43),IF($A43<=nbappomp+nbapven,INDEX('Analyse Préliminaire Ventilateu'!AB$13:AB$44,$A43-nbappomp),IF($A43<=nbappomp+nbapven+nbapair,'Analyse Préliminaire air compr'!$AH$22,IF(A43<=nbappomp+nbapven+nbapair+nbaautre,INDEX('Analyse Préliminaire Autres'!$W$11:$W$42,A43-nbappomp-nbapven-nbapair),IF(A43<=nbappomp+nbapven+nbapair+nbaautre+nbafroid,INDEX('AP Groupe froid'!$AE$14:$AE$17,A43-nbappomp-nbapven-nbapair-nbaautre),\"\"))))),AG43)","v":""},null,"",null,"",null,{"$f":"IF(AI43=\"\",IF($A43<=nbappomp,INDEX('Analyse Préliminaire Pompe'!T$13:T$47,$A43),IF($A43<=nbappomp+nbapven,INDEX('Analyse Préliminaire Ventilateu'!R$13:R$44,$A43-nbappomp),IF($A43<=nbappomp+nbapven+nbapair,'Analyse Préliminaire air compr'!$AH$13,IF(A43<=nbappomp+nbapven+nbapair+nbaautre,INDEX('Analyse Préliminaire Autres'!$P$11:$P$42,A43-nbappomp-nbapven-nbapair),IF(A43<=nbappomp+nbapven+nbapair+nbaautre+nbafroid,INDEX('AP Groupe froid'!$AD$14:$AD$17,A43-nbappomp-nbapven-nbapair-nbaautre),\"\"))))),AI43)","v":""},null,{"$f":"IF($A43<=nbappomp,INDEX('Analyse Préliminaire Pompe'!X$13:X$47,$A43),IF($A43<=nbappomp+nbapven,INDEX('Analyse Préliminaire Ventilateu'!V$13:V$44,$A43-nbappomp),IF($A43<=nbappomp+nbapven+nbapair,'Analyse Préliminaire air compr'!$E$35,IF(A43<=nbappomp+nbapven+nbapair+nbaautre,INDEX('Analyse Préliminaire Autres'!$R$11:$R$42,A43-nbappomp-nbapven-nbapair),IF(A43<=nbappomp+nbapven+nbapair+nbaautre+nbafroid,INDEX('AP Groupe froid'!$Z$14:$Z$17,A43-nbappomp-nbapven-nbapair-nbaautre),\"\")))))","v":""},null,null,{"$f":"IF(AG43=\"\",IF($A43<=nbappomp,INDEX('Analyse Préliminaire Pompe'!AN$13:AN$47,$A43),IF($A43<=nbappomp+nbapven,INDEX('Analyse Préliminaire Ventilateu'!AL$13:AL$44,$A43-nbappomp),IF($A43<=nbappomp+nbapven+nbapair,'Analyse Préliminaire air compr'!$AM$16,IF(A43<=nbappomp+nbapven+nbapair+nbaautre,INDEX('Analyse Préliminaire Autres'!$AB$11:$AB$42,A43-nbappomp-nbapven-nbapair),IF(A43<=nbappomp+nbapven+nbapair+nbaautre+nbafroid,INDEX('AP Groupe froid'!$AM$14:$AM$17,A43-nbappomp-nbapven-nbapair-nbaautre),\"\"))))),'Economies classées'!$A$47)","v":""},{"$f":"IF($A43<=nbappomp,INDEX('Analyse Préliminaire Pompe'!E$13:E$47,$A43),IF($A43<=nbappomp+nbapven,INDEX('Analyse Préliminaire Ventilateu'!E$13:E$44,$A43-nbappomp),IF($A43<=nbappomp+nbapven+nbapair,\"voir detail\",IF(A43<=nbappomp+nbapven+nbapair+nbaautre,INDEX('Analyse Préliminaire Autres'!$E$11:$E$42,A43-nbappomp-nbapven-nbapair),IF(A43<=nbappomp+nbapven+nbapair+nbaautre+nbafroid,INDEX('AP Groupe froid'!$F$14:$F$17,A43-nbappomp-nbapven-nbapair-nbaautre),\"\")))))","v":""},{"$f":"IF($A43<=nbappomp,INDEX('Analyse Préliminaire Pompe'!K$13:K$47,$A43),IF($A43<=nbappomp+nbapven,INDEX('Analyse Préliminaire Ventilateu'!K$13:K$44,$A43-nbappomp),IF($A43<=nbappomp+nbapven+nbapair,SUM('Analyse Préliminaire air compr'!$I$26:$I$32),IF(A43<=nbappomp+nbapven+nbapair+nbaautre,INDEX('Analyse Préliminaire Autres'!$K$11:$K$42,A43-nbappomp-nbapven-nbapair),IF(A43<=nbappomp+nbapven+nbapair+nbaautre+nbafroid,INDEX('AP Groupe froid'!$O$14:$O$17,A43-nbappomp-nbapven-nbapair-nbaautre),\"\")))))","v":""},{"$f":"IF($A43<=nbappomp,INDEX('Analyse Préliminaire Pompe'!L$13:L$47,$A43),IF($A43<=nbappomp+nbapven,INDEX('Analyse Préliminaire Ventilateu'!L$13:L$44,$A43-nbappomp),IF($A43<=nbappomp+nbapven+nbapair,MIN('Analyse Préliminaire air compr'!$J$26:$J$32),IF(A43<=nbappomp+nbapven+nbapair+nbaautre,INDEX('Analyse Préliminaire Autres'!$L$11:$L$42,A43-nbappomp-nbapven-nbapair),IF($A43<=nbappomp+nbapven+nbapair,'Analyse Préliminaire air compr'!$AM$16,IF(A43<=nbappomp+nbapven+nbapair+nbaautre+nbafroid,INDEX('AP Groupe froid'!$L$14:$L$17,A43-nbappomp-nbapven-nbapair-nbaautre),\"\"))))))","v":""},{"$f":"IF($A43<=nbappomp,INDEX('Analyse Préliminaire Pompe'!M$13:M$47,$A43),IF($A43<=nbappomp+nbapven,INDEX('Analyse Préliminaire Ventilateu'!M$13:M$44,$A43-nbappomp),IF($A43<=nbappomp+nbapven+nbapair,\"\",IF(A43<=nbappomp+nbapven+nbapair+nbaautre,INDEX('Analyse Préliminaire Autres'!$M$11:$M$42,A43-nbappomp-nbapven-nbapair),IF($A43<=nbappomp+nbapven+nbapair,'Analyse Préliminaire air compr'!$AM$16,IF(A43<=nbappomp+nbapven+nbapair+nbaautre+nbafroid,INDEX('AP Groupe froid'!$M$14:$M$17,A43-nbappomp-nbapven-nbapair-nbaautre),\"\"))))))","v":""},{"$f":"IF($A43<=nbappomp,INDEX('Analyse Préliminaire Pompe'!N$13:N$47,$A43),IF($A43<=nbappomp+nbapven,INDEX('Analyse Préliminaire Ventilateu'!N$13:N$44,$A43-nbappomp),IF($A43<=nbappomp+nbapven+nbapair,\"\",IF(A43<=nbappomp+nbapven+nbapair+nbaautre,INDEX('Analyse Préliminaire Autres'!$N$11:$N$42,A43-nbappomp-nbapven-nbapair),\"\"))))","v":""},{"$f":"IF($A43<=nbappomp,INDEX('Analyse Préliminaire Pompe'!O$13:O$47,$A43),IF($A43<=nbappomp+nbapven,INDEX('Analyse Préliminaire Ventilateu'!O$13:O$44,$A43-nbappomp),IF($A43<=nbappomp+nbapven+nbapair,\"\",IF(A43<=nbappomp+nbapven+nbapair+nbaautre,INDEX('Analyse Préliminaire Autres'!$O$11:$O$42,A43-nbappomp-nbapven-nbapair),\"\"))))","v":""},{"$f":"IF($A43<=nbappomp,INDEX('Analyse Préliminaire Pompe'!P$13:P$47,$A43),IF($A43<=nbappomp+nbapven,INDEX('Analyse Préliminaire Ventilateu'!P$13:P$44,$A43-nbappomp),IF($A43<=nbappomp+nbapven+nbapair,\"\",IF(A43<=nbappomp+nbapven+nbapair+nbaautre,INDEX('Analyse Préliminaire Autres'!#REF!,A43-nbappomp-nbapven-nbapair),\"\"))))","v":""},{"$f":"IF($A43<=nbappomp,INDEX('Analyse Préliminaire Pompe'!Q$13:Q$47,$A43),IF($A43<=nbappomp+nbapven,\"\",IF($A43<=nbappomp+nbapven+nbapair,\"\",\"\")))","v":""},{"$f":"IF(AI43=\"\",IF($A43<=nbappomp,INDEX('Analyse Préliminaire Pompe'!S$13:S$47,$A43),IF($A43<=nbappomp+nbapven,INDEX('Analyse Préliminaire Ventilateu'!Q$13:Q$44,$A43-nbappomp),IF($A43<=nbappomp+nbapven+nbapair,\"\",IF(A43<=nbappomp+nbapven+nbapair+nbaautre,\"\",\"\")))),AI43)","v":""},{"$f":"IF(AN43,\"\",IF($A43<=nbappomp,INDEX('Analyse Préliminaire Pompe'!AO$13:AO$47,$A43),IF($A43<=nbappomp+nbapven,INDEX('Analyse Préliminaire Ventilateu'!AM$13:AM$44,$A43-nbappomp),IF($A43<=nbappomp+nbapven+nbapair,EcoAPkWhCP,IF(A43<=nbappomp+nbapven+nbapair+nbaautre,INDEX('Analyse Préliminaire Autres'!$E$11:$E$42,A43-nbappomp-nbapven-nbapair),IF($A43<=nbappomp+nbapven+nbapair+nbaautre+nbafroid,INDEX('AP Groupe froid'!$AN$14:$AN$17,$A43-nbappomp-nbapven-nbapair-nbaautre),\"\"))))))","v":""},{"$f":"IF(AN43,\"\",IF($A43<=nbappomp,INDEX('Analyse Préliminaire Pompe'!AP$13:AP$47,$A43),IF($A43<=nbappomp+nbapven,INDEX('Analyse Préliminaire Ventilateu'!AN$13:AN$44,$A43-nbappomp),IF($A43<=nbappomp+nbapven+nbapair,EcoAPpercCP,IF(A43<=nbappomp+nbapven+nbapair+nbaautre,INDEX('Analyse Préliminaire Autres'!$E$11:$E$42,A43-nbappomp-nbapven-nbapair),IF($A43<=nbappomp+nbapven+nbapair+nbaautre+nbafroid,INDEX('AP Groupe froid'!$AO$14:$AO$17,$A43-nbappomp-nbapven-nbapair-nbaautre),\"\"))))))","v":""},{"$f":"IF(AN43,\"\",IF($A43<=nbappomp,INDEX('Analyse Préliminaire Pompe'!AQ$13:AQ$47,$A43),IF($A43<=nbappomp+nbapven,INDEX('Analyse Préliminaire Ventilateu'!AO$13:AO$44,$A43-nbappomp),IF($A43<=nbappomp+nbapven+nbapair,consoanncp,IF(A43<=nbappomp+nbapven+nbapair+nbaautre,INDEX('Analyse Préliminaire Autres'!$E$11:$E$42,A43-nbappomp-nbapven-nbapair),IF($A43<=nbappomp+nbapven+nbapair+nbaautre+nbafroid,INDEX('AP Groupe froid'!$AP$14:$AP$17,$A43-nbappomp-nbapven-nbapair-nbaautre),\"\"))))))","v":""},{"$f":"IF(R43=\"\",-1,IF(AND($L43>'Economies classées'!$B$2,$K43>0.2,YEAR(TODAY())-$Z43>8),2,IF(AND($L43>'Economies classées'!$B$3,YEAR(TODAY())-$Z43>5),1,0)))","v":-1},null,null,"",{"$f":"IF($A43<=nbappomp,ISBLANK(INDEX('Analyse Préliminaire Pompe'!AO$13:AO$47,$A43)),IF($A43<=nbappomp+nbapven,ISBLANK(INDEX('Analyse Préliminaire Ventilateu'!AM$13:AM$44,$A43-nbappomp)),IF($A43<=nbappomp+nbapven+nbapair,ISBLANK(EcoAPkWhCP),IF(A43<=nbappomp+nbapven+nbapair+nbaautre,ISBLANK(INDEX('Analyse Préliminaire Autres'!AC$11:AC$42,A43-nbappomp-nbapven-nbapair)),IF(A43<=nbappomp+nbapven+nbapair+nbaautre+nbafroid,ISBLANK(INDEX('AP Groupe froid'!$AN$14:$AN$17,A43-nbappomp-nbapven-nbapair-nbaautre)),FALSE)))))","v":false},{"$f":"IF(E43=Listes!$H$25,1,0)","v":0},{"$f":"IF(E43=Listes!$H$26,1,0)","v":0},0,0,{"$f":"IF(E43=Listes!$H$28,1,0)","v":0},null,0,0,0,0,0,null,0,0,0,0,0,null,"","","","","",null,-1,-1,-1,-1,null,null,{"$f":"IF(E43=Listes!$H$25,1,0)","v":0},{"$f":"IF(E43=Listes!$H$26,1,0)","v":0},0,0,0,0,0,null,0,0,null,{"$error":"#VALUE!"},0,0,0,null,null,null,"",""]
[20,"",null,{"$f":"IF(A44<=nbappomp,INDEX('Analyse Préliminaire Pompe'!$B$13:$B$47,A44),IF(A44<=nbappomp+nbapven,INDEX('Analyse Préliminaire Ventilateu'!$B$13:$B$44,A44-nbappomp),IF(A44<=nbappomp+nbapven+nbapair,301,IF(A44<=nbappomp+nbapven+nbapair+nbaautre,INDEX('Analyse Préliminaire Autres'!$B$11:$B$42,A44-nbappomp-nbapven-nbapair),IF(A44<=nbappomp+nbapven+nbapair+nbaautre+nbafroid,INDEX('AP Groupe froid'!$B$14:$B$17,A44-nbappomp-nbapven-nbapair-nbaautre),\"\")))))","v":""},{"$f":"IF(A44<=nbappomp,INDEX('Analyse Préliminaire Pompe'!$C$13:$C$47,A44),IF(A44<=nbappomp+nbapven,INDEX('Analyse Préliminaire Ventilateu'!$C$13:$C$44,A44-nbappomp),IF(A44<=nbappomp+nbapven+nbapair,$AJ$4,IF(A44<=nbappomp+nbapven+nbapair+nbaautre,INDEX('Analyse Préliminaire Autres'!$C$11:$C$42,A44-nbappomp-nbapven-nbapair),IF(A44<=nbappomp+nbapven+nbapair+nbaautre+nbafroid,INDEX('AP Groupe froid'!$C$14:$C$17,A44-nbappomp-nbapven-nbapair-nbaautre),\"\")))))","v":""},null,null,{"$f":"IF(A44<=nbappomp,INDEX('Analyse Préliminaire Pompe'!$H$13:$H$47,A44),IF(A44<=nbappomp+nbapven,INDEX('Analyse Préliminaire Ventilateu'!$H$13:$H$44,A44-nbappomp),IF(A44<=nbappomp+nbapven+nbapair,$AJ$4,IF(A44<=nbappomp+nbapven+nbapair+nbaautre,INDEX('Analyse Préliminaire Autres'!$H$11:$H$42,A44-nbappomp-nbapven-nbapair),IF(A44<=nbappomp+nbapven+nbapair+nbaautre+nbafroid,INDEX('AP Groupe froid'!$I$14:$I$17,A44-nbappomp-nbapven-nbapair-nbaautre),\"\")))))","v":""},null,null,{"$f":"IF(AH44=\"\",IF($A44<=nbappomp,INDEX('Analyse Préliminaire Pompe'!AE$13:AE$47,$A44),IF($A44<=nbappomp+nbapven,INDEX('Analyse Préliminaire Ventilateu'!AC$13:AC$44,$A44-nbappomp),IF($A44<=nbappomp+nbapven+nbapair,'Analyse Préliminaire air compr'!$AI$22,IF(A44<=nbappomp+nbapven+nbapair+nbaautre,INDEX('Analyse Préliminaire Autres'!$X$11:$X$42,A44-nbappomp-nbapven-nbapair),IF(A44<=nbappomp+nbapven+nbapair+nbaautre+nbafroid,INDEX('AP Groupe froid'!$AF$14:$AF$17,A44-nbappomp-nbapven-nbapair-nbaautre),\"\"))))),AH44)","v":""},{"$f":"IF(AG44=\"\",IF($A44<=nbappomp,INDEX('Analyse Préliminaire Pompe'!AD$13:AD$47,$A44),IF($A44<=nbappomp+nbapven,INDEX('Analyse Préliminaire Ventilateu'!AB$13:AB$44,$A44-nbappomp),IF($A44<=nbappomp+nbapven+nbapair,'Analyse Préliminaire air compr'!$AH$22,IF(A44<=nbappomp+nbapven+nbapair+nbaautre,INDEX('Analyse Préliminaire Autres'!$W$11:$W$42,A44-nbappomp-nbapven-nbapair),IF(A44<=nbappomp+nbapven+nbapair+nbaautre+nbafroid,INDEX('AP Groupe froid'!$AE$14:$AE$17,A44-nbappomp-nbapven-nbapair-nbaautre),\"\"))))),AG44)","v":""},null,"",null,"",null,{"$f":"IF(AI44=\"\",IF($A44<=nbappomp,INDEX('Analyse Préliminaire Pompe'!T$13:T$47,$A44),IF($A44<=nbappomp+nbapven,INDEX('Analyse Préliminaire Ventilateu'!R$13:R$44,$A44-nbappomp),IF($A44<=nbappomp+nbapven+nbapair,'Analyse Préliminaire air compr'!$AH$13,IF(A44<=nbappomp+nbapven+nbapair+nbaautre,INDEX('Analyse Préliminaire Autres'!$P$11:$P$42,A44-nbappomp-nbapven-nbapair),IF(A44<=nbappomp+nbapven+nbapair+nbaautre+nbafroid,INDEX('AP Groupe froid'!$AD$14:$AD$17,A44-nbappomp-nbapven-nbapair-nbaautre),\"\"))))),AI44)","v":""},null,{"$f":"IF($A44<=nbappomp,INDEX('Analyse Préliminaire Pompe'!X$13:X$47,$A44),IF($A44<=nbappomp+nbapven,INDEX('Analyse Préliminaire Ventilateu'!V$13:V$44,$A44-nbappomp),IF($A44<=nbappomp+nbapven+nbapair,'Analyse Préliminaire air compr'!$E$35,IF(A44<=nbappomp+nbapven+nbapair+nbaautre,INDEX('Analyse Préliminaire Autres'!$R$11:$R$42,A44-nbappomp-nbapven-nbapair),IF(A44<=nbappomp+nbapven+nbapair+nbaautre+nbafroid,INDEX('AP Groupe froid'!$Z$14:$Z$17,A44-nbappomp-nbapven-nbapair-nbaautre),\"\")))))","v":""},null,null,{"$f":"IF(AG44=\"\",IF($A44<=nbappomp,INDEX('Analyse Préliminaire Pompe'!AN$13:AN$47,$A44),IF($A44<=nbappomp+nbapven,INDEX('Analyse Préliminaire Ventilateu'!AL$13:AL$44,$A44-nbappomp),IF($A44<=nbappomp+nbapven+nbapair,'Analyse Préliminaire air compr'!$AM$16,IF(A44<=nbappomp+nbapven+nbapair+nbaautre,INDEX('Analyse Préliminaire Autres'!$AB$11:$AB$42,A44-nbappomp-nbapven-nbapair),IF(A44<=nbappomp+nbapven+nbapair+nbaautre+nbafroid,INDEX('AP Groupe froid'!$AM$14:$AM$17,A44-nbappomp-nbapven-nbapair-nbaautre),\"\"))))),'Economies classées'!$A$47)","v":""},{"$f":"IF($A44<=nbappomp,INDEX('Analyse Préliminaire Pompe'!E$13:E$47,$A44),IF($A44<=nbappomp+nbapven,INDEX('Analyse Préliminaire Ventilateu'!E$13:E$44,$A44-nbappomp),IF($A44<=nbappomp+nbapven+nbapair,\"voir detail\",IF(A44<=nbappomp+nbapven+nbapair+nbaautre,INDEX('Analyse Préliminaire Autres'!$E$11:$E$42,A44-nbappomp-nbapven-nbapair),IF(A44<=nbappomp+nbapven+nbapair+nbaautre+nbafroid,INDEX('AP Groupe froid'!$F$14:$F$17,A44-nbappomp-nbapven-nbapair-nbaautre),\"\")))))","v":""},{"$f":"IF($A44<=nbappomp,INDEX('Analyse Préliminaire Pompe'!K$13:K$47,$A44),IF($A44<=nbappomp+nbapven,INDEX('Analyse Préliminaire Ventilateu'!K$13:K$44,$A44-nbappomp),IF($A44<=nbappomp+nbapven+nbapair,SUM('Analyse Préliminaire air compr'!$I$26:$I$32),IF(A44<=nbappomp+nbapven+nbapair+nbaautre,INDEX('Analyse Préliminaire Autres'!$K$11:$K$42,A44-nbappomp-nbapven-nbapair),IF(A44<=nbappomp+nbapven+nbapair+nbaautre+nbafroid,INDEX('AP Groupe froid'!$O$14:$O$17,A44-nbappomp-nbapven-nbapair-nbaautre),\"\")))))","v":""},{"$f":"IF($A44<=nbappomp,INDEX('Analyse Préliminaire Pompe'!L$13:L$47,$A44),IF($A44<=nbappomp+nbapven,INDEX('Analyse Préliminaire Ventilateu'!L$13:L$44,$A44-nbappomp),IF($A44<=nbappomp+nbapven+nbapair,MIN('Analyse Préliminaire air compr'!$J$26:$J$32),IF(A44<=nbappomp+nbapven+nbapair+nbaautre,INDEX('Analyse Préliminaire Autres'!$L$11:$L$42,A44-nbappomp-nbapven-nbapair),IF($A44<=nbappomp+nbapven+nbapair,'Analyse Préliminaire air compr'!$AM$16,IF(A44<=nbappomp+nbapven+nbapair+nbaautre+nbafroid,INDEX('AP Groupe froid'!$L$14:$L$17,A44-nbappomp-nbapven-nbapair-nbaautre),\"\"))))))","v":""},{"$f":"IF($A44<=nbappomp,INDEX('Analyse Préliminaire Pompe'!M$13:M$47,$A44),IF($A44<=nbappomp+nbapven,INDEX('Analyse Préliminaire Ventilateu'!M$13:M$44,$A44-nbappomp),IF($A44<=nbappomp+nbapven+nbapair,\"\",IF(A44<=nbappomp+nbapven+nbapair+nbaautre,INDEX('Analyse Préliminaire Autres'!$M$11:$M$42,A44-nbappomp-nbapven-nbapair),IF($A44<=nbappomp+nbapven+nbapair,'Analyse Préliminaire air compr'!$AM$16,IF(A44<=nbappomp+nbapven+nbapair+nbaautre+nbafroid,INDEX('AP Groupe froid'!$M$14:$M$17,A44-nbappomp-nbapven-nbapair-nbaautre),\"\"))))))","v":""},{"$f":"IF($A44<=nbappomp,INDEX('Analyse Préliminaire Pompe'!N$13:N$47,$A44),IF($A44<=nbappomp+nbapven,INDEX('Analyse Préliminaire Ventilateu'!N$13:N$44,$A44-nbappomp),IF($A44<=nbappomp+nbapven+nbapair,\"\",IF(A44<=nbappomp+nbapven+nbapair+nbaautre,INDEX('Analyse Préliminaire Autres'!$N$11:$N$42,A44-nbappomp-nbapven-nbapair),\"\"))))","v":""},{"$f":"IF($A44<=nbappomp,INDEX('Analyse Préliminaire Pompe'!O$13:O$47,$A44),IF($A44<=nbappomp+nbapven,INDEX('Analyse Préliminaire Ventilateu'!O$13:O$44,$A44-nbappomp),IF($A44<=nbappomp+nbapven+nbapair,\"\",IF(A44<=nbappomp+nbapven+nbapair+nbaautre,INDEX('Analyse Préliminaire Autres'!$O$11:$O$42,A44-nbappomp-nbapven-nbapair),\"\"))))","v":""},{"$f":"IF($A44<=nbappomp,INDEX('Analyse Préliminaire Pompe'!P$13:P$47,$A44),IF($A44<=nbappomp+nbapven,INDEX('Analyse Préliminaire Ventilateu'!P$13:P$44,$A44-nbappomp),IF($A44<=nbappomp+nbapven+nbapair,\"\",IF(A44<=nbappomp+nbapven+nbapair+nbaautre,INDEX('Analyse Préliminaire Autres'!#REF!,A44-nbappomp-nbapven-nbapair),\"\"))))","v":""},{"$f":"IF($A44<=nbappomp,INDEX('Analyse Préliminaire Pompe'!Q$13:Q$47,$A44),IF($A44<=nbappomp+nbapven,\"\",IF($A44<=nbappomp+nbapven+nbapair,\"\",\"\")))","v":""},{"$f":"IF(AI44=\"\",IF($A44<=nbappomp,INDEX('Analyse Préliminaire Pompe'!S$13:S$47,$A44),IF($A44<=nbappomp+nbapven,INDEX('Analyse Préliminaire Ventilateu'!Q$13:Q$44,$A44-nbappomp),IF($A44<=nbappomp+nbapven+nbapair,\"\",IF(A44<=nbappomp+nbapven+nbapair+nbaautre,\"\",\"\")))),AI44)","v":""},{"$f":"IF(AN44,\"\",IF($A44<=nbappomp,INDEX('Analyse Préliminaire Pompe'!AO$13:AO$47,$A44),IF($A44<=nbappomp+nbapven,INDEX('Analyse Préliminaire Ventilateu'!AM$13:AM$44,$A44-nbappomp),IF($A44<=nbappomp+nbapven+nbapair,EcoAPkWhCP,IF(A44<=nbappomp+nbapven+nbapair+nbaautre,INDEX('Analyse Préliminaire Autres'!$E$11:$E$42,A44-nbappomp-nbapven-nbapair),IF($A44<=nbappomp+nbapven+nbapair+nbaautre+nbafroid,INDEX('AP Groupe froid'!$AN$14:$AN$17,$A44-nbappomp-nbapven-nbapair-nbaautre),\"\"))))))","v":""},{"$f":"IF(AN44,\"\",IF($A44<=nbappomp,INDEX('Analyse Préliminaire Pompe'!AP$13:AP$47,$A44),IF($A44<=nbappomp+nbapven,INDEX('Analyse Préliminaire Ventilateu'!AN$13:AN$44,$A44-nbappomp),IF($A44<=nbappomp+nbapven+nbapair,EcoAPpercCP,IF(A44<=nbappomp+nbapven+nbapair+nbaautre,INDEX('Analyse Préliminaire Autres'!$E$11:$E$42,A44-nbappomp-nbapven-nbapair),IF($A44<=nbappomp+nbapven+nbapair+nbaautre+nbafroid,INDEX('AP Groupe froid'!$AO$14:$AO$17,$A44-nbappomp-nbapven-nbapair-nbaautre),\"\"))))))","v":""},{"$f":"IF(AN44,\"\",IF($A44<=nbappomp,INDEX('Analyse Préliminaire Pompe'!AQ$13:AQ$47,$A44),IF($A44<=nbappomp+nbapven,INDEX('Analyse Préliminaire Ventilateu'!AO$13:AO$44,$A44-nbappomp),IF($A44<=nbappomp+nbapven+nbapair,consoanncp,IF(A44<=nbappomp+nbapven+nbapair+nbaautre,INDEX('Analyse Préliminaire Autres'!$E$11:$E$42,A44-nbappomp-nbapven-nbapair),IF($A44<=nbappomp+nbapven+nbapair+nbaautre+nbafroid,INDEX('AP Groupe froid'!$AP$14:$AP$17,$A44-nbappomp-nbapven-nbapair-nbaautre),\"\"))))))","v":""},{"$f":"IF(R44=\"\",-1,IF(AND($L44>'Economies classées'!$B$2,$K44>0.2,YEAR(TODAY())-$Z44>8),2,IF(AND($L44>'Economies classées'!$B$3,YEAR(TODAY())-$Z44>5),1,0)))","v":-1},null,null,"",{"$f":"IF($A44<=nbappomp,ISBLANK(INDEX('Analyse Préliminaire Pompe'!AO$13:AO$47,$A44)),IF($A44<=nbappomp+nbapven,ISBLANK(INDEX('Analyse Préliminaire Ventilateu'!AM$13:AM$44,$A44-nbappomp)),IF($A44<=nbappomp+nbapven+nbapair,ISBLANK(EcoAPkWhCP),IF(A44<=nbappomp+nbapven+nbapair+nbaautre,ISBLANK(INDEX('Analyse Préliminaire Autres'!AC$11:AC$42,A44-nbappomp-nbapven-nbapair)),IF(A44<=nbappomp+nbapven+nbapair+nbaautre+nbafroid,ISBLANK(INDEX('AP Groupe froid'!$AN$14:$AN$17,A44-nbappomp-nbapven-nbapair-nbaautre)),FALSE)))))","v":false},{"$f":"IF(E44=Listes!$H$25,1,0)","v":0},{"$f":"IF(E44=Listes!$H$26,1,0)","v":0},0,0,{"$f":"IF(E44=Listes!$H$28,1,0)","v":0},null,0,0,0,0,0,null,0,0,0,0,0,null,"","","","","",null,-1,-1,-1,-1,null,null,{"$f":"IF(E44=Listes!$H$25,1,0)","v":0},{"$f":"IF(E44=Listes!$H$26,1,0)","v":0},0,0,0,0,0,null,0,0,null,{"$error":"#VALUE!"},0,0,0,null,null,null,"",""]
[21,"",null,{"$f":"IF(A45<=nbappomp,INDEX('Analyse Préliminaire Pompe'!$B$13:$B$47,A45),IF(A45<=nbappomp+nbapven,INDEX('Analyse Préliminaire Ventilateu'!$B$13:$B$44,A45-nbappomp),IF(A45<=nbappomp+nbapven+nbapair,301,IF(A45<=nbappomp+nbapven+nbapair+nbaautre,INDEX('Analyse Préliminaire Autres'!$B$11:$B$42,A45-nbappomp-nbapven-nbapair),IF(A45<=nbappomp+nbapven+nbapair+nbaautre+nbafroid,INDEX('AP Groupe froid'!$B$14:$B$17,A45-nbappomp-nbapven-nbapair-nbaautre),\"\")))))","v":""},{"$f":"IF(A45<=nbappomp,INDEX('Analyse Préliminaire Pompe'!$C$13:$C$47,A45),IF(A45<=nbappomp+nbapven,INDEX('Analyse Préliminaire Ventilateu'!$C$13:$C$44,A45-nbappomp),IF(A45<=nbappomp+nbapven+nbapair,$AJ$4,IF(A45<=nbappomp+nbapven+nbapair+nbaautre,INDEX('Analyse Préliminaire Autres'!$C$11:$C$42,A45-nbappomp-nbapven-nbapair),IF(A45<=nbappomp+nbapven+nbapair+nbaautre+nbafroid,INDEX('AP Groupe froid'!$C$14:$C$17,A45-nbappomp-nbapven-nbapair-nbaautre),\"\")))))","v":""},null,null,{"$f":"IF(A45<=nbappomp,INDEX('Analyse Préliminaire Pompe'!$H$13:$H$47,A45),IF(A45<=nbappomp+nbapven,INDEX('Analyse Préliminaire Ventilateu'!$H$13:$H$44,A45-nbappomp),IF(A45<=nbappomp+nbapven+nbapair,$AJ$4,IF(A45<=nbappomp+nbapven+nbapair+nbaautre,INDEX('Analyse Préliminaire Autres'!$H$11:$H$42,A45-nbappomp-nbapven-nbapair),IF(A45<=nbappomp+nbapven+nbapair+nbaautre+nbafroid,INDEX('AP Groupe froid'!$I$14:$I$17,A45-nbappomp-nbapven-nbapair-nbaautre),\"\")))))","v":""},null,null,{"$f":"IF(AH45=\"\",IF($A45<=nbappomp,INDEX('Analyse Préliminaire Pompe'!AE$13:AE$47,$A45),IF($A45<=nbappomp+nbapven,INDEX('Analyse Préliminaire Ventilateu'!AC$13:AC$44,$A45-nbappomp),IF($A45<=nbappomp+nbapven+nbapair,'Analyse Préliminaire air compr'!$AI$22,IF(A45<=nbappomp+nbapven+nbapair+nbaautre,INDEX('Analyse Préliminaire Autres'!$X$11:$X$42,A45-nbappomp-nbapven-nbapair),IF(A45<=nbappomp+nbapven+nbapair+nbaautre+nbafroid,INDEX('AP Groupe froid'!$AF$14:$AF$17,A45-nbappomp-nbapven-nbapair-nbaautre),\"\"))))),AH45)","v":""},{"$f":"IF(AG45=\"\",IF($A45<=nbappomp,INDEX('Analyse Préliminaire Pompe'!AD$13:AD$47,$A45),IF($A45<=nbappomp+nbapven,INDEX('Analyse Préliminaire Ventilateu'!AB$13:AB$44,$A45-nbappomp),IF($A45<=nbappomp+nbapven+nbapair,'Analyse Préliminaire air compr'!$AH$22,IF(A45<=nbappomp+nbapven+nbapair+nbaautre,INDEX('Analyse Préliminaire Autres'!$W$11:$W$42,A45-nbappomp-nbapven-nbapair),IF(A45<=nbappomp+nbapven+nbapair+nbaautre+nbafroid,INDEX('AP Groupe froid'!$AE$14:$AE$17,A45-nbappomp-nbapven-nbapair-nbaautre),\"\"))))),AG45)","v":""},null,"",null,"",null,{"$f":"IF(AI45=\"\",IF($A45<=nbappomp,INDEX('Analyse Préliminaire Pompe'!T$13:T$47,$A45),IF($A45<=nbappomp+nbapven,INDEX('Analyse Préliminaire Ventilateu'!R$13:R$44,$A45-nbappomp),IF($A45<=nbappomp+nbapven+nbapair,'Analyse Préliminaire air compr'!$AH$13,IF(A45<=nbappomp+nbapven+nbapair+nbaautre,INDEX('Analyse Préliminaire Autres'!$P$11:$P$42,A45-nbappomp-nbapven-nbapair),IF(A45<=nbappomp+nbapven+nbapair+nbaautre+nbafroid,INDEX('AP Groupe froid'!$AD$14:$AD$17,A45-nbappomp-nbapven-nbapair-nbaautre),\"\"))))),AI45)","v":""},null,{"$f":"IF($A45<=nbappomp,INDEX('Analyse Préliminaire Pompe'!X$13:X$47,$A45),IF($A45<=nbappomp+nbapven,INDEX('Analyse Préliminaire Ventilateu'!V$13:V$44,$A45-nbappomp),IF($A45<=nbappomp+nbapven+nbapair,'Analyse Préliminaire air compr'!$E$35,IF(A45<=nbappomp+nbapven+nbapair+nbaautre,INDEX('Analyse Préliminaire Autres'!$R$11:$R$42,A45-nbappomp-nbapven-nbapair),IF(A45<=nbappomp+nbapven+nbapair+nbaautre+nbafroid,INDEX('AP Groupe froid'!$Z$14:$Z$17,A45-nbappomp-nbapven-nbapair-nbaautre),\"\")))))","v":""},null,null,{"$f":"IF(AG45=\"\",IF($A45<=nbappomp,INDEX('Analyse Préliminaire Pompe'!AN$13:AN$47,$A45),IF($A45<=nbappomp+nbapven,INDEX('Analyse Préliminaire Ventilateu'!AL$13:AL$44,$A45-nbappomp),IF($A45<=nbappomp+nbapven+nbapair,'Analyse Préliminaire air compr'!$AM$16,IF(A45<=nbappomp+nbapven+nbapair+nbaautre,INDEX('Analyse Préliminaire Autres'!$AB$11:$AB$42,A45-nbappomp-nbapven-nbapair),IF(A45<=nbappomp+nbapven+nbapair+nbaautre+nbafroid,INDEX('AP Groupe froid'!$AM$14:$AM$17,A45-nbappomp-nbapven-nbapair-nbaautre),\"\"))))),'Economies classées'!$A$47)","v":""},{"$f":"IF($A45<=nbappomp,INDEX('Analyse Préliminaire Pompe'!E$13:E$47,$A45),IF($A45<=nbappomp+nbapven,INDEX('Analyse Préliminaire Ventilateu'!E$13:E$44,$A45-nbappomp),IF($A45<=nbappomp+nbapven+nbapair,\"voir detail\",IF(A45<=nbappomp+nbapven+nbapair+nbaautre,INDEX('Analyse Préliminaire Autres'!$E$11:$E$42,A45-nbappomp-nbapven-nbapair),IF(A45<=nbappomp+nbapven+nbapair+nbaautre+nbafroid,INDEX('AP Groupe froid'!$F$14:$F$17,A45-nbappomp-nbapven-nbapair-nbaautre),\"\")))))","v":""},{"$f":"IF($A45<=nbappomp,INDEX('Analyse Préliminaire Pompe'!K$13:K$47,$A45),IF($A45<=nbappomp+nbapven,INDEX('Analyse Préliminaire Ventilateu'!K$13:K$44,$A45-nbappomp),IF($A45<=nbappomp+nbapven+nbapair,SUM('Analyse Préliminaire air compr'!$I$26:$I$32),IF(A45<=nbappomp+nbapven+nbapair+nbaautre,INDEX('Analyse Préliminaire Autres'!$K$11:$K$42,A45-nbappomp-nbapven-nbapair),IF(A45<=nbappomp+nbapven+nbapair+nbaautre+nbafroid,INDEX('AP Groupe froid'!$O$14:$O$17,A45-nbappomp-nbapven-nbapair-nbaautre),\"\")))))","v":""},{"$f":"IF($A45<=nbappomp,INDEX('Analyse Préliminaire Pompe'!L$13:L$47,$A45),IF($A45<=nbappomp+nbapven,INDEX('Analyse Préliminaire Ventilateu'!L$13:L$44,$A45-nbappomp),IF($A45<=nbappomp+nbapven+nbapair,MIN('Analyse Préliminaire air compr'!$J$26:$J$32),IF(A45<=nbappomp+nbapven+nbapair+nbaautre,INDEX('Analyse Préliminaire Autres'!$L$11:$L$42,A45-nbappomp-nbapven-nbapair),IF($A45<=nbappomp+nbapven+nbapair,'Analyse Préliminaire air compr'!$AM$16,IF(A45<=nbappomp+nbapven+nbapair+nbaautre+nbafroid,INDEX('AP Groupe froid'!$L$14:$L$17,A45-nbappomp-nbapven-nbapair-nbaautre),\"\"))))))","v":""},{"$f":"IF($A45<=nbappomp,INDEX('Analyse Préliminaire Pompe'!M$13:M$47,$A45),IF($A45<=nbappomp+nbapven,INDEX('Analyse Préliminaire Ventilateu'!M$13:M$44,$A45-nbappomp),IF($A45<=nbappomp+nbapven+nbapair,\"\",IF(A45<=nbappomp+nbapven+nbapair+nbaautre,INDEX('Analyse Préliminaire Autres'!$M$11:$M$42,A45-nbappomp-nbapven-nbapair),IF($A45<=nbappomp+nbapven+nbapair,'Analyse Préliminaire air compr'!$AM$16,IF(A45<=nbappomp+nbapven+nbapair+nbaautre+nbafroid,INDEX('AP Groupe froid'!$M$14:$M$17,A45-nbappomp-nbapven-nbapair-nbaautre),\"\"))))))","v":""},{"$f":"IF($A45<=nbappomp,INDEX('Analyse Préliminaire Pompe'!N$13:N$47,$A45),IF($A45<=nbappomp+nbapven,INDEX('Analyse Préliminaire Ventilateu'!N$13:N$44,$A45-nbappomp),IF($A45<=nbappomp+nbapven+nbapair,\"\",IF(A45<=nbappomp+nbapven+nbapair+nbaautre,INDEX('Analyse Préliminaire Autres'!$N$11:$N$42,A45-nbappomp-nbapven-nbapair),\"\"))))","v":""},{"$f":"IF($A45<=nbappomp,INDEX('Analyse Préliminaire Pompe'!O$13:O$47,$A45),IF($A45<=nbappomp+nbapven,INDEX('Analyse Préliminaire Ventilateu'!O$13:O$44,$A45-nbappomp),IF($A45<=nbappomp+nbapven+nbapair,\"\",IF(A45<=nbappomp+nbapven+nbapair+nbaautre,INDEX('Analyse Préliminaire Autres'!$O$11:$O$42,A45-nbappomp-nbapven-nbapair),\"\"))))","v":""},{"$f":"IF($A45<=nbappomp,INDEX('Analyse Préliminaire Pompe'!P$13:P$47,$A45),IF($A45<=nbappomp+nbapven,INDEX('Analyse Préliminaire Ventilateu'!P$13:P$44,$A45-nbappomp),IF($A45<=nbappomp+nbapven+nbapair,\"\",IF(A45<=nbappomp+nbapven+nbapair+nbaautre,INDEX('Analyse Préliminaire Autres'!#REF!,A45-nbappomp-nbapven-nbapair),\"\"))))","v":""},{"$f":"IF($A45<=nbappomp,INDEX('Analyse Préliminaire Pompe'!Q$13:Q$47,$A45),IF($A45<=nbappomp+nbapven,\"\",IF($A45<=nbappomp+nbapven+nbapair,\"\",\"\")))","v":""},{"$f":"IF(AI45=\"\",IF($A45<=nbappomp,INDEX('Analyse Préliminaire Pompe'!S$13:S$47,$A45),IF($A45<=nbappomp+nbapven,INDEX('Analyse Préliminaire Ventilateu'!Q$13:Q$44,$A45-nbappomp),IF($A45<=nbappomp+nbapven+nbapair,\"\",IF(A45<=nbappomp+nbapven+nbapair+nbaautre,\"\",\"\")))),AI45)","v":""},{"$f":"IF(AN45,\"\",IF($A45<=nbappomp,INDEX('Analyse Préliminaire Pompe'!AO$13:AO$47,$A45),IF($A45<=nbappomp+nbapven,INDEX('Analyse Préliminaire Ventilateu'!AM$13:AM$44,$A45-nbappomp),IF($A45<=nbappomp+nbapven+nbapair,EcoAPkWhCP,IF(A45<=nbappomp+nbapven+nbapair+nbaautre,INDEX('Analyse Préliminaire Autres'!$E$11:$E$42,A45-nbappomp-nbapven-nbapair),IF($A45<=nbappomp+nbapven+nbapair+nbaautre+nbafroid,INDEX('AP Groupe froid'!$AN$14:$AN$17,$A45-nbappomp-nbapven-nbapair-nbaautre),\"\"))))))","v":""},{"$f":"IF(AN45,\"\",IF($A45<=nbappomp,INDEX('Analyse Préliminaire Pompe'!AP$13:AP$47,$A45),IF($A45<=nbappomp+nbapven,INDEX('Analyse Préliminaire Ventilateu'!AN$13:AN$44,$A45-nbappomp),IF($A45<=nbappomp+nbapven+nbapair,EcoAPpercCP,IF(A45<=nbappomp+nbapven+nbapair+nbaautre,INDEX('Analyse Préliminaire Autres'!$E$11:$E$42,A45-nbappomp-nbapven-nbapair),IF($A45<=nbappomp+nbapven+nbapair+nbaautre+nbafroid,INDEX('AP Groupe froid'!$AO$14:$AO$17,$A45-nbappomp-nbapven-nbapair-nbaautre),\"\"))))))","v":""},{"$f":"IF(AN45,\"\",IF($A45<=nbappomp,INDEX('Analyse Préliminaire Pompe'!AQ$13:AQ$47,$A45),IF($A45<=nbappomp+nbapven,INDEX('Analyse Préliminaire Ventilateu'!AO$13:AO$44,$A45-nbappomp),IF($A45<=nbappomp+nbapven+nbapair,consoanncp,IF(A45<=nbappomp+nbapven+nbapair+nbaautre,INDEX('Analyse Préliminaire Autres'!$E$11:$E$42,A45-nbappomp-nbapven-nbapair),IF($A45<=nbappomp+nbapven+nbapair+nbaautre+nbafroid,INDEX('AP Groupe froid'!$AP$14:$AP$17,$A45-nbappomp-nbapven-nbapair-nbaautre),\"\"))))))","v":""},{"$f":"IF(R45=\"\",-1,IF(AND($L45>'Economies classées'!$B$2,$K45>0.2,YEAR(TODAY())-$Z45>8),2,IF(AND($L45>'Economies classées'!$B$3,YEAR(TODAY())-$Z45>5),1,0)))","v":-1},null,null,"",{"$f":"IF($A45<=nbappomp,ISBLANK(INDEX('Analyse Préliminaire Pompe'!AO$13:AO$47,$A45)),IF($A45<=nbappomp+nbapven,ISBLANK(INDEX('Analyse Préliminaire Ventilateu'!AM$13:AM$44,$A45-nbappomp)),IF($A45<=nbappomp+nbapven+nbapair,ISBLANK(EcoAPkWhCP),IF(A45<=nbappomp+nbapven+nbapair+nbaautre,ISBLANK(INDEX('Analyse Préliminaire Autres'!AC$11:AC$42,A45-nbappomp-nbapven-nbapair)),IF(A45<=nbappomp+nbapven+nbapair+nbaautre+nbafroid,ISBLANK(INDEX('AP Groupe froid'!$AN$14:$AN$17,A45-nbappomp-nbapven-nbapair-nbaautre)),FALSE)))))","v":false},{"$f":"IF(E45=Listes!$H$25,1,0)","v":0},{"$f":"IF(E45=Listes!$H$26,1,0)","v":0},0,0,{"$f":"IF(E45=Listes!$H$28,1,0)","v":0},null,0,0,0,0,0,null,0,0,0,0,0,null,"","","","","",null,-1,-1,-1,-1,null,null,{"$f":"IF(E45=Listes!$H$25,1,0)","v":0},{"$f":"IF(E45=Listes!$H$26,1,0)","v":0},0,0,0,0,0,null,0,0,null,{"$error":"#VALUE!"},0,0,0,null,null,null,"",""]
[22,"",null,{"$f":"IF(A46<=nbappomp,INDEX('Analyse Préliminaire Pompe'!$B$13:$B$47,A46),IF(A46<=nbappomp+nbapven,INDEX('Analyse Préliminaire Ventilateu'!$B$13:$B$44,A46-nbappomp),IF(A46<=nbappomp+nbapven+nbapair,301,IF(A46<=nbappomp+nbapven+nbapair+nbaautre,INDEX('Analyse Préliminaire Autres'!$B$11:$B$42,A46-nbappomp-nbapven-nbapair),IF(A46<=nbappomp+nbapven+nbapair+nbaautre+nbafroid,INDEX('AP Groupe froid'!$B$14:$B$17,A46-nbappomp-nbapven-nbapair-nbaautre),\"\")))))","v":""},{"$f":"IF(A46<=nbappomp,INDEX('Analyse Préliminaire Pompe'!$C$13:$C$47,A46),IF(A46<=nbappomp+nbapven,INDEX('Analyse Préliminaire Ventilateu'!$C$13:$C$44,A46-nbappomp),IF(A46<=nbappomp+nbapven+nbapair,$AJ$4,IF(A46<=nbappomp+nbapven+nbapair+nbaautre,INDEX('Analyse Préliminaire Autres'!$C$11:$C$42,A46-nbappomp-nbapven-nbapair),IF(A46<=nbappomp+nbapven+nbapair+nbaautre+nbafroid,INDEX('AP Groupe froid'!$C$14:$C$17,A46-nbappomp-nbapven-nbapair-nbaautre),\"\")))))","v":""},null,null,{"$f":"IF(A46<=nbappomp,INDEX('Analyse Préliminaire Pompe'!$H$13:$H$47,A46),IF(A46<=nbappomp+nbapven,INDEX('Analyse Préliminaire Ventilateu'!$H$13:$H$44,A46-nbappomp),IF(A46<=nbappomp+nbapven+nbapair,$AJ$4,IF(A46<=nbappomp+nbapven+nbapair+nbaautre,INDEX('Analyse Préliminaire Autres'!$H$11:$H$42,A46-nbappomp-nbapven-nbapair),IF(A46<=nbappomp+nbapven+nbapair+nbaautre+nbafroid,INDEX('AP Groupe froid'!$I$14:$I$17,A46-nbappomp-nbapven-nbapair-nbaautre),\"\")))))","v":""},null,null,{"$f":"IF(AH46=\"\",IF($A46<=nbappomp,INDEX('Analyse Préliminaire Pompe'!AE$13:AE$47,$A46),IF($A46<=nbappomp+nbapven,INDEX('Analyse Préliminaire Ventilateu'!AC$13:AC$44,$A46-nbappomp),IF($A46<=nbappomp+nbapven+nbapair,'Analyse Préliminaire air compr'!$AI$22,IF(A46<=nbappomp+nbapven+nbapair+nbaautre,INDEX('Analyse Préliminaire Autres'!$X$11:$X$42,A46-nbappomp-nbapven-nbapair),IF(A46<=nbappomp+nbapven+nbapair+nbaautre+nbafroid,INDEX('AP Groupe froid'!$AF$14:$AF$17,A46-nbappomp-nbapven-nbapair-nbaautre),\"\"))))),AH46)","v":""},{"$f":"IF(AG46=\"\",IF($A46<=nbappomp,INDEX('Analyse Préliminaire Pompe'!AD$13:AD$47,$A46),IF($A46<=nbappomp+nbapven,INDEX('Analyse Préliminaire Ventilateu'!AB$13:AB$44,$A46-nbappomp),IF($A46<=nbappomp+nbapven+nbapair,'Analyse Préliminaire air compr'!$AH$22,IF(A46<=nbappomp+nbapven+nbapair+nbaautre,INDEX('Analyse Préliminaire Autres'!$W$11:$W$42,A46-nbappomp-nbapven-nbapair),IF(A46<=nbappomp+nbapven+nbapair+nbaautre+nbafroid,INDEX('AP Groupe froid'!$AE$14:$AE$17,A46-nbappomp-nbapven-nbapair-nbaautre),\"\"))))),AG46)","v":""},null,"",null,"",null,{"$f":"IF(AI46=\"\",IF($A46<=nbappomp,INDEX('Analyse Préliminaire Pompe'!T$13:T$47,$A46),IF($A46<=nbappomp+nbapven,INDEX('Analyse Préliminaire Ventilateu'!R$13:R$44,$A46-nbappomp),IF($A46<=nbappomp+nbapven+nbapair,'Analyse Préliminaire air compr'!$AH$13,IF(A46<=nbappomp+nbapven+nbapair+nbaautre,INDEX('Analyse Préliminaire Autres'!$P$11:$P$42,A46-nbappomp-nbapven-nbapair),IF(A46<=nbappomp+nbapven+nbapair+nbaautre+nbafroid,INDEX('AP Groupe froid'!$AD$14:$AD$17,A46-nbappomp-nbapven-nbapair-nbaautre),\"\"))))),AI46)","v":""},null,{"$f":"IF($A46<=nbappomp,INDEX('Analyse Préliminaire Pompe'!X$13:X$47,$A46),IF($A46<=nbappomp+nbapven,INDEX('Analyse Préliminaire Ventilateu'!V$13:V$44,$A46-nbappomp),IF($A46<=nbappomp+nbapven+nbapair,'Analyse Préliminaire air compr'!$E$35,IF(A46<=nbappomp+nbapven+nbapair+nbaautre,INDEX('Analyse Préliminaire Autres'!$R$11:$R$42,A46-nbappomp-nbapven-nbapair),IF(A46<=nbappomp+nbapven+nbapair+nbaautre+nbafroid,INDEX('AP Groupe froid'!$Z$14:$Z$17,A46-nbappomp-nbapven-nbapair-nbaautre),\"\")))))","v":""},null,null,{"$f":"IF(AG46=\"\",IF($A46<=nbappomp,INDEX('Analyse Préliminaire Pompe'!AN$13:AN$47,$A46),IF($A46<=nbappomp+nbapven,INDEX('Analyse Préliminaire Ventilateu'!AL$13:AL$44,$A46-nbappomp),IF($A46<=nbappomp+nbapven+nbapair,'Analyse Préliminaire air compr'!$AM$16,IF(A46<=nbappomp+nbapven+nbapair+nbaautre,INDEX('Analyse Préliminaire Autres'!$AB$11:$AB$42,A46-nbappomp-nbapven-nbapair),IF(A46<=nbappomp+nbapven+nbapair+nbaautre+nbafroid,INDEX('AP Groupe froid'!$AM$14:$AM$17,A46-nbappomp-nbapven-nbapair-nbaautre),\"\"))))),'Economies classées'!$A$47)","v":""},{"$f":"IF($A46<=nbappomp,INDEX('Analyse Préliminaire Pompe'!E$13:E$47,$A46),IF($A46<=nbappomp+nbapven,INDEX('Analyse Préliminaire Ventilateu'!E$13:E$44,$A46-nbappomp),IF($A46<=nbappomp+nbapven+nbapair,\"voir detail\",IF(A46<=nbappomp+nbapven+nbapair+nbaautre,INDEX('Analyse Préliminaire Autres'!$E$11:$E$42,A46-nbappomp-nbapven-nbapair),IF(A46<=nbappomp+nbapven+nbapair+nbaautre+nbafroid,INDEX('AP Groupe froid'!$F$14:$F$17,A46-nbappomp-nbapven-nbapair-nbaautre),\"\")))))","v":""},{"$f":"IF($A46<=nbappomp,INDEX('Analyse Préliminaire Pompe'!K$13:K$47,$A46),IF($A46<=nbappomp+nbapven,INDEX('Analyse Préliminaire Ventilateu'!K$13:K$44,$A46-nbappomp),IF($A46<=nbappomp+nbapven+nbapair,SUM('Analyse Préliminaire air compr'!$I$26:$I$32),IF(A46<=nbappomp+nbapven+nbapair+nbaautre,INDEX('Analyse Préliminaire Autres'!$K$11:$K$42,A46-nbappomp-nbapven-nbapair),IF(A46<=nbappomp+nbapven+nbapair+nbaautre+nbafroid,INDEX('AP Groupe froid'!$O$14:$O$17,A46-nbappomp-nbapven-nbapair-nbaautre),\"\")))))","v":""},{"$f":"IF($A46<=nbappomp,INDEX('Analyse Préliminaire Pompe'!L$13:L$47,$A46),IF($A46<=nbappomp+nbapven,INDEX('Analyse Préliminaire Ventilateu'!L$13:L$44,$A46-nbappomp),IF($A46<=nbappomp+nbapven+nbapair,MIN('Analyse Préliminaire air compr'!$J$26:$J$32),IF(A46<=nbappomp+nbapven+nbapair+nbaautre,INDEX('Analyse Préliminaire Autres'!$L$11:$L$42,A46-nbappomp-nbapven-nbapair),IF($A46<=nbappomp+nbapven+nbapair,'Analyse Préliminaire air compr'!$AM$16,IF(A46<=nbappomp+nbapven+nbapair+nbaautre+nbafroid,INDEX('AP Groupe froid'!$L$14:$L$17,A46-nbappomp-nbapven-nbapair-nbaautre),\"\"))))))","v":""},{"$f":"IF($A46<=nbappomp,INDEX('Analyse Préliminaire Pompe'!M$13:M$47,$A46),IF($A46<=nbappomp+nbapven,INDEX('Analyse Préliminaire Ventilateu'!M$13:M$44,$A46-nbappomp),IF($A46<=nbappomp+nbapven+nbapair,\"\",IF(A46<=nbappomp+nbapven+nbapair+nbaautre,INDEX('Analyse Préliminaire Autres'!$M$11:$M$42,A46-nbappomp-nbapven-nbapair),IF($A46<=nbappomp+nbapven+nbapair,'Analyse Préliminaire air compr'!$AM$16,IF(A46<=nbappomp+nbapven+nbapair+nbaautre+nbafroid,INDEX('AP Groupe froid'!$M$14:$M$17,A46-nbappomp-nbapven-nbapair-nbaautre),\"\"))))))","v":""},{"$f":"IF($A46<=nbappomp,INDEX('Analyse Préliminaire Pompe'!N$13:N$47,$A46),IF($A46<=nbappomp+nbapven,INDEX('Analyse Préliminaire Ventilateu'!N$13:N$44,$A46-nbappomp),IF($A46<=nbappomp+nbapven+nbapair,\"\",IF(A46<=nbappomp+nbapven+nbapair+nbaautre,INDEX('Analyse Préliminaire Autres'!$N$11:$N$42,A46-nbappomp-nbapven-nbapair),\"\"))))","v":""},{"$f":"IF($A46<=nbappomp,INDEX('Analyse Préliminaire Pompe'!O$13:O$47,$A46),IF($A46<=nbappomp+nbapven,INDEX('Analyse Préliminaire Ventilateu'!O$13:O$44,$A46-nbappomp),IF($A46<=nbappomp+nbapven+nbapair,\"\",IF(A46<=nbappomp+nbapven+nbapair+nbaautre,INDEX('Analyse Préliminaire Autres'!$O$11:$O$42,A46-nbappomp-nbapven-nbapair),\"\"))))","v":""},{"$f":"IF($A46<=nbappomp,INDEX('Analyse Préliminaire Pompe'!P$13:P$47,$A46),IF($A46<=nbappomp+nbapven,INDEX('Analyse Préliminaire Ventilateu'!P$13:P$44,$A46-nbappomp),IF($A46<=nbappomp+nbapven+nbapair,\"\",IF(A46<=nbappomp+nbapven+nbapair+nbaautre,INDEX('Analyse Préliminaire Autres'!#REF!,A46-nbappomp-nbapven-nbapair),\"\"))))","v":""},{"$f":"IF($A46<=nbappomp,INDEX('Analyse Préliminaire Pompe'!Q$13:Q$47,$A46),IF($A46<=nbappomp+nbapven,\"\",IF($A46<=nbappomp+nbapven+nbapair,\"\",\"\")))","v":""},{"$f":"IF(AI46=\"\",IF($A46<=nbappomp,INDEX('Analyse Préliminaire Pompe'!S$13:S$47,$A46),IF($A46<=nbappomp+nbapven,INDEX('Analyse Préliminaire Ventilateu'!Q$13:Q$44,$A46-nbappomp),IF($A46<=nbappomp+nbapven+nbapair,\"\",IF(A46<=nbappomp+nbapven+nbapair+nbaautre,\"\",\"\")))),AI46)","v":""},{"$f":"IF(AN46,\"\",IF($A46<=nbappomp,INDEX('Analyse Préliminaire Pompe'!AO$13:AO$47,$A46),IF($A46<=nbappomp+nbapven,INDEX('Analyse Préliminaire Ventilateu'!AM$13:AM$44,$A46-nbappomp),IF($A46<=nbappomp+nbapven+nbapair,EcoAPkWhCP,IF(A46<=nbappomp+nbapven+nbapair+nbaautre,INDEX('Analyse Préliminaire Autres'!$E$11:$E$42,A46-nbappomp-nbapven-nbapair),IF($A46<=nbappomp+nbapven+nbapair+nbaautre+nbafroid,INDEX('AP Groupe froid'!$AN$14:$AN$17,$A46-nbappomp-nbapven-nbapair-nbaautre),\"\"))))))","v":""},{"$f":"IF(AN46,\"\",IF($A46<=nbappomp,INDEX('Analyse Préliminaire Pompe'!AP$13:AP$47,$A46),IF($A46<=nbappomp+nbapven,INDEX('Analyse Préliminaire Ventilateu'!AN$13:AN$44,$A46-nbappomp),IF($A46<=nbappomp+nbapven+nbapair,EcoAPpercCP,IF(A46<=nbappomp+nbapven+nbapair+nbaautre,INDEX('Analyse Préliminaire Autres'!$E$11:$E$42,A46-nbappomp-nbapven-nbapair),IF($A46<=nbappomp+nbapven+nbapair+nbaautre+nbafroid,INDEX('AP Groupe froid'!$AO$14:$AO$17,$A46-nbappomp-nbapven-nbapair-nbaautre),\"\"))))))","v":""},{"$f":"IF(AN46,\"\",IF($A46<=nbappomp,INDEX('Analyse Préliminaire Pompe'!AQ$13:AQ$47,$A46),IF($A46<=nbappomp+nbapven,INDEX('Analyse Préliminaire Ventilateu'!AO$13:AO$44,$A46-nbappomp),IF($A46<=nbappomp+nbapven+nbapair,consoanncp,IF(A46<=nbappomp+nbapven+nbapair+nbaautre,INDEX('Analyse Préliminaire Autres'!$E$11:$E$42,A46-nbappomp-nbapven-nbapair),IF($A46<=nbappomp+nbapven+nbapair+nbaautre+nbafroid,INDEX('AP Groupe froid'!$AP$14:$AP$17,$A46-nbappomp-nbapven-nbapair-nbaautre),\"\"))))))","v":""},{"$f":"IF(R46=\"\",-1,IF(AND($L46>'Economies classées'!$B$2,$K46>0.2,YEAR(TODAY())-$Z46>8),2,IF(AND($L46>'Economies classées'!$B$3,YEAR(TODAY())-$Z46>5),1,0)))","v":-1},null,null,"",{"$f":"IF($A46<=nbappomp,ISBLANK(INDEX('Analyse Préliminaire Pompe'!AO$13:AO$47,$A46)),IF($A46<=nbappomp+nbapven,ISBLANK(INDEX('Analyse Préliminaire Ventilateu'!AM$13:AM$44,$A46-nbappomp)),IF($A46<=nbappomp+nbapven+nbapair,ISBLANK(EcoAPkWhCP),IF(A46<=nbappomp+nbapven+nbapair+nbaautre,ISBLANK(INDEX('Analyse Préliminaire Autres'!AC$11:AC$42,A46-nbappomp-nbapven-nbapair)),IF(A46<=nbappomp+nbapven+nbapair+nbaautre+nbafroid,ISBLANK(INDEX('AP Groupe froid'!$AN$14:$AN$17,A46-nbappomp-nbapven-nbapair-nbaautre)),FALSE)))))","v":false},{"$f":"IF(E46=Listes!$H$25,1,0)","v":0},{"$f":"IF(E46=Listes!$H$26,1,0)","v":0},0,0,{"$f":"IF(E46=Listes!$H$28,1,0)","v":0},null,0,0,0,0,0,null,0,0,0,0,0,null,"","","","","",null,-1,-1,-1,-1,null,null,{"$f":"IF(E46=Listes!$H$25,1,0)","v":0},{"$f":"IF(E46=Listes!$H$26,1,0)","v":0},0,0,0,0,0,null,0,0,null,{"$error":"#VALUE!"},0,0,0,null,null,null,"",""]
[23,"",null,{"$f":"IF(A47<=nbappomp,INDEX('Analyse Préliminaire Pompe'!$B$13:$B$47,A47),IF(A47<=nbappomp+nbapven,INDEX('Analyse Préliminaire Ventilateu'!$B$13:$B$44,A47-nbappomp),IF(A47<=nbappomp+nbapven+nbapair,301,IF(A47<=nbappomp+nbapven+nbapair+nbaautre,INDEX('Analyse Préliminaire Autres'!$B$11:$B$42,A47-nbappomp-nbapven-nbapair),IF(A47<=nbappomp+nbapven+nbapair+nbaautre+nbafroid,INDEX('AP Groupe froid'!$B$14:$B$17,A47-nbappomp-nbapven-nbapair-nbaautre),\"\")))))","v":""},{"$f":"IF(A47<=nbappomp,INDEX('Analyse Préliminaire Pompe'!$C$13:$C$47,A47),IF(A47<=nbappomp+nbapven,INDEX('Analyse Préliminaire Ventilateu'!$C$13:$C$44,A47-nbappomp),IF(A47<=nbappomp+nbapven+nbapair,$AJ$4,IF(A47<=nbappomp+nbapven+nbapair+nbaautre,INDEX('Analyse Préliminaire Autres'!$C$11:$C$42,A47-nbappomp-nbapven-nbapair),IF(A47<=nbappomp+nbapven+nbapair+nbaautre+nbafroid,INDEX('AP Groupe froid'!$C$14:$C$17,A47-nbappomp-nbapven-nbapair-nbaautre),\"\")))))","v":""},null,null,{"$f":"IF(A47<=nbappomp,INDEX('Analyse Préliminaire Pompe'!$H$13:$H$47,A47),IF(A47<=nbappomp+nbapven,INDEX('Analyse Préliminaire Ventilateu'!$H$13:$H$44,A47-nbappomp),IF(A47<=nbappomp+nbapven+nbapair,$AJ$4,IF(A47<=nbappomp+nbapven+nbapair+nbaautre,INDEX('Analyse Préliminaire Autres'!$H$11:$H$42,A47-nbappomp-nbapven-nbapair),IF(A47<=nbappomp+nbapven+nbapair+nbaautre+nbafroid,INDEX('AP Groupe froid'!$I$14:$I$17,A47-nbappomp-nbapven-nbapair-nbaautre),\"\")))))","v":""},null,null,{"$f":"IF(AH47=\"\",IF($A47<=nbappomp,INDEX('Analyse Préliminaire Pompe'!AE$13:AE$47,$A47),IF($A47<=nbappomp+nbapven,INDEX('Analyse Préliminaire Ventilateu'!AC$13:AC$44,$A47-nbappomp),IF($A47<=nbappomp+nbapven+nbapair,'Analyse Préliminaire air compr'!$AI$22,IF(A47<=nbappomp+nbapven+nbapair+nbaautre,INDEX('Analyse Préliminaire Autres'!$X$11:$X$42,A47-nbappomp-nbapven-nbapair),IF(A47<=nbappomp+nbapven+nbapair+nbaautre+nbafroid,INDEX('AP Groupe froid'!$AF$14:$AF$17,A47-nbappomp-nbapven-nbapair-nbaautre),\"\"))))),AH47)","v":""},{"$f":"IF(AG47=\"\",IF($A47<=nbappomp,INDEX('Analyse Préliminaire Pompe'!AD$13:AD$47,$A47),IF($A47<=nbappomp+nbapven,INDEX('Analyse Préliminaire Ventilateu'!AB$13:AB$44,$A47-nbappomp),IF($A47<=nbappomp+nbapven+nbapair,'Analyse Préliminaire air compr'!$AH$22,IF(A47<=nbappomp+nbapven+nbapair+nbaautre,INDEX('Analyse Préliminaire Autres'!$W$11:$W$42,A47-nbappomp-nbapven-nbapair),IF(A47<=nbappomp+nbapven+nbapair+nbaautre+nbafroid,INDEX('AP Groupe froid'!$AE$14:$AE$17,A47-nbappomp-nbapven-nbapair-nbaautre),\"\"))))),AG47)","v":""},null,"",null,"",null,{"$f":"IF(AI47=\"\",IF($A47<=nbappomp,INDEX('Analyse Préliminaire Pompe'!T$13:T$47,$A47),IF($A47<=nbappomp+nbapven,INDEX('Analyse Préliminaire Ventilateu'!R$13:R$44,$A47-nbappomp),IF($A47<=nbappomp+nbapven+nbapair,'Analyse Préliminaire air compr'!$AH$13,IF(A47<=nbappomp+nbapven+nbapair+nbaautre,INDEX('Analyse Préliminaire Autres'!$P$11:$P$42,A47-nbappomp-nbapven-nbapair),IF(A47<=nbappomp+nbapven+nbapair+nbaautre+nbafroid,INDEX('AP Groupe froid'!$AD$14:$AD$17,A47-nbappomp-nbapven-nbapair-nbaautre),\"\"))))),AI47)","v":""},null,{"$f":"IF($A47<=nbappomp,INDEX('Analyse Préliminaire Pompe'!X$13:X$47,$A47),IF($A47<=nbappomp+nbapven,INDEX('Analyse Préliminaire Ventilateu'!V$13:V$44,$A47-nbappomp),IF($A47<=nbappomp+nbapven+nbapair,'Analyse Préliminaire air compr'!$E$35,IF(A47<=nbappomp+nbapven+nbapair+nbaautre,INDEX('Analyse Préliminaire Autres'!$R$11:$R$42,A47-nbappomp-nbapven-nbapair),IF(A47<=nbappomp+nbapven+nbapair+nbaautre+nbafroid,INDEX('AP Groupe froid'!$Z$14:$Z$17,A47-nbappomp-nbapven-nbapair-nbaautre),\"\")))))","v":""},null,null,{"$f":"IF(AG47=\"\",IF($A47<=nbappomp,INDEX('Analyse Préliminaire Pompe'!AN$13:AN$47,$A47),IF($A47<=nbappomp+nbapven,INDEX('Analyse Préliminaire Ventilateu'!AL$13:AL$44,$A47-nbappomp),IF($A47<=nbappomp+nbapven+nbapair,'Analyse Préliminaire air compr'!$AM$16,IF(A47<=nbappomp+nbapven+nbapair+nbaautre,INDEX('Analyse Préliminaire Autres'!$AB$11:$AB$42,A47-nbappomp-nbapven-nbapair),IF(A47<=nbappomp+nbapven+nbapair+nbaautre+nbafroid,INDEX('AP Groupe froid'!$AM$14:$AM$17,A47-nbappomp-nbapven-nbapair-nbaautre),\"\"))))),'Economies classées'!$A$47)","v":""},{"$f":"IF($A47<=nbappomp,INDEX('Analyse Préliminaire Pompe'!E$13:E$47,$A47),IF($A47<=nbappomp+nbapven,INDEX('Analyse Préliminaire Ventilateu'!E$13:E$44,$A47-nbappomp),IF($A47<=nbappomp+nbapven+nbapair,\"voir detail\",IF(A47<=nbappomp+nbapven+nbapair+nbaautre,INDEX('Analyse Préliminaire Autres'!$E$11:$E$42,A47-nbappomp-nbapven-nbapair),IF(A47<=nbappomp+nbapven+nbapair+nbaautre+nbafroid,INDEX('AP Groupe froid'!$F$14:$F$17,A47-nbappomp-nbapven-nbapair-nbaautre),\"\")))))","v":""},{"$f":"IF($A47<=nbappomp,INDEX('Analyse Préliminaire Pompe'!K$13:K$47,$A47),IF($A47<=nbappomp+nbapven,INDEX('Analyse Préliminaire Ventilateu'!K$13:K$44,$A47-nbappomp),IF($A47<=nbappomp+nbapven+nbapair,SUM('Analyse Préliminaire air compr'!$I$26:$I$32),IF(A47<=nbappomp+nbapven+nbapair+nbaautre,INDEX('Analyse Préliminaire Autres'!$K$11:$K$42,A47-nbappomp-nbapven-nbapair),IF(A47<=nbappomp+nbapven+nbapair+nbaautre+nbafroid,INDEX('AP Groupe froid'!$O$14:$O$17,A47-nbappomp-nbapven-nbapair-nbaautre),\"\")))))","v":""},{"$f":"IF($A47<=nbappomp,INDEX('Analyse Préliminaire Pompe'!L$13:L$47,$A47),IF($A47<=nbappomp+nbapven,INDEX('Analyse Préliminaire Ventilateu'!L$13:L$44,$A47-nbappomp),IF($A47<=nbappomp+nbapven+nbapair,MIN('Analyse Préliminaire air compr'!$J$26:$J$32),IF(A47<=nbappomp+nbapven+nbapair+nbaautre,INDEX('Analyse Préliminaire Autres'!$L$11:$L$42,A47-nbappomp-nbapven-nbapair),IF($A47<=nbappomp+nbapven+nbapair,'Analyse Préliminaire air compr'!$AM$16,IF(A47<=nbappomp+nbapven+nbapair+nbaautre+nbafroid,INDEX('AP Groupe froid'!$L$14:$L$17,A47-nbappomp-nbapven-nbapair-nbaautre),\"\"))))))","v":""},{"$f":"IF($A47<=nbappomp,INDEX('Analyse Préliminaire Pompe'!M$13:M$47,$A47),IF($A47<=nbappomp+nbapven,INDEX('Analyse Préliminaire Ventilateu'!M$13:M$44,$A47-nbappomp),IF($A47<=nbappomp+nbapven+nbapair,\"\",IF(A47<=nbappomp+nbapven+nbapair+nbaautre,INDEX('Analyse Préliminaire Autres'!$M$11:$M$42,A47-nbappomp-nbapven-nbapair),IF($A47<=nbappomp+nbapven+nbapair,'Analyse Préliminaire air compr'!$AM$16,IF(A47<=nbappomp+nbapven+nbapair+nbaautre+nbafroid,INDEX('AP Groupe froid'!$M$14:$M$17,A47-nbappomp-nbapven-nbapair-nbaautre),\"\"))))))","v":""},{"$f":"IF($A47<=nbappomp,INDEX('Analyse Préliminaire Pompe'!N$13:N$47,$A47),IF($A47<=nbappomp+nbapven,INDEX('Analyse Préliminaire Ventilateu'!N$13:N$44,$A47-nbappomp),IF($A47<=nbappomp+nbapven+nbapair,\"\",IF(A47<=nbappomp+nbapven+nbapair+nbaautre,INDEX('Analyse Préliminaire Autres'!$N$11:$N$42,A47-nbappomp-nbapven-nbapair),\"\"))))","v":""},{"$f":"IF($A47<=nbappomp,INDEX('Analyse Préliminaire Pompe'!O$13:O$47,$A47),IF($A47<=nbappomp+nbapven,INDEX('Analyse Préliminaire Ventilateu'!O$13:O$44,$A47-nbappomp),IF($A47<=nbappomp+nbapven+nbapair,\"\",IF(A47<=nbappomp+nbapven+nbapair+nbaautre,INDEX('Analyse Préliminaire Autres'!$O$11:$O$42,A47-nbappomp-nbapven-nbapair),\"\"))))","v":""},{"$f":"IF($A47<=nbappomp,INDEX('Analyse Préliminaire Pompe'!P$13:P$47,$A47),IF($A47<=nbappomp+nbapven,INDEX('Analyse Préliminaire Ventilateu'!P$13:P$44,$A47-nbappomp),IF($A47<=nbappomp+nbapven+nbapair,\"\",IF(A47<=nbappomp+nbapven+nbapair+nbaautre,INDEX('Analyse Préliminaire Autres'!#REF!,A47-nbappomp-nbapven-nbapair),\"\"))))","v":""},{"$f":"IF($A47<=nbappomp,INDEX('Analyse Préliminaire Pompe'!Q$13:Q$47,$A47),IF($A47<=nbappomp+nbapven,\"\",IF($A47<=nbappomp+nbapven+nbapair,\"\",\"\")))","v":""},{"$f":"IF(AI47=\"\",IF($A47<=nbappomp,INDEX('Analyse Préliminaire Pompe'!S$13:S$47,$A47),IF($A47<=nbappomp+nbapven,INDEX('Analyse Préliminaire Ventilateu'!Q$13:Q$44,$A47-nbappomp),IF($A47<=nbappomp+nbapven+nbapair,\"\",IF(A47<=nbappomp+nbapven+nbapair+nbaautre,\"\",\"\")))),AI47)","v":""},{"$f":"IF(AN47,\"\",IF($A47<=nbappomp,INDEX('Analyse Préliminaire Pompe'!AO$13:AO$47,$A47),IF($A47<=nbappomp+nbapven,INDEX('Analyse Préliminaire Ventilateu'!AM$13:AM$44,$A47-nbappomp),IF($A47<=nbappomp+nbapven+nbapair,EcoAPkWhCP,IF(A47<=nbappomp+nbapven+nbapair+nbaautre,INDEX('Analyse Préliminaire Autres'!$E$11:$E$42,A47-nbappomp-nbapven-nbapair),IF($A47<=nbappomp+nbapven+nbapair+nbaautre+nbafroid,INDEX('AP Groupe froid'!$AN$14:$AN$17,$A47-nbappomp-nbapven-nbapair-nbaautre),\"\"))))))","v":""},{"$f":"IF(AN47,\"\",IF($A47<=nbappomp,INDEX('Analyse Préliminaire Pompe'!AP$13:AP$47,$A47),IF($A47<=nbappomp+nbapven,INDEX('Analyse Préliminaire Ventilateu'!AN$13:AN$44,$A47-nbappomp),IF($A47<=nbappomp+nbapven+nbapair,EcoAPpercCP,IF(A47<=nbappomp+nbapven+nbapair+nbaautre,INDEX('Analyse Préliminaire Autres'!$E$11:$E$42,A47-nbappomp-nbapven-nbapair),IF($A47<=nbappomp+nbapven+nbapair+nbaautre+nbafroid,INDEX('AP Groupe froid'!$AO$14:$AO$17,$A47-nbappomp-nbapven-nbapair-nbaautre),\"\"))))))","v":""},{"$f":"IF(AN47,\"\",IF($A47<=nbappomp,INDEX('Analyse Préliminaire Pompe'!AQ$13:AQ$47,$A47),IF($A47<=nbappomp+nbapven,INDEX('Analyse Préliminaire Ventilateu'!AO$13:AO$44,$A47-nbappomp),IF($A47<=nbappomp+nbapven+nbapair,consoanncp,IF(A47<=nbappomp+nbapven+nbapair+nbaautre,INDEX('Analyse Préliminaire Autres'!$E$11:$E$42,A47-nbappomp-nbapven-nbapair),IF($A47<=nbappomp+nbapven+nbapair+nbaautre+nbafroid,INDEX('AP Groupe froid'!$AP$14:$AP$17,$A47-nbappomp-nbapven-nbapair-nbaautre),\"\"))))))","v":""},{"$f":"IF(R47=\"\",-1,IF(AND($L47>'Economies classées'!$B$2,$K47>0.2,YEAR(TODAY())-$Z47>8),2,IF(AND($L47>'Economies classées'!$B$3,YEAR(TODAY())-$Z47>5),1,0)))","v":-1},null,null,"",{"$f":"IF($A47<=nbappomp,ISBLANK(INDEX('Analyse Préliminaire Pompe'!AO$13:AO$47,$A47)),IF($A47<=nbappomp+nbapven,ISBLANK(INDEX('Analyse Préliminaire Ventilateu'!AM$13:AM$44,$A47-nbappomp)),IF($A47<=nbappomp+nbapven+nbapair,ISBLANK(EcoAPkWhCP),IF(A47<=nbappomp+nbapven+nbapair+nbaautre,ISBLANK(INDEX('Analyse Préliminaire Autres'!AC$11:AC$42,A47-nbappomp-nbapven-nbapair)),IF(A47<=nbappomp+nbapven+nbapair+nbaautre+nbafroid,ISBLANK(INDEX('AP Groupe froid'!$AN$14:$AN$17,A47-nbappomp-nbapven-nbapair-nbaautre)),FALSE)))))","v":false},{"$f":"IF(E47=Listes!$H$25,1,0)","v":0},{"$f":"IF(E47=Listes!$H$26,1,0)","v":0},0,0,{"$f":"IF(E47=Listes!$H$28,1,0)","v":0},null,0,0,0,0,0,null,0,0,0,0,0,null,"","","","","",null,-1,-1,-1,-1,null,null,{"$f":"IF(E47=Listes!$H$25,1,0)","v":0},{"$f":"IF(E47=Listes!$H$26,1,0)","v":0},0,0,0,0,0,null,0,0,null,{"$error":"#VALUE!"},0,0,0,null,null,null,"",""]
[24,"",null,{"$f":"IF(A48<=nbappomp,INDEX('Analyse Préliminaire Pompe'!$B$13:$B$47,A48),IF(A48<=nbappomp+nbapven,INDEX('Analyse Préliminaire Ventilateu'!$B$13:$B$44,A48-nbappomp),IF(A48<=nbappomp+nbapven+nbapair,301,IF(A48<=nbappomp+nbapven+nbapair+nbaautre,INDEX('Analyse Préliminaire Autres'!$B$11:$B$42,A48-nbappomp-nbapven-nbapair),IF(A48<=nbappomp+nbapven+nbapair+nbaautre+nbafroid,INDEX('AP Groupe froid'!$B$14:$B$17,A48-nbappomp-nbapven-nbapair-nbaautre),\"\")))))","v":""},{"$f":"IF(A48<=nbappomp,INDEX('Analyse Préliminaire Pompe'!$C$13:$C$47,A48),IF(A48<=nbappomp+nbapven,INDEX('Analyse Préliminaire Ventilateu'!$C$13:$C$44,A48-nbappomp),IF(A48<=nbappomp+nbapven+nbapair,$AJ$4,IF(A48<=nbappomp+nbapven+nbapair+nbaautre,INDEX('Analyse Préliminaire Autres'!$C$11:$C$42,A48-nbappomp-nbapven-nbapair),IF(A48<=nbappomp+nbapven+nbapair+nbaautre+nbafroid,INDEX('AP Groupe froid'!$C$14:$C$17,A48-nbappomp-nbapven-nbapair-nbaautre),\"\")))))","v":""},null,null,{"$f":"IF(A48<=nbappomp,INDEX('Analyse Préliminaire Pompe'!$H$13:$H$47,A48),IF(A48<=nbappomp+nbapven,INDEX('Analyse Préliminaire Ventilateu'!$H$13:$H$44,A48-nbappomp),IF(A48<=nbappomp+nbapven+nbapair,$AJ$4,IF(A48<=nbappomp+nbapven+nbapair+nbaautre,INDEX('Analyse Préliminaire Autres'!$H$11:$H$42,A48-nbappomp-nbapven-nbapair),IF(A48<=nbappomp+nbapven+nbapair+nbaautre+nbafroid,INDEX('AP Groupe froid'!$I$14:$I$17,A48-nbappomp-nbapven-nbapair-nbaautre),\"\")))))","v":""},null,null,{"$f":"IF(AH48=\"\",IF($A48<=nbappomp,INDEX('Analyse Préliminaire Pompe'!AE$13:AE$47,$A48),IF($A48<=nbappomp+nbapven,INDEX('Analyse Préliminaire Ventilateu'!AC$13:AC$44,$A48-nbappomp),IF($A48<=nbappomp+nbapven+nbapair,'Analyse Préliminaire air compr'!$AI$22,IF(A48<=nbappomp+nbapven+nbapair+nbaautre,INDEX('Analyse Préliminaire Autres'!$X$11:$X$42,A48-nbappomp-nbapven-nbapair),IF(A48<=nbappomp+nbapven+nbapair+nbaautre+nbafroid,INDEX('AP Groupe froid'!$AF$14:$AF$17,A48-nbappomp-nbapven-nbapair-nbaautre),\"\"))))),AH48)","v":""},{"$f":"IF(AG48=\"\",IF($A48<=nbappomp,INDEX('Analyse Préliminaire Pompe'!AD$13:AD$47,$A48),IF($A48<=nbappomp+nbapven,INDEX('Analyse Préliminaire Ventilateu'!AB$13:AB$44,$A48-nbappomp),IF($A48<=nbappomp+nbapven+nbapair,'Analyse Préliminaire air compr'!$AH$22,IF(A48<=nbappomp+nbapven+nbapair+nbaautre,INDEX('Analyse Préliminaire Autres'!$W$11:$W$42,A48-nbappomp-nbapven-nbapair),IF(A48<=nbappomp+nbapven+nbapair+nbaautre+nbafroid,INDEX('AP Groupe froid'!$AE$14:$AE$17,A48-nbappomp-nbapven-nbapair-nbaautre),\"\"))))),AG48)","v":""},null,"",null,"",null,{"$f":"IF(AI48=\"\",IF($A48<=nbappomp,INDEX('Analyse Préliminaire Pompe'!T$13:T$47,$A48),IF($A48<=nbappomp+nbapven,INDEX('Analyse Préliminaire Ventilateu'!R$13:R$44,$A48-nbappomp),IF($A48<=nbappomp+nbapven+nbapair,'Analyse Préliminaire air compr'!$AH$13,IF(A48<=nbappomp+nbapven+nbapair+nbaautre,INDEX('Analyse Préliminaire Autres'!$P$11:$P$42,A48-nbappomp-nbapven-nbapair),IF(A48<=nbappomp+nbapven+nbapair+nbaautre+nbafroid,INDEX('AP Groupe froid'!$AD$14:$AD$17,A48-nbappomp-nbapven-nbapair-nbaautre),\"\"))))),AI48)","v":""},null,{"$f":"IF($A48<=nbappomp,INDEX('Analyse Préliminaire Pompe'!X$13:X$47,$A48),IF($A48<=nbappomp+nbapven,INDEX('Analyse Préliminaire Ventilateu'!V$13:V$44,$A48-nbappomp),IF($A48<=nbappomp+nbapven+nbapair,'Analyse Préliminaire air compr'!$E$35,IF(A48<=nbappomp+nbapven+nbapair+nbaautre,INDEX('Analyse Préliminaire Autres'!$R$11:$R$42,A48-nbappomp-nbapven-nbapair),IF(A48<=nbappomp+nbapven+nbapair+nbaautre+nbafroid,INDEX('AP Groupe froid'!$Z$14:$Z$17,A48-nbappomp-nbapven-nbapair-nbaautre),\"\")))))","v":""},null,null,{"$f":"IF(AG48=\"\",IF($A48<=nbappomp,INDEX('Analyse Préliminaire Pompe'!AN$13:AN$47,$A48),IF($A48<=nbappomp+nbapven,INDEX('Analyse Préliminaire Ventilateu'!AL$13:AL$44,$A48-nbappomp),IF($A48<=nbappomp+nbapven+nbapair,'Analyse Préliminaire air compr'!$AM$16,IF(A48<=nbappomp+nbapven+nbapair+nbaautre,INDEX('Analyse Préliminaire Autres'!$AB$11:$AB$42,A48-nbappomp-nbapven-nbapair),IF(A48<=nbappomp+nbapven+nbapair+nbaautre+nbafroid,INDEX('AP Groupe froid'!$AM$14:$AM$17,A48-nbappomp-nbapven-nbapair-nbaautre),\"\"))))),'Economies classées'!$A$47)","v":""},{"$f":"IF($A48<=nbappomp,INDEX('Analyse Préliminaire Pompe'!E$13:E$47,$A48),IF($A48<=nbappomp+nbapven,INDEX('Analyse Préliminaire Ventilateu'!E$13:E$44,$A48-nbappomp),IF($A48<=nbappomp+nbapven+nbapair,\"voir detail\",IF(A48<=nbappomp+nbapven+nbapair+nbaautre,INDEX('Analyse Préliminaire Autres'!$E$11:$E$42,A48-nbappomp-nbapven-nbapair),IF(A48<=nbappomp+nbapven+nbapair+nbaautre+nbafroid,INDEX('AP Groupe froid'!$F$14:$F$17,A48-nbappomp-nbapven-nbapair-nbaautre),\"\")))))","v":""},{"$f":"IF($A48<=nbappomp,INDEX('Analyse Préliminaire Pompe'!K$13:K$47,$A48),IF($A48<=nbappomp+nbapven,INDEX('Analyse Préliminaire Ventilateu'!K$13:K$44,$A48-nbappomp),IF($A48<=nbappomp+nbapven+nbapair,SUM('Analyse Préliminaire air compr'!$I$26:$I$32),IF(A48<=nbappomp+nbapven+nbapair+nbaautre,INDEX('Analyse Préliminaire Autres'!$K$11:$K$42,A48-nbappomp-nbapven-nbapair),IF(A48<=nbappomp+nbapven+nbapair+nbaautre+nbafroid,INDEX('AP Groupe froid'!$O$14:$O$17,A48-nbappomp-nbapven-nbapair-nbaautre),\"\")))))","v":""},{"$f":"IF($A48<=nbappomp,INDEX('Analyse Préliminaire Pompe'!L$13:L$47,$A48),IF($A48<=nbappomp+nbapven,INDEX('Analyse Préliminaire Ventilateu'!L$13:L$44,$A48-nbappomp),IF($A48<=nbappomp+nbapven+nbapair,MIN('Analyse Préliminaire air compr'!$J$26:$J$32),IF(A48<=nbappomp+nbapven+nbapair+nbaautre,INDEX('Analyse Préliminaire Autres'!$L$11:$L$42,A48-nbappomp-nbapven-nbapair),IF($A48<=nbappomp+nbapven+nbapair,'Analyse Préliminaire air compr'!$AM$16,IF(A48<=nbappomp+nbapven+nbapair+nbaautre+nbafroid,INDEX('AP Groupe froid'!$L$14:$L$17,A48-nbappomp-nbapven-nbapair-nbaautre),\"\"))))))","v":""},{"$f":"IF($A48<=nbappomp,INDEX('Analyse Préliminaire Pompe'!M$13:M$47,$A48),IF($A48<=nbappomp+nbapven,INDEX('Analyse Préliminaire Ventilateu'!M$13:M$44,$A48-nbappomp),IF($A48<=nbappomp+nbapven+nbapair,\"\",IF(A48<=nbappomp+nbapven+nbapair+nbaautre,INDEX('Analyse Préliminaire Autres'!$M$11:$M$42,A48-nbappomp-nbapven-nbapair),IF($A48<=nbappomp+nbapven+nbapair,'Analyse Préliminaire air compr'!$AM$16,IF(A48<=nbappomp+nbapven+nbapair+nbaautre+nbafroid,INDEX('AP Groupe froid'!$M$14:$M$17,A48-nbappomp-nbapven-nbapair-nbaautre),\"\"))))))","v":""},{"$f":"IF($A48<=nbappomp,INDEX('Analyse Préliminaire Pompe'!N$13:N$47,$A48),IF($A48<=nbappomp+nbapven,INDEX('Analyse Préliminaire Ventilateu'!N$13:N$44,$A48-nbappomp),IF($A48<=nbappomp+nbapven+nbapair,\"\",IF(A48<=nbappomp+nbapven+nbapair+nbaautre,INDEX('Analyse Préliminaire Autres'!$N$11:$N$42,A48-nbappomp-nbapven-nbapair),\"\"))))","v":""},{"$f":"IF($A48<=nbappomp,INDEX('Analyse Préliminaire Pompe'!O$13:O$47,$A48),IF($A48<=nbappomp+nbapven,INDEX('Analyse Préliminaire Ventilateu'!O$13:O$44,$A48-nbappomp),IF($A48<=nbappomp+nbapven+nbapair,\"\",IF(A48<=nbappomp+nbapven+nbapair+nbaautre,INDEX('Analyse Préliminaire Autres'!$O$11:$O$42,A48-nbappomp-nbapven-nbapair),\"\"))))","v":""},{"$f":"IF($A48<=nbappomp,INDEX('Analyse Préliminaire Pompe'!P$13:P$47,$A48),IF($A48<=nbappomp+nbapven,INDEX('Analyse Préliminaire Ventilateu'!P$13:P$44,$A48-nbappomp),IF($A48<=nbappomp+nbapven+nbapair,\"\",IF(A48<=nbappomp+nbapven+nbapair+nbaautre,INDEX('Analyse Préliminaire Autres'!#REF!,A48-nbappomp-nbapven-nbapair),\"\"))))","v":""},{"$f":"IF($A48<=nbappomp,INDEX('Analyse Préliminaire Pompe'!Q$13:Q$47,$A48),IF($A48<=nbappomp+nbapven,\"\",IF($A48<=nbappomp+nbapven+nbapair,\"\",\"\")))","v":""},{"$f":"IF(AI48=\"\",IF($A48<=nbappomp,INDEX('Analyse Préliminaire Pompe'!S$13:S$47,$A48),IF($A48<=nbappomp+nbapven,INDEX('Analyse Préliminaire Ventilateu'!Q$13:Q$44,$A48-nbappomp),IF($A48<=nbappomp+nbapven+nbapair,\"\",IF(A48<=nbappomp+nbapven+nbapair+nbaautre,\"\",\"\")))),AI48)","v":""},{"$f":"IF(AN48,\"\",IF($A48<=nbappomp,INDEX('Analyse Préliminaire Pompe'!AO$13:AO$47,$A48),IF($A48<=nbappomp+nbapven,INDEX('Analyse Préliminaire Ventilateu'!AM$13:AM$44,$A48-nbappomp),IF($A48<=nbappomp+nbapven+nbapair,EcoAPkWhCP,IF(A48<=nbappomp+nbapven+nbapair+nbaautre,INDEX('Analyse Préliminaire Autres'!$E$11:$E$42,A48-nbappomp-nbapven-nbapair),IF($A48<=nbappomp+nbapven+nbapair+nbaautre+nbafroid,INDEX('AP Groupe froid'!$AN$14:$AN$17,$A48-nbappomp-nbapven-nbapair-nbaautre),\"\"))))))","v":""},{"$f":"IF(AN48,\"\",IF($A48<=nbappomp,INDEX('Analyse Préliminaire Pompe'!AP$13:AP$47,$A48),IF($A48<=nbappomp+nbapven,INDEX('Analyse Préliminaire Ventilateu'!AN$13:AN$44,$A48-nbappomp),IF($A48<=nbappomp+nbapven+nbapair,EcoAPpercCP,IF(A48<=nbappomp+nbapven+nbapair+nbaautre,INDEX('Analyse Préliminaire Autres'!$E$11:$E$42,A48-nbappomp-nbapven-nbapair),IF($A48<=nbappomp+nbapven+nbapair+nbaautre+nbafroid,INDEX('AP Groupe froid'!$AO$14:$AO$17,$A48-nbappomp-nbapven-nbapair-nbaautre),\"\"))))))","v":""},{"$f":"IF(AN48,\"\",IF($A48<=nbappomp,INDEX('Analyse Préliminaire Pompe'!AQ$13:AQ$47,$A48),IF($A48<=nbappomp+nbapven,INDEX('Analyse Préliminaire Ventilateu'!AO$13:AO$44,$A48-nbappomp),IF($A48<=nbappomp+nbapven+nbapair,consoanncp,IF(A48<=nbappomp+nbapven+nbapair+nbaautre,INDEX('Analyse Préliminaire Autres'!$E$11:$E$42,A48-nbappomp-nbapven-nbapair),IF($A48<=nbappomp+nbapven+nbapair+nbaautre+nbafroid,INDEX('AP Groupe froid'!$AP$14:$AP$17,$A48-nbappomp-nbapven-nbapair-nbaautre),\"\"))))))","v":""},{"$f":"IF(R48=\"\",-1,IF(AND($L48>'Economies classées'!$B$2,$K48>0.2,YEAR(TODAY())-$Z48>8),2,IF(AND($L48>'Economies classées'!$B$3,YEAR(TODAY())-$Z48>5),1,0)))","v":-1},null,null,"",{"$f":"IF($A48<=nbappomp,ISBLANK(INDEX('Analyse Préliminaire Pompe'!AO$13:AO$47,$A48)),IF($A48<=nbappomp+nbapven,ISBLANK(INDEX('Analyse Préliminaire Ventilateu'!AM$13:AM$44,$A48-nbappomp)),IF($A48<=nbappomp+nbapven+nbapair,ISBLANK(EcoAPkWhCP),IF(A48<=nbappomp+nbapven+nbapair+nbaautre,ISBLANK(INDEX('Analyse Préliminaire Autres'!AC$11:AC$42,A48-nbappomp-nbapven-nbapair)),IF(A48<=nbappomp+nbapven+nbapair+nbaautre+nbafroid,ISBLANK(INDEX('AP Groupe froid'!$AN$14:$AN$17,A48-nbappomp-nbapven-nbapair-nbaautre)),FALSE)))))","v":false},{"$f":"IF(E48=Listes!$H$25,1,0)","v":0},{"$f":"IF(E48=Listes!$H$26,1,0)","v":0},0,0,{"$f":"IF(E48=Listes!$H$28,1,0)","v":0},null,0,0,0,0,0,null,0,0,0,0,0,null,"","","","","",null,-1,-1,-1,-1,null,null,{"$f":"IF(E48=Listes!$H$25,1,0)","v":0},{"$f":"IF(E48=Listes!$H$26,1,0)","v":0},0,0,0,0,0,null,0,0,null,{"$error":"#VALUE!"},0,0,0,null,null,null,"",""]
[25,"",null,{"$f":"IF(A49<=nbappomp,INDEX('Analyse Préliminaire Pompe'!$B$13:$B$47,A49),IF(A49<=nbappomp+nbapven,INDEX('Analyse Préliminaire Ventilateu'!$B$13:$B$44,A49-nbappomp),IF(A49<=nbappomp+nbapven+nbapair,301,IF(A49<=nbappomp+nbapven+nbapair+nbaautre,INDEX('Analyse Préliminaire Autres'!$B$11:$B$42,A49-nbappomp-nbapven-nbapair),IF(A49<=nbappomp+nbapven+nbapair+nbaautre+nbafroid,INDEX('AP Groupe froid'!$B$14:$B$17,A49-nbappomp-nbapven-nbapair-nbaautre),\"\")))))","v":""},{"$f":"IF(A49<=nbappomp,INDEX('Analyse Préliminaire Pompe'!$C$13:$C$47,A49),IF(A49<=nbappomp+nbapven,INDEX('Analyse Préliminaire Ventilateu'!$C$13:$C$44,A49-nbappomp),IF(A49<=nbappomp+nbapven+nbapair,$AJ$4,IF(A49<=nbappomp+nbapven+nbapair+nbaautre,INDEX('Analyse Préliminaire Autres'!$C$11:$C$42,A49-nbappomp-nbapven-nbapair),IF(A49<=nbappomp+nbapven+nbapair+nbaautre+nbafroid,INDEX('AP Groupe froid'!$C$14:$C$17,A49-nbappomp-nbapven-nbapair-nbaautre),\"\")))))","v":""},null,null,{"$f":"IF(A49<=nbappomp,INDEX('Analyse Préliminaire Pompe'!$H$13:$H$47,A49),IF(A49<=nbappomp+nbapven,INDEX('Analyse Préliminaire Ventilateu'!$H$13:$H$44,A49-nbappomp),IF(A49<=nbappomp+nbapven+nbapair,$AJ$4,IF(A49<=nbappomp+nbapven+nbapair+nbaautre,INDEX('Analyse Préliminaire Autres'!$H$11:$H$42,A49-nbappomp-nbapven-nbapair),IF(A49<=nbappomp+nbapven+nbapair+nbaautre+nbafroid,INDEX('AP Groupe froid'!$I$14:$I$17,A49-nbappomp-nbapven-nbapair-nbaautre),\"\")))))","v":""},null,null,{"$f":"IF(AH49=\"\",IF($A49<=nbappomp,INDEX('Analyse Préliminaire Pompe'!AE$13:AE$47,$A49),IF($A49<=nbappomp+nbapven,INDEX('Analyse Préliminaire Ventilateu'!AC$13:AC$44,$A49-nbappomp),IF($A49<=nbappomp+nbapven+nbapair,'Analyse Préliminaire air compr'!$AI$22,IF(A49<=nbappomp+nbapven+nbapair+nbaautre,INDEX('Analyse Préliminaire Autres'!$X$11:$X$42,A49-nbappomp-nbapven-nbapair),IF(A49<=nbappomp+nbapven+nbapair+nbaautre+nbafroid,INDEX('AP Groupe froid'!$AF$14:$AF$17,A49-nbappomp-nbapven-nbapair-nbaautre),\"\"))))),AH49)","v":""},{"$f":"IF(AG49=\"\",IF($A49<=nbappomp,INDEX('Analyse Préliminaire Pompe'!AD$13:AD$47,$A49),IF($A49<=nbappomp+nbapven,INDEX('Analyse Préliminaire Ventilateu'!AB$13:AB$44,$A49-nbappomp),IF($A49<=nbappomp+nbapven+nbapair,'Analyse Préliminaire air compr'!$AH$22,IF(A49<=nbappomp+nbapven+nbapair+nbaautre,INDEX('Analyse Préliminaire Autres'!$W$11:$W$42,A49-nbappomp-nbapven-nbapair),IF(A49<=nbappomp+nbapven+nbapair+nbaautre+nbafroid,INDEX('AP Groupe froid'!$AE$14:$AE$17,A49-nbappomp-nbapven-nbapair-nbaautre),\"\"))))),AG49)","v":""},null,"",null,"",null,{"$f":"IF(AI49=\"\",IF($A49<=nbappomp,INDEX('Analyse Préliminaire Pompe'!T$13:T$47,$A49),IF($A49<=nbappomp+nbapven,INDEX('Analyse Préliminaire Ventilateu'!R$13:R$44,$A49-nbappomp),IF($A49<=nbappomp+nbapven+nbapair,'Analyse Préliminaire air compr'!$AH$13,IF(A49<=nbappomp+nbapven+nbapair+nbaautre,INDEX('Analyse Préliminaire Autres'!$P$11:$P$42,A49-nbappomp-nbapven-nbapair),IF(A49<=nbappomp+nbapven+nbapair+nbaautre+nbafroid,INDEX('AP Groupe froid'!$AD$14:$AD$17,A49-nbappomp-nbapven-nbapair-nbaautre),\"\"))))),AI49)","v":""},null,{"$f":"IF($A49<=nbappomp,INDEX('Analyse Préliminaire Pompe'!X$13:X$47,$A49),IF($A49<=nbappomp+nbapven,INDEX('Analyse Préliminaire Ventilateu'!V$13:V$44,$A49-nbappomp),IF($A49<=nbappomp+nbapven+nbapair,'Analyse Préliminaire air compr'!$E$35,IF(A49<=nbappomp+nbapven+nbapair+nbaautre,INDEX('Analyse Préliminaire Autres'!$R$11:$R$42,A49-nbappomp-nbapven-nbapair),IF(A49<=nbappomp+nbapven+nbapair+nbaautre+nbafroid,INDEX('AP Groupe froid'!$Z$14:$Z$17,A49-nbappomp-nbapven-nbapair-nbaautre),\"\")))))","v":""},null,null,{"$f":"IF(AG49=\"\",IF($A49<=nbappomp,INDEX('Analyse Préliminaire Pompe'!AN$13:AN$47,$A49),IF($A49<=nbappomp+nbapven,INDEX('Analyse Préliminaire Ventilateu'!AL$13:AL$44,$A49-nbappomp),IF($A49<=nbappomp+nbapven+nbapair,'Analyse Préliminaire air compr'!$AM$16,IF(A49<=nbappomp+nbapven+nbapair+nbaautre,INDEX('Analyse Préliminaire Autres'!$AB$11:$AB$42,A49-nbappomp-nbapven-nbapair),IF(A49<=nbappomp+nbapven+nbapair+nbaautre+nbafroid,INDEX('AP Groupe froid'!$AM$14:$AM$17,A49-nbappomp-nbapven-nbapair-nbaautre),\"\"))))),'Economies classées'!$A$47)","v":""},{"$f":"IF($A49<=nbappomp,INDEX('Analyse Préliminaire Pompe'!E$13:E$47,$A49),IF($A49<=nbappomp+nbapven,INDEX('Analyse Préliminaire Ventilateu'!E$13:E$44,$A49-nbappomp),IF($A49<=nbappomp+nbapven+nbapair,\"voir detail\",IF(A49<=nbappomp+nbapven+nbapair+nbaautre,INDEX('Analyse Préliminaire Autres'!$E$11:$E$42,A49-nbappomp-nbapven-nbapair),IF(A49<=nbappomp+nbapven+nbapair+nbaautre+nbafroid,INDEX('AP Groupe froid'!$F$14:$F$17,A49-nbappomp-nbapven-nbapair-nbaautre),\"\")))))","v":""},{"$f":"IF($A49<=nbappomp,INDEX('Analyse Préliminaire Pompe'!K$13:K$47,$A49),IF($A49<=nbappomp+nbapven,INDEX('Analyse Préliminaire Ventilateu'!K$13:K$44,$A49-nbappomp),IF($A49<=nbappomp+nbapven+nbapair,SUM('Analyse Préliminaire air compr'!$I$26:$I$32),IF(A49<=nbappomp+nbapven+nbapair+nbaautre,INDEX('Analyse Préliminaire Autres'!$K$11:$K$42,A49-nbappomp-nbapven-nbapair),IF(A49<=nbappomp+nbapven+nbapair+nbaautre+nbafroid,INDEX('AP Groupe froid'!$O$14:$O$17,A49-nbappomp-nbapven-nbapair-nbaautre),\"\")))))","v":""},{"$f":"IF($A49<=nbappomp,INDEX('Analyse Préliminaire Pompe'!L$13:L$47,$A49),IF($A49<=nbappomp+nbapven,INDEX('Analyse Préliminaire Ventilateu'!L$13:L$44,$A49-nbappomp),IF($A49<=nbappomp+nbapven+nbapair,MIN('Analyse Préliminaire air compr'!$J$26:$J$32),IF(A49<=nbappomp+nbapven+nbapair+nbaautre,INDEX('Analyse Préliminaire Autres'!$L$11:$L$42,A49-nbappomp-nbapven-nbapair),IF($A49<=nbappomp+nbapven+nbapair,'Analyse Préliminaire air compr'!$AM$16,IF(A49<=nbappomp+nbapven+nbapair+nbaautre+nbafroid,INDEX('AP Groupe froid'!$L$14:$L$17,A49-nbappomp-nbapven-nbapair-nbaautre),\"\"))))))","v":""},{"$f":"IF($A49<=nbappomp,INDEX('Analyse Préliminaire Pompe'!M$13:M$47,$A49),IF($A49<=nbappomp+nbapven,INDEX('Analyse Préliminaire Ventilateu'!M$13:M$44,$A49-nbappomp),IF($A49<=nbappomp+nbapven+nbapair,\"\",IF(A49<=nbappomp+nbapven+nbapair+nbaautre,INDEX('Analyse Préliminaire Autres'!$M$11:$M$42,A49-nbappomp-nbapven-nbapair),IF($A49<=nbappomp+nbapven+nbapair,'Analyse Préliminaire air compr'!$AM$16,IF(A49<=nbappomp+nbapven+nbapair+nbaautre+nbafroid,INDEX('AP Groupe froid'!$M$14:$M$17,A49-nbappomp-nbapven-nbapair-nbaautre),\"\"))))))","v":""},{"$f":"IF($A49<=nbappomp,INDEX('Analyse Préliminaire Pompe'!N$13:N$47,$A49),IF($A49<=nbappomp+nbapven,INDEX('Analyse Préliminaire Ventilateu'!N$13:N$44,$A49-nbappomp),IF($A49<=nbappomp+nbapven+nbapair,\"\",IF(A49<=nbappomp+nbapven+nbapair+nbaautre,INDEX('Analyse Préliminaire Autres'!$N$11:$N$42,A49-nbappomp-nbapven-nbapair),\"\"))))","v":""},{"$f":"IF($A49<=nbappomp,INDEX('Analyse Préliminaire Pompe'!O$13:O$47,$A49),IF($A49<=nbappomp+nbapven,INDEX('Analyse Préliminaire Ventilateu'!O$13:O$44,$A49-nbappomp),IF($A49<=nbappomp+nbapven+nbapair,\"\",IF(A49<=nbappomp+nbapven+nbapair+nbaautre,INDEX('Analyse Préliminaire Autres'!$O$11:$O$42,A49-nbappomp-nbapven-nbapair),\"\"))))","v":""},{"$f":"IF($A49<=nbappomp,INDEX('Analyse Préliminaire Pompe'!P$13:P$47,$A49),IF($A49<=nbappomp+nbapven,INDEX('Analyse Préliminaire Ventilateu'!P$13:P$44,$A49-nbappomp),IF($A49<=nbappomp+nbapven+nbapair,\"\",IF(A49<=nbappomp+nbapven+nbapair+nbaautre,INDEX('Analyse Préliminaire Autres'!#REF!,A49-nbappomp-nbapven-nbapair),\"\"))))","v":""},{"$f":"IF($A49<=nbappomp,INDEX('Analyse Préliminaire Pompe'!Q$13:Q$47,$A49),IF($A49<=nbappomp+nbapven,\"\",IF($A49<=nbappomp+nbapven+nbapair,\"\",\"\")))","v":""},{"$f":"IF(AI49=\"\",IF($A49<=nbappomp,INDEX('Analyse Préliminaire Pompe'!S$13:S$47,$A49),IF($A49<=nbappomp+nbapven,INDEX('Analyse Préliminaire Ventilateu'!Q$13:Q$44,$A49-nbappomp),IF($A49<=nbappomp+nbapven+nbapair,\"\",IF(A49<=nbappomp+nbapven+nbapair+nbaautre,\"\",\"\")))),AI49)","v":""},{"$f":"IF(AN49,\"\",IF($A49<=nbappomp,INDEX('Analyse Préliminaire Pompe'!AO$13:AO$47,$A49),IF($A49<=nbappomp+nbapven,INDEX('Analyse Préliminaire Ventilateu'!AM$13:AM$44,$A49-nbappomp),IF($A49<=nbappomp+nbapven+nbapair,EcoAPkWhCP,IF(A49<=nbappomp+nbapven+nbapair+nbaautre,INDEX('Analyse Préliminaire Autres'!$E$11:$E$42,A49-nbappomp-nbapven-nbapair),IF($A49<=nbappomp+nbapven+nbapair+nbaautre+nbafroid,INDEX('AP Groupe froid'!$AN$14:$AN$17,$A49-nbappomp-nbapven-nbapair-nbaautre),\"\"))))))","v":""},{"$f":"IF(AN49,\"\",IF($A49<=nbappomp,INDEX('Analyse Préliminaire Pompe'!AP$13:AP$47,$A49),IF($A49<=nbappomp+nbapven,INDEX('Analyse Préliminaire Ventilateu'!AN$13:AN$44,$A49-nbappomp),IF($A49<=nbappomp+nbapven+nbapair,EcoAPpercCP,IF(A49<=nbappomp+nbapven+nbapair+nbaautre,INDEX('Analyse Préliminaire Autres'!$E$11:$E$42,A49-nbappomp-nbapven-nbapair),IF($A49<=nbappomp+nbapven+nbapair+nbaautre+nbafroid,INDEX('AP Groupe froid'!$AO$14:$AO$17,$A49-nbappomp-nbapven-nbapair-nbaautre),\"\"))))))","v":""},{"$f":"IF(AN49,\"\",IF($A49<=nbappomp,INDEX('Analyse Préliminaire Pompe'!AQ$13:AQ$47,$A49),IF($A49<=nbappomp+nbapven,INDEX('Analyse Préliminaire Ventilateu'!AO$13:AO$44,$A49-nbappomp),IF($A49<=nbappomp+nbapven+nbapair,consoanncp,IF(A49<=nbappomp+nbapven+nbapair+nbaautre,INDEX('Analyse Préliminaire Autres'!$E$11:$E$42,A49-nbappomp-nbapven-nbapair),IF($A49<=nbappomp+nbapven+nbapair+nbaautre+nbafroid,INDEX('AP Groupe froid'!$AP$14:$AP$17,$A49-nbappomp-nbapven-nbapair-nbaautre),\"\"))))))","v":""},{"$f":"IF(R49=\"\",-1,IF(AND($L49>'Economies classées'!$B$2,$K49>0.2,YEAR(TODAY())-$Z49>8),2,IF(AND($L49>'Economies classées'!$B$3,YEAR(TODAY())-$Z49>5),1,0)))","v":-1},null,null,"",{"$f":"IF($A49<=nbappomp,ISBLANK(INDEX('Analyse Préliminaire Pompe'!AO$13:AO$47,$A49)),IF($A49<=nbappomp+nbapven,ISBLANK(INDEX('Analyse Préliminaire Ventilateu'!AM$13:AM$44,$A49-nbappomp)),IF($A49<=nbappomp+nbapven+nbapair,ISBLANK(EcoAPkWhCP),IF(A49<=nbappomp+nbapven+nbapair+nbaautre,ISBLANK(INDEX('Analyse Préliminaire Autres'!AC$11:AC$42,A49-nbappomp-nbapven-nbapair)),IF(A49<=nbappomp+nbapven+nbapair+nbaautre+nbafroid,ISBLANK(INDEX('AP Groupe froid'!$AN$14:$AN$17,A49-nbappomp-nbapven-nbapair-nbaautre)),FALSE)))))","v":false},{"$f":"IF(E49=Listes!$H$25,1,0)","v":0},{"$f":"IF(E49=Listes!$H$26,1,0)","v":0},0,0,{"$f":"IF(E49=Listes!$H$28,1,0)","v":0},null,0,0,0,0,0,null,0,0,0,0,0,null,"","","","","",null,-1,-1,-1,-1,null,null,{"$f":"IF(E49=Listes!$H$25,1,0)","v":0},{"$f":"IF(E49=Listes!$H$26,1,0)","v":0},0,0,0,0,0,null,0,0,null,{"$error":"#VALUE!"},0,0,0,null,null,null,"",""]
[26,"",null,{"$f":"IF(A50<=nbappomp,INDEX('Analyse Préliminaire Pompe'!$B$13:$B$47,A50),IF(A50<=nbappomp+nbapven,INDEX('Analyse Préliminaire Ventilateu'!$B$13:$B$44,A50-nbappomp),IF(A50<=nbappomp+nbapven+nbapair,301,IF(A50<=nbappomp+nbapven+nbapair+nbaautre,INDEX('Analyse Préliminaire Autres'!$B$11:$B$42,A50-nbappomp-nbapven-nbapair),IF(A50<=nbappomp+nbapven+nbapair+nbaautre+nbafroid,INDEX('AP Groupe froid'!$B$14:$B$17,A50-nbappomp-nbapven-nbapair-nbaautre),\"\")))))","v":""},{"$f":"IF(A50<=nbappomp,INDEX('Analyse Préliminaire Pompe'!$C$13:$C$47,A50),IF(A50<=nbappomp+nbapven,INDEX('Analyse Préliminaire Ventilateu'!$C$13:$C$44,A50-nbappomp),IF(A50<=nbappomp+nbapven+nbapair,$AJ$4,IF(A50<=nbappomp+nbapven+nbapair+nbaautre,INDEX('Analyse Préliminaire Autres'!$C$11:$C$42,A50-nbappomp-nbapven-nbapair),IF(A50<=nbappomp+nbapven+nbapair+nbaautre+nbafroid,INDEX('AP Groupe froid'!$C$14:$C$17,A50-nbappomp-nbapven-nbapair-nbaautre),\"\")))))","v":""},null,null,{"$f":"IF(A50<=nbappomp,INDEX('Analyse Préliminaire Pompe'!$H$13:$H$47,A50),IF(A50<=nbappomp+nbapven,INDEX('Analyse Préliminaire Ventilateu'!$H$13:$H$44,A50-nbappomp),IF(A50<=nbappomp+nbapven+nbapair,$AJ$4,IF(A50<=nbappomp+nbapven+nbapair+nbaautre,INDEX('Analyse Préliminaire Autres'!$H$11:$H$42,A50-nbappomp-nbapven-nbapair),IF(A50<=nbappomp+nbapven+nbapair+nbaautre+nbafroid,INDEX('AP Groupe froid'!$I$14:$I$17,A50-nbappomp-nbapven-nbapair-nbaautre),\"\")))))","v":""},null,null,{"$f":"IF(AH50=\"\",IF($A50<=nbappomp,INDEX('Analyse Préliminaire Pompe'!AE$13:AE$47,$A50),IF($A50<=nbappomp+nbapven,INDEX('Analyse Préliminaire Ventilateu'!AC$13:AC$44,$A50-nbappomp),IF($A50<=nbappomp+nbapven+nbapair,'Analyse Préliminaire air compr'!$AI$22,IF(A50<=nbappomp+nbapven+nbapair+nbaautre,INDEX('Analyse Préliminaire Autres'!$X$11:$X$42,A50-nbappomp-nbapven-nbapair),IF(A50<=nbappomp+nbapven+nbapair+nbaautre+nbafroid,INDEX('AP Groupe froid'!$AF$14:$AF$17,A50-nbappomp-nbapven-nbapair-nbaautre),\"\"))))),AH50)","v":""},{"$f":"IF(AG50=\"\",IF($A50<=nbappomp,INDEX('Analyse Préliminaire Pompe'!AD$13:AD$47,$A50),IF($A50<=nbappomp+nbapven,INDEX('Analyse Préliminaire Ventilateu'!AB$13:AB$44,$A50-nbappomp),IF($A50<=nbappomp+nbapven+nbapair,'Analyse Préliminaire air compr'!$AH$22,IF(A50<=nbappomp+nbapven+nbapair+nbaautre,INDEX('Analyse Préliminaire Autres'!$W$11:$W$42,A50-nbappomp-nbapven-nbapair),IF(A50<=nbappomp+nbapven+nbapair+nbaautre+nbafroid,INDEX('AP Groupe froid'!$AE$14:$AE$17,A50-nbappomp-nbapven-nbapair-nbaautre),\"\"))))),AG50)","v":""},null,"",null,"",null,{"$f":"IF(AI50=\"\",IF($A50<=nbappomp,INDEX('Analyse Préliminaire Pompe'!T$13:T$47,$A50),IF($A50<=nbappomp+nbapven,INDEX('Analyse Préliminaire Ventilateu'!R$13:R$44,$A50-nbappomp),IF($A50<=nbappomp+nbapven+nbapair,'Analyse Préliminaire air compr'!$AH$13,IF(A50<=nbappomp+nbapven+nbapair+nbaautre,INDEX('Analyse Préliminaire Autres'!$P$11:$P$42,A50-nbappomp-nbapven-nbapair),IF(A50<=nbappomp+nbapven+nbapair+nbaautre+nbafroid,INDEX('AP Groupe froid'!$AD$14:$AD$17,A50-nbappomp-nbapven-nbapair-nbaautre),\"\"))))),AI50)","v":""},null,{"$f":"IF($A50<=nbappomp,INDEX('Analyse Préliminaire Pompe'!X$13:X$47,$A50),IF($A50<=nbappomp+nbapven,INDEX('Analyse Préliminaire Ventilateu'!V$13:V$44,$A50-nbappomp),IF($A50<=nbappomp+nbapven+nbapair,'Analyse Préliminaire air compr'!$E$35,IF(A50<=nbappomp+nbapven+nbapair+nbaautre,INDEX('Analyse Préliminaire Autres'!$R$11:$R$42,A50-nbappomp-nbapven-nbapair),IF(A50<=nbappomp+nbapven+nbapair+nbaautre+nbafroid,INDEX('AP Groupe froid'!$Z$14:$Z$17,A50-nbappomp-nbapven-nbapair-nbaautre),\"\")))))","v":""},null,null,{"$f":"IF(AG50=\"\",IF($A50<=nbappomp,INDEX('Analyse Préliminaire Pompe'!AN$13:AN$47,$A50),IF($A50<=nbappomp+nbapven,INDEX('Analyse Préliminaire Ventilateu'!AL$13:AL$44,$A50-nbappomp),IF($A50<=nbappomp+nbapven+nbapair,'Analyse Préliminaire air compr'!$AM$16,IF(A50<=nbappomp+nbapven+nbapair+nbaautre,INDEX('Analyse Préliminaire Autres'!$AB$11:$AB$42,A50-nbappomp-nbapven-nbapair),IF(A50<=nbappomp+nbapven+nbapair+nbaautre+nbafroid,INDEX('AP Groupe froid'!$AM$14:$AM$17,A50-nbappomp-nbapven-nbapair-nbaautre),\"\"))))),'Economies classées'!$A$47)","v":""},{"$f":"IF($A50<=nbappomp,INDEX('Analyse Préliminaire Pompe'!E$13:E$47,$A50),IF($A50<=nbappomp+nbapven,INDEX('Analyse Préliminaire Ventilateu'!E$13:E$44,$A50-nbappomp),IF($A50<=nbappomp+nbapven+nbapair,\"voir detail\",IF(A50<=nbappomp+nbapven+nbapair+nbaautre,INDEX('Analyse Préliminaire Autres'!$E$11:$E$42,A50-nbappomp-nbapven-nbapair),IF(A50<=nbappomp+nbapven+nbapair+nbaautre+nbafroid,INDEX('AP Groupe froid'!$F$14:$F$17,A50-nbappomp-nbapven-nbapair-nbaautre),\"\")))))","v":""},{"$f":"IF($A50<=nbappomp,INDEX('Analyse Préliminaire Pompe'!K$13:K$47,$A50),IF($A50<=nbappomp+nbapven,INDEX('Analyse Préliminaire Ventilateu'!K$13:K$44,$A50-nbappomp),IF($A50<=nbappomp+nbapven+nbapair,SUM('Analyse Préliminaire air compr'!$I$26:$I$32),IF(A50<=nbappomp+nbapven+nbapair+nbaautre,INDEX('Analyse Préliminaire Autres'!$K$11:$K$42,A50-nbappomp-nbapven-nbapair),IF(A50<=nbappomp+nbapven+nbapair+nbaautre+nbafroid,INDEX('AP Groupe froid'!$O$14:$O$17,A50-nbappomp-nbapven-nbapair-nbaautre),\"\")))))","v":""},{"$f":"IF($A50<=nbappomp,INDEX('Analyse Préliminaire Pompe'!L$13:L$47,$A50),IF($A50<=nbappomp+nbapven,INDEX('Analyse Préliminaire Ventilateu'!L$13:L$44,$A50-nbappomp),IF($A50<=nbappomp+nbapven+nbapair,MIN('Analyse Préliminaire air compr'!$J$26:$J$32),IF(A50<=nbappomp+nbapven+nbapair+nbaautre,INDEX('Analyse Préliminaire Autres'!$L$11:$L$42,A50-nbappomp-nbapven-nbapair),IF($A50<=nbappomp+nbapven+nbapair,'Analyse Préliminaire air compr'!$AM$16,IF(A50<=nbappomp+nbapven+nbapair+nbaautre+nbafroid,INDEX('AP Groupe froid'!$L$14:$L$17,A50-nbappomp-nbapven-nbapair-nbaautre),\"\"))))))","v":""},{"$f":"IF($A50<=nbappomp,INDEX('Analyse Préliminaire Pompe'!M$13:M$47,$A50),IF($A50<=nbappomp+nbapven,INDEX('Analyse Préliminaire Ventilateu'!M$13:M$44,$A50-nbappomp),IF($A50<=nbappomp+nbapven+nbapair,\"\",IF(A50<=nbappomp+nbapven+nbapair+nbaautre,INDEX('Analyse Préliminaire Autres'!$M$11:$M$42,A50-nbappomp-nbapven-nbapair),IF($A50<=nbappomp+nbapven+nbapair,'Analyse Préliminaire air compr'!$AM$16,IF(A50<=nbappomp+nbapven+nbapair+nbaautre+nbafroid,INDEX('AP Groupe froid'!$M$14:$M$17,A50-nbappomp-nbapven-nbapair-nbaautre),\"\"))))))","v":""},{"$f":"IF($A50<=nbappomp,INDEX('Analyse Préliminaire Pompe'!N$13:N$47,$A50),IF($A50<=nbappomp+nbapven,INDEX('Analyse Préliminaire Ventilateu'!N$13:N$44,$A50-nbappomp),IF($A50<=nbappomp+nbapven+nbapair,\"\",IF(A50<=nbappomp+nbapven+nbapair+nbaautre,INDEX('Analyse Préliminaire Autres'!$N$11:$N$42,A50-nbappomp-nbapven-nbapair),\"\"))))","v":""},{"$f":"IF($A50<=nbappomp,INDEX('Analyse Préliminaire Pompe'!O$13:O$47,$A50),IF($A50<=nbappomp+nbapven,INDEX('Analyse Préliminaire Ventilateu'!O$13:O$44,$A50-nbappomp),IF($A50<=nbappomp+nbapven+nbapair,\"\",IF(A50<=nbappomp+nbapven+nbapair+nbaautre,INDEX('Analyse Préliminaire Autres'!$O$11:$O$42,A50-nbappomp-nbapven-nbapair),\"\"))))","v":""},{"$f":"IF($A50<=nbappomp,INDEX('Analyse Préliminaire Pompe'!P$13:P$47,$A50),IF($A50<=nbappomp+nbapven,INDEX('Analyse Préliminaire Ventilateu'!P$13:P$44,$A50-nbappomp),IF($A50<=nbappomp+nbapven+nbapair,\"\",IF(A50<=nbappomp+nbapven+nbapair+nbaautre,INDEX('Analyse Préliminaire Autres'!#REF!,A50-nbappomp-nbapven-nbapair),\"\"))))","v":""},{"$f":"IF($A50<=nbappomp,INDEX('Analyse Préliminaire Pompe'!Q$13:Q$47,$A50),IF($A50<=nbappomp+nbapven,\"\",IF($A50<=nbappomp+nbapven+nbapair,\"\",\"\")))","v":""},{"$f":"IF(AI50=\"\",IF($A50<=nbappomp,INDEX('Analyse Préliminaire Pompe'!S$13:S$47,$A50),IF($A50<=nbappomp+nbapven,INDEX('Analyse Préliminaire Ventilateu'!Q$13:Q$44,$A50-nbappomp),IF($A50<=nbappomp+nbapven+nbapair,\"\",IF(A50<=nbappomp+nbapven+nbapair+nbaautre,\"\",\"\")))),AI50)","v":""},{"$f":"IF(AN50,\"\",IF($A50<=nbappomp,INDEX('Analyse Préliminaire Pompe'!AO$13:AO$47,$A50),IF($A50<=nbappomp+nbapven,INDEX('Analyse Préliminaire Ventilateu'!AM$13:AM$44,$A50-nbappomp),IF($A50<=nbappomp+nbapven+nbapair,EcoAPkWhCP,IF(A50<=nbappomp+nbapven+nbapair+nbaautre,INDEX('Analyse Préliminaire Autres'!$E$11:$E$42,A50-nbappomp-nbapven-nbapair),IF($A50<=nbappomp+nbapven+nbapair+nbaautre+nbafroid,INDEX('AP Groupe froid'!$AN$14:$AN$17,$A50-nbappomp-nbapven-nbapair-nbaautre),\"\"))))))","v":""},{"$f":"IF(AN50,\"\",IF($A50<=nbappomp,INDEX('Analyse Préliminaire Pompe'!AP$13:AP$47,$A50),IF($A50<=nbappomp+nbapven,INDEX('Analyse Préliminaire Ventilateu'!AN$13:AN$44,$A50-nbappomp),IF($A50<=nbappomp+nbapven+nbapair,EcoAPpercCP,IF(A50<=nbappomp+nbapven+nbapair+nbaautre,INDEX('Analyse Préliminaire Autres'!$E$11:$E$42,A50-nbappomp-nbapven-nbapair),IF($A50<=nbappomp+nbapven+nbapair+nbaautre+nbafroid,INDEX('AP Groupe froid'!$AO$14:$AO$17,$A50-nbappomp-nbapven-nbapair-nbaautre),\"\"))))))","v":""},{"$f":"IF(AN50,\"\",IF($A50<=nbappomp,INDEX('Analyse Préliminaire Pompe'!AQ$13:AQ$47,$A50),IF($A50<=nbappomp+nbapven,INDEX('Analyse Préliminaire Ventilateu'!AO$13:AO$44,$A50-nbappomp),IF($A50<=nbappomp+nbapven+nbapair,consoanncp,IF(A50<=nbappomp+nbapven+nbapair+nbaautre,INDEX('Analyse Préliminaire Autres'!$E$11:$E$42,A50-nbappomp-nbapven-nbapair),IF($A50<=nbappomp+nbapven+nbapair+nbaautre+nbafroid,INDEX('AP Groupe froid'!$AP$14:$AP$17,$A50-nbappomp-nbapven-nbapair-nbaautre),\"\"))))))","v":""},{"$f":"IF(R50=\"\",-1,IF(AND($L50>'Economies classées'!$B$2,$K50>0.2,YEAR(TODAY())-$Z50>8),2,IF(AND($L50>'Economies classées'!$B$3,YEAR(TODAY())-$Z50>5),1,0)))","v":-1},null,null,"",{"$f":"IF($A50<=nbappomp,ISBLANK(INDEX('Analyse Préliminaire Pompe'!AO$13:AO$47,$A50)),IF($A50<=nbappomp+nbapven,ISBLANK(INDEX('Analyse Préliminaire Ventilateu'!AM$13:AM$44,$A50-nbappomp)),IF($A50<=nbappomp+nbapven+nbapair,ISBLANK(EcoAPkWhCP),IF(A50<=nbappomp+nbapven+nbapair+nbaautre,ISBLANK(INDEX('Analyse Préliminaire Autres'!AC$11:AC$42,A50-nbappomp-nbapven-nbapair)),IF(A50<=nbappomp+nbapven+nbapair+nbaautre+nbafroid,ISBLANK(INDEX('AP Groupe froid'!$AN$14:$AN$17,A50-nbappomp-nbapven-nbapair-nbaautre)),FALSE)))))","v":false},{"$f":"IF(E50=Listes!$H$25,1,0)","v":0},{"$f":"IF(E50=Listes!$H$26,1,0)","v":0},0,0,{"$f":"IF(E50=Listes!$H$28,1,0)","v":0},null,0,0,0,0,0,null,0,0,0,0,0,null,"","","","","",null,-1,-1,-1,-1,null,null,{"$f":"IF(E50=Listes!$H$25,1,0)","v":0},{"$f":"IF(E50=Listes!$H$26,1,0)","v":0},0,0,0,0,0,null,0,0,null,{"$error":"#VALUE!"},0,0,0,null,null,null,"",""]
[27,"",null,{"$f":"IF(A51<=nbappomp,INDEX('Analyse Préliminaire Pompe'!$B$13:$B$47,A51),IF(A51<=nbappomp+nbapven,INDEX('Analyse Préliminaire Ventilateu'!$B$13:$B$44,A51-nbappomp),IF(A51<=nbappomp+nbapven+nbapair,301,IF(A51<=nbappomp+nbapven+nbapair+nbaautre,INDEX('Analyse Préliminaire Autres'!$B$11:$B$42,A51-nbappomp-nbapven-nbapair),IF(A51<=nbappomp+nbapven+nbapair+nbaautre+nbafroid,INDEX('AP Groupe froid'!$B$14:$B$17,A51-nbappomp-nbapven-nbapair-nbaautre),\"\")))))","v":""},{"$f":"IF(A51<=nbappomp,INDEX('Analyse Préliminaire Pompe'!$C$13:$C$47,A51),IF(A51<=nbappomp+nbapven,INDEX('Analyse Préliminaire Ventilateu'!$C$13:$C$44,A51-nbappomp),IF(A51<=nbappomp+nbapven+nbapair,$AJ$4,IF(A51<=nbappomp+nbapven+nbapair+nbaautre,INDEX('Analyse Préliminaire Autres'!$C$11:$C$42,A51-nbappomp-nbapven-nbapair),IF(A51<=nbappomp+nbapven+nbapair+nbaautre+nbafroid,INDEX('AP Groupe froid'!$C$14:$C$17,A51-nbappomp-nbapven-nbapair-nbaautre),\"\")))))","v":""},null,null,{"$f":"IF(A51<=nbappomp,INDEX('Analyse Préliminaire Pompe'!$H$13:$H$47,A51),IF(A51<=nbappomp+nbapven,INDEX('Analyse Préliminaire Ventilateu'!$H$13:$H$44,A51-nbappomp),IF(A51<=nbappomp+nbapven+nbapair,$AJ$4,IF(A51<=nbappomp+nbapven+nbapair+nbaautre,INDEX('Analyse Préliminaire Autres'!$H$11:$H$42,A51-nbappomp-nbapven-nbapair),IF(A51<=nbappomp+nbapven+nbapair+nbaautre+nbafroid,INDEX('AP Groupe froid'!$I$14:$I$17,A51-nbappomp-nbapven-nbapair-nbaautre),\"\")))))","v":""},null,null,{"$f":"IF(AH51=\"\",IF($A51<=nbappomp,INDEX('Analyse Préliminaire Pompe'!AE$13:AE$47,$A51),IF($A51<=nbappomp+nbapven,INDEX('Analyse Préliminaire Ventilateu'!AC$13:AC$44,$A51-nbappomp),IF($A51<=nbappomp+nbapven+nbapair,'Analyse Préliminaire air compr'!$AI$22,IF(A51<=nbappomp+nbapven+nbapair+nbaautre,INDEX('Analyse Préliminaire Autres'!$X$11:$X$42,A51-nbappomp-nbapven-nbapair),IF(A51<=nbappomp+nbapven+nbapair+nbaautre+nbafroid,INDEX('AP Groupe froid'!$AF$14:$AF$17,A51-nbappomp-nbapven-nbapair-nbaautre),\"\"))))),AH51)","v":""},{"$f":"IF(AG51=\"\",IF($A51<=nbappomp,INDEX('Analyse Préliminaire Pompe'!AD$13:AD$47,$A51),IF($A51<=nbappomp+nbapven,INDEX('Analyse Préliminaire Ventilateu'!AB$13:AB$44,$A51-nbappomp),IF($A51<=nbappomp+nbapven+nbapair,'Analyse Préliminaire air compr'!$AH$22,IF(A51<=nbappomp+nbapven+nbapair+nbaautre,INDEX('Analyse Préliminaire Autres'!$W$11:$W$42,A51-nbappomp-nbapven-nbapair),IF(A51<=nbappomp+nbapven+nbapair+nbaautre+nbafroid,INDEX('AP Groupe froid'!$AE$14:$AE$17,A51-nbappomp-nbapven-nbapair-nbaautre),\"\"))))),AG51)","v":""},null,"",null,"",null,{"$f":"IF(AI51=\"\",IF($A51<=nbappomp,INDEX('Analyse Préliminaire Pompe'!T$13:T$47,$A51),IF($A51<=nbappomp+nbapven,INDEX('Analyse Préliminaire Ventilateu'!R$13:R$44,$A51-nbappomp),IF($A51<=nbappomp+nbapven+nbapair,'Analyse Préliminaire air compr'!$AH$13,IF(A51<=nbappomp+nbapven+nbapair+nbaautre,INDEX('Analyse Préliminaire Autres'!$P$11:$P$42,A51-nbappomp-nbapven-nbapair),IF(A51<=nbappomp+nbapven+nbapair+nbaautre+nbafroid,INDEX('AP Groupe froid'!$AD$14:$AD$17,A51-nbappomp-nbapven-nbapair-nbaautre),\"\"))))),AI51)","v":""},null,{"$f":"IF($A51<=nbappomp,INDEX('Analyse Préliminaire Pompe'!X$13:X$47,$A51),IF($A51<=nbappomp+nbapven,INDEX('Analyse Préliminaire Ventilateu'!V$13:V$44,$A51-nbappomp),IF($A51<=nbappomp+nbapven+nbapair,'Analyse Préliminaire air compr'!$E$35,IF(A51<=nbappomp+nbapven+nbapair+nbaautre,INDEX('Analyse Préliminaire Autres'!$R$11:$R$42,A51-nbappomp-nbapven-nbapair),IF(A51<=nbappomp+nbapven+nbapair+nbaautre+nbafroid,INDEX('AP Groupe froid'!$Z$14:$Z$17,A51-nbappomp-nbapven-nbapair-nbaautre),\"\")))))","v":""},null,null,{"$f":"IF(AG51=\"\",IF($A51<=nbappomp,INDEX('Analyse Préliminaire Pompe'!AN$13:AN$47,$A51),IF($A51<=nbappomp+nbapven,INDEX('Analyse Préliminaire Ventilateu'!AL$13:AL$44,$A51-nbappomp),IF($A51<=nbappomp+nbapven+nbapair,'Analyse Préliminaire air compr'!$AM$16,IF(A51<=nbappomp+nbapven+nbapair+nbaautre,INDEX('Analyse Préliminaire Autres'!$AB$11:$AB$42,A51-nbappomp-nbapven-nbapair),IF(A51<=nbappomp+nbapven+nbapair+nbaautre+nbafroid,INDEX('AP Groupe froid'!$AM$14:$AM$17,A51-nbappomp-nbapven-nbapair-nbaautre),\"\"))))),'Economies classées'!$A$47)","v":""},{"$f":"IF($A51<=nbappomp,INDEX('Analyse Préliminaire Pompe'!E$13:E$47,$A51),IF($A51<=nbappomp+nbapven,INDEX('Analyse Préliminaire Ventilateu'!E$13:E$44,$A51-nbappomp),IF($A51<=nbappomp+nbapven+nbapair,\"voir detail\",IF(A51<=nbappomp+nbapven+nbapair+nbaautre,INDEX('Analyse Préliminaire Autres'!$E$11:$E$42,A51-nbappomp-nbapven-nbapair),IF(A51<=nbappomp+nbapven+nbapair+nbaautre+nbafroid,INDEX('AP Groupe froid'!$F$14:$F$17,A51-nbappomp-nbapven-nbapair-nbaautre),\"\")))))","v":""},{"$f":"IF($A51<=nbappomp,INDEX('Analyse Préliminaire Pompe'!K$13:K$47,$A51),IF($A51<=nbappomp+nbapven,INDEX('Analyse Préliminaire Ventilateu'!K$13:K$44,$A51-nbappomp),IF($A51<=nbappomp+nbapven+nbapair,SUM('Analyse Préliminaire air compr'!$I$26:$I$32),IF(A51<=nbappomp+nbapven+nbapair+nbaautre,INDEX('Analyse Préliminaire Autres'!$K$11:$K$42,A51-nbappomp-nbapven-nbapair),IF(A51<=nbappomp+nbapven+nbapair+nbaautre+nbafroid,INDEX('AP Groupe froid'!$O$14:$O$17,A51-nbappomp-nbapven-nbapair-nbaautre),\"\")))))","v":""},{"$f":"IF($A51<=nbappomp,INDEX('Analyse Préliminaire Pompe'!L$13:L$47,$A51),IF($A51<=nbappomp+nbapven,INDEX('Analyse Préliminaire Ventilateu'!L$13:L$44,$A51-nbappomp),IF($A51<=nbappomp+nbapven+nbapair,MIN('Analyse Préliminaire air compr'!$J$26:$J$32),IF(A51<=nbappomp+nbapven+nbapair+nbaautre,INDEX('Analyse Préliminaire Autres'!$L$11:$L$42,A51-nbappomp-nbapven-nbapair),IF($A51<=nbappomp+nbapven+nbapair,'Analyse Préliminaire air compr'!$AM$16,IF(A51<=nbappomp+nbapven+nbapair+nbaautre+nbafroid,INDEX('AP Groupe froid'!$L$14:$L$17,A51-nbappomp-nbapven-nbapair-nbaautre),\"\"))))))","v":""},{"$f":"IF($A51<=nbappomp,INDEX('Analyse Préliminaire Pompe'!M$13:M$47,$A51),IF($A51<=nbappomp+nbapven,INDEX('Analyse Préliminaire Ventilateu'!M$13:M$44,$A51-nbappomp),IF($A51<=nbappomp+nbapven+nbapair,\"\",IF(A51<=nbappomp+nbapven+nbapair+nbaautre,INDEX('Analyse Préliminaire Autres'!$M$11:$M$42,A51-nbappomp-nbapven-nbapair),IF($A51<=nbappomp+nbapven+nbapair,'Analyse Préliminaire air compr'!$AM$16,IF(A51<=nbappomp+nbapven+nbapair+nbaautre+nbafroid,INDEX('AP Groupe froid'!$M$14:$M$17,A51-nbappomp-nbapven-nbapair-nbaautre),\"\"))))))","v":""},{"$f":"IF($A51<=nbappomp,INDEX('Analyse Préliminaire Pompe'!N$13:N$47,$A51),IF($A51<=nbappomp+nbapven,INDEX('Analyse Préliminaire Ventilateu'!N$13:N$44,$A51-nbappomp),IF($A51<=nbappomp+nbapven+nbapair,\"\",IF(A51<=nbappomp+nbapven+nbapair+nbaautre,INDEX('Analyse Préliminaire Autres'!$N$11:$N$42,A51-nbappomp-nbapven-nbapair),\"\"))))","v":""},{"$f":"IF($A51<=nbappomp,INDEX('Analyse Préliminaire Pompe'!O$13:O$47,$A51),IF($A51<=nbappomp+nbapven,INDEX('Analyse Préliminaire Ventilateu'!O$13:O$44,$A51-nbappomp),IF($A51<=nbappomp+nbapven+nbapair,\"\",IF(A51<=nbappomp+nbapven+nbapair+nbaautre,INDEX('Analyse Préliminaire Autres'!$O$11:$O$42,A51-nbappomp-nbapven-nbapair),\"\"))))","v":""},{"$f":"IF($A51<=nbappomp,INDEX('Analyse Préliminaire Pompe'!P$13:P$47,$A51),IF($A51<=nbappomp+nbapven,INDEX('Analyse Préliminaire Ventilateu'!P$13:P$44,$A51-nbappomp),IF($A51<=nbappomp+nbapven+nbapair,\"\",IF(A51<=nbappomp+nbapven+nbapair+nbaautre,INDEX('Analyse Préliminaire Autres'!#REF!,A51-nbappomp-nbapven-nbapair),\"\"))))","v":""},{"$f":"IF($A51<=nbappomp,INDEX('Analyse Préliminaire Pompe'!Q$13:Q$47,$A51),IF($A51<=nbappomp+nbapven,\"\",IF($A51<=nbappomp+nbapven+nbapair,\"\",\"\")))","v":""},{"$f":"IF(AI51=\"\",IF($A51<=nbappomp,INDEX('Analyse Préliminaire Pompe'!S$13:S$47,$A51),IF($A51<=nbappomp+nbapven,INDEX('Analyse Préliminaire Ventilateu'!Q$13:Q$44,$A51-nbappomp),IF($A51<=nbappomp+nbapven+nbapair,\"\",IF(A51<=nbappomp+nbapven+nbapair+nbaautre,\"\",\"\")))),AI51)","v":""},{"$f":"IF(AN51,\"\",IF($A51<=nbappomp,INDEX('Analyse Préliminaire Pompe'!AO$13:AO$47,$A51),IF($A51<=nbappomp+nbapven,INDEX('Analyse Préliminaire Ventilateu'!AM$13:AM$44,$A51-nbappomp),IF($A51<=nbappomp+nbapven+nbapair,EcoAPkWhCP,IF(A51<=nbappomp+nbapven+nbapair+nbaautre,INDEX('Analyse Préliminaire Autres'!$E$11:$E$42,A51-nbappomp-nbapven-nbapair),IF($A51<=nbappomp+nbapven+nbapair+nbaautre+nbafroid,INDEX('AP Groupe froid'!$AN$14:$AN$17,$A51-nbappomp-nbapven-nbapair-nbaautre),\"\"))))))","v":""},{"$f":"IF(AN51,\"\",IF($A51<=nbappomp,INDEX('Analyse Préliminaire Pompe'!AP$13:AP$47,$A51),IF($A51<=nbappomp+nbapven,INDEX('Analyse Préliminaire Ventilateu'!AN$13:AN$44,$A51-nbappomp),IF($A51<=nbappomp+nbapven+nbapair,EcoAPpercCP,IF(A51<=nbappomp+nbapven+nbapair+nbaautre,INDEX('Analyse Préliminaire Autres'!$E$11:$E$42,A51-nbappomp-nbapven-nbapair),IF($A51<=nbappomp+nbapven+nbapair+nbaautre+nbafroid,INDEX('AP Groupe froid'!$AO$14:$AO$17,$A51-nbappomp-nbapven-nbapair-nbaautre),\"\"))))))","v":""},{"$f":"IF(AN51,\"\",IF($A51<=nbappomp,INDEX('Analyse Préliminaire Pompe'!AQ$13:AQ$47,$A51),IF($A51<=nbappomp+nbapven,INDEX('Analyse Préliminaire Ventilateu'!AO$13:AO$44,$A51-nbappomp),IF($A51<=nbappomp+nbapven+nbapair,consoanncp,IF(A51<=nbappomp+nbapven+nbapair+nbaautre,INDEX('Analyse Préliminaire Autres'!$E$11:$E$42,A51-nbappomp-nbapven-nbapair),IF($A51<=nbappomp+nbapven+nbapair+nbaautre+nbafroid,INDEX('AP Groupe froid'!$AP$14:$AP$17,$A51-nbappomp-nbapven-nbapair-nbaautre),\"\"))))))","v":""},{"$f":"IF(R51=\"\",-1,IF(AND($L51>'Economies classées'!$B$2,$K51>0.2,YEAR(TODAY())-$Z51>8),2,IF(AND($L51>'Economies classées'!$B$3,YEAR(TODAY())-$Z51>5),1,0)))","v":-1},null,null,"",{"$f":"IF($A51<=nbappomp,ISBLANK(INDEX('Analyse Préliminaire Pompe'!AO$13:AO$47,$A51)),IF($A51<=nbappomp+nbapven,ISBLANK(INDEX('Analyse Préliminaire Ventilateu'!AM$13:AM$44,$A51-nbappomp)),IF($A51<=nbappomp+nbapven+nbapair,ISBLANK(EcoAPkWhCP),IF(A51<=nbappomp+nbapven+nbapair+nbaautre,ISBLANK(INDEX('Analyse Préliminaire Autres'!AC$11:AC$42,A51-nbappomp-nbapven-nbapair)),IF(A51<=nbappomp+nbapven+nbapair+nbaautre+nbafroid,ISBLANK(INDEX('AP Groupe froid'!$AN$14:$AN$17,A51-nbappomp-nbapven-nbapair-nbaautre)),FALSE)))))","v":false},{"$f":"IF(E51=Listes!$H$25,1,0)","v":0},{"$f":"IF(E51=Listes!$H$26,1,0)","v":0},0,0,{"$f":"IF(E51=Listes!$H$28,1,0)","v":0},null,0,0,0,0,0,null,0,0,0,0,0,null,"","","","","",null,-1,-1,-1,-1,null,null,{"$f":"IF(E51=Listes!$H$25,1,0)","v":0},{"$f":"IF(E51=Listes!$H$26,1,0)","v":0},0,0,0,0,0,null,0,0,null,{"$error":"#VALUE!"},0,0,0,null,null,null,"",""]
[28,"",null,{"$f":"IF(A52<=nbappomp,INDEX('Analyse Préliminaire Pompe'!$B$13:$B$47,A52),IF(A52<=nbappomp+nbapven,INDEX('Analyse Préliminaire Ventilateu'!$B$13:$B$44,A52-nbappomp),IF(A52<=nbappomp+nbapven+nbapair,301,IF(A52<=nbappomp+nbapven+nbapair+nbaautre,INDEX('Analyse Préliminaire Autres'!$B$11:$B$42,A52-nbappomp-nbapven-nbapair),IF(A52<=nbappomp+nbapven+nbapair+nbaautre+nbafroid,INDEX('AP Groupe froid'!$B$14:$B$17,A52-nbappomp-nbapven-nbapair-nbaautre),\"\")))))","v":""},{"$f":"IF(A52<=nbappomp,INDEX('Analyse Préliminaire Pompe'!$C$13:$C$47,A52),IF(A52<=nbappomp+nbapven,INDEX('Analyse Préliminaire Ventilateu'!$C$13:$C$44,A52-nbappomp),IF(A52<=nbappomp+nbapven+nbapair,$AJ$4,IF(A52<=nbappomp+nbapven+nbapair+nbaautre,INDEX('Analyse Préliminaire Autres'!$C$11:$C$42,A52-nbappomp-nbapven-nbapair),IF(A52<=nbappomp+nbapven+nbapair+nbaautre+nbafroid,INDEX('AP Groupe froid'!$C$14:$C$17,A52-nbappomp-nbapven-nbapair-nbaautre),\"\")))))","v":""},null,null,{"$f":"IF(A52<=nbappomp,INDEX('Analyse Préliminaire Pompe'!$H$13:$H$47,A52),IF(A52<=nbappomp+nbapven,INDEX('Analyse Préliminaire Ventilateu'!$H$13:$H$44,A52-nbappomp),IF(A52<=nbappomp+nbapven+nbapair,$AJ$4,IF(A52<=nbappomp+nbapven+nbapair+nbaautre,INDEX('Analyse Préliminaire Autres'!$H$11:$H$42,A52-nbappomp-nbapven-nbapair),IF(A52<=nbappomp+nbapven+nbapair+nbaautre+nbafroid,INDEX('AP Groupe froid'!$I$14:$I$17,A52-nbappomp-nbapven-nbapair-nbaautre),\"\")))))","v":""},null,null,{"$f":"IF(AH52=\"\",IF($A52<=nbappomp,INDEX('Analyse Préliminaire Pompe'!AE$13:AE$47,$A52),IF($A52<=nbappomp+nbapven,INDEX('Analyse Préliminaire Ventilateu'!AC$13:AC$44,$A52-nbappomp),IF($A52<=nbappomp+nbapven+nbapair,'Analyse Préliminaire air compr'!$AI$22,IF(A52<=nbappomp+nbapven+nbapair+nbaautre,INDEX('Analyse Préliminaire Autres'!$X$11:$X$42,A52-nbappomp-nbapven-nbapair),IF(A52<=nbappomp+nbapven+nbapair+nbaautre+nbafroid,INDEX('AP Groupe froid'!$AF$14:$AF$17,A52-nbappomp-nbapven-nbapair-nbaautre),\"\"))))),AH52)","v":""},{"$f":"IF(AG52=\"\",IF($A52<=nbappomp,INDEX('Analyse Préliminaire Pompe'!AD$13:AD$47,$A52),IF($A52<=nbappomp+nbapven,INDEX('Analyse Préliminaire Ventilateu'!AB$13:AB$44,$A52-nbappomp),IF($A52<=nbappomp+nbapven+nbapair,'Analyse Préliminaire air compr'!$AH$22,IF(A52<=nbappomp+nbapven+nbapair+nbaautre,INDEX('Analyse Préliminaire Autres'!$W$11:$W$42,A52-nbappomp-nbapven-nbapair),IF(A52<=nbappomp+nbapven+nbapair+nbaautre+nbafroid,INDEX('AP Groupe froid'!$AE$14:$AE$17,A52-nbappomp-nbapven-nbapair-nbaautre),\"\"))))),AG52)","v":""},null,"",null,"",null,{"$f":"IF(AI52=\"\",IF($A52<=nbappomp,INDEX('Analyse Préliminaire Pompe'!T$13:T$47,$A52),IF($A52<=nbappomp+nbapven,INDEX('Analyse Préliminaire Ventilateu'!R$13:R$44,$A52-nbappomp),IF($A52<=nbappomp+nbapven+nbapair,'Analyse Préliminaire air compr'!$AH$13,IF(A52<=nbappomp+nbapven+nbapair+nbaautre,INDEX('Analyse Préliminaire Autres'!$P$11:$P$42,A52-nbappomp-nbapven-nbapair),IF(A52<=nbappomp+nbapven+nbapair+nbaautre+nbafroid,INDEX('AP Groupe froid'!$AD$14:$AD$17,A52-nbappomp-nbapven-nbapair-nbaautre),\"\"))))),AI52)","v":""},null,{"$f":"IF($A52<=nbappomp,INDEX('Analyse Préliminaire Pompe'!X$13:X$47,$A52),IF($A52<=nbappomp+nbapven,INDEX('Analyse Préliminaire Ventilateu'!V$13:V$44,$A52-nbappomp),IF($A52<=nbappomp+nbapven+nbapair,'Analyse Préliminaire air compr'!$E$35,IF(A52<=nbappomp+nbapven+nbapair+nbaautre,INDEX('Analyse Préliminaire Autres'!$R$11:$R$42,A52-nbappomp-nbapven-nbapair),IF(A52<=nbappomp+nbapven+nbapair+nbaautre+nbafroid,INDEX('AP Groupe froid'!$Z$14:$Z$17,A52-nbappomp-nbapven-nbapair-nbaautre),\"\")))))","v":""},null,null,{"$f":"IF(AG52=\"\",IF($A52<=nbappomp,INDEX('Analyse Préliminaire Pompe'!AN$13:AN$47,$A52),IF($A52<=nbappomp+nbapven,INDEX('Analyse Préliminaire Ventilateu'!AL$13:AL$44,$A52-nbappomp),IF($A52<=nbappomp+nbapven+nbapair,'Analyse Préliminaire air compr'!$AM$16,IF(A52<=nbappomp+nbapven+nbapair+nbaautre,INDEX('Analyse Préliminaire Autres'!$AB$11:$AB$42,A52-nbappomp-nbapven-nbapair),IF(A52<=nbappomp+nbapven+nbapair+nbaautre+nbafroid,INDEX('AP Groupe froid'!$AM$14:$AM$17,A52-nbappomp-nbapven-nbapair-nbaautre),\"\"))))),'Economies classées'!$A$47)","v":""},{"$f":"IF($A52<=nbappomp,INDEX('Analyse Préliminaire Pompe'!E$13:E$47,$A52),IF($A52<=nbappomp+nbapven,INDEX('Analyse Préliminaire Ventilateu'!E$13:E$44,$A52-nbappomp),IF($A52<=nbappomp+nbapven+nbapair,\"voir detail\",IF(A52<=nbappomp+nbapven+nbapair+nbaautre,INDEX('Analyse Préliminaire Autres'!$E$11:$E$42,A52-nbappomp-nbapven-nbapair),IF(A52<=nbappomp+nbapven+nbapair+nbaautre+nbafroid,INDEX('AP Groupe froid'!$F$14:$F$17,A52-nbappomp-nbapven-nbapair-nbaautre),\"\")))))","v":""},{"$f":"IF($A52<=nbappomp,INDEX('Analyse Préliminaire Pompe'!K$13:K$47,$A52),IF($A52<=nbappomp+nbapven,INDEX('Analyse Préliminaire Ventilateu'!K$13:K$44,$A52-nbappomp),IF($A52<=nbappomp+nbapven+nbapair,SUM('Analyse Préliminaire air compr'!$I$26:$I$32),IF(A52<=nbappomp+nbapven+nbapair+nbaautre,INDEX('Analyse Préliminaire Autres'!$K$11:$K$42,A52-nbappomp-nbapven-nbapair),IF(A52<=nbappomp+nbapven+nbapair+nbaautre+nbafroid,INDEX('AP Groupe froid'!$O$14:$O$17,A52-nbappomp-nbapven-nbapair-nbaautre),\"\")))))","v":""},{"$f":"IF($A52<=nbappomp,INDEX('Analyse Préliminaire Pompe'!L$13:L$47,$A52),IF($A52<=nbappomp+nbapven,INDEX('Analyse Préliminaire Ventilateu'!L$13:L$44,$A52-nbappomp),IF($A52<=nbappomp+nbapven+nbapair,MIN('Analyse Préliminaire air compr'!$J$26:$J$32),IF(A52<=nbappomp+nbapven+nbapair+nbaautre,INDEX('Analyse Préliminaire Autres'!$L$11:$L$42,A52-nbappomp-nbapven-nbapair),IF($A52<=nbappomp+nbapven+nbapair,'Analyse Préliminaire air compr'!$AM$16,IF(A52<=nbappomp+nbapven+nbapair+nbaautre+nbafroid,INDEX('AP Groupe froid'!$L$14:$L$17,A52-nbappomp-nbapven-nbapair-nbaautre),\"\"))))))","v":""},{"$f":"IF($A52<=nbappomp,INDEX('Analyse Préliminaire Pompe'!M$13:M$47,$A52),IF($A52<=nbappomp+nbapven,INDEX('Analyse Préliminaire Ventilateu'!M$13:M$44,$A52-nbappomp),IF($A52<=nbappomp+nbapven+nbapair,\"\",IF(A52<=nbappomp+nbapven+nbapair+nbaautre,INDEX('Analyse Préliminaire Autres'!$M$11:$M$42,A52-nbappomp-nbapven-nbapair),IF($A52<=nbappomp+nbapven+nbapair,'Analyse Préliminaire air compr'!$AM$16,IF(A52<=nbappomp+nbapven+nbapair+nbaautre+nbafroid,INDEX('AP Groupe froid'!$M$14:$M$17,A52-nbappomp-nbapven-nbapair-nbaautre),\"\"))))))","v":""},{"$f":"IF($A52<=nbappomp,INDEX('Analyse Préliminaire Pompe'!N$13:N$47,$A52),IF($A52<=nbappomp+nbapven,INDEX('Analyse Préliminaire Ventilateu'!N$13:N$44,$A52-nbappomp),IF($A52<=nbappomp+nbapven+nbapair,\"\",IF(A52<=nbappomp+nbapven+nbapair+nbaautre,INDEX('Analyse Préliminaire Autres'!$N$11:$N$42,A52-nbappomp-nbapven-nbapair),\"\"))))","v":""},{"$f":"IF($A52<=nbappomp,INDEX('Analyse Préliminaire Pompe'!O$13:O$47,$A52),IF($A52<=nbappomp+nbapven,INDEX('Analyse Préliminaire Ventilateu'!O$13:O$44,$A52-nbappomp),IF($A52<=nbappomp+nbapven+nbapair,\"\",IF(A52<=nbappomp+nbapven+nbapair+nbaautre,INDEX('Analyse Préliminaire Autres'!$O$11:$O$42,A52-nbappomp-nbapven-nbapair),\"\"))))","v":""},{"$f":"IF($A52<=nbappomp,INDEX('Analyse Préliminaire Pompe'!P$13:P$47,$A52),IF($A52<=nbappomp+nbapven,INDEX('Analyse Préliminaire Ventilateu'!P$13:P$44,$A52-nbappomp),IF($A52<=nbappomp+nbapven+nbapair,\"\",IF(A52<=nbappomp+nbapven+nbapair+nbaautre,INDEX('Analyse Préliminaire Autres'!#REF!,A52-nbappomp-nbapven-nbapair),\"\"))))","v":""},{"$f":"IF($A52<=nbappomp,INDEX('Analyse Préliminaire Pompe'!Q$13:Q$47,$A52),IF($A52<=nbappomp+nbapven,\"\",IF($A52<=nbappomp+nbapven+nbapair,\"\",\"\")))","v":""},{"$f":"IF(AI52=\"\",IF($A52<=nbappomp,INDEX('Analyse Préliminaire Pompe'!S$13:S$47,$A52),IF($A52<=nbappomp+nbapven,INDEX('Analyse Préliminaire Ventilateu'!Q$13:Q$44,$A52-nbappomp),IF($A52<=nbappomp+nbapven+nbapair,\"\",IF(A52<=nbappomp+nbapven+nbapair+nbaautre,\"\",\"\")))),AI52)","v":""},{"$f":"IF(AN52,\"\",IF($A52<=nbappomp,INDEX('Analyse Préliminaire Pompe'!AO$13:AO$47,$A52),IF($A52<=nbappomp+nbapven,INDEX('Analyse Préliminaire Ventilateu'!AM$13:AM$44,$A52-nbappomp),IF($A52<=nbappomp+nbapven+nbapair,EcoAPkWhCP,IF(A52<=nbappomp+nbapven+nbapair+nbaautre,INDEX('Analyse Préliminaire Autres'!$E$11:$E$42,A52-nbappomp-nbapven-nbapair),IF($A52<=nbappomp+nbapven+nbapair+nbaautre+nbafroid,INDEX('AP Groupe froid'!$AN$14:$AN$17,$A52-nbappomp-nbapven-nbapair-nbaautre),\"\"))))))","v":""},{"$f":"IF(AN52,\"\",IF($A52<=nbappomp,INDEX('Analyse Préliminaire Pompe'!AP$13:AP$47,$A52),IF($A52<=nbappomp+nbapven,INDEX('Analyse Préliminaire Ventilateu'!AN$13:AN$44,$A52-nbappomp),IF($A52<=nbappomp+nbapven+nbapair,EcoAPpercCP,IF(A52<=nbappomp+nbapven+nbapair+nbaautre,INDEX('Analyse Préliminaire Autres'!$E$11:$E$42,A52-nbappomp-nbapven-nbapair),IF($A52<=nbappomp+nbapven+nbapair+nbaautre+nbafroid,INDEX('AP Groupe froid'!$AO$14:$AO$17,$A52-nbappomp-nbapven-nbapair-nbaautre),\"\"))))))","v":""},{"$f":"IF(AN52,\"\",IF($A52<=nbappomp,INDEX('Analyse Préliminaire Pompe'!AQ$13:AQ$47,$A52),IF($A52<=nbappomp+nbapven,INDEX('Analyse Préliminaire Ventilateu'!AO$13:AO$44,$A52-nbappomp),IF($A52<=nbappomp+nbapven+nbapair,consoanncp,IF(A52<=nbappomp+nbapven+nbapair+nbaautre,INDEX('Analyse Préliminaire Autres'!$E$11:$E$42,A52-nbappomp-nbapven-nbapair),IF($A52<=nbappomp+nbapven+nbapair+nbaautre+nbafroid,INDEX('AP Groupe froid'!$AP$14:$AP$17,$A52-nbappomp-nbapven-nbapair-nbaautre),\"\"))))))","v":""},{"$f":"IF(R52=\"\",-1,IF(AND($L52>'Economies classées'!$B$2,$K52>0.2,YEAR(TODAY())-$Z52>8),2,IF(AND($L52>'Economies classées'!$B$3,YEAR(TODAY())-$Z52>5),1,0)))","v":-1},null,null,"",{"$f":"IF($A52<=nbappomp,ISBLANK(INDEX('Analyse Préliminaire Pompe'!AO$13:AO$47,$A52)),IF($A52<=nbappomp+nbapven,ISBLANK(INDEX('Analyse Préliminaire Ventilateu'!AM$13:AM$44,$A52-nbappomp)),IF($A52<=nbappomp+nbapven+nbapair,ISBLANK(EcoAPkWhCP),IF(A52<=nbappomp+nbapven+nbapair+nbaautre,ISBLANK(INDEX('Analyse Préliminaire Autres'!AC$11:AC$42,A52-nbappomp-nbapven-nbapair)),IF(A52<=nbappomp+nbapven+nbapair+nbaautre+nbafroid,ISBLANK(INDEX('AP Groupe froid'!$AN$14:$AN$17,A52-nbappomp-nbapven-nbapair-nbaautre)),FALSE)))))","v":false},{"$f":"IF(E52=Listes!$H$25,1,0)","v":0},{"$f":"IF(E52=Listes!$H$26,1,0)","v":0},0,0,{"$f":"IF(E52=Listes!$H$28,1,0)","v":0},null,0,0,0,0,0,null,0,0,0,0,0,null,"","","","","",null,-1,-1,-1,-1,null,null,{"$f":"IF(E52=Listes!$H$25,1,0)","v":0},{"$f":"IF(E52=Listes!$H$26,1,0)","v":0},0,0,0,0,0,null,0,0,null,{"$error":"#VALUE!"},0,0,0,null,null,null,"",""]
[29,"",null,{"$f":"IF(A53<=nbappomp,INDEX('Analyse Préliminaire Pompe'!$B$13:$B$47,A53),IF(A53<=nbappomp+nbapven,INDEX('Analyse Préliminaire Ventilateu'!$B$13:$B$44,A53-nbappomp),IF(A53<=nbappomp+nbapven+nbapair,301,IF(A53<=nbappomp+nbapven+nbapair+nbaautre,INDEX('Analyse Préliminaire Autres'!$B$11:$B$42,A53-nbappomp-nbapven-nbapair),IF(A53<=nbappomp+nbapven+nbapair+nbaautre+nbafroid,INDEX('AP Groupe froid'!$B$14:$B$17,A53-nbappomp-nbapven-nbapair-nbaautre),\"\")))))","v":""},{"$f":"IF(A53<=nbappomp,INDEX('Analyse Préliminaire Pompe'!$C$13:$C$47,A53),IF(A53<=nbappomp+nbapven,INDEX('Analyse Préliminaire Ventilateu'!$C$13:$C$44,A53-nbappomp),IF(A53<=nbappomp+nbapven+nbapair,$AJ$4,IF(A53<=nbappomp+nbapven+nbapair+nbaautre,INDEX('Analyse Préliminaire Autres'!$C$11:$C$42,A53-nbappomp-nbapven-nbapair),IF(A53<=nbappomp+nbapven+nbapair+nbaautre+nbafroid,INDEX('AP Groupe froid'!$C$14:$C$17,A53-nbappomp-nbapven-nbapair-nbaautre),\"\")))))","v":""},null,null,{"$f":"IF(A53<=nbappomp,INDEX('Analyse Préliminaire Pompe'!$H$13:$H$47,A53),IF(A53<=nbappomp+nbapven,INDEX('Analyse Préliminaire Ventilateu'!$H$13:$H$44,A53-nbappomp),IF(A53<=nbappomp+nbapven+nbapair,$AJ$4,IF(A53<=nbappomp+nbapven+nbapair+nbaautre,INDEX('Analyse Préliminaire Autres'!$H$11:$H$42,A53-nbappomp-nbapven-nbapair),IF(A53<=nbappomp+nbapven+nbapair+nbaautre+nbafroid,INDEX('AP Groupe froid'!$I$14:$I$17,A53-nbappomp-nbapven-nbapair-nbaautre),\"\")))))","v":""},null,null,{"$f":"IF(AH53=\"\",IF($A53<=nbappomp,INDEX('Analyse Préliminaire Pompe'!AE$13:AE$47,$A53),IF($A53<=nbappomp+nbapven,INDEX('Analyse Préliminaire Ventilateu'!AC$13:AC$44,$A53-nbappomp),IF($A53<=nbappomp+nbapven+nbapair,'Analyse Préliminaire air compr'!$AI$22,IF(A53<=nbappomp+nbapven+nbapair+nbaautre,INDEX('Analyse Préliminaire Autres'!$X$11:$X$42,A53-nbappomp-nbapven-nbapair),IF(A53<=nbappomp+nbapven+nbapair+nbaautre+nbafroid,INDEX('AP Groupe froid'!$AF$14:$AF$17,A53-nbappomp-nbapven-nbapair-nbaautre),\"\"))))),AH53)","v":""},{"$f":"IF(AG53=\"\",IF($A53<=nbappomp,INDEX('Analyse Préliminaire Pompe'!AD$13:AD$47,$A53),IF($A53<=nbappomp+nbapven,INDEX('Analyse Préliminaire Ventilateu'!AB$13:AB$44,$A53-nbappomp),IF($A53<=nbappomp+nbapven+nbapair,'Analyse Préliminaire air compr'!$AH$22,IF(A53<=nbappomp+nbapven+nbapair+nbaautre,INDEX('Analyse Préliminaire Autres'!$W$11:$W$42,A53-nbappomp-nbapven-nbapair),IF(A53<=nbappomp+nbapven+nbapair+nbaautre+nbafroid,INDEX('AP Groupe froid'!$AE$14:$AE$17,A53-nbappomp-nbapven-nbapair-nbaautre),\"\"))))),AG53)","v":""},null,"",null,"",null,{"$f":"IF(AI53=\"\",IF($A53<=nbappomp,INDEX('Analyse Préliminaire Pompe'!T$13:T$47,$A53),IF($A53<=nbappomp+nbapven,INDEX('Analyse Préliminaire Ventilateu'!R$13:R$44,$A53-nbappomp),IF($A53<=nbappomp+nbapven+nbapair,'Analyse Préliminaire air compr'!$AH$13,IF(A53<=nbappomp+nbapven+nbapair+nbaautre,INDEX('Analyse Préliminaire Autres'!$P$11:$P$42,A53-nbappomp-nbapven-nbapair),IF(A53<=nbappomp+nbapven+nbapair+nbaautre+nbafroid,INDEX('AP Groupe froid'!$AD$14:$AD$17,A53-nbappomp-nbapven-nbapair-nbaautre),\"\"))))),AI53)","v":""},null,{"$f":"IF($A53<=nbappomp,INDEX('Analyse Préliminaire Pompe'!X$13:X$47,$A53),IF($A53<=nbappomp+nbapven,INDEX('Analyse Préliminaire Ventilateu'!V$13:V$44,$A53-nbappomp),IF($A53<=nbappomp+nbapven+nbapair,'Analyse Préliminaire air compr'!$E$35,IF(A53<=nbappomp+nbapven+nbapair+nbaautre,INDEX('Analyse Préliminaire Autres'!$R$11:$R$42,A53-nbappomp-nbapven-nbapair),IF(A53<=nbappomp+nbapven+nbapair+nbaautre+nbafroid,INDEX('AP Groupe froid'!$Z$14:$Z$17,A53-nbappomp-nbapven-nbapair-nbaautre),\"\")))))","v":""},null,null,{"$f":"IF(AG53=\"\",IF($A53<=nbappomp,INDEX('Analyse Préliminaire Pompe'!AN$13:AN$47,$A53),IF($A53<=nbappomp+nbapven,INDEX('Analyse Préliminaire Ventilateu'!AL$13:AL$44,$A53-nbappomp),IF($A53<=nbappomp+nbapven+nbapair,'Analyse Préliminaire air compr'!$AM$16,IF(A53<=nbappomp+nbapven+nbapair+nbaautre,INDEX('Analyse Préliminaire Autres'!$AB$11:$AB$42,A53-nbappomp-nbapven-nbapair),IF(A53<=nbappomp+nbapven+nbapair+nbaautre+nbafroid,INDEX('AP Groupe froid'!$AM$14:$AM$17,A53-nbappomp-nbapven-nbapair-nbaautre),\"\"))))),'Economies classées'!$A$47)","v":""},{"$f":"IF($A53<=nbappomp,INDEX('Analyse Préliminaire Pompe'!E$13:E$47,$A53),IF($A53<=nbappomp+nbapven,INDEX('Analyse Préliminaire Ventilateu'!E$13:E$44,$A53-nbappomp),IF($A53<=nbappomp+nbapven+nbapair,\"voir detail\",IF(A53<=nbappomp+nbapven+nbapair+nbaautre,INDEX('Analyse Préliminaire Autres'!$E$11:$E$42,A53-nbappomp-nbapven-nbapair),IF(A53<=nbappomp+nbapven+nbapair+nbaautre+nbafroid,INDEX('AP Groupe froid'!$F$14:$F$17,A53-nbappomp-nbapven-nbapair-nbaautre),\"\")))))","v":""},{"$f":"IF($A53<=nbappomp,INDEX('Analyse Préliminaire Pompe'!K$13:K$47,$A53),IF($A53<=nbappomp+nbapven,INDEX('Analyse Préliminaire Ventilateu'!K$13:K$44,$A53-nbappomp),IF($A53<=nbappomp+nbapven+nbapair,SUM('Analyse Préliminaire air compr'!$I$26:$I$32),IF(A53<=nbappomp+nbapven+nbapair+nbaautre,INDEX('Analyse Préliminaire Autres'!$K$11:$K$42,A53-nbappomp-nbapven-nbapair),IF(A53<=nbappomp+nbapven+nbapair+nbaautre+nbafroid,INDEX('AP Groupe froid'!$O$14:$O$17,A53-nbappomp-nbapven-nbapair-nbaautre),\"\")))))","v":""},{"$f":"IF($A53<=nbappomp,INDEX('Analyse Préliminaire Pompe'!L$13:L$47,$A53),IF($A53<=nbappomp+nbapven,INDEX('Analyse Préliminaire Ventilateu'!L$13:L$44,$A53-nbappomp),IF($A53<=nbappomp+nbapven+nbapair,MIN('Analyse Préliminaire air compr'!$J$26:$J$32),IF(A53<=nbappomp+nbapven+nbapair+nbaautre,INDEX('Analyse Préliminaire Autres'!$L$11:$L$42,A53-nbappomp-nbapven-nbapair),IF($A53<=nbappomp+nbapven+nbapair,'Analyse Préliminaire air compr'!$AM$16,IF(A53<=nbappomp+nbapven+nbapair+nbaautre+nbafroid,INDEX('AP Groupe froid'!$L$14:$L$17,A53-nbappomp-nbapven-nbapair-nbaautre),\"\"))))))","v":""},{"$f":"IF($A53<=nbappomp,INDEX('Analyse Préliminaire Pompe'!M$13:M$47,$A53),IF($A53<=nbappomp+nbapven,INDEX('Analyse Préliminaire Ventilateu'!M$13:M$44,$A53-nbappomp),IF($A53<=nbappomp+nbapven+nbapair,\"\",IF(A53<=nbappomp+nbapven+nbapair+nbaautre,INDEX('Analyse Préliminaire Autres'!$M$11:$M$42,A53-nbappomp-nbapven-nbapair),IF($A53<=nbappomp+nbapven+nbapair,'Analyse Préliminaire air compr'!$AM$16,IF(A53<=nbappomp+nbapven+nbapair+nbaautre+nbafroid,INDEX('AP Groupe froid'!$M$14:$M$17,A53-nbappomp-nbapven-nbapair-nbaautre),\"\"))))))","v":""},{"$f":"IF($A53<=nbappomp,INDEX('Analyse Préliminaire Pompe'!N$13:N$47,$A53),IF($A53<=nbappomp+nbapven,INDEX('Analyse Préliminaire Ventilateu'!N$13:N$44,$A53-nbappomp),IF($A53<=nbappomp+nbapven+nbapair,\"\",IF(A53<=nbappomp+nbapven+nbapair+nbaautre,INDEX('Analyse Préliminaire Autres'!$N$11:$N$42,A53-nbappomp-nbapven-nbapair),\"\"))))","v":""},{"$f":"IF($A53<=nbappomp,INDEX('Analyse Préliminaire Pompe'!O$13:O$47,$A53),IF($A53<=nbappomp+nbapven,INDEX('Analyse Préliminaire Ventilateu'!O$13:O$44,$A53-nbappomp),IF($A53<=nbappomp+nbapven+nbapair,\"\",IF(A53<=nbappomp+nbapven+nbapair+nbaautre,INDEX('Analyse Préliminaire Autres'!$O$11:$O$42,A53-nbappomp-nbapven-nbapair),\"\"))))","v":""},{"$f":"IF($A53<=nbappomp,INDEX('Analyse Préliminaire Pompe'!P$13:P$47,$A53),IF($A53<=nbappomp+nbapven,INDEX('Analyse Préliminaire Ventilateu'!P$13:P$44,$A53-nbappomp),IF($A53<=nbappomp+nbapven+nbapair,\"\",IF(A53<=nbappomp+nbapven+nbapair+nbaautre,INDEX('Analyse Préliminaire Autres'!#REF!,A53-nbappomp-nbapven-nbapair),\"\"))))","v":""},{"$f":"IF($A53<=nbappomp,INDEX('Analyse Préliminaire Pompe'!Q$13:Q$47,$A53),IF($A53<=nbappomp+nbapven,\"\",IF($A53<=nbappomp+nbapven+nbapair,\"\",\"\")))","v":""},{"$f":"IF(AI53=\"\",IF($A53<=nbappomp,INDEX('Analyse Préliminaire Pompe'!S$13:S$47,$A53),IF($A53<=nbappomp+nbapven,INDEX('Analyse Préliminaire Ventilateu'!Q$13:Q$44,$A53-nbappomp),IF($A53<=nbappomp+nbapven+nbapair,\"\",IF(A53<=nbappomp+nbapven+nbapair+nbaautre,\"\",\"\")))),AI53)","v":""},{"$f":"IF(AN53,\"\",IF($A53<=nbappomp,INDEX('Analyse Préliminaire Pompe'!AO$13:AO$47,$A53),IF($A53<=nbappomp+nbapven,INDEX('Analyse Préliminaire Ventilateu'!AM$13:AM$44,$A53-nbappomp),IF($A53<=nbappomp+nbapven+nbapair,EcoAPkWhCP,IF(A53<=nbappomp+nbapven+nbapair+nbaautre,INDEX('Analyse Préliminaire Autres'!$E$11:$E$42,A53-nbappomp-nbapven-nbapair),IF($A53<=nbappomp+nbapven+nbapair+nbaautre+nbafroid,INDEX('AP Groupe froid'!$AN$14:$AN$17,$A53-nbappomp-nbapven-nbapair-nbaautre),\"\"))))))","v":""},{"$f":"IF(AN53,\"\",IF($A53<=nbappomp,INDEX('Analyse Préliminaire Pompe'!AP$13:AP$47,$A53),IF($A53<=nbappomp+nbapven,INDEX('Analyse Préliminaire Ventilateu'!AN$13:AN$44,$A53-nbappomp),IF($A53<=nbappomp+nbapven+nbapair,EcoAPpercCP,IF(A53<=nbappomp+nbapven+nbapair+nbaautre,INDEX('Analyse Préliminaire Autres'!$E$11:$E$42,A53-nbappomp-nbapven-nbapair),IF($A53<=nbappomp+nbapven+nbapair+nbaautre+nbafroid,INDEX('AP Groupe froid'!$AO$14:$AO$17,$A53-nbappomp-nbapven-nbapair-nbaautre),\"\"))))))","v":""},{"$f":"IF(AN53,\"\",IF($A53<=nbappomp,INDEX('Analyse Préliminaire Pompe'!AQ$13:AQ$47,$A53),IF($A53<=nbappomp+nbapven,INDEX('Analyse Préliminaire Ventilateu'!AO$13:AO$44,$A53-nbappomp),IF($A53<=nbappomp+nbapven+nbapair,consoanncp,IF(A53<=nbappomp+nbapven+nbapair+nbaautre,INDEX('Analyse Préliminaire Autres'!$E$11:$E$42,A53-nbappomp-nbapven-nbapair),IF($A53<=nbappomp+nbapven+nbapair+nbaautre+nbafroid,INDEX('AP Groupe froid'!$AP$14:$AP$17,$A53-nbappomp-nbapven-nbapair-nbaautre),\"\"))))))","v":""},{"$f":"IF(R53=\"\",-1,IF(AND($L53>'Economies classées'!$B$2,$K53>0.2,YEAR(TODAY())-$Z53>8),2,IF(AND($L53>'Economies classées'!$B$3,YEAR(TODAY())-$Z53>5),1,0)))","v":-1},null,null,"",{"$f":"IF($A53<=nbappomp,ISBLANK(INDEX('Analyse Préliminaire Pompe'!AO$13:AO$47,$A53)),IF($A53<=nbappomp+nbapven,ISBLANK(INDEX('Analyse Préliminaire Ventilateu'!AM$13:AM$44,$A53-nbappomp)),IF($A53<=nbappomp+nbapven+nbapair,ISBLANK(EcoAPkWhCP),IF(A53<=nbappomp+nbapven+nbapair+nbaautre,ISBLANK(INDEX('Analyse Préliminaire Autres'!AC$11:AC$42,A53-nbappomp-nbapven-nbapair)),IF(A53<=nbappomp+nbapven+nbapair+nbaautre+nbafroid,ISBLANK(INDEX('AP Groupe froid'!$AN$14:$AN$17,A53-nbappomp-nbapven-nbapair-nbaautre)),FALSE)))))","v":false},{"$f":"IF(E53=Listes!$H$25,1,0)","v":0},{"$f":"IF(E53=Listes!$H$26,1,0)","v":0},0,0,{"$f":"IF(E53=Listes!$H$28,1,0)","v":0},null,0,0,0,0,0,null,0,0,0,0,0,null,"","","","","",null,-1,-1,-1,-1,null,null,{"$f":"IF(E53=Listes!$H$25,1,0)","v":0},{"$f":"IF(E53=Listes!$H$26,1,0)","v":0},0,0,0,0,0,null,0,0,null,{"$error":"#VALUE!"},0,0,0,null,null,null,"",""]
[30,"",null,{"$f":"IF(A54<=nbappomp,INDEX('Analyse Préliminaire Pompe'!$B$13:$B$47,A54),IF(A54<=nbappomp+nbapven,INDEX('Analyse Préliminaire Ventilateu'!$B$13:$B$44,A54-nbappomp),IF(A54<=nbappomp+nbapven+nbapair,301,IF(A54<=nbappomp+nbapven+nbapair+nbaautre,INDEX('Analyse Préliminaire Autres'!$B$11:$B$42,A54-nbappomp-nbapven-nbapair),IF(A54<=nbappomp+nbapven+nbapair+nbaautre+nbafroid,INDEX('AP Groupe froid'!$B$14:$B$17,A54-nbappomp-nbapven-nbapair-nbaautre),\"\")))))","v":""},{"$f":"IF(A54<=nbappomp,INDEX('Analyse Préliminaire Pompe'!$C$13:$C$47,A54),IF(A54<=nbappomp+nbapven,INDEX('Analyse Préliminaire Ventilateu'!$C$13:$C$44,A54-nbappomp),IF(A54<=nbappomp+nbapven+nbapair,$AJ$4,IF(A54<=nbappomp+nbapven+nbapair+nbaautre,INDEX('Analyse Préliminaire Autres'!$C$11:$C$42,A54-nbappomp-nbapven-nbapair),IF(A54<=nbappomp+nbapven+nbapair+nbaautre+nbafroid,INDEX('AP Groupe froid'!$C$14:$C$17,A54-nbappomp-nbapven-nbapair-nbaautre),\"\")))))","v":""},null,null,{"$f":"IF(A54<=nbappomp,INDEX('Analyse Préliminaire Pompe'!$H$13:$H$47,A54),IF(A54<=nbappomp+nbapven,INDEX('Analyse Préliminaire Ventilateu'!$H$13:$H$44,A54-nbappomp),IF(A54<=nbappomp+nbapven+nbapair,$AJ$4,IF(A54<=nbappomp+nbapven+nbapair+nbaautre,INDEX('Analyse Préliminaire Autres'!$H$11:$H$42,A54-nbappomp-nbapven-nbapair),IF(A54<=nbappomp+nbapven+nbapair+nbaautre+nbafroid,INDEX('AP Groupe froid'!$I$14:$I$17,A54-nbappomp-nbapven-nbapair-nbaautre),\"\")))))","v":""},null,null,{"$f":"IF(AH54=\"\",IF($A54<=nbappomp,INDEX('Analyse Préliminaire Pompe'!AE$13:AE$47,$A54),IF($A54<=nbappomp+nbapven,INDEX('Analyse Préliminaire Ventilateu'!AC$13:AC$44,$A54-nbappomp),IF($A54<=nbappomp+nbapven+nbapair,'Analyse Préliminaire air compr'!$AI$22,IF(A54<=nbappomp+nbapven+nbapair+nbaautre,INDEX('Analyse Préliminaire Autres'!$X$11:$X$42,A54-nbappomp-nbapven-nbapair),IF(A54<=nbappomp+nbapven+nbapair+nbaautre+nbafroid,INDEX('AP Groupe froid'!$AF$14:$AF$17,A54-nbappomp-nbapven-nbapair-nbaautre),\"\"))))),AH54)","v":""},{"$f":"IF(AG54=\"\",IF($A54<=nbappomp,INDEX('Analyse Préliminaire Pompe'!AD$13:AD$47,$A54),IF($A54<=nbappomp+nbapven,INDEX('Analyse Préliminaire Ventilateu'!AB$13:AB$44,$A54-nbappomp),IF($A54<=nbappomp+nbapven+nbapair,'Analyse Préliminaire air compr'!$AH$22,IF(A54<=nbappomp+nbapven+nbapair+nbaautre,INDEX('Analyse Préliminaire Autres'!$W$11:$W$42,A54-nbappomp-nbapven-nbapair),IF(A54<=nbappomp+nbapven+nbapair+nbaautre+nbafroid,INDEX('AP Groupe froid'!$AE$14:$AE$17,A54-nbappomp-nbapven-nbapair-nbaautre),\"\"))))),AG54)","v":""},null,"",null,"",null,{"$f":"IF(AI54=\"\",IF($A54<=nbappomp,INDEX('Analyse Préliminaire Pompe'!T$13:T$47,$A54),IF($A54<=nbappomp+nbapven,INDEX('Analyse Préliminaire Ventilateu'!R$13:R$44,$A54-nbappomp),IF($A54<=nbappomp+nbapven+nbapair,'Analyse Préliminaire air compr'!$AH$13,IF(A54<=nbappomp+nbapven+nbapair+nbaautre,INDEX('Analyse Préliminaire Autres'!$P$11:$P$42,A54-nbappomp-nbapven-nbapair),IF(A54<=nbappomp+nbapven+nbapair+nbaautre+nbafroid,INDEX('AP Groupe froid'!$AD$14:$AD$17,A54-nbappomp-nbapven-nbapair-nbaautre),\"\"))))),AI54)","v":""},null,{"$f":"IF($A54<=nbappomp,INDEX('Analyse Préliminaire Pompe'!X$13:X$47,$A54),IF($A54<=nbappomp+nbapven,INDEX('Analyse Préliminaire Ventilateu'!V$13:V$44,$A54-nbappomp),IF($A54<=nbappomp+nbapven+nbapair,'Analyse Préliminaire air compr'!$E$35,IF(A54<=nbappomp+nbapven+nbapair+nbaautre,INDEX('Analyse Préliminaire Autres'!$R$11:$R$42,A54-nbappomp-nbapven-nbapair),IF(A54<=nbappomp+nbapven+nbapair+nbaautre+nbafroid,INDEX('AP Groupe froid'!$Z$14:$Z$17,A54-nbappomp-nbapven-nbapair-nbaautre),\"\")))))","v":""},null,null,{"$f":"IF(AG54=\"\",IF($A54<=nbappomp,INDEX('Analyse Préliminaire Pompe'!AN$13:AN$47,$A54),IF($A54<=nbappomp+nbapven,INDEX('Analyse Préliminaire Ventilateu'!AL$13:AL$44,$A54-nbappomp),IF($A54<=nbappomp+nbapven+nbapair,'Analyse Préliminaire air compr'!$AM$16,IF(A54<=nbappomp+nbapven+nbapair+nbaautre,INDEX('Analyse Préliminaire Autres'!$AB$11:$AB$42,A54-nbappomp-nbapven-nbapair),IF(A54<=nbappomp+nbapven+nbapair+nbaautre+nbafroid,INDEX('AP Groupe froid'!$AM$14:$AM$17,A54-nbappomp-nbapven-nbapair-nbaautre),\"\"))))),'Economies classées'!$A$47)","v":""},{"$f":"IF($A54<=nbappomp,INDEX('Analyse Préliminaire Pompe'!E$13:E$47,$A54),IF($A54<=nbappomp+nbapven,INDEX('Analyse Préliminaire Ventilateu'!E$13:E$44,$A54-nbappomp),IF($A54<=nbappomp+nbapven+nbapair,\"voir detail\",IF(A54<=nbappomp+nbapven+nbapair+nbaautre,INDEX('Analyse Préliminaire Autres'!$E$11:$E$42,A54-nbappomp-nbapven-nbapair),IF(A54<=nbappomp+nbapven+nbapair+nbaautre+nbafroid,INDEX('AP Groupe froid'!$F$14:$F$17,A54-nbappomp-nbapven-nbapair-nbaautre),\"\")))))","v":""},{"$f":"IF($A54<=nbappomp,INDEX('Analyse Préliminaire Pompe'!K$13:K$47,$A54),IF($A54<=nbappomp+nbapven,INDEX('Analyse Préliminaire Ventilateu'!K$13:K$44,$A54-nbappomp),IF($A54<=nbappomp+nbapven+nbapair,SUM('Analyse Préliminaire air compr'!$I$26:$I$32),IF(A54<=nbappomp+nbapven+nbapair+nbaautre,INDEX('Analyse Préliminaire Autres'!$K$11:$K$42,A54-nbappomp-nbapven-nbapair),IF(A54<=nbappomp+nbapven+nbapair+nbaautre+nbafroid,INDEX('AP Groupe froid'!$O$14:$O$17,A54-nbappomp-nbapven-nbapair-nbaautre),\"\")))))","v":""},{"$f":"IF($A54<=nbappomp,INDEX('Analyse Préliminaire Pompe'!L$13:L$47,$A54),IF($A54<=nbappomp+nbapven,INDEX('Analyse Préliminaire Ventilateu'!L$13:L$44,$A54-nbappomp),IF($A54<=nbappomp+nbapven+nbapair,MIN('Analyse Préliminaire air compr'!$J$26:$J$32),IF(A54<=nbappomp+nbapven+nbapair+nbaautre,INDEX('Analyse Préliminaire Autres'!$L$11:$L$42,A54-nbappomp-nbapven-nbapair),IF($A54<=nbappomp+nbapven+nbapair,'Analyse Préliminaire air compr'!$AM$16,IF(A54<=nbappomp+nbapven+nbapair+nbaautre+nbafroid,INDEX('AP Groupe froid'!$L$14:$L$17,A54-nbappomp-nbapven-nbapair-nbaautre),\"\"))))))","v":""},{"$f":"IF($A54<=nbappomp,INDEX('Analyse Préliminaire Pompe'!M$13:M$47,$A54),IF($A54<=nbappomp+nbapven,INDEX('Analyse Préliminaire Ventilateu'!M$13:M$44,$A54-nbappomp),IF($A54<=nbappomp+nbapven+nbapair,\"\",IF(A54<=nbappomp+nbapven+nbapair+nbaautre,INDEX('Analyse Préliminaire Autres'!$M$11:$M$42,A54-nbappomp-nbapven-nbapair),IF($A54<=nbappomp+nbapven+nbapair,'Analyse Préliminaire air compr'!$AM$16,IF(A54<=nbappomp+nbapven+nbapair+nbaautre+nbafroid,INDEX('AP Groupe froid'!$M$14:$M$17,A54-nbappomp-nbapven-nbapair-nbaautre),\"\"))))))","v":""},{"$f":"IF($A54<=nbappomp,INDEX('Analyse Préliminaire Pompe'!N$13:N$47,$A54),IF($A54<=nbappomp+nbapven,INDEX('Analyse Préliminaire Ventilateu'!N$13:N$44,$A54-nbappomp),IF($A54<=nbappomp+nbapven+nbapair,\"\",IF(A54<=nbappomp+nbapven+nbapair+nbaautre,INDEX('Analyse Préliminaire Autres'!$N$11:$N$42,A54-nbappomp-nbapven-nbapair),\"\"))))","v":""},{"$f":"IF($A54<=nbappomp,INDEX('Analyse Préliminaire Pompe'!O$13:O$47,$A54),IF($A54<=nbappomp+nbapven,INDEX('Analyse Préliminaire Ventilateu'!O$13:O$44,$A54-nbappomp),IF($A54<=nbappomp+nbapven+nbapair,\"\",IF(A54<=nbappomp+nbapven+nbapair+nbaautre,INDEX('Analyse Préliminaire Autres'!$O$11:$O$42,A54-nbappomp-nbapven-nbapair),\"\"))))","v":""},{"$f":"IF($A54<=nbappomp,INDEX('Analyse Préliminaire Pompe'!P$13:P$47,$A54),IF($A54<=nbappomp+nbapven,INDEX('Analyse Préliminaire Ventilateu'!P$13:P$44,$A54-nbappomp),IF($A54<=nbappomp+nbapven+nbapair,\"\",IF(A54<=nbappomp+nbapven+nbapair+nbaautre,INDEX('Analyse Préliminaire Autres'!#REF!,A54-nbappomp-nbapven-nbapair),\"\"))))","v":""},{"$f":"IF($A54<=nbappomp,INDEX('Analyse Préliminaire Pompe'!Q$13:Q$47,$A54),IF($A54<=nbappomp+nbapven,\"\",IF($A54<=nbappomp+nbapven+nbapair,\"\",\"\")))","v":""},{"$f":"IF(AI54=\"\",IF($A54<=nbappomp,INDEX('Analyse Préliminaire Pompe'!S$13:S$47,$A54),IF($A54<=nbappomp+nbapven,INDEX('Analyse Préliminaire Ventilateu'!Q$13:Q$44,$A54-nbappomp),IF($A54<=nbappomp+nbapven+nbapair,\"\",IF(A54<=nbappomp+nbapven+nbapair+nbaautre,\"\",\"\")))),AI54)","v":""},{"$f":"IF(AN54,\"\",IF($A54<=nbappomp,INDEX('Analyse Préliminaire Pompe'!AO$13:AO$47,$A54),IF($A54<=nbappomp+nbapven,INDEX('Analyse Préliminaire Ventilateu'!AM$13:AM$44,$A54-nbappomp),IF($A54<=nbappomp+nbapven+nbapair,EcoAPkWhCP,IF(A54<=nbappomp+nbapven+nbapair+nbaautre,INDEX('Analyse Préliminaire Autres'!$E$11:$E$42,A54-nbappomp-nbapven-nbapair),IF($A54<=nbappomp+nbapven+nbapair+nbaautre+nbafroid,INDEX('AP Groupe froid'!$AN$14:$AN$17,$A54-nbappomp-nbapven-nbapair-nbaautre),\"\"))))))","v":""},{"$f":"IF(AN54,\"\",IF($A54<=nbappomp,INDEX('Analyse Préliminaire Pompe'!AP$13:AP$47,$A54),IF($A54<=nbappomp+nbapven,INDEX('Analyse Préliminaire Ventilateu'!AN$13:AN$44,$A54-nbappomp),IF($A54<=nbappomp+nbapven+nbapair,EcoAPpercCP,IF(A54<=nbappomp+nbapven+nbapair+nbaautre,INDEX('Analyse Préliminaire Autres'!$E$11:$E$42,A54-nbappomp-nbapven-nbapair),IF($A54<=nbappomp+nbapven+nbapair+nbaautre+nbafroid,INDEX('AP Groupe froid'!$AO$14:$AO$17,$A54-nbappomp-nbapven-nbapair-nbaautre),\"\"))))))","v":""},{"$f":"IF(AN54,\"\",IF($A54<=nbappomp,INDEX('Analyse Préliminaire Pompe'!AQ$13:AQ$47,$A54),IF($A54<=nbappomp+nbapven,INDEX('Analyse Préliminaire Ventilateu'!AO$13:AO$44,$A54-nbappomp),IF($A54<=nbappomp+nbapven+nbapair,consoanncp,IF(A54<=nbappomp+nbapven+nbapair+nbaautre,INDEX('Analyse Préliminaire Autres'!$E$11:$E$42,A54-nbappomp-nbapven-nbapair),IF($A54<=nbappomp+nbapven+nbapair+nbaautre+nbafroid,INDEX('AP Groupe froid'!$AP$14:$AP$17,$A54-nbappomp-nbapven-nbapair-nbaautre),\"\"))))))","v":""},{"$f":"IF(R54=\"\",-1,IF(AND($L54>'Economies classées'!$B$2,$K54>0.2,YEAR(TODAY())-$Z54>8),2,IF(AND($L54>'Economies classées'!$B$3,YEAR(TODAY())-$Z54>5),1,0)))","v":-1},null,null,"",{"$f":"IF($A54<=nbappomp,ISBLANK(INDEX('Analyse Préliminaire Pompe'!AO$13:AO$47,$A54)),IF($A54<=nbappomp+nbapven,ISBLANK(INDEX('Analyse Préliminaire Ventilateu'!AM$13:AM$44,$A54-nbappomp)),IF($A54<=nbappomp+nbapven+nbapair,ISBLANK(EcoAPkWhCP),IF(A54<=nbappomp+nbapven+nbapair+nbaautre,ISBLANK(INDEX('Analyse Préliminaire Autres'!AC$11:AC$42,A54-nbappomp-nbapven-nbapair)),IF(A54<=nbappomp+nbapven+nbapair+nbaautre+nbafroid,ISBLANK(INDEX('AP Groupe froid'!$AN$14:$AN$17,A54-nbappomp-nbapven-nbapair-nbaautre)),FALSE)))))","v":false},{"$f":"IF(E54=Listes!$H$25,1,0)","v":0},{"$f":"IF(E54=Listes!$H$26,1,0)","v":0},0,0,{"$f":"IF(E54=Listes!$H$28,1,0)","v":0},null,0,0,0,0,0,null,0,0,0,0,0,null,"","","","","",null,-1,-1,-1,-1,null,null,{"$f":"IF(E54=Listes!$H$25,1,0)","v":0},{"$f":"IF(E54=Listes!$H$26,1,0)","v":0},0,0,0,0,0,null,0,0,null,{"$error":"#VALUE!"},0,0,0,null,null,null,"",""]
[31,"",null,{"$f":"IF(A55<=nbappomp,INDEX('Analyse Préliminaire Pompe'!$B$13:$B$47,A55),IF(A55<=nbappomp+nbapven,INDEX('Analyse Préliminaire Ventilateu'!$B$13:$B$44,A55-nbappomp),IF(A55<=nbappomp+nbapven+nbapair,301,IF(A55<=nbappomp+nbapven+nbapair+nbaautre,INDEX('Analyse Préliminaire Autres'!$B$11:$B$42,A55-nbappomp-nbapven-nbapair),IF(A55<=nbappomp+nbapven+nbapair+nbaautre+nbafroid,INDEX('AP Groupe froid'!$B$14:$B$17,A55-nbappomp-nbapven-nbapair-nbaautre),\"\")))))","v":""},{"$f":"IF(A55<=nbappomp,INDEX('Analyse Préliminaire Pompe'!$C$13:$C$47,A55),IF(A55<=nbappomp+nbapven,INDEX('Analyse Préliminaire Ventilateu'!$C$13:$C$44,A55-nbappomp),IF(A55<=nbappomp+nbapven+nbapair,$AJ$4,IF(A55<=nbappomp+nbapven+nbapair+nbaautre,INDEX('Analyse Préliminaire Autres'!$C$11:$C$42,A55-nbappomp-nbapven-nbapair),IF(A55<=nbappomp+nbapven+nbapair+nbaautre+nbafroid,INDEX('AP Groupe froid'!$C$14:$C$17,A55-nbappomp-nbapven-nbapair-nbaautre),\"\")))))","v":""},null,null,{"$f":"IF(A55<=nbappomp,INDEX('Analyse Préliminaire Pompe'!$H$13:$H$47,A55),IF(A55<=nbappomp+nbapven,INDEX('Analyse Préliminaire Ventilateu'!$H$13:$H$44,A55-nbappomp),IF(A55<=nbappomp+nbapven+nbapair,$AJ$4,IF(A55<=nbappomp+nbapven+nbapair+nbaautre,INDEX('Analyse Préliminaire Autres'!$H$11:$H$42,A55-nbappomp-nbapven-nbapair),IF(A55<=nbappomp+nbapven+nbapair+nbaautre+nbafroid,INDEX('AP Groupe froid'!$I$14:$I$17,A55-nbappomp-nbapven-nbapair-nbaautre),\"\")))))","v":""},null,null,{"$f":"IF(AH55=\"\",IF($A55<=nbappomp,INDEX('Analyse Préliminaire Pompe'!AE$13:AE$47,$A55),IF($A55<=nbappomp+nbapven,INDEX('Analyse Préliminaire Ventilateu'!AC$13:AC$44,$A55-nbappomp),IF($A55<=nbappomp+nbapven+nbapair,'Analyse Préliminaire air compr'!$AI$22,IF(A55<=nbappomp+nbapven+nbapair+nbaautre,INDEX('Analyse Préliminaire Autres'!$X$11:$X$42,A55-nbappomp-nbapven-nbapair),IF(A55<=nbappomp+nbapven+nbapair+nbaautre+nbafroid,INDEX('AP Groupe froid'!$AF$14:$AF$17,A55-nbappomp-nbapven-nbapair-nbaautre),\"\"))))),AH55)","v":""},{"$f":"IF(AG55=\"\",IF($A55<=nbappomp,INDEX('Analyse Préliminaire Pompe'!AD$13:AD$47,$A55),IF($A55<=nbappomp+nbapven,INDEX('Analyse Préliminaire Ventilateu'!AB$13:AB$44,$A55-nbappomp),IF($A55<=nbappomp+nbapven+nbapair,'Analyse Préliminaire air compr'!$AH$22,IF(A55<=nbappomp+nbapven+nbapair+nbaautre,INDEX('Analyse Préliminaire Autres'!$W$11:$W$42,A55-nbappomp-nbapven-nbapair),IF(A55<=nbappomp+nbapven+nbapair+nbaautre+nbafroid,INDEX('AP Groupe froid'!$AE$14:$AE$17,A55-nbappomp-nbapven-nbapair-nbaautre),\"\"))))),AG55)","v":""},null,"",null,"",null,{"$f":"IF(AI55=\"\",IF($A55<=nbappomp,INDEX('Analyse Préliminaire Pompe'!T$13:T$47,$A55),IF($A55<=nbappomp+nbapven,INDEX('Analyse Préliminaire Ventilateu'!R$13:R$44,$A55-nbappomp),IF($A55<=nbappomp+nbapven+nbapair,'Analyse Préliminaire air compr'!$AH$13,IF(A55<=nbappomp+nbapven+nbapair+nbaautre,INDEX('Analyse Préliminaire Autres'!$P$11:$P$42,A55-nbappomp-nbapven-nbapair),IF(A55<=nbappomp+nbapven+nbapair+nbaautre+nbafroid,INDEX('AP Groupe froid'!$AD$14:$AD$17,A55-nbappomp-nbapven-nbapair-nbaautre),\"\"))))),AI55)","v":""},null,{"$f":"IF($A55<=nbappomp,INDEX('Analyse Préliminaire Pompe'!X$13:X$47,$A55),IF($A55<=nbappomp+nbapven,INDEX('Analyse Préliminaire Ventilateu'!V$13:V$44,$A55-nbappomp),IF($A55<=nbappomp+nbapven+nbapair,'Analyse Préliminaire air compr'!$E$35,IF(A55<=nbappomp+nbapven+nbapair+nbaautre,INDEX('Analyse Préliminaire Autres'!$R$11:$R$42,A55-nbappomp-nbapven-nbapair),IF(A55<=nbappomp+nbapven+nbapair+nbaautre+nbafroid,INDEX('AP Groupe froid'!$Z$14:$Z$17,A55-nbappomp-nbapven-nbapair-nbaautre),\"\")))))","v":""},null,null,{"$f":"IF(AG55=\"\",IF($A55<=nbappomp,INDEX('Analyse Préliminaire Pompe'!AN$13:AN$47,$A55),IF($A55<=nbappomp+nbapven,INDEX('Analyse Préliminaire Ventilateu'!AL$13:AL$44,$A55-nbappomp),IF($A55<=nbappomp+nbapven+nbapair,'Analyse Préliminaire air compr'!$AM$16,IF(A55<=nbappomp+nbapven+nbapair+nbaautre,INDEX('Analyse Préliminaire Autres'!$AB$11:$AB$42,A55-nbappomp-nbapven-nbapair),IF(A55<=nbappomp+nbapven+nbapair+nbaautre+nbafroid,INDEX('AP Groupe froid'!$AM$14:$AM$17,A55-nbappomp-nbapven-nbapair-nbaautre),\"\"))))),'Economies classées'!$A$47)","v":""},{"$f":"IF($A55<=nbappomp,INDEX('Analyse Préliminaire Pompe'!E$13:E$47,$A55),IF($A55<=nbappomp+nbapven,INDEX('Analyse Préliminaire Ventilateu'!E$13:E$44,$A55-nbappomp),IF($A55<=nbappomp+nbapven+nbapair,\"voir detail\",IF(A55<=nbappomp+nbapven+nbapair+nbaautre,INDEX('Analyse Préliminaire Autres'!$E$11:$E$42,A55-nbappomp-nbapven-nbapair),IF(A55<=nbappomp+nbapven+nbapair+nbaautre+nbafroid,INDEX('AP Groupe froid'!$F$14:$F$17,A55-nbappomp-nbapven-nbapair-nbaautre),\"\")))))","v":""},{"$f":"IF($A55<=nbappomp,INDEX('Analyse Préliminaire Pompe'!K$13:K$47,$A55),IF($A55<=nbappomp+nbapven,INDEX('Analyse Préliminaire Ventilateu'!K$13:K$44,$A55-nbappomp),IF($A55<=nbappomp+nbapven+nbapair,SUM('Analyse Préliminaire air compr'!$I$26:$I$32),IF(A55<=nbappomp+nbapven+nbapair+nbaautre,INDEX('Analyse Préliminaire Autres'!$K$11:$K$42,A55-nbappomp-nbapven-nbapair),IF(A55<=nbappomp+nbapven+nbapair+nbaautre+nbafroid,INDEX('AP Groupe froid'!$O$14:$O$17,A55-nbappomp-nbapven-nbapair-nbaautre),\"\")))))","v":""},{"$f":"IF($A55<=nbappomp,INDEX('Analyse Préliminaire Pompe'!L$13:L$47,$A55),IF($A55<=nbappomp+nbapven,INDEX('Analyse Préliminaire Ventilateu'!L$13:L$44,$A55-nbappomp),IF($A55<=nbappomp+nbapven+nbapair,MIN('Analyse Préliminaire air compr'!$J$26:$J$32),IF(A55<=nbappomp+nbapven+nbapair+nbaautre,INDEX('Analyse Préliminaire Autres'!$L$11:$L$42,A55-nbappomp-nbapven-nbapair),IF($A55<=nbappomp+nbapven+nbapair,'Analyse Préliminaire air compr'!$AM$16,IF(A55<=nbappomp+nbapven+nbapair+nbaautre+nbafroid,INDEX('AP Groupe froid'!$L$14:$L$17,A55-nbappomp-nbapven-nbapair-nbaautre),\"\"))))))","v":""},{"$f":"IF($A55<=nbappomp,INDEX('Analyse Préliminaire Pompe'!M$13:M$47,$A55),IF($A55<=nbappomp+nbapven,INDEX('Analyse Préliminaire Ventilateu'!M$13:M$44,$A55-nbappomp),IF($A55<=nbappomp+nbapven+nbapair,\"\",IF(A55<=nbappomp+nbapven+nbapair+nbaautre,INDEX('Analyse Préliminaire Autres'!$M$11:$M$42,A55-nbappomp-nbapven-nbapair),IF($A55<=nbappomp+nbapven+nbapair,'Analyse Préliminaire air compr'!$AM$16,IF(A55<=nbappomp+nbapven+nbapair+nbaautre+nbafroid,INDEX('AP Groupe froid'!$M$14:$M$17,A55-nbappomp-nbapven-nbapair-nbaautre),\"\"))))))","v":""},{"$f":"IF($A55<=nbappomp,INDEX('Analyse Préliminaire Pompe'!N$13:N$47,$A55),IF($A55<=nbappomp+nbapven,INDEX('Analyse Préliminaire Ventilateu'!N$13:N$44,$A55-nbappomp),IF($A55<=nbappomp+nbapven+nbapair,\"\",IF(A55<=nbappomp+nbapven+nbapair+nbaautre,INDEX('Analyse Préliminaire Autres'!$N$11:$N$42,A55-nbappomp-nbapven-nbapair),\"\"))))","v":""},{"$f":"IF($A55<=nbappomp,INDEX('Analyse Préliminaire Pompe'!O$13:O$47,$A55),IF($A55<=nbappomp+nbapven,INDEX('Analyse Préliminaire Ventilateu'!O$13:O$44,$A55-nbappomp),IF($A55<=nbappomp+nbapven+nbapair,\"\",IF(A55<=nbappomp+nbapven+nbapair+nbaautre,INDEX('Analyse Préliminaire Autres'!$O$11:$O$42,A55-nbappomp-nbapven-nbapair),\"\"))))","v":""},{"$f":"IF($A55<=nbappomp,INDEX('Analyse Préliminaire Pompe'!P$13:P$47,$A55),IF($A55<=nbappomp+nbapven,INDEX('Analyse Préliminaire Ventilateu'!P$13:P$44,$A55-nbappomp),IF($A55<=nbappomp+nbapven+nbapair,\"\",IF(A55<=nbappomp+nbapven+nbapair+nbaautre,INDEX('Analyse Préliminaire Autres'!#REF!,A55-nbappomp-nbapven-nbapair),\"\"))))","v":""},{"$f":"IF($A55<=nbappomp,INDEX('Analyse Préliminaire Pompe'!Q$13:Q$47,$A55),IF($A55<=nbappomp+nbapven,\"\",IF($A55<=nbappomp+nbapven+nbapair,\"\",\"\")))","v":""},{"$f":"IF(AI55=\"\",IF($A55<=nbappomp,INDEX('Analyse Préliminaire Pompe'!S$13:S$47,$A55),IF($A55<=nbappomp+nbapven,INDEX('Analyse Préliminaire Ventilateu'!Q$13:Q$44,$A55-nbappomp),IF($A55<=nbappomp+nbapven+nbapair,\"\",IF(A55<=nbappomp+nbapven+nbapair+nbaautre,\"\",\"\")))),AI55)","v":""},{"$f":"IF(AN55,\"\",IF($A55<=nbappomp,INDEX('Analyse Préliminaire Pompe'!AO$13:AO$47,$A55),IF($A55<=nbappomp+nbapven,INDEX('Analyse Préliminaire Ventilateu'!AM$13:AM$44,$A55-nbappomp),IF($A55<=nbappomp+nbapven+nbapair,EcoAPkWhCP,IF(A55<=nbappomp+nbapven+nbapair+nbaautre,INDEX('Analyse Préliminaire Autres'!$E$11:$E$42,A55-nbappomp-nbapven-nbapair),IF($A55<=nbappomp+nbapven+nbapair+nbaautre+nbafroid,INDEX('AP Groupe froid'!$AN$14:$AN$17,$A55-nbappomp-nbapven-nbapair-nbaautre),\"\"))))))","v":""},{"$f":"IF(AN55,\"\",IF($A55<=nbappomp,INDEX('Analyse Préliminaire Pompe'!AP$13:AP$47,$A55),IF($A55<=nbappomp+nbapven,INDEX('Analyse Préliminaire Ventilateu'!AN$13:AN$44,$A55-nbappomp),IF($A55<=nbappomp+nbapven+nbapair,EcoAPpercCP,IF(A55<=nbappomp+nbapven+nbapair+nbaautre,INDEX('Analyse Préliminaire Autres'!$E$11:$E$42,A55-nbappomp-nbapven-nbapair),IF($A55<=nbappomp+nbapven+nbapair+nbaautre+nbafroid,INDEX('AP Groupe froid'!$AO$14:$AO$17,$A55-nbappomp-nbapven-nbapair-nbaautre),\"\"))))))","v":""},{"$f":"IF(AN55,\"\",IF($A55<=nbappomp,INDEX('Analyse Préliminaire Pompe'!AQ$13:AQ$47,$A55),IF($A55<=nbappomp+nbapven,INDEX('Analyse Préliminaire Ventilateu'!AO$13:AO$44,$A55-nbappomp),IF($A55<=nbappomp+nbapven+nbapair,consoanncp,IF(A55<=nbappomp+nbapven+nbapair+nbaautre,INDEX('Analyse Préliminaire Autres'!$E$11:$E$42,A55-nbappomp-nbapven-nbapair),IF($A55<=nbappomp+nbapven+nbapair+nbaautre+nbafroid,INDEX('AP Groupe froid'!$AP$14:$AP$17,$A55-nbappomp-nbapven-nbapair-nbaautre),\"\"))))))","v":""},{"$f":"IF(R55=\"\",-1,IF(AND($L55>'Economies classées'!$B$2,$K55>0.2,YEAR(TODAY())-$Z55>8),2,IF(AND($L55>'Economies classées'!$B$3,YEAR(TODAY())-$Z55>5),1,0)))","v":-1},null,null,"",{"$f":"IF($A55<=nbappomp,ISBLANK(INDEX('Analyse Préliminaire Pompe'!AO$13:AO$47,$A55)),IF($A55<=nbappomp+nbapven,ISBLANK(INDEX('Analyse Préliminaire Ventilateu'!AM$13:AM$44,$A55-nbappomp)),IF($A55<=nbappomp+nbapven+nbapair,ISBLANK(EcoAPkWhCP),IF(A55<=nbappomp+nbapven+nbapair+nbaautre,ISBLANK(INDEX('Analyse Préliminaire Autres'!AC$11:AC$42,A55-nbappomp-nbapven-nbapair)),IF(A55<=nbappomp+nbapven+nbapair+nbaautre+nbafroid,ISBLANK(INDEX('AP Groupe froid'!$AN$14:$AN$17,A55-nbappomp-nbapven-nbapair-nbaautre)),FALSE)))))","v":false},{"$f":"IF(E55=Listes!$H$25,1,0)","v":0},{"$f":"IF(E55=Listes!$H$26,1,0)","v":0},0,0,{"$f":"IF(E55=Listes!$H$28,1,0)","v":0},null,0,0,0,0,0,null,0,0,0,0,0,null,"","","","","",null,-1,-1,-1,-1,null,null,{"$f":"IF(E55=Listes!$H$25,1,0)","v":0},{"$f":"IF(E55=Listes!$H$26,1,0)","v":0},{"$f":"IF($L55=\"\",0,BS55*$L55)","v":0},{"$f":"IF($L55=\"\",0,BT55*$L55)","v":0},0,0,0,null,0,0,null,{"$error":"#VALUE!"},0,0,0,null,null,null,"",""]
[32,"",null,{"$f":"IF(A56<=nbappomp,INDEX('Analyse Préliminaire Pompe'!$B$13:$B$47,A56),IF(A56<=nbappomp+nbapven,INDEX('Analyse Préliminaire Ventilateu'!$B$13:$B$44,A56-nbappomp),IF(A56<=nbappomp+nbapven+nbapair,301,IF(A56<=nbappomp+nbapven+nbapair+nbaautre,INDEX('Analyse Préliminaire Autres'!$B$11:$B$42,A56-nbappomp-nbapven-nbapair),IF(A56<=nbappomp+nbapven+nbapair+nbaautre+nbafroid,INDEX('AP Groupe froid'!$B$14:$B$17,A56-nbappomp-nbapven-nbapair-nbaautre),\"\")))))","v":""},{"$f":"IF(A56<=nbappomp,INDEX('Analyse Préliminaire Pompe'!$C$13:$C$47,A56),IF(A56<=nbappomp+nbapven,INDEX('Analyse Préliminaire Ventilateu'!$C$13:$C$44,A56-nbappomp),IF(A56<=nbappomp+nbapven+nbapair,$AJ$4,IF(A56<=nbappomp+nbapven+nbapair+nbaautre,INDEX('Analyse Préliminaire Autres'!$C$11:$C$42,A56-nbappomp-nbapven-nbapair),IF(A56<=nbappomp+nbapven+nbapair+nbaautre+nbafroid,INDEX('AP Groupe froid'!$C$14:$C$17,A56-nbappomp-nbapven-nbapair-nbaautre),\"\")))))","v":""},null,null,{"$f":"IF(A56<=nbappomp,INDEX('Analyse Préliminaire Pompe'!$H$13:$H$47,A56),IF(A56<=nbappomp+nbapven,INDEX('Analyse Préliminaire Ventilateu'!$H$13:$H$44,A56-nbappomp),IF(A56<=nbappomp+nbapven+nbapair,$AJ$4,IF(A56<=nbappomp+nbapven+nbapair+nbaautre,INDEX('Analyse Préliminaire Autres'!$H$11:$H$42,A56-nbappomp-nbapven-nbapair),IF(A56<=nbappomp+nbapven+nbapair+nbaautre+nbafroid,INDEX('AP Groupe froid'!$I$14:$I$17,A56-nbappomp-nbapven-nbapair-nbaautre),\"\")))))","v":""},null,null,{"$f":"IF(AH56=\"\",IF($A56<=nbappomp,INDEX('Analyse Préliminaire Pompe'!AE$13:AE$47,$A56),IF($A56<=nbappomp+nbapven,INDEX('Analyse Préliminaire Ventilateu'!AC$13:AC$44,$A56-nbappomp),IF($A56<=nbappomp+nbapven+nbapair,'Analyse Préliminaire air compr'!$AI$22,IF(A56<=nbappomp+nbapven+nbapair+nbaautre,INDEX('Analyse Préliminaire Autres'!$X$11:$X$42,A56-nbappomp-nbapven-nbapair),IF(A56<=nbappomp+nbapven+nbapair+nbaautre+nbafroid,INDEX('AP Groupe froid'!$AF$14:$AF$17,A56-nbappomp-nbapven-nbapair-nbaautre),\"\"))))),AH56)","v":""},{"$f":"IF(AG56=\"\",IF($A56<=nbappomp,INDEX('Analyse Préliminaire Pompe'!AD$13:AD$47,$A56),IF($A56<=nbappomp+nbapven,INDEX('Analyse Préliminaire Ventilateu'!AB$13:AB$44,$A56-nbappomp),IF($A56<=nbappomp+nbapven+nbapair,'Analyse Préliminaire air compr'!$AH$22,IF(A56<=nbappomp+nbapven+nbapair+nbaautre,INDEX('Analyse Préliminaire Autres'!$W$11:$W$42,A56-nbappomp-nbapven-nbapair),IF(A56<=nbappomp+nbapven+nbapair+nbaautre+nbafroid,INDEX('AP Groupe froid'!$AE$14:$AE$17,A56-nbappomp-nbapven-nbapair-nbaautre),\"\"))))),AG56)","v":""},null,"",null,"",null,{"$f":"IF(AI56=\"\",IF($A56<=nbappomp,INDEX('Analyse Préliminaire Pompe'!T$13:T$47,$A56),IF($A56<=nbappomp+nbapven,INDEX('Analyse Préliminaire Ventilateu'!R$13:R$44,$A56-nbappomp),IF($A56<=nbappomp+nbapven+nbapair,'Analyse Préliminaire air compr'!$AH$13,IF(A56<=nbappomp+nbapven+nbapair+nbaautre,INDEX('Analyse Préliminaire Autres'!$P$11:$P$42,A56-nbappomp-nbapven-nbapair),IF(A56<=nbappomp+nbapven+nbapair+nbaautre+nbafroid,INDEX('AP Groupe froid'!$AD$14:$AD$17,A56-nbappomp-nbapven-nbapair-nbaautre),\"\"))))),AI56)","v":""},null,{"$f":"IF($A56<=nbappomp,INDEX('Analyse Préliminaire Pompe'!X$13:X$47,$A56),IF($A56<=nbappomp+nbapven,INDEX('Analyse Préliminaire Ventilateu'!V$13:V$44,$A56-nbappomp),IF($A56<=nbappomp+nbapven+nbapair,'Analyse Préliminaire air compr'!$E$35,IF(A56<=nbappomp+nbapven+nbapair+nbaautre,INDEX('Analyse Préliminaire Autres'!$R$11:$R$42,A56-nbappomp-nbapven-nbapair),IF(A56<=nbappomp+nbapven+nbapair+nbaautre+nbafroid,INDEX('AP Groupe froid'!$Z$14:$Z$17,A56-nbappomp-nbapven-nbapair-nbaautre),\"\")))))","v":""},null,null,{"$f":"IF(AG56=\"\",IF($A56<=nbappomp,INDEX('Analyse Préliminaire Pompe'!AN$13:AN$47,$A56),IF($A56<=nbappomp+nbapven,INDEX('Analyse Préliminaire Ventilateu'!AL$13:AL$44,$A56-nbappomp),IF($A56<=nbappomp+nbapven+nbapair,'Analyse Préliminaire air compr'!$AM$16,IF(A56<=nbappomp+nbapven+nbapair+nbaautre,INDEX('Analyse Préliminaire Autres'!$AB$11:$AB$42,A56-nbappomp-nbapven-nbapair),IF(A56<=nbappomp+nbapven+nbapair+nbaautre+nbafroid,INDEX('AP Groupe froid'!$AM$14:$AM$17,A56-nbappomp-nbapven-nbapair-nbaautre),\"\"))))),'Economies classées'!$A$47)","v":""},{"$f":"IF($A56<=nbappomp,INDEX('Analyse Préliminaire Pompe'!E$13:E$47,$A56),IF($A56<=nbappomp+nbapven,INDEX('Analyse Préliminaire Ventilateu'!E$13:E$44,$A56-nbappomp),IF($A56<=nbappomp+nbapven+nbapair,\"voir detail\",IF(A56<=nbappomp+nbapven+nbapair+nbaautre,INDEX('Analyse Préliminaire Autres'!$E$11:$E$42,A56-nbappomp-nbapven-nbapair),IF(A56<=nbappomp+nbapven+nbapair+nbaautre+nbafroid,INDEX('AP Groupe froid'!$F$14:$F$17,A56-nbappomp-nbapven-nbapair-nbaautre),\"\")))))","v":""},{"$f":"IF($A56<=nbappomp,INDEX('Analyse Préliminaire Pompe'!K$13:K$47,$A56),IF($A56<=nbappomp+nbapven,INDEX('Analyse Préliminaire Ventilateu'!K$13:K$44,$A56-nbappomp),IF($A56<=nbappomp+nbapven+nbapair,SUM('Analyse Préliminaire air compr'!$I$26:$I$32),IF(A56<=nbappomp+nbapven+nbapair+nbaautre,INDEX('Analyse Préliminaire Autres'!$K$11:$K$42,A56-nbappomp-nbapven-nbapair),IF(A56<=nbappomp+nbapven+nbapair+nbaautre+nbafroid,INDEX('AP Groupe froid'!$O$14:$O$17,A56-nbappomp-nbapven-nbapair-nbaautre),\"\")))))","v":""},{"$f":"IF($A56<=nbappomp,INDEX('Analyse Préliminaire Pompe'!L$13:L$47,$A56),IF($A56<=nbappomp+nbapven,INDEX('Analyse Préliminaire Ventilateu'!L$13:L$44,$A56-nbappomp),IF($A56<=nbappomp+nbapven+nbapair,MIN('Analyse Préliminaire air compr'!$J$26:$J$32),IF(A56<=nbappomp+nbapven+nbapair+nbaautre,INDEX('Analyse Préliminaire Autres'!$L$11:$L$42,A56-nbappomp-nbapven-nbapair),IF($A56<=nbappomp+nbapven+nbapair,'Analyse Préliminaire air compr'!$AM$16,IF(A56<=nbappomp+nbapven+nbapair+nbaautre+nbafroid,INDEX('AP Groupe froid'!$L$14:$L$17,A56-nbappomp-nbapven-nbapair-nbaautre),\"\"))))))","v":""},{"$f":"IF($A56<=nbappomp,INDEX('Analyse Préliminaire Pompe'!M$13:M$47,$A56),IF($A56<=nbappomp+nbapven,INDEX('Analyse Préliminaire Ventilateu'!M$13:M$44,$A56-nbappomp),IF($A56<=nbappomp+nbapven+nbapair,\"\",IF(A56<=nbappomp+nbapven+nbapair+nbaautre,INDEX('Analyse Préliminaire Autres'!$M$11:$M$42,A56-nbappomp-nbapven-nbapair),IF($A56<=nbappomp+nbapven+nbapair,'Analyse Préliminaire air compr'!$AM$16,IF(A56<=nbappomp+nbapven+nbapair+nbaautre+nbafroid,INDEX('AP Groupe froid'!$M$14:$M$17,A56-nbappomp-nbapven-nbapair-nbaautre),\"\"))))))","v":""},{"$f":"IF($A56<=nbappomp,INDEX('Analyse Préliminaire Pompe'!N$13:N$47,$A56),IF($A56<=nbappomp+nbapven,INDEX('Analyse Préliminaire Ventilateu'!N$13:N$44,$A56-nbappomp),IF($A56<=nbappomp+nbapven+nbapair,\"\",IF(A56<=nbappomp+nbapven+nbapair+nbaautre,INDEX('Analyse Préliminaire Autres'!$N$11:$N$42,A56-nbappomp-nbapven-nbapair),\"\"))))","v":""},{"$f":"IF($A56<=nbappomp,INDEX('Analyse Préliminaire Pompe'!O$13:O$47,$A56),IF($A56<=nbappomp+nbapven,INDEX('Analyse Préliminaire Ventilateu'!O$13:O$44,$A56-nbappomp),IF($A56<=nbappomp+nbapven+nbapair,\"\",IF(A56<=nbappomp+nbapven+nbapair+nbaautre,INDEX('Analyse Préliminaire Autres'!$O$11:$O$42,A56-nbappomp-nbapven-nbapair),\"\"))))","v":""},{"$f":"IF($A56<=nbappomp,INDEX('Analyse Préliminaire Pompe'!P$13:P$47,$A56),IF($A56<=nbappomp+nbapven,INDEX('Analyse Préliminaire Ventilateu'!P$13:P$44,$A56-nbappomp),IF($A56<=nbappomp+nbapven+nbapair,\"\",IF(A56<=nbappomp+nbapven+nbapair+nbaautre,INDEX('Analyse Préliminaire Autres'!#REF!,A56-nbappomp-nbapven-nbapair),\"\"))))","v":""},{"$f":"IF($A56<=nbappomp,INDEX('Analyse Préliminaire Pompe'!Q$13:Q$47,$A56),IF($A56<=nbappomp+nbapven,\"\",IF($A56<=nbappomp+nbapven+nbapair,\"\",\"\")))","v":""},{"$f":"IF(AI56=\"\",IF($A56<=nbappomp,INDEX('Analyse Préliminaire Pompe'!S$13:S$47,$A56),IF($A56<=nbappomp+nbapven,INDEX('Analyse Préliminaire Ventilateu'!Q$13:Q$44,$A56-nbappomp),IF($A56<=nbappomp+nbapven+nbapair,\"\",IF(A56<=nbappomp+nbapven+nbapair+nbaautre,\"\",\"\")))),AI56)","v":""},{"$f":"IF(AN56,\"\",IF($A56<=nbappomp,INDEX('Analyse Préliminaire Pompe'!AO$13:AO$47,$A56),IF($A56<=nbappomp+nbapven,INDEX('Analyse Préliminaire Ventilateu'!AM$13:AM$44,$A56-nbappomp),IF($A56<=nbappomp+nbapven+nbapair,EcoAPkWhCP,IF(A56<=nbappomp+nbapven+nbapair+nbaautre,INDEX('Analyse Préliminaire Autres'!$E$11:$E$42,A56-nbappomp-nbapven-nbapair),IF($A56<=nbappomp+nbapven+nbapair+nbaautre+nbafroid,INDEX('AP Groupe froid'!$AN$14:$AN$17,$A56-nbappomp-nbapven-nbapair-nbaautre),\"\"))))))","v":""},{"$f":"IF(AN56,\"\",IF($A56<=nbappomp,INDEX('Analyse Préliminaire Pompe'!AP$13:AP$47,$A56),IF($A56<=nbappomp+nbapven,INDEX('Analyse Préliminaire Ventilateu'!AN$13:AN$44,$A56-nbappomp),IF($A56<=nbappomp+nbapven+nbapair,EcoAPpercCP,IF(A56<=nbappomp+nbapven+nbapair+nbaautre,INDEX('Analyse Préliminaire Autres'!$E$11:$E$42,A56-nbappomp-nbapven-nbapair),IF($A56<=nbappomp+nbapven+nbapair+nbaautre+nbafroid,INDEX('AP Groupe froid'!$AO$14:$AO$17,$A56-nbappomp-nbapven-nbapair-nbaautre),\"\"))))))","v":""},{"$f":"IF(AN56,\"\",IF($A56<=nbappomp,INDEX('Analyse Préliminaire Pompe'!AQ$13:AQ$47,$A56),IF($A56<=nbappomp+nbapven,INDEX('Analyse Préliminaire Ventilateu'!AO$13:AO$44,$A56-nbappomp),IF($A56<=nbappomp+nbapven+nbapair,consoanncp,IF(A56<=nbappomp+nbapven+nbapair+nbaautre,INDEX('Analyse Préliminaire Autres'!$E$11:$E$42,A56-nbappomp-nbapven-nbapair),IF($A56<=nbappomp+nbapven+nbapair+nbaautre+nbafroid,INDEX('AP Groupe froid'!$AP$14:$AP$17,$A56-nbappomp-nbapven-nbapair-nbaautre),\"\"))))))","v":""},{"$f":"IF(R56=\"\",-1,IF(AND($L56>'Economies classées'!$B$2,$K56>0.2,YEAR(TODAY())-$Z56>8),2,IF(AND($L56>'Economies classées'!$B$3,YEAR(TODAY())-$Z56>5),1,0)))","v":-1},null,null,"",{"$f":"IF($A56<=nbappomp,ISBLANK(INDEX('Analyse Préliminaire Pompe'!AO$13:AO$47,$A56)),IF($A56<=nbappomp+nbapven,ISBLANK(INDEX('Analyse Préliminaire Ventilateu'!AM$13:AM$44,$A56-nbappomp)),IF($A56<=nbappomp+nbapven+nbapair,ISBLANK(EcoAPkWhCP),IF(A56<=nbappomp+nbapven+nbapair+nbaautre,ISBLANK(INDEX('Analyse Préliminaire Autres'!AC$11:AC$42,A56-nbappomp-nbapven-nbapair)),IF(A56<=nbappomp+nbapven+nbapair+nbaautre+nbafroid,ISBLANK(INDEX('AP Groupe froid'!$AN$14:$AN$17,A56-nbappomp-nbapven-nbapair-nbaautre)),FALSE)))))","v":false},{"$f":"IF(E56=Listes!$H$25,1,0)","v":0},{"$f":"IF(E56=Listes!$H$26,1,0)","v":0},0,0,{"$f":"IF(E56=Listes!$H$28,1,0)","v":0},null,0,0,0,0,0,null,0,0,0,0,0,null,"","","","","",null,-1,-1,-1,-1,null,null,{"$f":"IF(E56=Listes!$H$25,1,0)","v":0},{"$f":"IF(E56=Listes!$H$26,1,0)","v":0},0,0,0,0,0,null,0,0,null,{"$error":"#VALUE!"},0,0,0,null,null,null,"",""]
[33,"",null,{"$f":"IF(A57<=nbappomp,INDEX('Analyse Préliminaire Pompe'!$B$13:$B$47,A57),IF(A57<=nbappomp+nbapven,INDEX('Analyse Préliminaire Ventilateu'!$B$13:$B$44,A57-nbappomp),IF(A57<=nbappomp+nbapven+nbapair,301,IF(A57<=nbappomp+nbapven+nbapair+nbaautre,INDEX('Analyse Préliminaire Autres'!$B$11:$B$42,A57-nbappomp-nbapven-nbapair),IF(A57<=nbappomp+nbapven+nbapair+nbaautre+nbafroid,INDEX('AP Groupe froid'!$B$14:$B$17,A57-nbappomp-nbapven-nbapair-nbaautre),\"\")))))","v":""},{"$f":"IF(A57<=nbappomp,INDEX('Analyse Préliminaire Pompe'!$C$13:$C$47,A57),IF(A57<=nbappomp+nbapven,INDEX('Analyse Préliminaire Ventilateu'!$C$13:$C$44,A57-nbappomp),IF(A57<=nbappomp+nbapven+nbapair,$AJ$4,IF(A57<=nbappomp+nbapven+nbapair+nbaautre,INDEX('Analyse Préliminaire Autres'!$C$11:$C$42,A57-nbappomp-nbapven-nbapair),IF(A57<=nbappomp+nbapven+nbapair+nbaautre+nbafroid,INDEX('AP Groupe froid'!$C$14:$C$17,A57-nbappomp-nbapven-nbapair-nbaautre),\"\")))))","v":""},null,null,{"$f":"IF(A57<=nbappomp,INDEX('Analyse Préliminaire Pompe'!$H$13:$H$47,A57),IF(A57<=nbappomp+nbapven,INDEX('Analyse Préliminaire Ventilateu'!$H$13:$H$44,A57-nbappomp),IF(A57<=nbappomp+nbapven+nbapair,$AJ$4,IF(A57<=nbappomp+nbapven+nbapair+nbaautre,INDEX('Analyse Préliminaire Autres'!$H$11:$H$42,A57-nbappomp-nbapven-nbapair),IF(A57<=nbappomp+nbapven+nbapair+nbaautre+nbafroid,INDEX('AP Groupe froid'!$I$14:$I$17,A57-nbappomp-nbapven-nbapair-nbaautre),\"\")))))","v":""},null,null,{"$f":"IF(AH57=\"\",IF($A57<=nbappomp,INDEX('Analyse Préliminaire Pompe'!AE$13:AE$47,$A57),IF($A57<=nbappomp+nbapven,INDEX('Analyse Préliminaire Ventilateu'!AC$13:AC$44,$A57-nbappomp),IF($A57<=nbappomp+nbapven+nbapair,'Analyse Préliminaire air compr'!$AI$22,IF(A57<=nbappomp+nbapven+nbapair+nbaautre,INDEX('Analyse Préliminaire Autres'!$X$11:$X$42,A57-nbappomp-nbapven-nbapair),IF(A57<=nbappomp+nbapven+nbapair+nbaautre+nbafroid,INDEX('AP Groupe froid'!$AF$14:$AF$17,A57-nbappomp-nbapven-nbapair-nbaautre),\"\"))))),AH57)","v":""},{"$f":"IF(AG57=\"\",IF($A57<=nbappomp,INDEX('Analyse Préliminaire Pompe'!AD$13:AD$47,$A57),IF($A57<=nbappomp+nbapven,INDEX('Analyse Préliminaire Ventilateu'!AB$13:AB$44,$A57-nbappomp),IF($A57<=nbappomp+nbapven+nbapair,'Analyse Préliminaire air compr'!$AH$22,IF(A57<=nbappomp+nbapven+nbapair+nbaautre,INDEX('Analyse Préliminaire Autres'!$W$11:$W$42,A57-nbappomp-nbapven-nbapair),IF(A57<=nbappomp+nbapven+nbapair+nbaautre+nbafroid,INDEX('AP Groupe froid'!$AE$14:$AE$17,A57-nbappomp-nbapven-nbapair-nbaautre),\"\"))))),AG57)","v":""},null,{"$f":"IF(L57=\"\",\"\",L57*$F$7)","v":""},null,{"$f":"IFERROR(ROUND(IF(L57=\"\",\"\",L57*$F$7*4),-3),\"\")","v":""},null,{"$f":"IF(AI57=\"\",IF($A57<=nbappomp,INDEX('Analyse Préliminaire Pompe'!T$13:T$47,$A57),IF($A57<=nbappomp+nbapven,INDEX('Analyse Préliminaire Ventilateu'!R$13:R$44,$A57-nbappomp),IF($A57<=nbappomp+nbapven+nbapair,'Analyse Préliminaire air compr'!$AH$13,IF(A57<=nbappomp+nbapven+nbapair+nbaautre,INDEX('Analyse Préliminaire Autres'!$P$11:$P$42,A57-nbappomp-nbapven-nbapair),IF(A57<=nbappomp+nbapven+nbapair+nbaautre+nbafroid,INDEX('AP Groupe froid'!$AD$14:$AD$17,A57-nbappomp-nbapven-nbapair-nbaautre),\"\"))))),AI57)","v":""},null,{"$f":"IF($A57<=nbappomp,INDEX('Analyse Préliminaire Pompe'!X$13:X$47,$A57),IF($A57<=nbappomp+nbapven,INDEX('Analyse Préliminaire Ventilateu'!V$13:V$44,$A57-nbappomp),IF($A57<=nbappomp+nbapven+nbapair,'Analyse Préliminaire air compr'!$E$35,IF(A57<=nbappomp+nbapven+nbapair+nbaautre,INDEX('Analyse Préliminaire Autres'!$R$11:$R$42,A57-nbappomp-nbapven-nbapair),IF(A57<=nbappomp+nbapven+nbapair+nbaautre+nbafroid,INDEX('AP Groupe froid'!$Z$14:$Z$17,A57-nbappomp-nbapven-nbapair-nbaautre),\"\")))))","v":""},null,null,{"$f":"IF(AG57=\"\",IF($A57<=nbappomp,INDEX('Analyse Préliminaire Pompe'!AN$13:AN$47,$A57),IF($A57<=nbappomp+nbapven,INDEX('Analyse Préliminaire Ventilateu'!AL$13:AL$44,$A57-nbappomp),IF($A57<=nbappomp+nbapven+nbapair,'Analyse Préliminaire air compr'!$AM$16,IF(A57<=nbappomp+nbapven+nbapair+nbaautre,INDEX('Analyse Préliminaire Autres'!$AB$11:$AB$42,A57-nbappomp-nbapven-nbapair),IF(A57<=nbappomp+nbapven+nbapair+nbaautre+nbafroid,INDEX('AP Groupe froid'!$AM$14:$AM$17,A57-nbappomp-nbapven-nbapair-nbaautre),\"\"))))),'Economies classées'!$A$47)","v":""},{"$f":"IF($A57<=nbappomp,INDEX('Analyse Préliminaire Pompe'!E$13:E$47,$A57),IF($A57<=nbappomp+nbapven,INDEX('Analyse Préliminaire Ventilateu'!E$13:E$44,$A57-nbappomp),IF($A57<=nbappomp+nbapven+nbapair,\"voir detail\",IF(A57<=nbappomp+nbapven+nbapair+nbaautre,INDEX('Analyse Préliminaire Autres'!$E$11:$E$42,A57-nbappomp-nbapven-nbapair),IF(A57<=nbappomp+nbapven+nbapair+nbaautre+nbafroid,INDEX('AP Groupe froid'!$F$14:$F$17,A57-nbappomp-nbapven-nbapair-nbaautre),\"\")))))","v":""},{"$f":"IF($A57<=nbappomp,INDEX('Analyse Préliminaire Pompe'!K$13:K$47,$A57),IF($A57<=nbappomp+nbapven,INDEX('Analyse Préliminaire Ventilateu'!K$13:K$44,$A57-nbappomp),IF($A57<=nbappomp+nbapven+nbapair,SUM('Analyse Préliminaire air compr'!$I$26:$I$32),IF(A57<=nbappomp+nbapven+nbapair+nbaautre,INDEX('Analyse Préliminaire Autres'!$K$11:$K$42,A57-nbappomp-nbapven-nbapair),IF(A57<=nbappomp+nbapven+nbapair+nbaautre+nbafroid,INDEX('AP Groupe froid'!$O$14:$O$17,A57-nbappomp-nbapven-nbapair-nbaautre),\"\")))))","v":""},{"$f":"IF($A57<=nbappomp,INDEX('Analyse Préliminaire Pompe'!L$13:L$47,$A57),IF($A57<=nbappomp+nbapven,INDEX('Analyse Préliminaire Ventilateu'!L$13:L$44,$A57-nbappomp),IF($A57<=nbappomp+nbapven+nbapair,MIN('Analyse Préliminaire air compr'!$J$26:$J$32),IF(A57<=nbappomp+nbapven+nbapair+nbaautre,INDEX('Analyse Préliminaire Autres'!$L$11:$L$42,A57-nbappomp-nbapven-nbapair),IF($A57<=nbappomp+nbapven+nbapair,'Analyse Préliminaire air compr'!$AM$16,IF(A57<=nbappomp+nbapven+nbapair+nbaautre+nbafroid,INDEX('AP Groupe froid'!$L$14:$L$17,A57-nbappomp-nbapven-nbapair-nbaautre),\"\"))))))","v":""},{"$f":"IF($A57<=nbappomp,INDEX('Analyse Préliminaire Pompe'!M$13:M$47,$A57),IF($A57<=nbappomp+nbapven,INDEX('Analyse Préliminaire Ventilateu'!M$13:M$44,$A57-nbappomp),IF($A57<=nbappomp+nbapven+nbapair,\"\",IF(A57<=nbappomp+nbapven+nbapair+nbaautre,INDEX('Analyse Préliminaire Autres'!$M$11:$M$42,A57-nbappomp-nbapven-nbapair),IF($A57<=nbappomp+nbapven+nbapair,'Analyse Préliminaire air compr'!$AM$16,IF(A57<=nbappomp+nbapven+nbapair+nbaautre+nbafroid,INDEX('AP Groupe froid'!$M$14:$M$17,A57-nbappomp-nbapven-nbapair-nbaautre),\"\"))))))","v":""},{"$f":"IF($A57<=nbappomp,INDEX('Analyse Préliminaire Pompe'!N$13:N$47,$A57),IF($A57<=nbappomp+nbapven,INDEX('Analyse Préliminaire Ventilateu'!N$13:N$44,$A57-nbappomp),IF($A57<=nbappomp+nbapven+nbapair,\"\",IF(A57<=nbappomp+nbapven+nbapair+nbaautre,INDEX('Analyse Préliminaire Autres'!$N$11:$N$42,A57-nbappomp-nbapven-nbapair),\"\"))))","v":""},{"$f":"IF($A57<=nbappomp,INDEX('Analyse Préliminaire Pompe'!O$13:O$47,$A57),IF($A57<=nbappomp+nbapven,INDEX('Analyse Préliminaire Ventilateu'!O$13:O$44,$A57-nbappomp),IF($A57<=nbappomp+nbapven+nbapair,\"\",IF(A57<=nbappomp+nbapven+nbapair+nbaautre,INDEX('Analyse Préliminaire Autres'!$O$11:$O$42,A57-nbappomp-nbapven-nbapair),\"\"))))","v":""},{"$f":"IF($A57<=nbappomp,INDEX('Analyse Préliminaire Pompe'!P$13:P$47,$A57),IF($A57<=nbappomp+nbapven,INDEX('Analyse Préliminaire Ventilateu'!P$13:P$44,$A57-nbappomp),IF($A57<=nbappomp+nbapven+nbapair,\"\",IF(A57<=nbappomp+nbapven+nbapair+nbaautre,INDEX('Analyse Préliminaire Autres'!#REF!,A57-nbappomp-nbapven-nbapair),\"\"))))","v":""},{"$f":"IF($A57<=nbappomp,INDEX('Analyse Préliminaire Pompe'!Q$13:Q$47,$A57),IF($A57<=nbappomp+nbapven,\"\",IF($A57<=nbappomp+nbapven+nbapair,\"\",\"\")))","v":""},{"$f":"IF(AI57=\"\",IF($A57<=nbappomp,INDEX('Analyse Préliminaire Pompe'!S$13:S$47,$A57),IF($A57<=nbappomp+nbapven,INDEX('Analyse Préliminaire Ventilateu'!Q$13:Q$44,$A57-nbappomp),IF($A57<=nbappomp+nbapven+nbapair,\"\",IF(A57<=nbappomp+nbapven+nbapair+nbaautre,\"\",\"\")))),AI57)","v":""},{"$f":"IF(AN57,\"\",IF($A57<=nbappomp,INDEX('Analyse Préliminaire Pompe'!AO$13:AO$47,$A57),IF($A57<=nbappomp+nbapven,INDEX('Analyse Préliminaire Ventilateu'!AM$13:AM$44,$A57-nbappomp),IF($A57<=nbappomp+nbapven+nbapair,EcoAPkWhCP,IF(A57<=nbappomp+nbapven+nbapair+nbaautre,INDEX('Analyse Préliminaire Autres'!$E$11:$E$42,A57-nbappomp-nbapven-nbapair),IF($A57<=nbappomp+nbapven+nbapair+nbaautre+nbafroid,INDEX('AP Groupe froid'!$AN$14:$AN$17,$A57-nbappomp-nbapven-nbapair-nbaautre),\"\"))))))","v":""},{"$f":"IF(AN57,\"\",IF($A57<=nbappomp,INDEX('Analyse Préliminaire Pompe'!AP$13:AP$47,$A57),IF($A57<=nbappomp+nbapven,INDEX('Analyse Préliminaire Ventilateu'!AN$13:AN$44,$A57-nbappomp),IF($A57<=nbappomp+nbapven+nbapair,EcoAPpercCP,IF(A57<=nbappomp+nbapven+nbapair+nbaautre,INDEX('Analyse Préliminaire Autres'!$E$11:$E$42,A57-nbappomp-nbapven-nbapair),IF($A57<=nbappomp+nbapven+nbapair+nbaautre+nbafroid,INDEX('AP Groupe froid'!$AO$14:$AO$17,$A57-nbappomp-nbapven-nbapair-nbaautre),\"\"))))))","v":""},{"$f":"IF(AN57,\"\",IF($A57<=nbappomp,INDEX('Analyse Préliminaire Pompe'!AQ$13:AQ$47,$A57),IF($A57<=nbappomp+nbapven,INDEX('Analyse Préliminaire Ventilateu'!AO$13:AO$44,$A57-nbappomp),IF($A57<=nbappomp+nbapven+nbapair,consoanncp,IF(A57<=nbappomp+nbapven+nbapair+nbaautre,INDEX('Analyse Préliminaire Autres'!$E$11:$E$42,A57-nbappomp-nbapven-nbapair),IF($A57<=nbappomp+nbapven+nbapair+nbaautre+nbafroid,INDEX('AP Groupe froid'!$AP$14:$AP$17,$A57-nbappomp-nbapven-nbapair-nbaautre),\"\"))))))","v":""},{"$f":"IF(R57=\"\",-1,IF(AND($L57>'Economies classées'!$B$2,$K57>0.2,YEAR(TODAY())-$Z57>8),2,IF(AND($L57>'Economies classées'!$B$3,YEAR(TODAY())-$Z57>5),1,0)))","v":-1},null,null,"",{"$f":"IF($A57<=nbappomp,ISBLANK(INDEX('Analyse Préliminaire Pompe'!AO$13:AO$47,$A57)),IF($A57<=nbappomp+nbapven,ISBLANK(INDEX('Analyse Préliminaire Ventilateu'!AM$13:AM$44,$A57-nbappomp)),IF($A57<=nbappomp+nbapven+nbapair,ISBLANK(EcoAPkWhCP),IF(A57<=nbappomp+nbapven+nbapair+nbaautre,ISBLANK(INDEX('Analyse Préliminaire Autres'!AC$11:AC$42,A57-nbappomp-nbapven-nbapair)),IF(A57<=nbappomp+nbapven+nbapair+nbaautre+nbafroid,ISBLANK(INDEX('AP Groupe froid'!$AN$14:$AN$17,A57-nbappomp-nbapven-nbapair-nbaautre)),FALSE)))))","v":false},{"$f":"IF(E57=Listes!$H$25,1,0)","v":0},{"$f":"IF(E57=Listes!$H$26,1,0)","v":0},0,{"$f":"IF(E57=GF_lis,1,0)","v":0},{"$f":"IF(E57=Listes!$H$28,1,0)","v":0},null,0,0,0,0,0,null,0,0,0,0,0,null,"","","","","",null,-1,-1,-1,-1,null,null,{"$f":"IF(E57=Listes!$H$25,1,0)","v":0},{"$f":"IF(E57=Listes!$H$26,1,0)","v":0},0,0,0,0,{"$f":"IF(E57=$AJ$4,1,0)","v":0},null,{"$f":"IF($L57=\"\",0,BY57*$L57)","v":0},{"$f":"IF($R57=\"\",0,BY57*$R57)","v":0},null,{"$f":"RANK(AG57,$AG$25:$AG$109)","v":{"$error":"#VALUE!"}},{"$f":"IF(E57=$AJ$5,1,0)","v":0},0,0,null,null,null,{"$f":"IF(AND(BS57=1,NOT($AN57)),$AG57,\"\")","v":""},{"$f":"IF(AND(BT57=1,NOT($AN57)),$AG57,\"\")","v":""}]
[34,"",null,{"$f":"IF(A58<=nbappomp,INDEX('Analyse Préliminaire Pompe'!$B$13:$B$47,A58),IF(A58<=nbappomp+nbapven,INDEX('Analyse Préliminaire Ventilateu'!$B$13:$B$44,A58-nbappomp),IF(A58<=nbappomp+nbapven+nbapair,301,IF(A58<=nbappomp+nbapven+nbapair+nbaautre,INDEX('Analyse Préliminaire Autres'!$B$11:$B$42,A58-nbappomp-nbapven-nbapair),IF(A58<=nbappomp+nbapven+nbapair+nbaautre+nbafroid,INDEX('AP Groupe froid'!$B$14:$B$17,A58-nbappomp-nbapven-nbapair-nbaautre),\"\")))))","v":""},{"$f":"IF(A58<=nbappomp,INDEX('Analyse Préliminaire Pompe'!$C$13:$C$47,A58),IF(A58<=nbappomp+nbapven,INDEX('Analyse Préliminaire Ventilateu'!$C$13:$C$44,A58-nbappomp),IF(A58<=nbappomp+nbapven+nbapair,$AJ$4,IF(A58<=nbappomp+nbapven+nbapair+nbaautre,INDEX('Analyse Préliminaire Autres'!$C$11:$C$42,A58-nbappomp-nbapven-nbapair),IF(A58<=nbappomp+nbapven+nbapair+nbaautre+nbafroid,INDEX('AP Groupe froid'!$C$14:$C$17,A58-nbappomp-nbapven-nbapair-nbaautre),\"\")))))","v":""},null,null,{"$f":"IF(A58<=nbappomp,INDEX('Analyse Préliminaire Pompe'!$H$13:$H$47,A58),IF(A58<=nbappomp+nbapven,INDEX('Analyse Préliminaire Ventilateu'!$H$13:$H$44,A58-nbappomp),IF(A58<=nbappomp+nbapven+nbapair,$AJ$4,IF(A58<=nbappomp+nbapven+nbapair+nbaautre,INDEX('Analyse Préliminaire Autres'!$H$11:$H$42,A58-nbappomp-nbapven-nbapair),IF(A58<=nbappomp+nbapven+nbapair+nbaautre+nbafroid,INDEX('AP Groupe froid'!$I$14:$I$17,A58-nbappomp-nbapven-nbapair-nbaautre),\"\")))))","v":""},null,null,{"$f":"IF(AH58=\"\",IF($A58<=nbappomp,INDEX('Analyse Préliminaire Pompe'!AE$13:AE$47,$A58),IF($A58<=nbappomp+nbapven,INDEX('Analyse Préliminaire Ventilateu'!AC$13:AC$44,$A58-nbappomp),IF($A58<=nbappomp+nbapven+nbapair,'Analyse Préliminaire air compr'!$AI$22,IF(A58<=nbappomp+nbapven+nbapair+nbaautre,INDEX('Analyse Préliminaire Autres'!$X$11:$X$42,A58-nbappomp-nbapven-nbapair),IF(A58<=nbappomp+nbapven+nbapair+nbaautre+nbafroid,INDEX('AP Groupe froid'!$AF$14:$AF$17,A58-nbappomp-nbapven-nbapair-nbaautre),\"\"))))),AH58)","v":""},{"$f":"IF(AG58=\"\",IF($A58<=nbappomp,INDEX('Analyse Préliminaire Pompe'!AD$13:AD$47,$A58),IF($A58<=nbappomp+nbapven,INDEX('Analyse Préliminaire Ventilateu'!AB$13:AB$44,$A58-nbappomp),IF($A58<=nbappomp+nbapven+nbapair,'Analyse Préliminaire air compr'!$AH$22,IF(A58<=nbappomp+nbapven+nbapair+nbaautre,INDEX('Analyse Préliminaire Autres'!$W$11:$W$42,A58-nbappomp-nbapven-nbapair),IF(A58<=nbappomp+nbapven+nbapair+nbaautre+nbafroid,INDEX('AP Groupe froid'!$AE$14:$AE$17,A58-nbappomp-nbapven-nbapair-nbaautre),\"\"))))),AG58)","v":""},null,"",null,"",null,{"$f":"IF(AI58=\"\",IF($A58<=nbappomp,INDEX('Analyse Préliminaire Pompe'!T$13:T$47,$A58),IF($A58<=nbappomp+nbapven,INDEX('Analyse Préliminaire Ventilateu'!R$13:R$44,$A58-nbappomp),IF($A58<=nbappomp+nbapven+nbapair,'Analyse Préliminaire air compr'!$AH$13,IF(A58<=nbappomp+nbapven+nbapair+nbaautre,INDEX('Analyse Préliminaire Autres'!$P$11:$P$42,A58-nbappomp-nbapven-nbapair),IF(A58<=nbappomp+nbapven+nbapair+nbaautre+nbafroid,INDEX('AP Groupe froid'!$AD$14:$AD$17,A58-nbappomp-nbapven-nbapair-nbaautre),\"\"))))),AI58)","v":""},null,{"$f":"IF($A58<=nbappomp,INDEX('Analyse Préliminaire Pompe'!X$13:X$47,$A58),IF($A58<=nbappomp+nbapven,INDEX('Analyse Préliminaire Ventilateu'!V$13:V$44,$A58-nbappomp),IF($A58<=nbappomp+nbapven+nbapair,'Analyse Préliminaire air compr'!$E$35,IF(A58<=nbappomp+nbapven+nbapair+nbaautre,INDEX('Analyse Préliminaire Autres'!$R$11:$R$42,A58-nbappomp-nbapven-nbapair),IF(A58<=nbappomp+nbapven+nbapair+nbaautre+nbafroid,INDEX('AP Groupe froid'!$Z$14:$Z$17,A58-nbappomp-nbapven-nbapair-nbaautre),\"\")))))","v":""},null,null,{"$f":"IF(AG58=\"\",IF($A58<=nbappomp,INDEX('Analyse Préliminaire Pompe'!AN$13:AN$47,$A58),IF($A58<=nbappomp+nbapven,INDEX('Analyse Préliminaire Ventilateu'!AL$13:AL$44,$A58-nbappomp),IF($A58<=nbappomp+nbapven+nbapair,'Analyse Préliminaire air compr'!$AM$16,IF(A58<=nbappomp+nbapven+nbapair+nbaautre,INDEX('Analyse Préliminaire Autres'!$AB$11:$AB$42,A58-nbappomp-nbapven-nbapair),IF(A58<=nbappomp+nbapven+nbapair+nbaautre+nbafroid,INDEX('AP Groupe froid'!$AM$14:$AM$17,A58-nbappomp-nbapven-nbapair-nbaautre),\"\"))))),'Economies classées'!$A$47)","v":""},{"$f":"IF($A58<=nbappomp,INDEX('Analyse Préliminaire Pompe'!E$13:E$47,$A58),IF($A58<=nbappomp+nbapven,INDEX('Analyse Préliminaire Ventilateu'!E$13:E$44,$A58-nbappomp),IF($A58<=nbappomp+nbapven+nbapair,\"voir detail\",IF(A58<=nbappomp+nbapven+nbapair+nbaautre,INDEX('Analyse Préliminaire Autres'!$E$11:$E$42,A58-nbappomp-nbapven-nbapair),IF(A58<=nbappomp+nbapven+nbapair+nbaautre+nbafroid,INDEX('AP Groupe froid'!$F$14:$F$17,A58-nbappomp-nbapven-nbapair-nbaautre),\"\")))))","v":""},{"$f":"IF($A58<=nbappomp,INDEX('Analyse Préliminaire Pompe'!K$13:K$47,$A58),IF($A58<=nbappomp+nbapven,INDEX('Analyse Préliminaire Ventilateu'!K$13:K$44,$A58-nbappomp),IF($A58<=nbappomp+nbapven+nbapair,SUM('Analyse Préliminaire air compr'!$I$26:$I$32),IF(A58<=nbappomp+nbapven+nbapair+nbaautre,INDEX('Analyse Préliminaire Autres'!$K$11:$K$42,A58-nbappomp-nbapven-nbapair),IF(A58<=nbappomp+nbapven+nbapair+nbaautre+nbafroid,INDEX('AP Groupe froid'!$O$14:$O$17,A58-nbappomp-nbapven-nbapair-nbaautre),\"\")))))","v":""},{"$f":"IF($A58<=nbappomp,INDEX('Analyse Préliminaire Pompe'!L$13:L$47,$A58),IF($A58<=nbappomp+nbapven,INDEX('Analyse Préliminaire Ventilateu'!L$13:L$44,$A58-nbappomp),IF($A58<=nbappomp+nbapven+nbapair,MIN('Analyse Préliminaire air compr'!$J$26:$J$32),IF(A58<=nbappomp+nbapven+nbapair+nbaautre,INDEX('Analyse Préliminaire Autres'!$L$11:$L$42,A58-nbappomp-nbapven-nbapair),IF($A58<=nbappomp+nbapven+nbapair,'Analyse Préliminaire air compr'!$AM$16,IF(A58<=nbappomp+nbapven+nbapair+nbaautre+nbafroid,INDEX('AP Groupe froid'!$L$14:$L$17,A58-nbappomp-nbapven-nbapair-nbaautre),\"\"))))))","v":""},{"$f":"IF($A58<=nbappomp,INDEX('Analyse Préliminaire Pompe'!M$13:M$47,$A58),IF($A58<=nbappomp+nbapven,INDEX('Analyse Préliminaire Ventilateu'!M$13:M$44,$A58-nbappomp),IF($A58<=nbappomp+nbapven+nbapair,\"\",IF(A58<=nbappomp+nbapven+nbapair+nbaautre,INDEX('Analyse Préliminaire Autres'!$M$11:$M$42,A58-nbappomp-nbapven-nbapair),IF($A58<=nbappomp+nbapven+nbapair,'Analyse Préliminaire air compr'!$AM$16,IF(A58<=nbappomp+nbapven+nbapair+nbaautre+nbafroid,INDEX('AP Groupe froid'!$M$14:$M$17,A58-nbappomp-nbapven-nbapair-nbaautre),\"\"))))))","v":""},{"$f":"IF($A58<=nbappomp,INDEX('Analyse Préliminaire Pompe'!N$13:N$47,$A58),IF($A58<=nbappomp+nbapven,INDEX('Analyse Préliminaire Ventilateu'!N$13:N$44,$A58-nbappomp),IF($A58<=nbappomp+nbapven+nbapair,\"\",IF(A58<=nbappomp+nbapven+nbapair+nbaautre,INDEX('Analyse Préliminaire Autres'!$N$11:$N$42,A58-nbappomp-nbapven-nbapair),\"\"))))","v":""},{"$f":"IF($A58<=nbappomp,INDEX('Analyse Préliminaire Pompe'!O$13:O$47,$A58),IF($A58<=nbappomp+nbapven,INDEX('Analyse Préliminaire Ventilateu'!O$13:O$44,$A58-nbappomp),IF($A58<=nbappomp+nbapven+nbapair,\"\",IF(A58<=nbappomp+nbapven+nbapair+nbaautre,INDEX('Analyse Préliminaire Autres'!$O$11:$O$42,A58-nbappomp-nbapven-nbapair),\"\"))))","v":""},{"$f":"IF($A58<=nbappomp,INDEX('Analyse Préliminaire Pompe'!P$13:P$47,$A58),IF($A58<=nbappomp+nbapven,INDEX('Analyse Préliminaire Ventilateu'!P$13:P$44,$A58-nbappomp),IF($A58<=nbappomp+nbapven+nbapair,\"\",IF(A58<=nbappomp+nbapven+nbapair+nbaautre,INDEX('Analyse Préliminaire Autres'!#REF!,A58-nbappomp-nbapven-nbapair),\"\"))))","v":""},{"$f":"IF($A58<=nbappomp,INDEX('Analyse Préliminaire Pompe'!Q$13:Q$47,$A58),IF($A58<=nbappomp+nbapven,\"\",IF($A58<=nbappomp+nbapven+nbapair,\"\",\"\")))","v":""},{"$f":"IF(AI58=\"\",IF($A58<=nbappomp,INDEX('Analyse Préliminaire Pompe'!S$13:S$47,$A58),IF($A58<=nbappomp+nbapven,INDEX('Analyse Préliminaire Ventilateu'!Q$13:Q$44,$A58-nbappomp),IF($A58<=nbappomp+nbapven+nbapair,\"\",IF(A58<=nbappomp+nbapven+nbapair+nbaautre,\"\",\"\")))),AI58)","v":""},{"$f":"IF(AN58,\"\",IF($A58<=nbappomp,INDEX('Analyse Préliminaire Pompe'!AO$13:AO$47,$A58),IF($A58<=nbappomp+nbapven,INDEX('Analyse Préliminaire Ventilateu'!AM$13:AM$44,$A58-nbappomp),IF($A58<=nbappomp+nbapven+nbapair,EcoAPkWhCP,IF(A58<=nbappomp+nbapven+nbapair+nbaautre,INDEX('Analyse Préliminaire Autres'!$E$11:$E$42,A58-nbappomp-nbapven-nbapair),IF($A58<=nbappomp+nbapven+nbapair+nbaautre+nbafroid,INDEX('AP Groupe froid'!$AN$14:$AN$17,$A58-nbappomp-nbapven-nbapair-nbaautre),\"\"))))))","v":""},{"$f":"IF(AN58,\"\",IF($A58<=nbappomp,INDEX('Analyse Préliminaire Pompe'!AP$13:AP$47,$A58),IF($A58<=nbappomp+nbapven,INDEX('Analyse Préliminaire Ventilateu'!AN$13:AN$44,$A58-nbappomp),IF($A58<=nbappomp+nbapven+nbapair,EcoAPpercCP,IF(A58<=nbappomp+nbapven+nbapair+nbaautre,INDEX('Analyse Préliminaire Autres'!$E$11:$E$42,A58-nbappomp-nbapven-nbapair),IF($A58<=nbappomp+nbapven+nbapair+nbaautre+nbafroid,INDEX('AP Groupe froid'!$AO$14:$AO$17,$A58-nbappomp-nbapven-nbapair-nbaautre),\"\"))))))","v":""},{"$f":"IF(AN58,\"\",IF($A58<=nbappomp,INDEX('Analyse Préliminaire Pompe'!AQ$13:AQ$47,$A58),IF($A58<=nbappomp+nbapven,INDEX('Analyse Préliminaire Ventilateu'!AO$13:AO$44,$A58-nbappomp),IF($A58<=nbappomp+nbapven+nbapair,consoanncp,IF(A58<=nbappomp+nbapven+nbapair+nbaautre,INDEX('Analyse Préliminaire Autres'!$E$11:$E$42,A58-nbappomp-nbapven-nbapair),IF($A58<=nbappomp+nbapven+nbapair+nbaautre+nbafroid,INDEX('AP Groupe froid'!$AP$14:$AP$17,$A58-nbappomp-nbapven-nbapair-nbaautre),\"\"))))))","v":""},{"$f":"IF(R58=\"\",-1,IF(AND($L58>'Economies classées'!$B$2,$K58>0.2,YEAR(TODAY())-$Z58>8),2,IF(AND($L58>'Economies classées'!$B$3,YEAR(TODAY())-$Z58>5),1,0)))","v":-1},null,null,"",{"$f":"IF($A58<=nbappomp,ISBLANK(INDEX('Analyse Préliminaire Pompe'!AO$13:AO$47,$A58)),IF($A58<=nbappomp+nbapven,ISBLANK(INDEX('Analyse Préliminaire Ventilateu'!AM$13:AM$44,$A58-nbappomp)),IF($A58<=nbappomp+nbapven+nbapair,ISBLANK(EcoAPkWhCP),IF(A58<=nbappomp+nbapven+nbapair+nbaautre,ISBLANK(INDEX('Analyse Préliminaire Autres'!AC$11:AC$42,A58-nbappomp-nbapven-nbapair)),IF(A58<=nbappomp+nbapven+nbapair+nbaautre+nbafroid,ISBLANK(INDEX('AP Groupe froid'!$AN$14:$AN$17,A58-nbappomp-nbapven-nbapair-nbaautre)),FALSE)))))","v":false},{"$f":"IF(E58=Listes!$H$25,1,0)","v":0},{"$f":"IF(E58=Listes!$H$26,1,0)","v":0},0,0,{"$f":"IF(E58=Listes!$H$28,1,0)","v":0},null,0,0,0,0,0,null,0,0,0,0,0,null,"","","","","",null,-1,-1,-1,-1,null,null,{"$f":"IF(E58=Listes!$H$25,1,0)","v":0},{"$f":"IF(E58=Listes!$H$26,1,0)","v":0},0,0,0,0,0,null,0,0,null,{"$error":"#VALUE!"},0,0,0,null,null,null,"",""]
[35,"",null,{"$f":"IF(A59<=nbappomp,INDEX('Analyse Préliminaire Pompe'!$B$13:$B$47,A59),IF(A59<=nbappomp+nbapven,INDEX('Analyse Préliminaire Ventilateu'!$B$13:$B$44,A59-nbappomp),IF(A59<=nbappomp+nbapven+nbapair,301,IF(A59<=nbappomp+nbapven+nbapair+nbaautre,INDEX('Analyse Préliminaire Autres'!$B$11:$B$42,A59-nbappomp-nbapven-nbapair),IF(A59<=nbappomp+nbapven+nbapair+nbaautre+nbafroid,INDEX('AP Groupe froid'!$B$14:$B$17,A59-nbappomp-nbapven-nbapair-nbaautre),\"\")))))","v":""},{"$f":"IF(A59<=nbappomp,INDEX('Analyse Préliminaire Pompe'!$C$13:$C$47,A59),IF(A59<=nbappomp+nbapven,INDEX('Analyse Préliminaire Ventilateu'!$C$13:$C$44,A59-nbappomp),IF(A59<=nbappomp+nbapven+nbapair,$AJ$4,IF(A59<=nbappomp+nbapven+nbapair+nbaautre,INDEX('Analyse Préliminaire Autres'!$C$11:$C$42,A59-nbappomp-nbapven-nbapair),IF(A59<=nbappomp+nbapven+nbapair+nbaautre+nbafroid,INDEX('AP Groupe froid'!$C$14:$C$17,A59-nbappomp-nbapven-nbapair-nbaautre),\"\")))))","v":""},null,null,{"$f":"IF(A59<=nbappomp,INDEX('Analyse Préliminaire Pompe'!$H$13:$H$47,A59),IF(A59<=nbappomp+nbapven,INDEX('Analyse Préliminaire Ventilateu'!$H$13:$H$44,A59-nbappomp),IF(A59<=nbappomp+nbapven+nbapair,$AJ$4,IF(A59<=nbappomp+nbapven+nbapair+nbaautre,INDEX('Analyse Préliminaire Autres'!$H$11:$H$42,A59-nbappomp-nbapven-nbapair),IF(A59<=nbappomp+nbapven+nbapair+nbaautre+nbafroid,INDEX('AP Groupe froid'!$I$14:$I$17,A59-nbappomp-nbapven-nbapair-nbaautre),\"\")))))","v":""},null,null,{"$f":"IF(AH59=\"\",IF($A59<=nbappomp,INDEX('Analyse Préliminaire Pompe'!AE$13:AE$47,$A59),IF($A59<=nbappomp+nbapven,INDEX('Analyse Préliminaire Ventilateu'!AC$13:AC$44,$A59-nbappomp),IF($A59<=nbappomp+nbapven+nbapair,'Analyse Préliminaire air compr'!$AI$22,IF(A59<=nbappomp+nbapven+nbapair+nbaautre,INDEX('Analyse Préliminaire Autres'!$X$11:$X$42,A59-nbappomp-nbapven-nbapair),IF(A59<=nbappomp+nbapven+nbapair+nbaautre+nbafroid,INDEX('AP Groupe froid'!$AF$14:$AF$17,A59-nbappomp-nbapven-nbapair-nbaautre),\"\"))))),AH59)","v":""},{"$f":"IF(AG59=\"\",IF($A59<=nbappomp,INDEX('Analyse Préliminaire Pompe'!AD$13:AD$47,$A59),IF($A59<=nbappomp+nbapven,INDEX('Analyse Préliminaire Ventilateu'!AB$13:AB$44,$A59-nbappomp),IF($A59<=nbappomp+nbapven+nbapair,'Analyse Préliminaire air compr'!$AH$22,IF(A59<=nbappomp+nbapven+nbapair+nbaautre,INDEX('Analyse Préliminaire Autres'!$W$11:$W$42,A59-nbappomp-nbapven-nbapair),IF(A59<=nbappomp+nbapven+nbapair+nbaautre+nbafroid,INDEX('AP Groupe froid'!$AE$14:$AE$17,A59-nbappomp-nbapven-nbapair-nbaautre),\"\"))))),AG59)","v":""},null,"",null,"",null,{"$f":"IF(AI59=\"\",IF($A59<=nbappomp,INDEX('Analyse Préliminaire Pompe'!T$13:T$47,$A59),IF($A59<=nbappomp+nbapven,INDEX('Analyse Préliminaire Ventilateu'!R$13:R$44,$A59-nbappomp),IF($A59<=nbappomp+nbapven+nbapair,'Analyse Préliminaire air compr'!$AH$13,IF(A59<=nbappomp+nbapven+nbapair+nbaautre,INDEX('Analyse Préliminaire Autres'!$P$11:$P$42,A59-nbappomp-nbapven-nbapair),IF(A59<=nbappomp+nbapven+nbapair+nbaautre+nbafroid,INDEX('AP Groupe froid'!$AD$14:$AD$17,A59-nbappomp-nbapven-nbapair-nbaautre),\"\"))))),AI59)","v":""},null,{"$f":"IF($A59<=nbappomp,INDEX('Analyse Préliminaire Pompe'!X$13:X$47,$A59),IF($A59<=nbappomp+nbapven,INDEX('Analyse Préliminaire Ventilateu'!V$13:V$44,$A59-nbappomp),IF($A59<=nbappomp+nbapven+nbapair,'Analyse Préliminaire air compr'!$E$35,IF(A59<=nbappomp+nbapven+nbapair+nbaautre,INDEX('Analyse Préliminaire Autres'!$R$11:$R$42,A59-nbappomp-nbapven-nbapair),IF(A59<=nbappomp+nbapven+nbapair+nbaautre+nbafroid,INDEX('AP Groupe froid'!$Z$14:$Z$17,A59-nbappomp-nbapven-nbapair-nbaautre),\"\")))))","v":""},null,null,{"$f":"IF(AG59=\"\",IF($A59<=nbappomp,INDEX('Analyse Préliminaire Pompe'!AN$13:AN$47,$A59),IF($A59<=nbappomp+nbapven,INDEX('Analyse Préliminaire Ventilateu'!AL$13:AL$44,$A59-nbappomp),IF($A59<=nbappomp+nbapven+nbapair,'Analyse Préliminaire air compr'!$AM$16,IF(A59<=nbappomp+nbapven+nbapair+nbaautre,INDEX('Analyse Préliminaire Autres'!$AB$11:$AB$42,A59-nbappomp-nbapven-nbapair),IF(A59<=nbappomp+nbapven+nbapair+nbaautre+nbafroid,INDEX('AP Groupe froid'!$AM$14:$AM$17,A59-nbappomp-nbapven-nbapair-nbaautre),\"\"))))),'Economies classées'!$A$47)","v":""},{"$f":"IF($A59<=nbappomp,INDEX('Analyse Préliminaire Pompe'!E$13:E$47,$A59),IF($A59<=nbappomp+nbapven,INDEX('Analyse Préliminaire Ventilateu'!E$13:E$44,$A59-nbappomp),IF($A59<=nbappomp+nbapven+nbapair,\"voir detail\",IF(A59<=nbappomp+nbapven+nbapair+nbaautre,INDEX('Analyse Préliminaire Autres'!$E$11:$E$42,A59-nbappomp-nbapven-nbapair),IF(A59<=nbappomp+nbapven+nbapair+nbaautre+nbafroid,INDEX('AP Groupe froid'!$F$14:$F$17,A59-nbappomp-nbapven-nbapair-nbaautre),\"\")))))","v":""},{"$f":"IF($A59<=nbappomp,INDEX('Analyse Préliminaire Pompe'!K$13:K$47,$A59),IF($A59<=nbappomp+nbapven,INDEX('Analyse Préliminaire Ventilateu'!K$13:K$44,$A59-nbappomp),IF($A59<=nbappomp+nbapven+nbapair,SUM('Analyse Préliminaire air compr'!$I$26:$I$32),IF(A59<=nbappomp+nbapven+nbapair+nbaautre,INDEX('Analyse Préliminaire Autres'!$K$11:$K$42,A59-nbappomp-nbapven-nbapair),IF(A59<=nbappomp+nbapven+nbapair+nbaautre+nbafroid,INDEX('AP Groupe froid'!$O$14:$O$17,A59-nbappomp-nbapven-nbapair-nbaautre),\"\")))))","v":""},{"$f":"IF($A59<=nbappomp,INDEX('Analyse Préliminaire Pompe'!L$13:L$47,$A59),IF($A59<=nbappomp+nbapven,INDEX('Analyse Préliminaire Ventilateu'!L$13:L$44,$A59-nbappomp),IF($A59<=nbappomp+nbapven+nbapair,MIN('Analyse Préliminaire air compr'!$J$26:$J$32),IF(A59<=nbappomp+nbapven+nbapair+nbaautre,INDEX('Analyse Préliminaire Autres'!$L$11:$L$42,A59-nbappomp-nbapven-nbapair),IF($A59<=nbappomp+nbapven+nbapair,'Analyse Préliminaire air compr'!$AM$16,IF(A59<=nbappomp+nbapven+nbapair+nbaautre+nbafroid,INDEX('AP Groupe froid'!$L$14:$L$17,A59-nbappomp-nbapven-nbapair-nbaautre),\"\"))))))","v":""},{"$f":"IF($A59<=nbappomp,INDEX('Analyse Préliminaire Pompe'!M$13:M$47,$A59),IF($A59<=nbappomp+nbapven,INDEX('Analyse Préliminaire Ventilateu'!M$13:M$44,$A59-nbappomp),IF($A59<=nbappomp+nbapven+nbapair,\"\",IF(A59<=nbappomp+nbapven+nbapair+nbaautre,INDEX('Analyse Préliminaire Autres'!$M$11:$M$42,A59-nbappomp-nbapven-nbapair),IF($A59<=nbappomp+nbapven+nbapair,'Analyse Préliminaire air compr'!$AM$16,IF(A59<=nbappomp+nbapven+nbapair+nbaautre+nbafroid,INDEX('AP Groupe froid'!$M$14:$M$17,A59-nbappomp-nbapven-nbapair-nbaautre),\"\"))))))","v":""},{"$f":"IF($A59<=nbappomp,INDEX('Analyse Préliminaire Pompe'!N$13:N$47,$A59),IF($A59<=nbappomp+nbapven,INDEX('Analyse Préliminaire Ventilateu'!N$13:N$44,$A59-nbappomp),IF($A59<=nbappomp+nbapven+nbapair,\"\",IF(A59<=nbappomp+nbapven+nbapair+nbaautre,INDEX('Analyse Préliminaire Autres'!$N$11:$N$42,A59-nbappomp-nbapven-nbapair),\"\"))))","v":""},{"$f":"IF($A59<=nbappomp,INDEX('Analyse Préliminaire Pompe'!O$13:O$47,$A59),IF($A59<=nbappomp+nbapven,INDEX('Analyse Préliminaire Ventilateu'!O$13:O$44,$A59-nbappomp),IF($A59<=nbappomp+nbapven+nbapair,\"\",IF(A59<=nbappomp+nbapven+nbapair+nbaautre,INDEX('Analyse Préliminaire Autres'!$O$11:$O$42,A59-nbappomp-nbapven-nbapair),\"\"))))","v":""},{"$f":"IF($A59<=nbappomp,INDEX('Analyse Préliminaire Pompe'!P$13:P$47,$A59),IF($A59<=nbappomp+nbapven,INDEX('Analyse Préliminaire Ventilateu'!P$13:P$44,$A59-nbappomp),IF($A59<=nbappomp+nbapven+nbapair,\"\",IF(A59<=nbappomp+nbapven+nbapair+nbaautre,INDEX('Analyse Préliminaire Autres'!#REF!,A59-nbappomp-nbapven-nbapair),\"\"))))","v":""},{"$f":"IF($A59<=nbappomp,INDEX('Analyse Préliminaire Pompe'!Q$13:Q$47,$A59),IF($A59<=nbappomp+nbapven,\"\",IF($A59<=nbappomp+nbapven+nbapair,\"\",\"\")))","v":""},{"$f":"IF(AI59=\"\",IF($A59<=nbappomp,INDEX('Analyse Préliminaire Pompe'!S$13:S$47,$A59),IF($A59<=nbappomp+nbapven,INDEX('Analyse Préliminaire Ventilateu'!Q$13:Q$44,$A59-nbappomp),IF($A59<=nbappomp+nbapven+nbapair,\"\",IF(A59<=nbappomp+nbapven+nbapair+nbaautre,\"\",\"\")))),AI59)","v":""},{"$f":"IF(AN59,\"\",IF($A59<=nbappomp,INDEX('Analyse Préliminaire Pompe'!AO$13:AO$47,$A59),IF($A59<=nbappomp+nbapven,INDEX('Analyse Préliminaire Ventilateu'!AM$13:AM$44,$A59-nbappomp),IF($A59<=nbappomp+nbapven+nbapair,EcoAPkWhCP,IF(A59<=nbappomp+nbapven+nbapair+nbaautre,INDEX('Analyse Préliminaire Autres'!$E$11:$E$42,A59-nbappomp-nbapven-nbapair),IF($A59<=nbappomp+nbapven+nbapair+nbaautre+nbafroid,INDEX('AP Groupe froid'!$AN$14:$AN$17,$A59-nbappomp-nbapven-nbapair-nbaautre),\"\"))))))","v":""},{"$f":"IF(AN59,\"\",IF($A59<=nbappomp,INDEX('Analyse Préliminaire Pompe'!AP$13:AP$47,$A59),IF($A59<=nbappomp+nbapven,INDEX('Analyse Préliminaire Ventilateu'!AN$13:AN$44,$A59-nbappomp),IF($A59<=nbappomp+nbapven+nbapair,EcoAPpercCP,IF(A59<=nbappomp+nbapven+nbapair+nbaautre,INDEX('Analyse Préliminaire Autres'!$E$11:$E$42,A59-nbappomp-nbapven-nbapair),IF($A59<=nbappomp+nbapven+nbapair+nbaautre+nbafroid,INDEX('AP Groupe froid'!$AO$14:$AO$17,$A59-nbappomp-nbapven-nbapair-nbaautre),\"\"))))))","v":""},{"$f":"IF(AN59,\"\",IF($A59<=nbappomp,INDEX('Analyse Préliminaire Pompe'!AQ$13:AQ$47,$A59),IF($A59<=nbappomp+nbapven,INDEX('Analyse Préliminaire Ventilateu'!AO$13:AO$44,$A59-nbappomp),IF($A59<=nbappomp+nbapven+nbapair,consoanncp,IF(A59<=nbappomp+nbapven+nbapair+nbaautre,INDEX('Analyse Préliminaire Autres'!$E$11:$E$42,A59-nbappomp-nbapven-nbapair),IF($A59<=nbappomp+nbapven+nbapair+nbaautre+nbafroid,INDEX('AP Groupe froid'!$AP$14:$AP$17,$A59-nbappomp-nbapven-nbapair-nbaautre),\"\"))))))","v":""},{"$f":"IF(R59=\"\",-1,IF(AND($L59>'Economies classées'!$B$2,$K59>0.2,YEAR(TODAY())-$Z59>8),2,IF(AND($L59>'Economies classées'!$B$3,YEAR(TODAY())-$Z59>5),1,0)))","v":-1},null,null,"",{"$f":"IF($A59<=nbappomp,ISBLANK(INDEX('Analyse Préliminaire Pompe'!AO$13:AO$47,$A59)),IF($A59<=nbappomp+nbapven,ISBLANK(INDEX('Analyse Préliminaire Ventilateu'!AM$13:AM$44,$A59-nbappomp)),IF($A59<=nbappomp+nbapven+nbapair,ISBLANK(EcoAPkWhCP),IF(A59<=nbappomp+nbapven+nbapair+nbaautre,ISBLANK(INDEX('Analyse Préliminaire Autres'!AC$11:AC$42,A59-nbappomp-nbapven-nbapair)),IF(A59<=nbappomp+nbapven+nbapair+nbaautre+nbafroid,ISBLANK(INDEX('AP Groupe froid'!$AN$14:$AN$17,A59-nbappomp-nbapven-nbapair-nbaautre)),FALSE)))))","v":false},{"$f":"IF(E59=Listes!$H$25,1,0)","v":0},{"$f":"IF(E59=Listes!$H$26,1,0)","v":0},0,0,{"$f":"IF(E59=Listes!$H$28,1,0)","v":0},null,0,0,0,0,0,null,0,0,0,0,0,null,"","","","","",null,-1,-1,-1,-1,null,null,{"$f":"IF(E59=Listes!$H$25,1,0)","v":0},{"$f":"IF(E59=Listes!$H$26,1,0)","v":0},0,0,0,0,0,null,0,0,null,{"$error":"#VALUE!"},0,0,0,null,null,null,"",""]
[36,"",null,{"$f":"IF(A60<=nbappomp,INDEX('Analyse Préliminaire Pompe'!$B$13:$B$47,A60),IF(A60<=nbappomp+nbapven,INDEX('Analyse Préliminaire Ventilateu'!$B$13:$B$44,A60-nbappomp),IF(A60<=nbappomp+nbapven+nbapair,301,IF(A60<=nbappomp+nbapven+nbapair+nbaautre,INDEX('Analyse Préliminaire Autres'!$B$11:$B$42,A60-nbappomp-nbapven-nbapair),IF(A60<=nbappomp+nbapven+nbapair+nbaautre+nbafroid,INDEX('AP Groupe froid'!$B$14:$B$17,A60-nbappomp-nbapven-nbapair-nbaautre),\"\")))))","v":""},{"$f":"IF(A60<=nbappomp,INDEX('Analyse Préliminaire Pompe'!$C$13:$C$47,A60),IF(A60<=nbappomp+nbapven,INDEX('Analyse Préliminaire Ventilateu'!$C$13:$C$44,A60-nbappomp),IF(A60<=nbappomp+nbapven+nbapair,$AJ$4,IF(A60<=nbappomp+nbapven+nbapair+nbaautre,INDEX('Analyse Préliminaire Autres'!$C$11:$C$42,A60-nbappomp-nbapven-nbapair),IF(A60<=nbappomp+nbapven+nbapair+nbaautre+nbafroid,INDEX('AP Groupe froid'!$C$14:$C$17,A60-nbappomp-nbapven-nbapair-nbaautre),\"\")))))","v":""},null,null,{"$f":"IF(A60<=nbappomp,INDEX('Analyse Préliminaire Pompe'!$H$13:$H$47,A60),IF(A60<=nbappomp+nbapven,INDEX('Analyse Préliminaire Ventilateu'!$H$13:$H$44,A60-nbappomp),IF(A60<=nbappomp+nbapven+nbapair,$AJ$4,IF(A60<=nbappomp+nbapven+nbapair+nbaautre,INDEX('Analyse Préliminaire Autres'!$H$11:$H$42,A60-nbappomp-nbapven-nbapair),IF(A60<=nbappomp+nbapven+nbapair+nbaautre+nbafroid,INDEX('AP Groupe froid'!$I$14:$I$17,A60-nbappomp-nbapven-nbapair-nbaautre),\"\")))))","v":""},null,null,{"$f":"IF(AH60=\"\",IF($A60<=nbappomp,INDEX('Analyse Préliminaire Pompe'!AE$13:AE$47,$A60),IF($A60<=nbappomp+nbapven,INDEX('Analyse Préliminaire Ventilateu'!AC$13:AC$44,$A60-nbappomp),IF($A60<=nbappomp+nbapven+nbapair,'Analyse Préliminaire air compr'!$AI$22,IF(A60<=nbappomp+nbapven+nbapair+nbaautre,INDEX('Analyse Préliminaire Autres'!$X$11:$X$42,A60-nbappomp-nbapven-nbapair),IF(A60<=nbappomp+nbapven+nbapair+nbaautre+nbafroid,INDEX('AP Groupe froid'!$AF$14:$AF$17,A60-nbappomp-nbapven-nbapair-nbaautre),\"\"))))),AH60)","v":""},{"$f":"IF(AG60=\"\",IF($A60<=nbappomp,INDEX('Analyse Préliminaire Pompe'!AD$13:AD$47,$A60),IF($A60<=nbappomp+nbapven,INDEX('Analyse Préliminaire Ventilateu'!AB$13:AB$44,$A60-nbappomp),IF($A60<=nbappomp+nbapven+nbapair,'Analyse Préliminaire air compr'!$AH$22,IF(A60<=nbappomp+nbapven+nbapair+nbaautre,INDEX('Analyse Préliminaire Autres'!$W$11:$W$42,A60-nbappomp-nbapven-nbapair),IF(A60<=nbappomp+nbapven+nbapair+nbaautre+nbafroid,INDEX('AP Groupe froid'!$AE$14:$AE$17,A60-nbappomp-nbapven-nbapair-nbaautre),\"\"))))),AG60)","v":""},null,"",null,"",null,{"$f":"IF(AI60=\"\",IF($A60<=nbappomp,INDEX('Analyse Préliminaire Pompe'!T$13:T$47,$A60),IF($A60<=nbappomp+nbapven,INDEX('Analyse Préliminaire Ventilateu'!R$13:R$44,$A60-nbappomp),IF($A60<=nbappomp+nbapven+nbapair,'Analyse Préliminaire air compr'!$AH$13,IF(A60<=nbappomp+nbapven+nbapair+nbaautre,INDEX('Analyse Préliminaire Autres'!$P$11:$P$42,A60-nbappomp-nbapven-nbapair),IF(A60<=nbappomp+nbapven+nbapair+nbaautre+nbafroid,INDEX('AP Groupe froid'!$AD$14:$AD$17,A60-nbappomp-nbapven-nbapair-nbaautre),\"\"))))),AI60)","v":""},null,{"$f":"IF($A60<=nbappomp,INDEX('Analyse Préliminaire Pompe'!X$13:X$47,$A60),IF($A60<=nbappomp+nbapven,INDEX('Analyse Préliminaire Ventilateu'!V$13:V$44,$A60-nbappomp),IF($A60<=nbappomp+nbapven+nbapair,'Analyse Préliminaire air compr'!$E$35,IF(A60<=nbappomp+nbapven+nbapair+nbaautre,INDEX('Analyse Préliminaire Autres'!$R$11:$R$42,A60-nbappomp-nbapven-nbapair),IF(A60<=nbappomp+nbapven+nbapair+nbaautre+nbafroid,INDEX('AP Groupe froid'!$Z$14:$Z$17,A60-nbappomp-nbapven-nbapair-nbaautre),\"\")))))","v":""},null,null,{"$f":"IF(AG60=\"\",IF($A60<=nbappomp,INDEX('Analyse Préliminaire Pompe'!AN$13:AN$47,$A60),IF($A60<=nbappomp+nbapven,INDEX('Analyse Préliminaire Ventilateu'!AL$13:AL$44,$A60-nbappomp),IF($A60<=nbappomp+nbapven+nbapair,'Analyse Préliminaire air compr'!$AM$16,IF(A60<=nbappomp+nbapven+nbapair+nbaautre,INDEX('Analyse Préliminaire Autres'!$AB$11:$AB$42,A60-nbappomp-nbapven-nbapair),IF(A60<=nbappomp+nbapven+nbapair+nbaautre+nbafroid,INDEX('AP Groupe froid'!$AM$14:$AM$17,A60-nbappomp-nbapven-nbapair-nbaautre),\"\"))))),'Economies classées'!$A$47)","v":""},{"$f":"IF($A60<=nbappomp,INDEX('Analyse Préliminaire Pompe'!E$13:E$47,$A60),IF($A60<=nbappomp+nbapven,INDEX('Analyse Préliminaire Ventilateu'!E$13:E$44,$A60-nbappomp),IF($A60<=nbappomp+nbapven+nbapair,\"voir detail\",IF(A60<=nbappomp+nbapven+nbapair+nbaautre,INDEX('Analyse Préliminaire Autres'!$E$11:$E$42,A60-nbappomp-nbapven-nbapair),IF(A60<=nbappomp+nbapven+nbapair+nbaautre+nbafroid,INDEX('AP Groupe froid'!$F$14:$F$17,A60-nbappomp-nbapven-nbapair-nbaautre),\"\")))))","v":""},{"$f":"IF($A60<=nbappomp,INDEX('Analyse Préliminaire Pompe'!K$13:K$47,$A60),IF($A60<=nbappomp+nbapven,INDEX('Analyse Préliminaire Ventilateu'!K$13:K$44,$A60-nbappomp),IF($A60<=nbappomp+nbapven+nbapair,SUM('Analyse Préliminaire air compr'!$I$26:$I$32),IF(A60<=nbappomp+nbapven+nbapair+nbaautre,INDEX('Analyse Préliminaire Autres'!$K$11:$K$42,A60-nbappomp-nbapven-nbapair),IF(A60<=nbappomp+nbapven+nbapair+nbaautre+nbafroid,INDEX('AP Groupe froid'!$O$14:$O$17,A60-nbappomp-nbapven-nbapair-nbaautre),\"\")))))","v":""},{"$f":"IF($A60<=nbappomp,INDEX('Analyse Préliminaire Pompe'!L$13:L$47,$A60),IF($A60<=nbappomp+nbapven,INDEX('Analyse Préliminaire Ventilateu'!L$13:L$44,$A60-nbappomp),IF($A60<=nbappomp+nbapven+nbapair,MIN('Analyse Préliminaire air compr'!$J$26:$J$32),IF(A60<=nbappomp+nbapven+nbapair+nbaautre,INDEX('Analyse Préliminaire Autres'!$L$11:$L$42,A60-nbappomp-nbapven-nbapair),IF($A60<=nbappomp+nbapven+nbapair,'Analyse Préliminaire air compr'!$AM$16,IF(A60<=nbappomp+nbapven+nbapair+nbaautre+nbafroid,INDEX('AP Groupe froid'!$L$14:$L$17,A60-nbappomp-nbapven-nbapair-nbaautre),\"\"))))))","v":""},{"$f":"IF($A60<=nbappomp,INDEX('Analyse Préliminaire Pompe'!M$13:M$47,$A60),IF($A60<=nbappomp+nbapven,INDEX('Analyse Préliminaire Ventilateu'!M$13:M$44,$A60-nbappomp),IF($A60<=nbappomp+nbapven+nbapair,\"\",IF(A60<=nbappomp+nbapven+nbapair+nbaautre,INDEX('Analyse Préliminaire Autres'!$M$11:$M$42,A60-nbappomp-nbapven-nbapair),IF($A60<=nbappomp+nbapven+nbapair,'Analyse Préliminaire air compr'!$AM$16,IF(A60<=nbappomp+nbapven+nbapair+nbaautre+nbafroid,INDEX('AP Groupe froid'!$M$14:$M$17,A60-nbappomp-nbapven-nbapair-nbaautre),\"\"))))))","v":""},{"$f":"IF($A60<=nbappomp,INDEX('Analyse Préliminaire Pompe'!N$13:N$47,$A60),IF($A60<=nbappomp+nbapven,INDEX('Analyse Préliminaire Ventilateu'!N$13:N$44,$A60-nbappomp),IF($A60<=nbappomp+nbapven+nbapair,\"\",IF(A60<=nbappomp+nbapven+nbapair+nbaautre,INDEX('Analyse Préliminaire Autres'!$N$11:$N$42,A60-nbappomp-nbapven-nbapair),\"\"))))","v":""},{"$f":"IF($A60<=nbappomp,INDEX('Analyse Préliminaire Pompe'!O$13:O$47,$A60),IF($A60<=nbappomp+nbapven,INDEX('Analyse Préliminaire Ventilateu'!O$13:O$44,$A60-nbappomp),IF($A60<=nbappomp+nbapven+nbapair,\"\",IF(A60<=nbappomp+nbapven+nbapair+nbaautre,INDEX('Analyse Préliminaire Autres'!$O$11:$O$42,A60-nbappomp-nbapven-nbapair),\"\"))))","v":""},{"$f":"IF($A60<=nbappomp,INDEX('Analyse Préliminaire Pompe'!P$13:P$47,$A60),IF($A60<=nbappomp+nbapven,INDEX('Analyse Préliminaire Ventilateu'!P$13:P$44,$A60-nbappomp),IF($A60<=nbappomp+nbapven+nbapair,\"\",IF(A60<=nbappomp+nbapven+nbapair+nbaautre,INDEX('Analyse Préliminaire Autres'!#REF!,A60-nbappomp-nbapven-nbapair),\"\"))))","v":""},{"$f":"IF($A60<=nbappomp,INDEX('Analyse Préliminaire Pompe'!Q$13:Q$47,$A60),IF($A60<=nbappomp+nbapven,\"\",IF($A60<=nbappomp+nbapven+nbapair,\"\",\"\")))","v":""},{"$f":"IF(AI60=\"\",IF($A60<=nbappomp,INDEX('Analyse Préliminaire Pompe'!S$13:S$47,$A60),IF($A60<=nbappomp+nbapven,INDEX('Analyse Préliminaire Ventilateu'!Q$13:Q$44,$A60-nbappomp),IF($A60<=nbappomp+nbapven+nbapair,\"\",IF(A60<=nbappomp+nbapven+nbapair+nbaautre,\"\",\"\")))),AI60)","v":""},{"$f":"IF(AN60,\"\",IF($A60<=nbappomp,INDEX('Analyse Préliminaire Pompe'!AO$13:AO$47,$A60),IF($A60<=nbappomp+nbapven,INDEX('Analyse Préliminaire Ventilateu'!AM$13:AM$44,$A60-nbappomp),IF($A60<=nbappomp+nbapven+nbapair,EcoAPkWhCP,IF(A60<=nbappomp+nbapven+nbapair+nbaautre,INDEX('Analyse Préliminaire Autres'!$E$11:$E$42,A60-nbappomp-nbapven-nbapair),IF($A60<=nbappomp+nbapven+nbapair+nbaautre+nbafroid,INDEX('AP Groupe froid'!$AN$14:$AN$17,$A60-nbappomp-nbapven-nbapair-nbaautre),\"\"))))))","v":""},{"$f":"IF(AN60,\"\",IF($A60<=nbappomp,INDEX('Analyse Préliminaire Pompe'!AP$13:AP$47,$A60),IF($A60<=nbappomp+nbapven,INDEX('Analyse Préliminaire Ventilateu'!AN$13:AN$44,$A60-nbappomp),IF($A60<=nbappomp+nbapven+nbapair,EcoAPpercCP,IF(A60<=nbappomp+nbapven+nbapair+nbaautre,INDEX('Analyse Préliminaire Autres'!$E$11:$E$42,A60-nbappomp-nbapven-nbapair),IF($A60<=nbappomp+nbapven+nbapair+nbaautre+nbafroid,INDEX('AP Groupe froid'!$AO$14:$AO$17,$A60-nbappomp-nbapven-nbapair-nbaautre),\"\"))))))","v":""},{"$f":"IF(AN60,\"\",IF($A60<=nbappomp,INDEX('Analyse Préliminaire Pompe'!AQ$13:AQ$47,$A60),IF($A60<=nbappomp+nbapven,INDEX('Analyse Préliminaire Ventilateu'!AO$13:AO$44,$A60-nbappomp),IF($A60<=nbappomp+nbapven+nbapair,consoanncp,IF(A60<=nbappomp+nbapven+nbapair+nbaautre,INDEX('Analyse Préliminaire Autres'!$E$11:$E$42,A60-nbappomp-nbapven-nbapair),IF($A60<=nbappomp+nbapven+nbapair+nbaautre+nbafroid,INDEX('AP Groupe froid'!$AP$14:$AP$17,$A60-nbappomp-nbapven-nbapair-nbaautre),\"\"))))))","v":""},{"$f":"IF(R60=\"\",-1,IF(AND($L60>'Economies classées'!$B$2,$K60>0.2,YEAR(TODAY())-$Z60>8),2,IF(AND($L60>'Economies classées'!$B$3,YEAR(TODAY())-$Z60>5),1,0)))","v":-1},null,null,"",{"$f":"IF($A60<=nbappomp,ISBLANK(INDEX('Analyse Préliminaire Pompe'!AO$13:AO$47,$A60)),IF($A60<=nbappomp+nbapven,ISBLANK(INDEX('Analyse Préliminaire Ventilateu'!AM$13:AM$44,$A60-nbappomp)),IF($A60<=nbappomp+nbapven+nbapair,ISBLANK(EcoAPkWhCP),IF(A60<=nbappomp+nbapven+nbapair+nbaautre,ISBLANK(INDEX('Analyse Préliminaire Autres'!AC$11:AC$42,A60-nbappomp-nbapven-nbapair)),IF(A60<=nbappomp+nbapven+nbapair+nbaautre+nbafroid,ISBLANK(INDEX('AP Groupe froid'!$AN$14:$AN$17,A60-nbappomp-nbapven-nbapair-nbaautre)),FALSE)))))","v":false},{"$f":"IF(E60=Listes!$H$25,1,0)","v":0},{"$f":"IF(E60=Listes!$H$26,1,0)","v":0},0,0,{"$f":"IF(E60=Listes!$H$28,1,0)","v":0},null,0,0,0,0,0,null,0,0,0,0,0,null,"","","","","",null,-1,-1,-1,-1,null,null,{"$f":"IF(E60=Listes!$H$25,1,0)","v":0},{"$f":"IF(E60=Listes!$H$26,1,0)","v":0},0,0,0,0,0,null,0,0,null,{"$error":"#VALUE!"},0,0,0,null,null,null,"",""]
[37,"",null,{"$f":"IF(A61<=nbappomp,INDEX('Analyse Préliminaire Pompe'!$B$13:$B$47,A61),IF(A61<=nbappomp+nbapven,INDEX('Analyse Préliminaire Ventilateu'!$B$13:$B$44,A61-nbappomp),IF(A61<=nbappomp+nbapven+nbapair,301,IF(A61<=nbappomp+nbapven+nbapair+nbaautre,INDEX('Analyse Préliminaire Autres'!$B$11:$B$42,A61-nbappomp-nbapven-nbapair),IF(A61<=nbappomp+nbapven+nbapair+nbaautre+nbafroid,INDEX('AP Groupe froid'!$B$14:$B$17,A61-nbappomp-nbapven-nbapair-nbaautre),\"\")))))","v":""},{"$f":"IF(A61<=nbappomp,INDEX('Analyse Préliminaire Pompe'!$C$13:$C$47,A61),IF(A61<=nbappomp+nbapven,INDEX('Analyse Préliminaire Ventilateu'!$C$13:$C$44,A61-nbappomp),IF(A61<=nbappomp+nbapven+nbapair,$AJ$4,IF(A61<=nbappomp+nbapven+nbapair+nbaautre,INDEX('Analyse Préliminaire Autres'!$C$11:$C$42,A61-nbappomp-nbapven-nbapair),IF(A61<=nbappomp+nbapven+nbapair+nbaautre+nbafroid,INDEX('AP Groupe froid'!$C$14:$C$17,A61-nbappomp-nbapven-nbapair-nbaautre),\"\")))))","v":""},null,null,{"$f":"IF(A61<=nbappomp,INDEX('Analyse Préliminaire Pompe'!$H$13:$H$47,A61),IF(A61<=nbappomp+nbapven,INDEX('Analyse Préliminaire Ventilateu'!$H$13:$H$44,A61-nbappomp),IF(A61<=nbappomp+nbapven+nbapair,$AJ$4,IF(A61<=nbappomp+nbapven+nbapair+nbaautre,INDEX('Analyse Préliminaire Autres'!$H$11:$H$42,A61-nbappomp-nbapven-nbapair),IF(A61<=nbappomp+nbapven+nbapair+nbaautre+nbafroid,INDEX('AP Groupe froid'!$I$14:$I$17,A61-nbappomp-nbapven-nbapair-nbaautre),\"\")))))","v":""},null,null,{"$f":"IF(AH61=\"\",IF($A61<=nbappomp,INDEX('Analyse Préliminaire Pompe'!AE$13:AE$47,$A61),IF($A61<=nbappomp+nbapven,INDEX('Analyse Préliminaire Ventilateu'!AC$13:AC$44,$A61-nbappomp),IF($A61<=nbappomp+nbapven+nbapair,'Analyse Préliminaire air compr'!$AI$22,IF(A61<=nbappomp+nbapven+nbapair+nbaautre,INDEX('Analyse Préliminaire Autres'!$X$11:$X$42,A61-nbappomp-nbapven-nbapair),IF(A61<=nbappomp+nbapven+nbapair+nbaautre+nbafroid,INDEX('AP Groupe froid'!$AF$14:$AF$17,A61-nbappomp-nbapven-nbapair-nbaautre),\"\"))))),AH61)","v":""},{"$f":"IF(AG61=\"\",IF($A61<=nbappomp,INDEX('Analyse Préliminaire Pompe'!AD$13:AD$47,$A61),IF($A61<=nbappomp+nbapven,INDEX('Analyse Préliminaire Ventilateu'!AB$13:AB$44,$A61-nbappomp),IF($A61<=nbappomp+nbapven+nbapair,'Analyse Préliminaire air compr'!$AH$22,IF(A61<=nbappomp+nbapven+nbapair+nbaautre,INDEX('Analyse Préliminaire Autres'!$W$11:$W$42,A61-nbappomp-nbapven-nbapair),IF(A61<=nbappomp+nbapven+nbapair+nbaautre+nbafroid,INDEX('AP Groupe froid'!$AE$14:$AE$17,A61-nbappomp-nbapven-nbapair-nbaautre),\"\"))))),AG61)","v":""},null,"",null,"",null,{"$f":"IF(AI61=\"\",IF($A61<=nbappomp,INDEX('Analyse Préliminaire Pompe'!T$13:T$47,$A61),IF($A61<=nbappomp+nbapven,INDEX('Analyse Préliminaire Ventilateu'!R$13:R$44,$A61-nbappomp),IF($A61<=nbappomp+nbapven+nbapair,'Analyse Préliminaire air compr'!$AH$13,IF(A61<=nbappomp+nbapven+nbapair+nbaautre,INDEX('Analyse Préliminaire Autres'!$P$11:$P$42,A61-nbappomp-nbapven-nbapair),IF(A61<=nbappomp+nbapven+nbapair+nbaautre+nbafroid,INDEX('AP Groupe froid'!$AD$14:$AD$17,A61-nbappomp-nbapven-nbapair-nbaautre),\"\"))))),AI61)","v":""},null,{"$f":"IF($A61<=nbappomp,INDEX('Analyse Préliminaire Pompe'!X$13:X$47,$A61),IF($A61<=nbappomp+nbapven,INDEX('Analyse Préliminaire Ventilateu'!V$13:V$44,$A61-nbappomp),IF($A61<=nbappomp+nbapven+nbapair,'Analyse Préliminaire air compr'!$E$35,IF(A61<=nbappomp+nbapven+nbapair+nbaautre,INDEX('Analyse Préliminaire Autres'!$R$11:$R$42,A61-nbappomp-nbapven-nbapair),IF(A61<=nbappomp+nbapven+nbapair+nbaautre+nbafroid,INDEX('AP Groupe froid'!$Z$14:$Z$17,A61-nbappomp-nbapven-nbapair-nbaautre),\"\")))))","v":""},null,null,{"$f":"IF(AG61=\"\",IF($A61<=nbappomp,INDEX('Analyse Préliminaire Pompe'!AN$13:AN$47,$A61),IF($A61<=nbappomp+nbapven,INDEX('Analyse Préliminaire Ventilateu'!AL$13:AL$44,$A61-nbappomp),IF($A61<=nbappomp+nbapven+nbapair,'Analyse Préliminaire air compr'!$AM$16,IF(A61<=nbappomp+nbapven+nbapair+nbaautre,INDEX('Analyse Préliminaire Autres'!$AB$11:$AB$42,A61-nbappomp-nbapven-nbapair),IF(A61<=nbappomp+nbapven+nbapair+nbaautre+nbafroid,INDEX('AP Groupe froid'!$AM$14:$AM$17,A61-nbappomp-nbapven-nbapair-nbaautre),\"\"))))),'Economies classées'!$A$47)","v":""},{"$f":"IF($A61<=nbappomp,INDEX('Analyse Préliminaire Pompe'!E$13:E$47,$A61),IF($A61<=nbappomp+nbapven,INDEX('Analyse Préliminaire Ventilateu'!E$13:E$44,$A61-nbappomp),IF($A61<=nbappomp+nbapven+nbapair,\"voir detail\",IF(A61<=nbappomp+nbapven+nbapair+nbaautre,INDEX('Analyse Préliminaire Autres'!$E$11:$E$42,A61-nbappomp-nbapven-nbapair),IF(A61<=nbappomp+nbapven+nbapair+nbaautre+nbafroid,INDEX('AP Groupe froid'!$F$14:$F$17,A61-nbappomp-nbapven-nbapair-nbaautre),\"\")))))","v":""},{"$f":"IF($A61<=nbappomp,INDEX('Analyse Préliminaire Pompe'!K$13:K$47,$A61),IF($A61<=nbappomp+nbapven,INDEX('Analyse Préliminaire Ventilateu'!K$13:K$44,$A61-nbappomp),IF($A61<=nbappomp+nbapven+nbapair,SUM('Analyse Préliminaire air compr'!$I$26:$I$32),IF(A61<=nbappomp+nbapven+nbapair+nbaautre,INDEX('Analyse Préliminaire Autres'!$K$11:$K$42,A61-nbappomp-nbapven-nbapair),IF(A61<=nbappomp+nbapven+nbapair+nbaautre+nbafroid,INDEX('AP Groupe froid'!$O$14:$O$17,A61-nbappomp-nbapven-nbapair-nbaautre),\"\")))))","v":""},{"$f":"IF($A61<=nbappomp,INDEX('Analyse Préliminaire Pompe'!L$13:L$47,$A61),IF($A61<=nbappomp+nbapven,INDEX('Analyse Préliminaire Ventilateu'!L$13:L$44,$A61-nbappomp),IF($A61<=nbappomp+nbapven+nbapair,MIN('Analyse Préliminaire air compr'!$J$26:$J$32),IF(A61<=nbappomp+nbapven+nbapair+nbaautre,INDEX('Analyse Préliminaire Autres'!$L$11:$L$42,A61-nbappomp-nbapven-nbapair),IF($A61<=nbappomp+nbapven+nbapair,'Analyse Préliminaire air compr'!$AM$16,IF(A61<=nbappomp+nbapven+nbapair+nbaautre+nbafroid,INDEX('AP Groupe froid'!$L$14:$L$17,A61-nbappomp-nbapven-nbapair-nbaautre),\"\"))))))","v":""},{"$f":"IF($A61<=nbappomp,INDEX('Analyse Préliminaire Pompe'!M$13:M$47,$A61),IF($A61<=nbappomp+nbapven,INDEX('Analyse Préliminaire Ventilateu'!M$13:M$44,$A61-nbappomp),IF($A61<=nbappomp+nbapven+nbapair,\"\",IF(A61<=nbappomp+nbapven+nbapair+nbaautre,INDEX('Analyse Préliminaire Autres'!$M$11:$M$42,A61-nbappomp-nbapven-nbapair),IF($A61<=nbappomp+nbapven+nbapair,'Analyse Préliminaire air compr'!$AM$16,IF(A61<=nbappomp+nbapven+nbapair+nbaautre+nbafroid,INDEX('AP Groupe froid'!$M$14:$M$17,A61-nbappomp-nbapven-nbapair-nbaautre),\"\"))))))","v":""},{"$f":"IF($A61<=nbappomp,INDEX('Analyse Préliminaire Pompe'!N$13:N$47,$A61),IF($A61<=nbappomp+nbapven,INDEX('Analyse Préliminaire Ventilateu'!N$13:N$44,$A61-nbappomp),IF($A61<=nbappomp+nbapven+nbapair,\"\",IF(A61<=nbappomp+nbapven+nbapair+nbaautre,INDEX('Analyse Préliminaire Autres'!$N$11:$N$42,A61-nbappomp-nbapven-nbapair),\"\"))))","v":""},{"$f":"IF($A61<=nbappomp,INDEX('Analyse Préliminaire Pompe'!O$13:O$47,$A61),IF($A61<=nbappomp+nbapven,INDEX('Analyse Préliminaire Ventilateu'!O$13:O$44,$A61-nbappomp),IF($A61<=nbappomp+nbapven+nbapair,\"\",IF(A61<=nbappomp+nbapven+nbapair+nbaautre,INDEX('Analyse Préliminaire Autres'!$O$11:$O$42,A61-nbappomp-nbapven-nbapair),\"\"))))","v":""},{"$f":"IF($A61<=nbappomp,INDEX('Analyse Préliminaire Pompe'!P$13:P$47,$A61),IF($A61<=nbappomp+nbapven,INDEX('Analyse Préliminaire Ventilateu'!P$13:P$44,$A61-nbappomp),IF($A61<=nbappomp+nbapven+nbapair,\"\",IF(A61<=nbappomp+nbapven+nbapair+nbaautre,INDEX('Analyse Préliminaire Autres'!#REF!,A61-nbappomp-nbapven-nbapair),\"\"))))","v":""},{"$f":"IF($A61<=nbappomp,INDEX('Analyse Préliminaire Pompe'!Q$13:Q$47,$A61),IF($A61<=nbappomp+nbapven,\"\",IF($A61<=nbappomp+nbapven+nbapair,\"\",\"\")))","v":""},{"$f":"IF(AI61=\"\",IF($A61<=nbappomp,INDEX('Analyse Préliminaire Pompe'!S$13:S$47,$A61),IF($A61<=nbappomp+nbapven,INDEX('Analyse Préliminaire Ventilateu'!Q$13:Q$44,$A61-nbappomp),IF($A61<=nbappomp+nbapven+nbapair,\"\",IF(A61<=nbappomp+nbapven+nbapair+nbaautre,\"\",\"\")))),AI61)","v":""},{"$f":"IF(AN61,\"\",IF($A61<=nbappomp,INDEX('Analyse Préliminaire Pompe'!AO$13:AO$47,$A61),IF($A61<=nbappomp+nbapven,INDEX('Analyse Préliminaire Ventilateu'!AM$13:AM$44,$A61-nbappomp),IF($A61<=nbappomp+nbapven+nbapair,EcoAPkWhCP,IF(A61<=nbappomp+nbapven+nbapair+nbaautre,INDEX('Analyse Préliminaire Autres'!$E$11:$E$42,A61-nbappomp-nbapven-nbapair),IF($A61<=nbappomp+nbapven+nbapair+nbaautre+nbafroid,INDEX('AP Groupe froid'!$AN$14:$AN$17,$A61-nbappomp-nbapven-nbapair-nbaautre),\"\"))))))","v":""},{"$f":"IF(AN61,\"\",IF($A61<=nbappomp,INDEX('Analyse Préliminaire Pompe'!AP$13:AP$47,$A61),IF($A61<=nbappomp+nbapven,INDEX('Analyse Préliminaire Ventilateu'!AN$13:AN$44,$A61-nbappomp),IF($A61<=nbappomp+nbapven+nbapair,EcoAPpercCP,IF(A61<=nbappomp+nbapven+nbapair+nbaautre,INDEX('Analyse Préliminaire Autres'!$E$11:$E$42,A61-nbappomp-nbapven-nbapair),IF($A61<=nbappomp+nbapven+nbapair+nbaautre+nbafroid,INDEX('AP Groupe froid'!$AO$14:$AO$17,$A61-nbappomp-nbapven-nbapair-nbaautre),\"\"))))))","v":""},{"$f":"IF(AN61,\"\",IF($A61<=nbappomp,INDEX('Analyse Préliminaire Pompe'!AQ$13:AQ$47,$A61),IF($A61<=nbappomp+nbapven,INDEX('Analyse Préliminaire Ventilateu'!AO$13:AO$44,$A61-nbappomp),IF($A61<=nbappomp+nbapven+nbapair,consoanncp,IF(A61<=nbappomp+nbapven+nbapair+nbaautre,INDEX('Analyse Préliminaire Autres'!$E$11:$E$42,A61-nbappomp-nbapven-nbapair),IF($A61<=nbappomp+nbapven+nbapair+nbaautre+nbafroid,INDEX('AP Groupe froid'!$AP$14:$AP$17,$A61-nbappomp-nbapven-nbapair-nbaautre),\"\"))))))","v":""},{"$f":"IF(R61=\"\",-1,IF(AND($L61>'Economies classées'!$B$2,$K61>0.2,YEAR(TODAY())-$Z61>8),2,IF(AND($L61>'Economies classées'!$B$3,YEAR(TODAY())-$Z61>5),1,0)))","v":-1},null,null,"",{"$f":"IF($A61<=nbappomp,ISBLANK(INDEX('Analyse Préliminaire Pompe'!AO$13:AO$47,$A61)),IF($A61<=nbappomp+nbapven,ISBLANK(INDEX('Analyse Préliminaire Ventilateu'!AM$13:AM$44,$A61-nbappomp)),IF($A61<=nbappomp+nbapven+nbapair,ISBLANK(EcoAPkWhCP),IF(A61<=nbappomp+nbapven+nbapair+nbaautre,ISBLANK(INDEX('Analyse Préliminaire Autres'!AC$11:AC$42,A61-nbappomp-nbapven-nbapair)),IF(A61<=nbappomp+nbapven+nbapair+nbaautre+nbafroid,ISBLANK(INDEX('AP Groupe froid'!$AN$14:$AN$17,A61-nbappomp-nbapven-nbapair-nbaautre)),FALSE)))))","v":false},{"$f":"IF(E61=Listes!$H$25,1,0)","v":0},{"$f":"IF(E61=Listes!$H$26,1,0)","v":0},0,0,{"$f":"IF(E61=Listes!$H$28,1,0)","v":0},null,0,0,0,0,0,null,0,0,0,0,0,null,"","","","","",null,-1,-1,-1,-1,null,null,{"$f":"IF(E61=Listes!$H$25,1,0)","v":0},{"$f":"IF(E61=Listes!$H$26,1,0)","v":0},0,0,0,0,0,null,0,0,null,{"$error":"#VALUE!"},0,0,0,null,null,null,"",""]
[38,"",null,{"$f":"IF(A62<=nbappomp,INDEX('Analyse Préliminaire Pompe'!$B$13:$B$47,A62),IF(A62<=nbappomp+nbapven,INDEX('Analyse Préliminaire Ventilateu'!$B$13:$B$44,A62-nbappomp),IF(A62<=nbappomp+nbapven+nbapair,301,IF(A62<=nbappomp+nbapven+nbapair+nbaautre,INDEX('Analyse Préliminaire Autres'!$B$11:$B$42,A62-nbappomp-nbapven-nbapair),IF(A62<=nbappomp+nbapven+nbapair+nbaautre+nbafroid,INDEX('AP Groupe froid'!$B$14:$B$17,A62-nbappomp-nbapven-nbapair-nbaautre),\"\")))))","v":""},{"$f":"IF(A62<=nbappomp,INDEX('Analyse Préliminaire Pompe'!$C$13:$C$47,A62),IF(A62<=nbappomp+nbapven,INDEX('Analyse Préliminaire Ventilateu'!$C$13:$C$44,A62-nbappomp),IF(A62<=nbappomp+nbapven+nbapair,$AJ$4,IF(A62<=nbappomp+nbapven+nbapair+nbaautre,INDEX('Analyse Préliminaire Autres'!$C$11:$C$42,A62-nbappomp-nbapven-nbapair),IF(A62<=nbappomp+nbapven+nbapair+nbaautre+nbafroid,INDEX('AP Groupe froid'!$C$14:$C$17,A62-nbappomp-nbapven-nbapair-nbaautre),\"\")))))","v":""},null,null,{"$f":"IF(A62<=nbappomp,INDEX('Analyse Préliminaire Pompe'!$H$13:$H$47,A62),IF(A62<=nbappomp+nbapven,INDEX('Analyse Préliminaire Ventilateu'!$H$13:$H$44,A62-nbappomp),IF(A62<=nbappomp+nbapven+nbapair,$AJ$4,IF(A62<=nbappomp+nbapven+nbapair+nbaautre,INDEX('Analyse Préliminaire Autres'!$H$11:$H$42,A62-nbappomp-nbapven-nbapair),IF(A62<=nbappomp+nbapven+nbapair+nbaautre+nbafroid,INDEX('AP Groupe froid'!$I$14:$I$17,A62-nbappomp-nbapven-nbapair-nbaautre),\"\")))))","v":""},null,null,{"$f":"IF(AH62=\"\",IF($A62<=nbappomp,INDEX('Analyse Préliminaire Pompe'!AE$13:AE$47,$A62),IF($A62<=nbappomp+nbapven,INDEX('Analyse Préliminaire Ventilateu'!AC$13:AC$44,$A62-nbappomp),IF($A62<=nbappomp+nbapven+nbapair,'Analyse Préliminaire air compr'!$AI$22,IF(A62<=nbappomp+nbapven+nbapair+nbaautre,INDEX('Analyse Préliminaire Autres'!$X$11:$X$42,A62-nbappomp-nbapven-nbapair),IF(A62<=nbappomp+nbapven+nbapair+nbaautre+nbafroid,INDEX('AP Groupe froid'!$AF$14:$AF$17,A62-nbappomp-nbapven-nbapair-nbaautre),\"\"))))),AH62)","v":""},{"$f":"IF(AG62=\"\",IF($A62<=nbappomp,INDEX('Analyse Préliminaire Pompe'!AD$13:AD$47,$A62),IF($A62<=nbappomp+nbapven,INDEX('Analyse Préliminaire Ventilateu'!AB$13:AB$44,$A62-nbappomp),IF($A62<=nbappomp+nbapven+nbapair,'Analyse Préliminaire air compr'!$AH$22,IF(A62<=nbappomp+nbapven+nbapair+nbaautre,INDEX('Analyse Préliminaire Autres'!$W$11:$W$42,A62-nbappomp-nbapven-nbapair),IF(A62<=nbappomp+nbapven+nbapair+nbaautre+nbafroid,INDEX('AP Groupe froid'!$AE$14:$AE$17,A62-nbappomp-nbapven-nbapair-nbaautre),\"\"))))),AG62)","v":""},null,"",null,"",null,{"$f":"IF(AI62=\"\",IF($A62<=nbappomp,INDEX('Analyse Préliminaire Pompe'!T$13:T$47,$A62),IF($A62<=nbappomp+nbapven,INDEX('Analyse Préliminaire Ventilateu'!R$13:R$44,$A62-nbappomp),IF($A62<=nbappomp+nbapven+nbapair,'Analyse Préliminaire air compr'!$AH$13,IF(A62<=nbappomp+nbapven+nbapair+nbaautre,INDEX('Analyse Préliminaire Autres'!$P$11:$P$42,A62-nbappomp-nbapven-nbapair),IF(A62<=nbappomp+nbapven+nbapair+nbaautre+nbafroid,INDEX('AP Groupe froid'!$AD$14:$AD$17,A62-nbappomp-nbapven-nbapair-nbaautre),\"\"))))),AI62)","v":""},null,{"$f":"IF($A62<=nbappomp,INDEX('Analyse Préliminaire Pompe'!X$13:X$47,$A62),IF($A62<=nbappomp+nbapven,INDEX('Analyse Préliminaire Ventilateu'!V$13:V$44,$A62-nbappomp),IF($A62<=nbappomp+nbapven+nbapair,'Analyse Préliminaire air compr'!$E$35,IF(A62<=nbappomp+nbapven+nbapair+nbaautre,INDEX('Analyse Préliminaire Autres'!$R$11:$R$42,A62-nbappomp-nbapven-nbapair),IF(A62<=nbappomp+nbapven+nbapair+nbaautre+nbafroid,INDEX('AP Groupe froid'!$Z$14:$Z$17,A62-nbappomp-nbapven-nbapair-nbaautre),\"\")))))","v":""},null,null,{"$f":"IF(AG62=\"\",IF($A62<=nbappomp,INDEX('Analyse Préliminaire Pompe'!AN$13:AN$47,$A62),IF($A62<=nbappomp+nbapven,INDEX('Analyse Préliminaire Ventilateu'!AL$13:AL$44,$A62-nbappomp),IF($A62<=nbappomp+nbapven+nbapair,'Analyse Préliminaire air compr'!$AM$16,IF(A62<=nbappomp+nbapven+nbapair+nbaautre,INDEX('Analyse Préliminaire Autres'!$AB$11:$AB$42,A62-nbappomp-nbapven-nbapair),IF(A62<=nbappomp+nbapven+nbapair+nbaautre+nbafroid,INDEX('AP Groupe froid'!$AM$14:$AM$17,A62-nbappomp-nbapven-nbapair-nbaautre),\"\"))))),'Economies classées'!$A$47)","v":""},{"$f":"IF($A62<=nbappomp,INDEX('Analyse Préliminaire Pompe'!E$13:E$47,$A62),IF($A62<=nbappomp+nbapven,INDEX('Analyse Préliminaire Ventilateu'!E$13:E$44,$A62-nbappomp),IF($A62<=nbappomp+nbapven+nbapair,\"voir detail\",IF(A62<=nbappomp+nbapven+nbapair+nbaautre,INDEX('Analyse Préliminaire Autres'!$E$11:$E$42,A62-nbappomp-nbapven-nbapair),IF(A62<=nbappomp+nbapven+nbapair+nbaautre+nbafroid,INDEX('AP Groupe froid'!$F$14:$F$17,A62-nbappomp-nbapven-nbapair-nbaautre),\"\")))))","v":""},{"$f":"IF($A62<=nbappomp,INDEX('Analyse Préliminaire Pompe'!K$13:K$47,$A62),IF($A62<=nbappomp+nbapven,INDEX('Analyse Préliminaire Ventilateu'!K$13:K$44,$A62-nbappomp),IF($A62<=nbappomp+nbapven+nbapair,SUM('Analyse Préliminaire air compr'!$I$26:$I$32),IF(A62<=nbappomp+nbapven+nbapair+nbaautre,INDEX('Analyse Préliminaire Autres'!$K$11:$K$42,A62-nbappomp-nbapven-nbapair),IF(A62<=nbappomp+nbapven+nbapair+nbaautre+nbafroid,INDEX('AP Groupe froid'!$O$14:$O$17,A62-nbappomp-nbapven-nbapair-nbaautre),\"\")))))","v":""},{"$f":"IF($A62<=nbappomp,INDEX('Analyse Préliminaire Pompe'!L$13:L$47,$A62),IF($A62<=nbappomp+nbapven,INDEX('Analyse Préliminaire Ventilateu'!L$13:L$44,$A62-nbappomp),IF($A62<=nbappomp+nbapven+nbapair,MIN('Analyse Préliminaire air compr'!$J$26:$J$32),IF(A62<=nbappomp+nbapven+nbapair+nbaautre,INDEX('Analyse Préliminaire Autres'!$L$11:$L$42,A62-nbappomp-nbapven-nbapair),IF($A62<=nbappomp+nbapven+nbapair,'Analyse Préliminaire air compr'!$AM$16,IF(A62<=nbappomp+nbapven+nbapair+nbaautre+nbafroid,INDEX('AP Groupe froid'!$L$14:$L$17,A62-nbappomp-nbapven-nbapair-nbaautre),\"\"))))))","v":""},{"$f":"IF($A62<=nbappomp,INDEX('Analyse Préliminaire Pompe'!M$13:M$47,$A62),IF($A62<=nbappomp+nbapven,INDEX('Analyse Préliminaire Ventilateu'!M$13:M$44,$A62-nbappomp),IF($A62<=nbappomp+nbapven+nbapair,\"\",IF(A62<=nbappomp+nbapven+nbapair+nbaautre,INDEX('Analyse Préliminaire Autres'!$M$11:$M$42,A62-nbappomp-nbapven-nbapair),IF($A62<=nbappomp+nbapven+nbapair,'Analyse Préliminaire air compr'!$AM$16,IF(A62<=nbappomp+nbapven+nbapair+nbaautre+nbafroid,INDEX('AP Groupe froid'!$M$14:$M$17,A62-nbappomp-nbapven-nbapair-nbaautre),\"\"))))))","v":""},{"$f":"IF($A62<=nbappomp,INDEX('Analyse Préliminaire Pompe'!N$13:N$47,$A62),IF($A62<=nbappomp+nbapven,INDEX('Analyse Préliminaire Ventilateu'!N$13:N$44,$A62-nbappomp),IF($A62<=nbappomp+nbapven+nbapair,\"\",IF(A62<=nbappomp+nbapven+nbapair+nbaautre,INDEX('Analyse Préliminaire Autres'!$N$11:$N$42,A62-nbappomp-nbapven-nbapair),\"\"))))","v":""},{"$f":"IF($A62<=nbappomp,INDEX('Analyse Préliminaire Pompe'!O$13:O$47,$A62),IF($A62<=nbappomp+nbapven,INDEX('Analyse Préliminaire Ventilateu'!O$13:O$44,$A62-nbappomp),IF($A62<=nbappomp+nbapven+nbapair,\"\",IF(A62<=nbappomp+nbapven+nbapair+nbaautre,INDEX('Analyse Préliminaire Autres'!$O$11:$O$42,A62-nbappomp-nbapven-nbapair),\"\"))))","v":""},{"$f":"IF($A62<=nbappomp,INDEX('Analyse Préliminaire Pompe'!P$13:P$47,$A62),IF($A62<=nbappomp+nbapven,INDEX('Analyse Préliminaire Ventilateu'!P$13:P$44,$A62-nbappomp),IF($A62<=nbappomp+nbapven+nbapair,\"\",IF(A62<=nbappomp+nbapven+nbapair+nbaautre,INDEX('Analyse Préliminaire Autres'!#REF!,A62-nbappomp-nbapven-nbapair),\"\"))))","v":""},{"$f":"IF($A62<=nbappomp,INDEX('Analyse Préliminaire Pompe'!Q$13:Q$47,$A62),IF($A62<=nbappomp+nbapven,\"\",IF($A62<=nbappomp+nbapven+nbapair,\"\",\"\")))","v":""},{"$f":"IF(AI62=\"\",IF($A62<=nbappomp,INDEX('Analyse Préliminaire Pompe'!S$13:S$47,$A62),IF($A62<=nbappomp+nbapven,INDEX('Analyse Préliminaire Ventilateu'!Q$13:Q$44,$A62-nbappomp),IF($A62<=nbappomp+nbapven+nbapair,\"\",IF(A62<=nbappomp+nbapven+nbapair+nbaautre,\"\",\"\")))),AI62)","v":""},{"$f":"IF(AN62,\"\",IF($A62<=nbappomp,INDEX('Analyse Préliminaire Pompe'!AO$13:AO$47,$A62),IF($A62<=nbappomp+nbapven,INDEX('Analyse Préliminaire Ventilateu'!AM$13:AM$44,$A62-nbappomp),IF($A62<=nbappomp+nbapven+nbapair,EcoAPkWhCP,IF(A62<=nbappomp+nbapven+nbapair+nbaautre,INDEX('Analyse Préliminaire Autres'!$E$11:$E$42,A62-nbappomp-nbapven-nbapair),IF($A62<=nbappomp+nbapven+nbapair+nbaautre+nbafroid,INDEX('AP Groupe froid'!$AN$14:$AN$17,$A62-nbappomp-nbapven-nbapair-nbaautre),\"\"))))))","v":""},{"$f":"IF(AN62,\"\",IF($A62<=nbappomp,INDEX('Analyse Préliminaire Pompe'!AP$13:AP$47,$A62),IF($A62<=nbappomp+nbapven,INDEX('Analyse Préliminaire Ventilateu'!AN$13:AN$44,$A62-nbappomp),IF($A62<=nbappomp+nbapven+nbapair,EcoAPpercCP,IF(A62<=nbappomp+nbapven+nbapair+nbaautre,INDEX('Analyse Préliminaire Autres'!$E$11:$E$42,A62-nbappomp-nbapven-nbapair),IF($A62<=nbappomp+nbapven+nbapair+nbaautre+nbafroid,INDEX('AP Groupe froid'!$AO$14:$AO$17,$A62-nbappomp-nbapven-nbapair-nbaautre),\"\"))))))","v":""},{"$f":"IF(AN62,\"\",IF($A62<=nbappomp,INDEX('Analyse Préliminaire Pompe'!AQ$13:AQ$47,$A62),IF($A62<=nbappomp+nbapven,INDEX('Analyse Préliminaire Ventilateu'!AO$13:AO$44,$A62-nbappomp),IF($A62<=nbappomp+nbapven+nbapair,consoanncp,IF(A62<=nbappomp+nbapven+nbapair+nbaautre,INDEX('Analyse Préliminaire Autres'!$E$11:$E$42,A62-nbappomp-nbapven-nbapair),IF($A62<=nbappomp+nbapven+nbapair+nbaautre+nbafroid,INDEX('AP Groupe froid'!$AP$14:$AP$17,$A62-nbappomp-nbapven-nbapair-nbaautre),\"\"))))))","v":""},{"$f":"IF(R62=\"\",-1,IF(AND($L62>'Economies classées'!$B$2,$K62>0.2,YEAR(TODAY())-$Z62>8),2,IF(AND($L62>'Economies classées'!$B$3,YEAR(TODAY())-$Z62>5),1,0)))","v":-1},null,null,"",{"$f":"IF($A62<=nbappomp,ISBLANK(INDEX('Analyse Préliminaire Pompe'!AO$13:AO$47,$A62)),IF($A62<=nbappomp+nbapven,ISBLANK(INDEX('Analyse Préliminaire Ventilateu'!AM$13:AM$44,$A62-nbappomp)),IF($A62<=nbappomp+nbapven+nbapair,ISBLANK(EcoAPkWhCP),IF(A62<=nbappomp+nbapven+nbapair+nbaautre,ISBLANK(INDEX('Analyse Préliminaire Autres'!AC$11:AC$42,A62-nbappomp-nbapven-nbapair)),IF(A62<=nbappomp+nbapven+nbapair+nbaautre+nbafroid,ISBLANK(INDEX('AP Groupe froid'!$AN$14:$AN$17,A62-nbappomp-nbapven-nbapair-nbaautre)),FALSE)))))","v":false},{"$f":"IF(E62=Listes!$H$25,1,0)","v":0},{"$f":"IF(E62=Listes!$H$26,1,0)","v":0},0,0,{"$f":"IF(E62=Listes!$H$28,1,0)","v":0},null,0,0,0,0,0,null,0,0,0,0,0,null,"","","","","",null,-1,-1,-1,-1,null,null,{"$f":"IF(E62=Listes!$H$25,1,0)","v":0},{"$f":"IF(E62=Listes!$H$26,1,0)","v":0},0,0,0,0,0,null,0,0,null,{"$error":"#VALUE!"},0,0,0,null,null,null,"",""]
[39,"",null,{"$f":"IF(A63<=nbappomp,INDEX('Analyse Préliminaire Pompe'!$B$13:$B$47,A63),IF(A63<=nbappomp+nbapven,INDEX('Analyse Préliminaire Ventilateu'!$B$13:$B$44,A63-nbappomp),IF(A63<=nbappomp+nbapven+nbapair,301,IF(A63<=nbappomp+nbapven+nbapair+nbaautre,INDEX('Analyse Préliminaire Autres'!$B$11:$B$42,A63-nbappomp-nbapven-nbapair),IF(A63<=nbappomp+nbapven+nbapair+nbaautre+nbafroid,INDEX('AP Groupe froid'!$B$14:$B$17,A63-nbappomp-nbapven-nbapair-nbaautre),\"\")))))","v":""},{"$f":"IF(A63<=nbappomp,INDEX('Analyse Préliminaire Pompe'!$C$13:$C$47,A63),IF(A63<=nbappomp+nbapven,INDEX('Analyse Préliminaire Ventilateu'!$C$13:$C$44,A63-nbappomp),IF(A63<=nbappomp+nbapven+nbapair,$AJ$4,IF(A63<=nbappomp+nbapven+nbapair+nbaautre,INDEX('Analyse Préliminaire Autres'!$C$11:$C$42,A63-nbappomp-nbapven-nbapair),IF(A63<=nbappomp+nbapven+nbapair+nbaautre+nbafroid,INDEX('AP Groupe froid'!$C$14:$C$17,A63-nbappomp-nbapven-nbapair-nbaautre),\"\")))))","v":""},null,null,{"$f":"IF(A63<=nbappomp,INDEX('Analyse Préliminaire Pompe'!$H$13:$H$47,A63),IF(A63<=nbappomp+nbapven,INDEX('Analyse Préliminaire Ventilateu'!$H$13:$H$44,A63-nbappomp),IF(A63<=nbappomp+nbapven+nbapair,$AJ$4,IF(A63<=nbappomp+nbapven+nbapair+nbaautre,INDEX('Analyse Préliminaire Autres'!$H$11:$H$42,A63-nbappomp-nbapven-nbapair),IF(A63<=nbappomp+nbapven+nbapair+nbaautre+nbafroid,INDEX('AP Groupe froid'!$I$14:$I$17,A63-nbappomp-nbapven-nbapair-nbaautre),\"\")))))","v":""},null,null,{"$f":"IF(AH63=\"\",IF($A63<=nbappomp,INDEX('Analyse Préliminaire Pompe'!AE$13:AE$47,$A63),IF($A63<=nbappomp+nbapven,INDEX('Analyse Préliminaire Ventilateu'!AC$13:AC$44,$A63-nbappomp),IF($A63<=nbappomp+nbapven+nbapair,'Analyse Préliminaire air compr'!$AI$22,IF(A63<=nbappomp+nbapven+nbapair+nbaautre,INDEX('Analyse Préliminaire Autres'!$X$11:$X$42,A63-nbappomp-nbapven-nbapair),IF(A63<=nbappomp+nbapven+nbapair+nbaautre+nbafroid,INDEX('AP Groupe froid'!$AF$14:$AF$17,A63-nbappomp-nbapven-nbapair-nbaautre),\"\"))))),AH63)","v":""},{"$f":"IF(AG63=\"\",IF($A63<=nbappomp,INDEX('Analyse Préliminaire Pompe'!AD$13:AD$47,$A63),IF($A63<=nbappomp+nbapven,INDEX('Analyse Préliminaire Ventilateu'!AB$13:AB$44,$A63-nbappomp),IF($A63<=nbappomp+nbapven+nbapair,'Analyse Préliminaire air compr'!$AH$22,IF(A63<=nbappomp+nbapven+nbapair+nbaautre,INDEX('Analyse Préliminaire Autres'!$W$11:$W$42,A63-nbappomp-nbapven-nbapair),IF(A63<=nbappomp+nbapven+nbapair+nbaautre+nbafroid,INDEX('AP Groupe froid'!$AE$14:$AE$17,A63-nbappomp-nbapven-nbapair-nbaautre),\"\"))))),AG63)","v":""},null,"",null,"",null,{"$f":"IF(AI63=\"\",IF($A63<=nbappomp,INDEX('Analyse Préliminaire Pompe'!T$13:T$47,$A63),IF($A63<=nbappomp+nbapven,INDEX('Analyse Préliminaire Ventilateu'!R$13:R$44,$A63-nbappomp),IF($A63<=nbappomp+nbapven+nbapair,'Analyse Préliminaire air compr'!$AH$13,IF(A63<=nbappomp+nbapven+nbapair+nbaautre,INDEX('Analyse Préliminaire Autres'!$P$11:$P$42,A63-nbappomp-nbapven-nbapair),IF(A63<=nbappomp+nbapven+nbapair+nbaautre+nbafroid,INDEX('AP Groupe froid'!$AD$14:$AD$17,A63-nbappomp-nbapven-nbapair-nbaautre),\"\"))))),AI63)","v":""},null,{"$f":"IF($A63<=nbappomp,INDEX('Analyse Préliminaire Pompe'!X$13:X$47,$A63),IF($A63<=nbappomp+nbapven,INDEX('Analyse Préliminaire Ventilateu'!V$13:V$44,$A63-nbappomp),IF($A63<=nbappomp+nbapven+nbapair,'Analyse Préliminaire air compr'!$E$35,IF(A63<=nbappomp+nbapven+nbapair+nbaautre,INDEX('Analyse Préliminaire Autres'!$R$11:$R$42,A63-nbappomp-nbapven-nbapair),IF(A63<=nbappomp+nbapven+nbapair+nbaautre+nbafroid,INDEX('AP Groupe froid'!$Z$14:$Z$17,A63-nbappomp-nbapven-nbapair-nbaautre),\"\")))))","v":""},null,null,{"$f":"IF(AG63=\"\",IF($A63<=nbappomp,INDEX('Analyse Préliminaire Pompe'!AN$13:AN$47,$A63),IF($A63<=nbappomp+nbapven,INDEX('Analyse Préliminaire Ventilateu'!AL$13:AL$44,$A63-nbappomp),IF($A63<=nbappomp+nbapven+nbapair,'Analyse Préliminaire air compr'!$AM$16,IF(A63<=nbappomp+nbapven+nbapair+nbaautre,INDEX('Analyse Préliminaire Autres'!$AB$11:$AB$42,A63-nbappomp-nbapven-nbapair),IF(A63<=nbappomp+nbapven+nbapair+nbaautre+nbafroid,INDEX('AP Groupe froid'!$AM$14:$AM$17,A63-nbappomp-nbapven-nbapair-nbaautre),\"\"))))),'Economies classées'!$A$47)","v":""},{"$f":"IF($A63<=nbappomp,INDEX('Analyse Préliminaire Pompe'!E$13:E$47,$A63),IF($A63<=nbappomp+nbapven,INDEX('Analyse Préliminaire Ventilateu'!E$13:E$44,$A63-nbappomp),IF($A63<=nbappomp+nbapven+nbapair,\"voir detail\",IF(A63<=nbappomp+nbapven+nbapair+nbaautre,INDEX('Analyse Préliminaire Autres'!$E$11:$E$42,A63-nbappomp-nbapven-nbapair),IF(A63<=nbappomp+nbapven+nbapair+nbaautre+nbafroid,INDEX('AP Groupe froid'!$F$14:$F$17,A63-nbappomp-nbapven-nbapair-nbaautre),\"\")))))","v":""},{"$f":"IF($A63<=nbappomp,INDEX('Analyse Préliminaire Pompe'!K$13:K$47,$A63),IF($A63<=nbappomp+nbapven,INDEX('Analyse Préliminaire Ventilateu'!K$13:K$44,$A63-nbappomp),IF($A63<=nbappomp+nbapven+nbapair,SUM('Analyse Préliminaire air compr'!$I$26:$I$32),IF(A63<=nbappomp+nbapven+nbapair+nbaautre,INDEX('Analyse Préliminaire Autres'!$K$11:$K$42,A63-nbappomp-nbapven-nbapair),IF(A63<=nbappomp+nbapven+nbapair+nbaautre+nbafroid,INDEX('AP Groupe froid'!$O$14:$O$17,A63-nbappomp-nbapven-nbapair-nbaautre),\"\")))))","v":""},{"$f":"IF($A63<=nbappomp,INDEX('Analyse Préliminaire Pompe'!L$13:L$47,$A63),IF($A63<=nbappomp+nbapven,INDEX('Analyse Préliminaire Ventilateu'!L$13:L$44,$A63-nbappomp),IF($A63<=nbappomp+nbapven+nbapair,MIN('Analyse Préliminaire air compr'!$J$26:$J$32),IF(A63<=nbappomp+nbapven+nbapair+nbaautre,INDEX('Analyse Préliminaire Autres'!$L$11:$L$42,A63-nbappomp-nbapven-nbapair),IF($A63<=nbappomp+nbapven+nbapair,'Analyse Préliminaire air compr'!$AM$16,IF(A63<=nbappomp+nbapven+nbapair+nbaautre+nbafroid,INDEX('AP Groupe froid'!$L$14:$L$17,A63-nbappomp-nbapven-nbapair-nbaautre),\"\"))))))","v":""},{"$f":"IF($A63<=nbappomp,INDEX('Analyse Préliminaire Pompe'!M$13:M$47,$A63),IF($A63<=nbappomp+nbapven,INDEX('Analyse Préliminaire Ventilateu'!M$13:M$44,$A63-nbappomp),IF($A63<=nbappomp+nbapven+nbapair,\"\",IF(A63<=nbappomp+nbapven+nbapair+nbaautre,INDEX('Analyse Préliminaire Autres'!$M$11:$M$42,A63-nbappomp-nbapven-nbapair),IF($A63<=nbappomp+nbapven+nbapair,'Analyse Préliminaire air compr'!$AM$16,IF(A63<=nbappomp+nbapven+nbapair+nbaautre+nbafroid,INDEX('AP Groupe froid'!$M$14:$M$17,A63-nbappomp-nbapven-nbapair-nbaautre),\"\"))))))","v":""},{"$f":"IF($A63<=nbappomp,INDEX('Analyse Préliminaire Pompe'!N$13:N$47,$A63),IF($A63<=nbappomp+nbapven,INDEX('Analyse Préliminaire Ventilateu'!N$13:N$44,$A63-nbappomp),IF($A63<=nbappomp+nbapven+nbapair,\"\",IF(A63<=nbappomp+nbapven+nbapair+nbaautre,INDEX('Analyse Préliminaire Autres'!$N$11:$N$42,A63-nbappomp-nbapven-nbapair),\"\"))))","v":""},{"$f":"IF($A63<=nbappomp,INDEX('Analyse Préliminaire Pompe'!O$13:O$47,$A63),IF($A63<=nbappomp+nbapven,INDEX('Analyse Préliminaire Ventilateu'!O$13:O$44,$A63-nbappomp),IF($A63<=nbappomp+nbapven+nbapair,\"\",IF(A63<=nbappomp+nbapven+nbapair+nbaautre,INDEX('Analyse Préliminaire Autres'!$O$11:$O$42,A63-nbappomp-nbapven-nbapair),\"\"))))","v":""},{"$f":"IF($A63<=nbappomp,INDEX('Analyse Préliminaire Pompe'!P$13:P$47,$A63),IF($A63<=nbappomp+nbapven,INDEX('Analyse Préliminaire Ventilateu'!P$13:P$44,$A63-nbappomp),IF($A63<=nbappomp+nbapven+nbapair,\"\",IF(A63<=nbappomp+nbapven+nbapair+nbaautre,INDEX('Analyse Préliminaire Autres'!#REF!,A63-nbappomp-nbapven-nbapair),\"\"))))","v":""},{"$f":"IF($A63<=nbappomp,INDEX('Analyse Préliminaire Pompe'!Q$13:Q$47,$A63),IF($A63<=nbappomp+nbapven,\"\",IF($A63<=nbappomp+nbapven+nbapair,\"\",\"\")))","v":""},{"$f":"IF(AI63=\"\",IF($A63<=nbappomp,INDEX('Analyse Préliminaire Pompe'!S$13:S$47,$A63),IF($A63<=nbappomp+nbapven,INDEX('Analyse Préliminaire Ventilateu'!Q$13:Q$44,$A63-nbappomp),IF($A63<=nbappomp+nbapven+nbapair,\"\",IF(A63<=nbappomp+nbapven+nbapair+nbaautre,\"\",\"\")))),AI63)","v":""},{"$f":"IF(AN63,\"\",IF($A63<=nbappomp,INDEX('Analyse Préliminaire Pompe'!AO$13:AO$47,$A63),IF($A63<=nbappomp+nbapven,INDEX('Analyse Préliminaire Ventilateu'!AM$13:AM$44,$A63-nbappomp),IF($A63<=nbappomp+nbapven+nbapair,EcoAPkWhCP,IF(A63<=nbappomp+nbapven+nbapair+nbaautre,INDEX('Analyse Préliminaire Autres'!$E$11:$E$42,A63-nbappomp-nbapven-nbapair),IF($A63<=nbappomp+nbapven+nbapair+nbaautre+nbafroid,INDEX('AP Groupe froid'!$AN$14:$AN$17,$A63-nbappomp-nbapven-nbapair-nbaautre),\"\"))))))","v":""},{"$f":"IF(AN63,\"\",IF($A63<=nbappomp,INDEX('Analyse Préliminaire Pompe'!AP$13:AP$47,$A63),IF($A63<=nbappomp+nbapven,INDEX('Analyse Préliminaire Ventilateu'!AN$13:AN$44,$A63-nbappomp),IF($A63<=nbappomp+nbapven+nbapair,EcoAPpercCP,IF(A63<=nbappomp+nbapven+nbapair+nbaautre,INDEX('Analyse Préliminaire Autres'!$E$11:$E$42,A63-nbappomp-nbapven-nbapair),IF($A63<=nbappomp+nbapven+nbapair+nbaautre+nbafroid,INDEX('AP Groupe froid'!$AO$14:$AO$17,$A63-nbappomp-nbapven-nbapair-nbaautre),\"\"))))))","v":""},{"$f":"IF(AN63,\"\",IF($A63<=nbappomp,INDEX('Analyse Préliminaire Pompe'!AQ$13:AQ$47,$A63),IF($A63<=nbappomp+nbapven,INDEX('Analyse Préliminaire Ventilateu'!AO$13:AO$44,$A63-nbappomp),IF($A63<=nbappomp+nbapven+nbapair,consoanncp,IF(A63<=nbappomp+nbapven+nbapair+nbaautre,INDEX('Analyse Préliminaire Autres'!$E$11:$E$42,A63-nbappomp-nbapven-nbapair),IF($A63<=nbappomp+nbapven+nbapair+nbaautre+nbafroid,INDEX('AP Groupe froid'!$AP$14:$AP$17,$A63-nbappomp-nbapven-nbapair-nbaautre),\"\"))))))","v":""},{"$f":"IF(R63=\"\",-1,IF(AND($L63>'Economies classées'!$B$2,$K63>0.2,YEAR(TODAY())-$Z63>8),2,IF(AND($L63>'Economies classées'!$B$3,YEAR(TODAY())-$Z63>5),1,0)))","v":-1},null,null,"",{"$f":"IF($A63<=nbappomp,ISBLANK(INDEX('Analyse Préliminaire Pompe'!AO$13:AO$47,$A63)),IF($A63<=nbappomp+nbapven,ISBLANK(INDEX('Analyse Préliminaire Ventilateu'!AM$13:AM$44,$A63-nbappomp)),IF($A63<=nbappomp+nbapven+nbapair,ISBLANK(EcoAPkWhCP),IF(A63<=nbappomp+nbapven+nbapair+nbaautre,ISBLANK(INDEX('Analyse Préliminaire Autres'!AC$11:AC$42,A63-nbappomp-nbapven-nbapair)),IF(A63<=nbappomp+nbapven+nbapair+nbaautre+nbafroid,ISBLANK(INDEX('AP Groupe froid'!$AN$14:$AN$17,A63-nbappomp-nbapven-nbapair-nbaautre)),FALSE)))))","v":false},{"$f":"IF(E63=Listes!$H$25,1,0)","v":0},{"$f":"IF(E63=Listes!$H$26,1,0)","v":0},0,0,{"$f":"IF(E63=Listes!$H$28,1,0)","v":0},null,0,0,0,0,0,null,0,0,0,0,0,null,"","","","","",null,-1,-1,-1,-1,null,null,{"$f":"IF(E63=Listes!$H$25,1,0)","v":0},{"$f":"IF(E63=Listes!$H$26,1,0)","v":0},0,0,0,0,0,null,0,0,null,{"$error":"#VALUE!"},0,0,0,null,null,null,"",""]
[40,"",null,{"$f":"IF(A64<=nbappomp,INDEX('Analyse Préliminaire Pompe'!$B$13:$B$47,A64),IF(A64<=nbappomp+nbapven,INDEX('Analyse Préliminaire Ventilateu'!$B$13:$B$44,A64-nbappomp),IF(A64<=nbappomp+nbapven+nbapair,301,IF(A64<=nbappomp+nbapven+nbapair+nbaautre,INDEX('Analyse Préliminaire Autres'!$B$11:$B$42,A64-nbappomp-nbapven-nbapair),IF(A64<=nbappomp+nbapven+nbapair+nbaautre+nbafroid,INDEX('AP Groupe froid'!$B$14:$B$17,A64-nbappomp-nbapven-nbapair-nbaautre),\"\")))))","v":""},{"$f":"IF(A64<=nbappomp,INDEX('Analyse Préliminaire Pompe'!$C$13:$C$47,A64),IF(A64<=nbappomp+nbapven,INDEX('Analyse Préliminaire Ventilateu'!$C$13:$C$44,A64-nbappomp),IF(A64<=nbappomp+nbapven+nbapair,$AJ$4,IF(A64<=nbappomp+nbapven+nbapair+nbaautre,INDEX('Analyse Préliminaire Autres'!$C$11:$C$42,A64-nbappomp-nbapven-nbapair),IF(A64<=nbappomp+nbapven+nbapair+nbaautre+nbafroid,INDEX('AP Groupe froid'!$C$14:$C$17,A64-nbappomp-nbapven-nbapair-nbaautre),\"\")))))","v":""},null,null,{"$f":"IF(A64<=nbappomp,INDEX('Analyse Préliminaire Pompe'!$H$13:$H$47,A64),IF(A64<=nbappomp+nbapven,INDEX('Analyse Préliminaire Ventilateu'!$H$13:$H$44,A64-nbappomp),IF(A64<=nbappomp+nbapven+nbapair,$AJ$4,IF(A64<=nbappomp+nbapven+nbapair+nbaautre,INDEX('Analyse Préliminaire Autres'!$H$11:$H$42,A64-nbappomp-nbapven-nbapair),IF(A64<=nbappomp+nbapven+nbapair+nbaautre+nbafroid,INDEX('AP Groupe froid'!$I$14:$I$17,A64-nbappomp-nbapven-nbapair-nbaautre),\"\")))))","v":""},null,null,{"$f":"IF(AH64=\"\",IF($A64<=nbappomp,INDEX('Analyse Préliminaire Pompe'!AE$13:AE$47,$A64),IF($A64<=nbappomp+nbapven,INDEX('Analyse Préliminaire Ventilateu'!AC$13:AC$44,$A64-nbappomp),IF($A64<=nbappomp+nbapven+nbapair,'Analyse Préliminaire air compr'!$AI$22,IF(A64<=nbappomp+nbapven+nbapair+nbaautre,INDEX('Analyse Préliminaire Autres'!$X$11:$X$42,A64-nbappomp-nbapven-nbapair),IF(A64<=nbappomp+nbapven+nbapair+nbaautre+nbafroid,INDEX('AP Groupe froid'!$AF$14:$AF$17,A64-nbappomp-nbapven-nbapair-nbaautre),\"\"))))),AH64)","v":""},{"$f":"IF(AG64=\"\",IF($A64<=nbappomp,INDEX('Analyse Préliminaire Pompe'!AD$13:AD$47,$A64),IF($A64<=nbappomp+nbapven,INDEX('Analyse Préliminaire Ventilateu'!AB$13:AB$44,$A64-nbappomp),IF($A64<=nbappomp+nbapven+nbapair,'Analyse Préliminaire air compr'!$AH$22,IF(A64<=nbappomp+nbapven+nbapair+nbaautre,INDEX('Analyse Préliminaire Autres'!$W$11:$W$42,A64-nbappomp-nbapven-nbapair),IF(A64<=nbappomp+nbapven+nbapair+nbaautre+nbafroid,INDEX('AP Groupe froid'!$AE$14:$AE$17,A64-nbappomp-nbapven-nbapair-nbaautre),\"\"))))),AG64)","v":""},null,"",null,"",null,{"$f":"IF(AI64=\"\",IF($A64<=nbappomp,INDEX('Analyse Préliminaire Pompe'!T$13:T$47,$A64),IF($A64<=nbappomp+nbapven,INDEX('Analyse Préliminaire Ventilateu'!R$13:R$44,$A64-nbappomp),IF($A64<=nbappomp+nbapven+nbapair,'Analyse Préliminaire air compr'!$AH$13,IF(A64<=nbappomp+nbapven+nbapair+nbaautre,INDEX('Analyse Préliminaire Autres'!$P$11:$P$42,A64-nbappomp-nbapven-nbapair),IF(A64<=nbappomp+nbapven+nbapair+nbaautre+nbafroid,INDEX('AP Groupe froid'!$AD$14:$AD$17,A64-nbappomp-nbapven-nbapair-nbaautre),\"\"))))),AI64)","v":""},null,{"$f":"IF($A64<=nbappomp,INDEX('Analyse Préliminaire Pompe'!X$13:X$47,$A64),IF($A64<=nbappomp+nbapven,INDEX('Analyse Préliminaire Ventilateu'!V$13:V$44,$A64-nbappomp),IF($A64<=nbappomp+nbapven+nbapair,'Analyse Préliminaire air compr'!$E$35,IF(A64<=nbappomp+nbapven+nbapair+nbaautre,INDEX('Analyse Préliminaire Autres'!$R$11:$R$42,A64-nbappomp-nbapven-nbapair),IF(A64<=nbappomp+nbapven+nbapair+nbaautre+nbafroid,INDEX('AP Groupe froid'!$Z$14:$Z$17,A64-nbappomp-nbapven-nbapair-nbaautre),\"\")))))","v":""},null,null,{"$f":"IF(AG64=\"\",IF($A64<=nbappomp,INDEX('Analyse Préliminaire Pompe'!AN$13:AN$47,$A64),IF($A64<=nbappomp+nbapven,INDEX('Analyse Préliminaire Ventilateu'!AL$13:AL$44,$A64-nbappomp),IF($A64<=nbappomp+nbapven+nbapair,'Analyse Préliminaire air compr'!$AM$16,IF(A64<=nbappomp+nbapven+nbapair+nbaautre,INDEX('Analyse Préliminaire Autres'!$AB$11:$AB$42,A64-nbappomp-nbapven-nbapair),IF(A64<=nbappomp+nbapven+nbapair+nbaautre+nbafroid,INDEX('AP Groupe froid'!$AM$14:$AM$17,A64-nbappomp-nbapven-nbapair-nbaautre),\"\"))))),'Economies classées'!$A$47)","v":""},{"$f":"IF($A64<=nbappomp,INDEX('Analyse Préliminaire Pompe'!E$13:E$47,$A64),IF($A64<=nbappomp+nbapven,INDEX('Analyse Préliminaire Ventilateu'!E$13:E$44,$A64-nbappomp),IF($A64<=nbappomp+nbapven+nbapair,\"voir detail\",IF(A64<=nbappomp+nbapven+nbapair+nbaautre,INDEX('Analyse Préliminaire Autres'!$E$11:$E$42,A64-nbappomp-nbapven-nbapair),IF(A64<=nbappomp+nbapven+nbapair+nbaautre+nbafroid,INDEX('AP Groupe froid'!$F$14:$F$17,A64-nbappomp-nbapven-nbapair-nbaautre),\"\")))))","v":""},{"$f":"IF($A64<=nbappomp,INDEX('Analyse Préliminaire Pompe'!K$13:K$47,$A64),IF($A64<=nbappomp+nbapven,INDEX('Analyse Préliminaire Ventilateu'!K$13:K$44,$A64-nbappomp),IF($A64<=nbappomp+nbapven+nbapair,SUM('Analyse Préliminaire air compr'!$I$26:$I$32),IF(A64<=nbappomp+nbapven+nbapair+nbaautre,INDEX('Analyse Préliminaire Autres'!$K$11:$K$42,A64-nbappomp-nbapven-nbapair),IF(A64<=nbappomp+nbapven+nbapair+nbaautre+nbafroid,INDEX('AP Groupe froid'!$O$14:$O$17,A64-nbappomp-nbapven-nbapair-nbaautre),\"\")))))","v":""},{"$f":"IF($A64<=nbappomp,INDEX('Analyse Préliminaire Pompe'!L$13:L$47,$A64),IF($A64<=nbappomp+nbapven,INDEX('Analyse Préliminaire Ventilateu'!L$13:L$44,$A64-nbappomp),IF($A64<=nbappomp+nbapven+nbapair,MIN('Analyse Préliminaire air compr'!$J$26:$J$32),IF(A64<=nbappomp+nbapven+nbapair+nbaautre,INDEX('Analyse Préliminaire Autres'!$L$11:$L$42,A64-nbappomp-nbapven-nbapair),IF($A64<=nbappomp+nbapven+nbapair,'Analyse Préliminaire air compr'!$AM$16,IF(A64<=nbappomp+nbapven+nbapair+nbaautre+nbafroid,INDEX('AP Groupe froid'!$L$14:$L$17,A64-nbappomp-nbapven-nbapair-nbaautre),\"\"))))))","v":""},{"$f":"IF($A64<=nbappomp,INDEX('Analyse Préliminaire Pompe'!M$13:M$47,$A64),IF($A64<=nbappomp+nbapven,INDEX('Analyse Préliminaire Ventilateu'!M$13:M$44,$A64-nbappomp),IF($A64<=nbappomp+nbapven+nbapair,\"\",IF(A64<=nbappomp+nbapven+nbapair+nbaautre,INDEX('Analyse Préliminaire Autres'!$M$11:$M$42,A64-nbappomp-nbapven-nbapair),IF($A64<=nbappomp+nbapven+nbapair,'Analyse Préliminaire air compr'!$AM$16,IF(A64<=nbappomp+nbapven+nbapair+nbaautre+nbafroid,INDEX('AP Groupe froid'!$M$14:$M$17,A64-nbappomp-nbapven-nbapair-nbaautre),\"\"))))))","v":""},{"$f":"IF($A64<=nbappomp,INDEX('Analyse Préliminaire Pompe'!N$13:N$47,$A64),IF($A64<=nbappomp+nbapven,INDEX('Analyse Préliminaire Ventilateu'!N$13:N$44,$A64-nbappomp),IF($A64<=nbappomp+nbapven+nbapair,\"\",IF(A64<=nbappomp+nbapven+nbapair+nbaautre,INDEX('Analyse Préliminaire Autres'!$N$11:$N$42,A64-nbappomp-nbapven-nbapair),\"\"))))","v":""},{"$f":"IF($A64<=nbappomp,INDEX('Analyse Préliminaire Pompe'!O$13:O$47,$A64),IF($A64<=nbappomp+nbapven,INDEX('Analyse Préliminaire Ventilateu'!O$13:O$44,$A64-nbappomp),IF($A64<=nbappomp+nbapven+nbapair,\"\",IF(A64<=nbappomp+nbapven+nbapair+nbaautre,INDEX('Analyse Préliminaire Autres'!$O$11:$O$42,A64-nbappomp-nbapven-nbapair),\"\"))))","v":""},{"$f":"IF($A64<=nbappomp,INDEX('Analyse Préliminaire Pompe'!P$13:P$47,$A64),IF($A64<=nbappomp+nbapven,INDEX('Analyse Préliminaire Ventilateu'!P$13:P$44,$A64-nbappomp),IF($A64<=nbappomp+nbapven+nbapair,\"\",IF(A64<=nbappomp+nbapven+nbapair+nbaautre,INDEX('Analyse Préliminaire Autres'!#REF!,A64-nbappomp-nbapven-nbapair),\"\"))))","v":""},{"$f":"IF($A64<=nbappomp,INDEX('Analyse Préliminaire Pompe'!Q$13:Q$47,$A64),IF($A64<=nbappomp+nbapven,\"\",IF($A64<=nbappomp+nbapven+nbapair,\"\",\"\")))","v":""},{"$f":"IF(AI64=\"\",IF($A64<=nbappomp,INDEX('Analyse Préliminaire Pompe'!S$13:S$47,$A64),IF($A64<=nbappomp+nbapven,INDEX('Analyse Préliminaire Ventilateu'!Q$13:Q$44,$A64-nbappomp),IF($A64<=nbappomp+nbapven+nbapair,\"\",IF(A64<=nbappomp+nbapven+nbapair+nbaautre,\"\",\"\")))),AI64)","v":""},{"$f":"IF(AN64,\"\",IF($A64<=nbappomp,INDEX('Analyse Préliminaire Pompe'!AO$13:AO$47,$A64),IF($A64<=nbappomp+nbapven,INDEX('Analyse Préliminaire Ventilateu'!AM$13:AM$44,$A64-nbappomp),IF($A64<=nbappomp+nbapven+nbapair,EcoAPkWhCP,IF(A64<=nbappomp+nbapven+nbapair+nbaautre,INDEX('Analyse Préliminaire Autres'!$E$11:$E$42,A64-nbappomp-nbapven-nbapair),IF($A64<=nbappomp+nbapven+nbapair+nbaautre+nbafroid,INDEX('AP Groupe froid'!$AN$14:$AN$17,$A64-nbappomp-nbapven-nbapair-nbaautre),\"\"))))))","v":""},{"$f":"IF(AN64,\"\",IF($A64<=nbappomp,INDEX('Analyse Préliminaire Pompe'!AP$13:AP$47,$A64),IF($A64<=nbappomp+nbapven,INDEX('Analyse Préliminaire Ventilateu'!AN$13:AN$44,$A64-nbappomp),IF($A64<=nbappomp+nbapven+nbapair,EcoAPpercCP,IF(A64<=nbappomp+nbapven+nbapair+nbaautre,INDEX('Analyse Préliminaire Autres'!$E$11:$E$42,A64-nbappomp-nbapven-nbapair),IF($A64<=nbappomp+nbapven+nbapair+nbaautre+nbafroid,INDEX('AP Groupe froid'!$AO$14:$AO$17,$A64-nbappomp-nbapven-nbapair-nbaautre),\"\"))))))","v":""},{"$f":"IF(AN64,\"\",IF($A64<=nbappomp,INDEX('Analyse Préliminaire Pompe'!AQ$13:AQ$47,$A64),IF($A64<=nbappomp+nbapven,INDEX('Analyse Préliminaire Ventilateu'!AO$13:AO$44,$A64-nbappomp),IF($A64<=nbappomp+nbapven+nbapair,consoanncp,IF(A64<=nbappomp+nbapven+nbapair+nbaautre,INDEX('Analyse Préliminaire Autres'!$E$11:$E$42,A64-nbappomp-nbapven-nbapair),IF($A64<=nbappomp+nbapven+nbapair+nbaautre+nbafroid,INDEX('AP Groupe froid'!$AP$14:$AP$17,$A64-nbappomp-nbapven-nbapair-nbaautre),\"\"))))))","v":""},{"$f":"IF(R64=\"\",-1,IF(AND($L64>'Economies classées'!$B$2,$K64>0.2,YEAR(TODAY())-$Z64>8),2,IF(AND($L64>'Economies classées'!$B$3,YEAR(TODAY())-$Z64>5),1,0)))","v":-1},null,null,"",{"$f":"IF($A64<=nbappomp,ISBLANK(INDEX('Analyse Préliminaire Pompe'!AO$13:AO$47,$A64)),IF($A64<=nbappomp+nbapven,ISBLANK(INDEX('Analyse Préliminaire Ventilateu'!AM$13:AM$44,$A64-nbappomp)),IF($A64<=nbappomp+nbapven+nbapair,ISBLANK(EcoAPkWhCP),IF(A64<=nbappomp+nbapven+nbapair+nbaautre,ISBLANK(INDEX('Analyse Préliminaire Autres'!AC$11:AC$42,A64-nbappomp-nbapven-nbapair)),IF(A64<=nbappomp+nbapven+nbapair+nbaautre+nbafroid,ISBLANK(INDEX('AP Groupe froid'!$AN$14:$AN$17,A64-nbappomp-nbapven-nbapair-nbaautre)),FALSE)))))","v":false},{"$f":"IF(E64=Listes!$H$25,1,0)","v":0},{"$f":"IF(E64=Listes!$H$26,1,0)","v":0},0,0,{"$f":"IF(E64=Listes!$H$28,1,0)","v":0},null,0,0,0,0,0,null,0,0,0,0,0,null,"","","","","",null,-1,-1,-1,-1,null,null,{"$f":"IF(E64=Listes!$H$25,1,0)","v":0},{"$f":"IF(E64=Listes!$H$26,1,0)","v":0},0,0,0,0,0,null,0,0,null,{"$error":"#VALUE!"},0,0,0,null,null,null,"",""]
[41,"",null,{"$f":"IF(A65<=nbappomp,INDEX('Analyse Préliminaire Pompe'!$B$13:$B$47,A65),IF(A65<=nbappomp+nbapven,INDEX('Analyse Préliminaire Ventilateu'!$B$13:$B$44,A65-nbappomp),IF(A65<=nbappomp+nbapven+nbapair,301,IF(A65<=nbappomp+nbapven+nbapair+nbaautre,INDEX('Analyse Préliminaire Autres'!$B$11:$B$42,A65-nbappomp-nbapven-nbapair),IF(A65<=nbappomp+nbapven+nbapair+nbaautre+nbafroid,INDEX('AP Groupe froid'!$B$14:$B$17,A65-nbappomp-nbapven-nbapair-nbaautre),\"\")))))","v":""},{"$f":"IF(A65<=nbappomp,INDEX('Analyse Préliminaire Pompe'!$C$13:$C$47,A65),IF(A65<=nbappomp+nbapven,INDEX('Analyse Préliminaire Ventilateu'!$C$13:$C$44,A65-nbappomp),IF(A65<=nbappomp+nbapven+nbapair,$AJ$4,IF(A65<=nbappomp+nbapven+nbapair+nbaautre,INDEX('Analyse Préliminaire Autres'!$C$11:$C$42,A65-nbappomp-nbapven-nbapair),IF(A65<=nbappomp+nbapven+nbapair+nbaautre+nbafroid,INDEX('AP Groupe froid'!$C$14:$C$17,A65-nbappomp-nbapven-nbapair-nbaautre),\"\")))))","v":""},null,null,{"$f":"IF(A65<=nbappomp,INDEX('Analyse Préliminaire Pompe'!$H$13:$H$47,A65),IF(A65<=nbappomp+nbapven,INDEX('Analyse Préliminaire Ventilateu'!$H$13:$H$44,A65-nbappomp),IF(A65<=nbappomp+nbapven+nbapair,$AJ$4,IF(A65<=nbappomp+nbapven+nbapair+nbaautre,INDEX('Analyse Préliminaire Autres'!$H$11:$H$42,A65-nbappomp-nbapven-nbapair),IF(A65<=nbappomp+nbapven+nbapair+nbaautre+nbafroid,INDEX('AP Groupe froid'!$I$14:$I$17,A65-nbappomp-nbapven-nbapair-nbaautre),\"\")))))","v":""},null,null,{"$f":"IF(AH65=\"\",IF($A65<=nbappomp,INDEX('Analyse Préliminaire Pompe'!AE$13:AE$47,$A65),IF($A65<=nbappomp+nbapven,INDEX('Analyse Préliminaire Ventilateu'!AC$13:AC$44,$A65-nbappomp),IF($A65<=nbappomp+nbapven+nbapair,'Analyse Préliminaire air compr'!$AI$22,IF(A65<=nbappomp+nbapven+nbapair+nbaautre,INDEX('Analyse Préliminaire Autres'!$X$11:$X$42,A65-nbappomp-nbapven-nbapair),IF(A65<=nbappomp+nbapven+nbapair+nbaautre+nbafroid,INDEX('AP Groupe froid'!$AF$14:$AF$17,A65-nbappomp-nbapven-nbapair-nbaautre),\"\"))))),AH65)","v":""},{"$f":"IF(AG65=\"\",IF($A65<=nbappomp,INDEX('Analyse Préliminaire Pompe'!AD$13:AD$47,$A65),IF($A65<=nbappomp+nbapven,INDEX('Analyse Préliminaire Ventilateu'!AB$13:AB$44,$A65-nbappomp),IF($A65<=nbappomp+nbapven+nbapair,'Analyse Préliminaire air compr'!$AH$22,IF(A65<=nbappomp+nbapven+nbapair+nbaautre,INDEX('Analyse Préliminaire Autres'!$W$11:$W$42,A65-nbappomp-nbapven-nbapair),IF(A65<=nbappomp+nbapven+nbapair+nbaautre+nbafroid,INDEX('AP Groupe froid'!$AE$14:$AE$17,A65-nbappomp-nbapven-nbapair-nbaautre),\"\"))))),AG65)","v":""},null,"",null,"",null,{"$f":"IF(AI65=\"\",IF($A65<=nbappomp,INDEX('Analyse Préliminaire Pompe'!T$13:T$47,$A65),IF($A65<=nbappomp+nbapven,INDEX('Analyse Préliminaire Ventilateu'!R$13:R$44,$A65-nbappomp),IF($A65<=nbappomp+nbapven+nbapair,'Analyse Préliminaire air compr'!$AH$13,IF(A65<=nbappomp+nbapven+nbapair+nbaautre,INDEX('Analyse Préliminaire Autres'!$P$11:$P$42,A65-nbappomp-nbapven-nbapair),IF(A65<=nbappomp+nbapven+nbapair+nbaautre+nbafroid,INDEX('AP Groupe froid'!$AD$14:$AD$17,A65-nbappomp-nbapven-nbapair-nbaautre),\"\"))))),AI65)","v":""},null,{"$f":"IF($A65<=nbappomp,INDEX('Analyse Préliminaire Pompe'!X$13:X$47,$A65),IF($A65<=nbappomp+nbapven,INDEX('Analyse Préliminaire Ventilateu'!V$13:V$44,$A65-nbappomp),IF($A65<=nbappomp+nbapven+nbapair,'Analyse Préliminaire air compr'!$E$35,IF(A65<=nbappomp+nbapven+nbapair+nbaautre,INDEX('Analyse Préliminaire Autres'!$R$11:$R$42,A65-nbappomp-nbapven-nbapair),IF(A65<=nbappomp+nbapven+nbapair+nbaautre+nbafroid,INDEX('AP Groupe froid'!$Z$14:$Z$17,A65-nbappomp-nbapven-nbapair-nbaautre),\"\")))))","v":""},null,null,{"$f":"IF(AG65=\"\",IF($A65<=nbappomp,INDEX('Analyse Préliminaire Pompe'!AN$13:AN$47,$A65),IF($A65<=nbappomp+nbapven,INDEX('Analyse Préliminaire Ventilateu'!AL$13:AL$44,$A65-nbappomp),IF($A65<=nbappomp+nbapven+nbapair,'Analyse Préliminaire air compr'!$AM$16,IF(A65<=nbappomp+nbapven+nbapair+nbaautre,INDEX('Analyse Préliminaire Autres'!$AB$11:$AB$42,A65-nbappomp-nbapven-nbapair),IF(A65<=nbappomp+nbapven+nbapair+nbaautre+nbafroid,INDEX('AP Groupe froid'!$AM$14:$AM$17,A65-nbappomp-nbapven-nbapair-nbaautre),\"\"))))),'Economies classées'!$A$47)","v":""},{"$f":"IF($A65<=nbappomp,INDEX('Analyse Préliminaire Pompe'!E$13:E$47,$A65),IF($A65<=nbappomp+nbapven,INDEX('Analyse Préliminaire Ventilateu'!E$13:E$44,$A65-nbappomp),IF($A65<=nbappomp+nbapven+nbapair,\"voir detail\",IF(A65<=nbappomp+nbapven+nbapair+nbaautre,INDEX('Analyse Préliminaire Autres'!$E$11:$E$42,A65-nbappomp-nbapven-nbapair),IF(A65<=nbappomp+nbapven+nbapair+nbaautre+nbafroid,INDEX('AP Groupe froid'!$F$14:$F$17,A65-nbappomp-nbapven-nbapair-nbaautre),\"\")))))","v":""},{"$f":"IF($A65<=nbappomp,INDEX('Analyse Préliminaire Pompe'!K$13:K$47,$A65),IF($A65<=nbappomp+nbapven,INDEX('Analyse Préliminaire Ventilateu'!K$13:K$44,$A65-nbappomp),IF($A65<=nbappomp+nbapven+nbapair,SUM('Analyse Préliminaire air compr'!$I$26:$I$32),IF(A65<=nbappomp+nbapven+nbapair+nbaautre,INDEX('Analyse Préliminaire Autres'!$K$11:$K$42,A65-nbappomp-nbapven-nbapair),IF(A65<=nbappomp+nbapven+nbapair+nbaautre+nbafroid,INDEX('AP Groupe froid'!$O$14:$O$17,A65-nbappomp-nbapven-nbapair-nbaautre),\"\")))))","v":""},{"$f":"IF($A65<=nbappomp,INDEX('Analyse Préliminaire Pompe'!L$13:L$47,$A65),IF($A65<=nbappomp+nbapven,INDEX('Analyse Préliminaire Ventilateu'!L$13:L$44,$A65-nbappomp),IF($A65<=nbappomp+nbapven+nbapair,MIN('Analyse Préliminaire air compr'!$J$26:$J$32),IF(A65<=nbappomp+nbapven+nbapair+nbaautre,INDEX('Analyse Préliminaire Autres'!$L$11:$L$42,A65-nbappomp-nbapven-nbapair),IF($A65<=nbappomp+nbapven+nbapair,'Analyse Préliminaire air compr'!$AM$16,IF(A65<=nbappomp+nbapven+nbapair+nbaautre+nbafroid,INDEX('AP Groupe froid'!$L$14:$L$17,A65-nbappomp-nbapven-nbapair-nbaautre),\"\"))))))","v":""},{"$f":"IF($A65<=nbappomp,INDEX('Analyse Préliminaire Pompe'!M$13:M$47,$A65),IF($A65<=nbappomp+nbapven,INDEX('Analyse Préliminaire Ventilateu'!M$13:M$44,$A65-nbappomp),IF($A65<=nbappomp+nbapven+nbapair,\"\",IF(A65<=nbappomp+nbapven+nbapair+nbaautre,INDEX('Analyse Préliminaire Autres'!$M$11:$M$42,A65-nbappomp-nbapven-nbapair),IF($A65<=nbappomp+nbapven+nbapair,'Analyse Préliminaire air compr'!$AM$16,IF(A65<=nbappomp+nbapven+nbapair+nbaautre+nbafroid,INDEX('AP Groupe froid'!$M$14:$M$17,A65-nbappomp-nbapven-nbapair-nbaautre),\"\"))))))","v":""},{"$f":"IF($A65<=nbappomp,INDEX('Analyse Préliminaire Pompe'!N$13:N$47,$A65),IF($A65<=nbappomp+nbapven,INDEX('Analyse Préliminaire Ventilateu'!N$13:N$44,$A65-nbappomp),IF($A65<=nbappomp+nbapven+nbapair,\"\",IF(A65<=nbappomp+nbapven+nbapair+nbaautre,INDEX('Analyse Préliminaire Autres'!$N$11:$N$42,A65-nbappomp-nbapven-nbapair),\"\"))))","v":""},{"$f":"IF($A65<=nbappomp,INDEX('Analyse Préliminaire Pompe'!O$13:O$47,$A65),IF($A65<=nbappomp+nbapven,INDEX('Analyse Préliminaire Ventilateu'!O$13:O$44,$A65-nbappomp),IF($A65<=nbappomp+nbapven+nbapair,\"\",IF(A65<=nbappomp+nbapven+nbapair+nbaautre,INDEX('Analyse Préliminaire Autres'!$O$11:$O$42,A65-nbappomp-nbapven-nbapair),\"\"))))","v":""},{"$f":"IF($A65<=nbappomp,INDEX('Analyse Préliminaire Pompe'!P$13:P$47,$A65),IF($A65<=nbappomp+nbapven,INDEX('Analyse Préliminaire Ventilateu'!P$13:P$44,$A65-nbappomp),IF($A65<=nbappomp+nbapven+nbapair,\"\",IF(A65<=nbappomp+nbapven+nbapair+nbaautre,INDEX('Analyse Préliminaire Autres'!#REF!,A65-nbappomp-nbapven-nbapair),\"\"))))","v":""},{"$f":"IF($A65<=nbappomp,INDEX('Analyse Préliminaire Pompe'!Q$13:Q$47,$A65),IF($A65<=nbappomp+nbapven,\"\",IF($A65<=nbappomp+nbapven+nbapair,\"\",\"\")))","v":""},{"$f":"IF(AI65=\"\",IF($A65<=nbappomp,INDEX('Analyse Préliminaire Pompe'!S$13:S$47,$A65),IF($A65<=nbappomp+nbapven,INDEX('Analyse Préliminaire Ventilateu'!Q$13:Q$44,$A65-nbappomp),IF($A65<=nbappomp+nbapven+nbapair,\"\",IF(A65<=nbappomp+nbapven+nbapair+nbaautre,\"\",\"\")))),AI65)","v":""},{"$f":"IF(AN65,\"\",IF($A65<=nbappomp,INDEX('Analyse Préliminaire Pompe'!AO$13:AO$47,$A65),IF($A65<=nbappomp+nbapven,INDEX('Analyse Préliminaire Ventilateu'!AM$13:AM$44,$A65-nbappomp),IF($A65<=nbappomp+nbapven+nbapair,EcoAPkWhCP,IF(A65<=nbappomp+nbapven+nbapair+nbaautre,INDEX('Analyse Préliminaire Autres'!$E$11:$E$42,A65-nbappomp-nbapven-nbapair),IF($A65<=nbappomp+nbapven+nbapair+nbaautre+nbafroid,INDEX('AP Groupe froid'!$AN$14:$AN$17,$A65-nbappomp-nbapven-nbapair-nbaautre),\"\"))))))","v":""},{"$f":"IF(AN65,\"\",IF($A65<=nbappomp,INDEX('Analyse Préliminaire Pompe'!AP$13:AP$47,$A65),IF($A65<=nbappomp+nbapven,INDEX('Analyse Préliminaire Ventilateu'!AN$13:AN$44,$A65-nbappomp),IF($A65<=nbappomp+nbapven+nbapair,EcoAPpercCP,IF(A65<=nbappomp+nbapven+nbapair+nbaautre,INDEX('Analyse Préliminaire Autres'!$E$11:$E$42,A65-nbappomp-nbapven-nbapair),IF($A65<=nbappomp+nbapven+nbapair+nbaautre+nbafroid,INDEX('AP Groupe froid'!$AO$14:$AO$17,$A65-nbappomp-nbapven-nbapair-nbaautre),\"\"))))))","v":""},{"$f":"IF(AN65,\"\",IF($A65<=nbappomp,INDEX('Analyse Préliminaire Pompe'!AQ$13:AQ$47,$A65),IF($A65<=nbappomp+nbapven,INDEX('Analyse Préliminaire Ventilateu'!AO$13:AO$44,$A65-nbappomp),IF($A65<=nbappomp+nbapven+nbapair,consoanncp,IF(A65<=nbappomp+nbapven+nbapair+nbaautre,INDEX('Analyse Préliminaire Autres'!$E$11:$E$42,A65-nbappomp-nbapven-nbapair),IF($A65<=nbappomp+nbapven+nbapair+nbaautre+nbafroid,INDEX('AP Groupe froid'!$AP$14:$AP$17,$A65-nbappomp-nbapven-nbapair-nbaautre),\"\"))))))","v":""},{"$f":"IF(R65=\"\",-1,IF(AND($L65>'Economies classées'!$B$2,$K65>0.2,YEAR(TODAY())-$Z65>8),2,IF(AND($L65>'Economies classées'!$B$3,YEAR(TODAY())-$Z65>5),1,0)))","v":-1},null,null,"",{"$f":"IF($A65<=nbappomp,ISBLANK(INDEX('Analyse Préliminaire Pompe'!AO$13:AO$47,$A65)),IF($A65<=nbappomp+nbapven,ISBLANK(INDEX('Analyse Préliminaire Ventilateu'!AM$13:AM$44,$A65-nbappomp)),IF($A65<=nbappomp+nbapven+nbapair,ISBLANK(EcoAPkWhCP),IF(A65<=nbappomp+nbapven+nbapair+nbaautre,ISBLANK(INDEX('Analyse Préliminaire Autres'!AC$11:AC$42,A65-nbappomp-nbapven-nbapair)),IF(A65<=nbappomp+nbapven+nbapair+nbaautre+nbafroid,ISBLANK(INDEX('AP Groupe froid'!$AN$14:$AN$17,A65-nbappomp-nbapven-nbapair-nbaautre)),FALSE)))))","v":false},{"$f":"IF(E65=Listes!$H$25,1,0)","v":0},{"$f":"IF(E65=Listes!$H$26,1,0)","v":0},0,0,{"$f":"IF(E65=Listes!$H$28,1,0)","v":0},null,0,0,0,0,0,null,0,0,0,0,0,null,"","","","","",null,-1,-1,-1,-1,null,null,{"$f":"IF(E65=Listes!$H$25,1,0)","v":0},{"$f":"IF(E65=Listes!$H$26,1,0)","v":0},0,0,0,0,0,null,0,0,null,{"$error":"#VALUE!"},0,0,0,null,null,null,"",""]
[42,"",null,{"$f":"IF(A66<=nbappomp,INDEX('Analyse Préliminaire Pompe'!$B$13:$B$47,A66),IF(A66<=nbappomp+nbapven,INDEX('Analyse Préliminaire Ventilateu'!$B$13:$B$44,A66-nbappomp),IF(A66<=nbappomp+nbapven+nbapair,301,IF(A66<=nbappomp+nbapven+nbapair+nbaautre,INDEX('Analyse Préliminaire Autres'!$B$11:$B$42,A66-nbappomp-nbapven-nbapair),IF(A66<=nbappomp+nbapven+nbapair+nbaautre+nbafroid,INDEX('AP Groupe froid'!$B$14:$B$17,A66-nbappomp-nbapven-nbapair-nbaautre),\"\")))))","v":""},{"$f":"IF(A66<=nbappomp,INDEX('Analyse Préliminaire Pompe'!$C$13:$C$47,A66),IF(A66<=nbappomp+nbapven,INDEX('Analyse Préliminaire Ventilateu'!$C$13:$C$44,A66-nbappomp),IF(A66<=nbappomp+nbapven+nbapair,$AJ$4,IF(A66<=nbappomp+nbapven+nbapair+nbaautre,INDEX('Analyse Préliminaire Autres'!$C$11:$C$42,A66-nbappomp-nbapven-nbapair),IF(A66<=nbappomp+nbapven+nbapair+nbaautre+nbafroid,INDEX('AP Groupe froid'!$C$14:$C$17,A66-nbappomp-nbapven-nbapair-nbaautre),\"\")))))","v":""},null,null,{"$f":"IF(A66<=nbappomp,INDEX('Analyse Préliminaire Pompe'!$H$13:$H$47,A66),IF(A66<=nbappomp+nbapven,INDEX('Analyse Préliminaire Ventilateu'!$H$13:$H$44,A66-nbappomp),IF(A66<=nbappomp+nbapven+nbapair,$AJ$4,IF(A66<=nbappomp+nbapven+nbapair+nbaautre,INDEX('Analyse Préliminaire Autres'!$H$11:$H$42,A66-nbappomp-nbapven-nbapair),IF(A66<=nbappomp+nbapven+nbapair+nbaautre+nbafroid,INDEX('AP Groupe froid'!$I$14:$I$17,A66-nbappomp-nbapven-nbapair-nbaautre),\"\")))))","v":""},null,null,{"$f":"IF(AH66=\"\",IF($A66<=nbappomp,INDEX('Analyse Préliminaire Pompe'!AE$13:AE$47,$A66),IF($A66<=nbappomp+nbapven,INDEX('Analyse Préliminaire Ventilateu'!AC$13:AC$44,$A66-nbappomp),IF($A66<=nbappomp+nbapven+nbapair,'Analyse Préliminaire air compr'!$AI$22,IF(A66<=nbappomp+nbapven+nbapair+nbaautre,INDEX('Analyse Préliminaire Autres'!$X$11:$X$42,A66-nbappomp-nbapven-nbapair),IF(A66<=nbappomp+nbapven+nbapair+nbaautre+nbafroid,INDEX('AP Groupe froid'!$AF$14:$AF$17,A66-nbappomp-nbapven-nbapair-nbaautre),\"\"))))),AH66)","v":""},{"$f":"IF(AG66=\"\",IF($A66<=nbappomp,INDEX('Analyse Préliminaire Pompe'!AD$13:AD$47,$A66),IF($A66<=nbappomp+nbapven,INDEX('Analyse Préliminaire Ventilateu'!AB$13:AB$44,$A66-nbappomp),IF($A66<=nbappomp+nbapven+nbapair,'Analyse Préliminaire air compr'!$AH$22,IF(A66<=nbappomp+nbapven+nbapair+nbaautre,INDEX('Analyse Préliminaire Autres'!$W$11:$W$42,A66-nbappomp-nbapven-nbapair),IF(A66<=nbappomp+nbapven+nbapair+nbaautre+nbafroid,INDEX('AP Groupe froid'!$AE$14:$AE$17,A66-nbappomp-nbapven-nbapair-nbaautre),\"\"))))),AG66)","v":""},null,"",null,"",null,{"$f":"IF(AI66=\"\",IF($A66<=nbappomp,INDEX('Analyse Préliminaire Pompe'!T$13:T$47,$A66),IF($A66<=nbappomp+nbapven,INDEX('Analyse Préliminaire Ventilateu'!R$13:R$44,$A66-nbappomp),IF($A66<=nbappomp+nbapven+nbapair,'Analyse Préliminaire air compr'!$AH$13,IF(A66<=nbappomp+nbapven+nbapair+nbaautre,INDEX('Analyse Préliminaire Autres'!$P$11:$P$42,A66-nbappomp-nbapven-nbapair),IF(A66<=nbappomp+nbapven+nbapair+nbaautre+nbafroid,INDEX('AP Groupe froid'!$AD$14:$AD$17,A66-nbappomp-nbapven-nbapair-nbaautre),\"\"))))),AI66)","v":""},null,{"$f":"IF($A66<=nbappomp,INDEX('Analyse Préliminaire Pompe'!X$13:X$47,$A66),IF($A66<=nbappomp+nbapven,INDEX('Analyse Préliminaire Ventilateu'!V$13:V$44,$A66-nbappomp),IF($A66<=nbappomp+nbapven+nbapair,'Analyse Préliminaire air compr'!$E$35,IF(A66<=nbappomp+nbapven+nbapair+nbaautre,INDEX('Analyse Préliminaire Autres'!$R$11:$R$42,A66-nbappomp-nbapven-nbapair),IF(A66<=nbappomp+nbapven+nbapair+nbaautre+nbafroid,INDEX('AP Groupe froid'!$Z$14:$Z$17,A66-nbappomp-nbapven-nbapair-nbaautre),\"\")))))","v":""},null,null,{"$f":"IF(AG66=\"\",IF($A66<=nbappomp,INDEX('Analyse Préliminaire Pompe'!AN$13:AN$47,$A66),IF($A66<=nbappomp+nbapven,INDEX('Analyse Préliminaire Ventilateu'!AL$13:AL$44,$A66-nbappomp),IF($A66<=nbappomp+nbapven+nbapair,'Analyse Préliminaire air compr'!$AM$16,IF(A66<=nbappomp+nbapven+nbapair+nbaautre,INDEX('Analyse Préliminaire Autres'!$AB$11:$AB$42,A66-nbappomp-nbapven-nbapair),IF(A66<=nbappomp+nbapven+nbapair+nbaautre+nbafroid,INDEX('AP Groupe froid'!$AM$14:$AM$17,A66-nbappomp-nbapven-nbapair-nbaautre),\"\"))))),'Economies classées'!$A$47)","v":""},{"$f":"IF($A66<=nbappomp,INDEX('Analyse Préliminaire Pompe'!E$13:E$47,$A66),IF($A66<=nbappomp+nbapven,INDEX('Analyse Préliminaire Ventilateu'!E$13:E$44,$A66-nbappomp),IF($A66<=nbappomp+nbapven+nbapair,\"voir detail\",IF(A66<=nbappomp+nbapven+nbapair+nbaautre,INDEX('Analyse Préliminaire Autres'!$E$11:$E$42,A66-nbappomp-nbapven-nbapair),IF(A66<=nbappomp+nbapven+nbapair+nbaautre+nbafroid,INDEX('AP Groupe froid'!$F$14:$F$17,A66-nbappomp-nbapven-nbapair-nbaautre),\"\")))))","v":""},{"$f":"IF($A66<=nbappomp,INDEX('Analyse Préliminaire Pompe'!K$13:K$47,$A66),IF($A66<=nbappomp+nbapven,INDEX('Analyse Préliminaire Ventilateu'!K$13:K$44,$A66-nbappomp),IF($A66<=nbappomp+nbapven+nbapair,SUM('Analyse Préliminaire air compr'!$I$26:$I$32),IF(A66<=nbappomp+nbapven+nbapair+nbaautre,INDEX('Analyse Préliminaire Autres'!$K$11:$K$42,A66-nbappomp-nbapven-nbapair),IF(A66<=nbappomp+nbapven+nbapair+nbaautre+nbafroid,INDEX('AP Groupe froid'!$O$14:$O$17,A66-nbappomp-nbapven-nbapair-nbaautre),\"\")))))","v":""},{"$f":"IF($A66<=nbappomp,INDEX('Analyse Préliminaire Pompe'!L$13:L$47,$A66),IF($A66<=nbappomp+nbapven,INDEX('Analyse Préliminaire Ventilateu'!L$13:L$44,$A66-nbappomp),IF($A66<=nbappomp+nbapven+nbapair,MIN('Analyse Préliminaire air compr'!$J$26:$J$32),IF(A66<=nbappomp+nbapven+nbapair+nbaautre,INDEX('Analyse Préliminaire Autres'!$L$11:$L$42,A66-nbappomp-nbapven-nbapair),IF($A66<=nbappomp+nbapven+nbapair,'Analyse Préliminaire air compr'!$AM$16,IF(A66<=nbappomp+nbapven+nbapair+nbaautre+nbafroid,INDEX('AP Groupe froid'!$L$14:$L$17,A66-nbappomp-nbapven-nbapair-nbaautre),\"\"))))))","v":""},{"$f":"IF($A66<=nbappomp,INDEX('Analyse Préliminaire Pompe'!M$13:M$47,$A66),IF($A66<=nbappomp+nbapven,INDEX('Analyse Préliminaire Ventilateu'!M$13:M$44,$A66-nbappomp),IF($A66<=nbappomp+nbapven+nbapair,\"\",IF(A66<=nbappomp+nbapven+nbapair+nbaautre,INDEX('Analyse Préliminaire Autres'!$M$11:$M$42,A66-nbappomp-nbapven-nbapair),IF($A66<=nbappomp+nbapven+nbapair,'Analyse Préliminaire air compr'!$AM$16,IF(A66<=nbappomp+nbapven+nbapair+nbaautre+nbafroid,INDEX('AP Groupe froid'!$M$14:$M$17,A66-nbappomp-nbapven-nbapair-nbaautre),\"\"))))))","v":""},{"$f":"IF($A66<=nbappomp,INDEX('Analyse Préliminaire Pompe'!N$13:N$47,$A66),IF($A66<=nbappomp+nbapven,INDEX('Analyse Préliminaire Ventilateu'!N$13:N$44,$A66-nbappomp),IF($A66<=nbappomp+nbapven+nbapair,\"\",IF(A66<=nbappomp+nbapven+nbapair+nbaautre,INDEX('Analyse Préliminaire Autres'!$N$11:$N$42,A66-nbappomp-nbapven-nbapair),\"\"))))","v":""},{"$f":"IF($A66<=nbappomp,INDEX('Analyse Préliminaire Pompe'!O$13:O$47,$A66),IF($A66<=nbappomp+nbapven,INDEX('Analyse Préliminaire Ventilateu'!O$13:O$44,$A66-nbappomp),IF($A66<=nbappomp+nbapven+nbapair,\"\",IF(A66<=nbappomp+nbapven+nbapair+nbaautre,INDEX('Analyse Préliminaire Autres'!$O$11:$O$42,A66-nbappomp-nbapven-nbapair),\"\"))))","v":""},{"$f":"IF($A66<=nbappomp,INDEX('Analyse Préliminaire Pompe'!P$13:P$47,$A66),IF($A66<=nbappomp+nbapven,INDEX('Analyse Préliminaire Ventilateu'!P$13:P$44,$A66-nbappomp),IF($A66<=nbappomp+nbapven+nbapair,\"\",IF(A66<=nbappomp+nbapven+nbapair+nbaautre,INDEX('Analyse Préliminaire Autres'!#REF!,A66-nbappomp-nbapven-nbapair),\"\"))))","v":""},{"$f":"IF($A66<=nbappomp,INDEX('Analyse Préliminaire Pompe'!Q$13:Q$47,$A66),IF($A66<=nbappomp+nbapven,\"\",IF($A66<=nbappomp+nbapven+nbapair,\"\",\"\")))","v":""},{"$f":"IF(AI66=\"\",IF($A66<=nbappomp,INDEX('Analyse Préliminaire Pompe'!S$13:S$47,$A66),IF($A66<=nbappomp+nbapven,INDEX('Analyse Préliminaire Ventilateu'!Q$13:Q$44,$A66-nbappomp),IF($A66<=nbappomp+nbapven+nbapair,\"\",IF(A66<=nbappomp+nbapven+nbapair+nbaautre,\"\",\"\")))),AI66)","v":""},{"$f":"IF(AN66,\"\",IF($A66<=nbappomp,INDEX('Analyse Préliminaire Pompe'!AO$13:AO$47,$A66),IF($A66<=nbappomp+nbapven,INDEX('Analyse Préliminaire Ventilateu'!AM$13:AM$44,$A66-nbappomp),IF($A66<=nbappomp+nbapven+nbapair,EcoAPkWhCP,IF(A66<=nbappomp+nbapven+nbapair+nbaautre,INDEX('Analyse Préliminaire Autres'!$E$11:$E$42,A66-nbappomp-nbapven-nbapair),IF($A66<=nbappomp+nbapven+nbapair+nbaautre+nbafroid,INDEX('AP Groupe froid'!$AN$14:$AN$17,$A66-nbappomp-nbapven-nbapair-nbaautre),\"\"))))))","v":""},{"$f":"IF(AN66,\"\",IF($A66<=nbappomp,INDEX('Analyse Préliminaire Pompe'!AP$13:AP$47,$A66),IF($A66<=nbappomp+nbapven,INDEX('Analyse Préliminaire Ventilateu'!AN$13:AN$44,$A66-nbappomp),IF($A66<=nbappomp+nbapven+nbapair,EcoAPpercCP,IF(A66<=nbappomp+nbapven+nbapair+nbaautre,INDEX('Analyse Préliminaire Autres'!$E$11:$E$42,A66-nbappomp-nbapven-nbapair),IF($A66<=nbappomp+nbapven+nbapair+nbaautre+nbafroid,INDEX('AP Groupe froid'!$AO$14:$AO$17,$A66-nbappomp-nbapven-nbapair-nbaautre),\"\"))))))","v":""},{"$f":"IF(AN66,\"\",IF($A66<=nbappomp,INDEX('Analyse Préliminaire Pompe'!AQ$13:AQ$47,$A66),IF($A66<=nbappomp+nbapven,INDEX('Analyse Préliminaire Ventilateu'!AO$13:AO$44,$A66-nbappomp),IF($A66<=nbappomp+nbapven+nbapair,consoanncp,IF(A66<=nbappomp+nbapven+nbapair+nbaautre,INDEX('Analyse Préliminaire Autres'!$E$11:$E$42,A66-nbappomp-nbapven-nbapair),IF($A66<=nbappomp+nbapven+nbapair+nbaautre+nbafroid,INDEX('AP Groupe froid'!$AP$14:$AP$17,$A66-nbappomp-nbapven-nbapair-nbaautre),\"\"))))))","v":""},{"$f":"IF(R66=\"\",-1,IF(AND($L66>'Economies classées'!$B$2,$K66>0.2,YEAR(TODAY())-$Z66>8),2,IF(AND($L66>'Economies classées'!$B$3,YEAR(TODAY())-$Z66>5),1,0)))","v":-1},null,null,"",{"$f":"IF($A66<=nbappomp,ISBLANK(INDEX('Analyse Préliminaire Pompe'!AO$13:AO$47,$A66)),IF($A66<=nbappomp+nbapven,ISBLANK(INDEX('Analyse Préliminaire Ventilateu'!AM$13:AM$44,$A66-nbappomp)),IF($A66<=nbappomp+nbapven+nbapair,ISBLANK(EcoAPkWhCP),IF(A66<=nbappomp+nbapven+nbapair+nbaautre,ISBLANK(INDEX('Analyse Préliminaire Autres'!AC$11:AC$42,A66-nbappomp-nbapven-nbapair)),IF(A66<=nbappomp+nbapven+nbapair+nbaautre+nbafroid,ISBLANK(INDEX('AP Groupe froid'!$AN$14:$AN$17,A66-nbappomp-nbapven-nbapair-nbaautre)),FALSE)))))","v":false},{"$f":"IF(E66=Listes!$H$25,1,0)","v":0},{"$f":"IF(E66=Listes!$H$26,1,0)","v":0},0,0,{"$f":"IF(E66=Listes!$H$28,1,0)","v":0},null,0,0,0,0,0,null,0,0,0,0,0,null,"","","","","",null,-1,-1,-1,-1,null,null,{"$f":"IF(E66=Listes!$H$25,1,0)","v":0},{"$f":"IF(E66=Listes!$H$26,1,0)","v":0},0,0,0,0,0,null,0,0,null,{"$error":"#VALUE!"},0,0,0,null,null,null,"",""]
[43,"",null,{"$f":"IF(A67<=nbappomp,INDEX('Analyse Préliminaire Pompe'!$B$13:$B$47,A67),IF(A67<=nbappomp+nbapven,INDEX('Analyse Préliminaire Ventilateu'!$B$13:$B$44,A67-nbappomp),IF(A67<=nbappomp+nbapven+nbapair,301,IF(A67<=nbappomp+nbapven+nbapair+nbaautre,INDEX('Analyse Préliminaire Autres'!$B$11:$B$42,A67-nbappomp-nbapven-nbapair),IF(A67<=nbappomp+nbapven+nbapair+nbaautre+nbafroid,INDEX('AP Groupe froid'!$B$14:$B$17,A67-nbappomp-nbapven-nbapair-nbaautre),\"\")))))","v":""},{"$f":"IF(A67<=nbappomp,INDEX('Analyse Préliminaire Pompe'!$C$13:$C$47,A67),IF(A67<=nbappomp+nbapven,INDEX('Analyse Préliminaire Ventilateu'!$C$13:$C$44,A67-nbappomp),IF(A67<=nbappomp+nbapven+nbapair,$AJ$4,IF(A67<=nbappomp+nbapven+nbapair+nbaautre,INDEX('Analyse Préliminaire Autres'!$C$11:$C$42,A67-nbappomp-nbapven-nbapair),IF(A67<=nbappomp+nbapven+nbapair+nbaautre+nbafroid,INDEX('AP Groupe froid'!$C$14:$C$17,A67-nbappomp-nbapven-nbapair-nbaautre),\"\")))))","v":""},null,null,{"$f":"IF(A67<=nbappomp,INDEX('Analyse Préliminaire Pompe'!$H$13:$H$47,A67),IF(A67<=nbappomp+nbapven,INDEX('Analyse Préliminaire Ventilateu'!$H$13:$H$44,A67-nbappomp),IF(A67<=nbappomp+nbapven+nbapair,$AJ$4,IF(A67<=nbappomp+nbapven+nbapair+nbaautre,INDEX('Analyse Préliminaire Autres'!$H$11:$H$42,A67-nbappomp-nbapven-nbapair),IF(A67<=nbappomp+nbapven+nbapair+nbaautre+nbafroid,INDEX('AP Groupe froid'!$I$14:$I$17,A67-nbappomp-nbapven-nbapair-nbaautre),\"\")))))","v":""},null,null,{"$f":"IF(AH67=\"\",IF($A67<=nbappomp,INDEX('Analyse Préliminaire Pompe'!AE$13:AE$47,$A67),IF($A67<=nbappomp+nbapven,INDEX('Analyse Préliminaire Ventilateu'!AC$13:AC$44,$A67-nbappomp),IF($A67<=nbappomp+nbapven+nbapair,'Analyse Préliminaire air compr'!$AI$22,IF(A67<=nbappomp+nbapven+nbapair+nbaautre,INDEX('Analyse Préliminaire Autres'!$X$11:$X$42,A67-nbappomp-nbapven-nbapair),IF(A67<=nbappomp+nbapven+nbapair+nbaautre+nbafroid,INDEX('AP Groupe froid'!$AF$14:$AF$17,A67-nbappomp-nbapven-nbapair-nbaautre),\"\"))))),AH67)","v":""},{"$f":"IF(AG67=\"\",IF($A67<=nbappomp,INDEX('Analyse Préliminaire Pompe'!AD$13:AD$47,$A67),IF($A67<=nbappomp+nbapven,INDEX('Analyse Préliminaire Ventilateu'!AB$13:AB$44,$A67-nbappomp),IF($A67<=nbappomp+nbapven+nbapair,'Analyse Préliminaire air compr'!$AH$22,IF(A67<=nbappomp+nbapven+nbapair+nbaautre,INDEX('Analyse Préliminaire Autres'!$W$11:$W$42,A67-nbappomp-nbapven-nbapair),IF(A67<=nbappomp+nbapven+nbapair+nbaautre+nbafroid,INDEX('AP Groupe froid'!$AE$14:$AE$17,A67-nbappomp-nbapven-nbapair-nbaautre),\"\"))))),AG67)","v":""},null,"",null,"",null,{"$f":"IF(AI67=\"\",IF($A67<=nbappomp,INDEX('Analyse Préliminaire Pompe'!T$13:T$47,$A67),IF($A67<=nbappomp+nbapven,INDEX('Analyse Préliminaire Ventilateu'!R$13:R$44,$A67-nbappomp),IF($A67<=nbappomp+nbapven+nbapair,'Analyse Préliminaire air compr'!$AH$13,IF(A67<=nbappomp+nbapven+nbapair+nbaautre,INDEX('Analyse Préliminaire Autres'!$P$11:$P$42,A67-nbappomp-nbapven-nbapair),IF(A67<=nbappomp+nbapven+nbapair+nbaautre+nbafroid,INDEX('AP Groupe froid'!$AD$14:$AD$17,A67-nbappomp-nbapven-nbapair-nbaautre),\"\"))))),AI67)","v":""},null,{"$f":"IF($A67<=nbappomp,INDEX('Analyse Préliminaire Pompe'!X$13:X$47,$A67),IF($A67<=nbappomp+nbapven,INDEX('Analyse Préliminaire Ventilateu'!V$13:V$44,$A67-nbappomp),IF($A67<=nbappomp+nbapven+nbapair,'Analyse Préliminaire air compr'!$E$35,IF(A67<=nbappomp+nbapven+nbapair+nbaautre,INDEX('Analyse Préliminaire Autres'!$R$11:$R$42,A67-nbappomp-nbapven-nbapair),IF(A67<=nbappomp+nbapven+nbapair+nbaautre+nbafroid,INDEX('AP Groupe froid'!$Z$14:$Z$17,A67-nbappomp-nbapven-nbapair-nbaautre),\"\")))))","v":""},null,null,{"$f":"IF(AG67=\"\",IF($A67<=nbappomp,INDEX('Analyse Préliminaire Pompe'!AN$13:AN$47,$A67),IF($A67<=nbappomp+nbapven,INDEX('Analyse Préliminaire Ventilateu'!AL$13:AL$44,$A67-nbappomp),IF($A67<=nbappomp+nbapven+nbapair,'Analyse Préliminaire air compr'!$AM$16,IF(A67<=nbappomp+nbapven+nbapair+nbaautre,INDEX('Analyse Préliminaire Autres'!$AB$11:$AB$42,A67-nbappomp-nbapven-nbapair),IF(A67<=nbappomp+nbapven+nbapair+nbaautre+nbafroid,INDEX('AP Groupe froid'!$AM$14:$AM$17,A67-nbappomp-nbapven-nbapair-nbaautre),\"\"))))),'Economies classées'!$A$47)","v":""},{"$f":"IF($A67<=nbappomp,INDEX('Analyse Préliminaire Pompe'!E$13:E$47,$A67),IF($A67<=nbappomp+nbapven,INDEX('Analyse Préliminaire Ventilateu'!E$13:E$44,$A67-nbappomp),IF($A67<=nbappomp+nbapven+nbapair,\"voir detail\",IF(A67<=nbappomp+nbapven+nbapair+nbaautre,INDEX('Analyse Préliminaire Autres'!$E$11:$E$42,A67-nbappomp-nbapven-nbapair),IF(A67<=nbappomp+nbapven+nbapair+nbaautre+nbafroid,INDEX('AP Groupe froid'!$F$14:$F$17,A67-nbappomp-nbapven-nbapair-nbaautre),\"\")))))","v":""},{"$f":"IF($A67<=nbappomp,INDEX('Analyse Préliminaire Pompe'!K$13:K$47,$A67),IF($A67<=nbappomp+nbapven,INDEX('Analyse Préliminaire Ventilateu'!K$13:K$44,$A67-nbappomp),IF($A67<=nbappomp+nbapven+nbapair,SUM('Analyse Préliminaire air compr'!$I$26:$I$32),IF(A67<=nbappomp+nbapven+nbapair+nbaautre,INDEX('Analyse Préliminaire Autres'!$K$11:$K$42,A67-nbappomp-nbapven-nbapair),IF(A67<=nbappomp+nbapven+nbapair+nbaautre+nbafroid,INDEX('AP Groupe froid'!$O$14:$O$17,A67-nbappomp-nbapven-nbapair-nbaautre),\"\")))))","v":""},{"$f":"IF($A67<=nbappomp,INDEX('Analyse Préliminaire Pompe'!L$13:L$47,$A67),IF($A67<=nbappomp+nbapven,INDEX('Analyse Préliminaire Ventilateu'!L$13:L$44,$A67-nbappomp),IF($A67<=nbappomp+nbapven+nbapair,MIN('Analyse Préliminaire air compr'!$J$26:$J$32),IF(A67<=nbappomp+nbapven+nbapair+nbaautre,INDEX('Analyse Préliminaire Autres'!$L$11:$L$42,A67-nbappomp-nbapven-nbapair),IF($A67<=nbappomp+nbapven+nbapair,'Analyse Préliminaire air compr'!$AM$16,IF(A67<=nbappomp+nbapven+nbapair+nbaautre+nbafroid,INDEX('AP Groupe froid'!$L$14:$L$17,A67-nbappomp-nbapven-nbapair-nbaautre),\"\"))))))","v":""},{"$f":"IF($A67<=nbappomp,INDEX('Analyse Préliminaire Pompe'!M$13:M$47,$A67),IF($A67<=nbappomp+nbapven,INDEX('Analyse Préliminaire Ventilateu'!M$13:M$44,$A67-nbappomp),IF($A67<=nbappomp+nbapven+nbapair,\"\",IF(A67<=nbappomp+nbapven+nbapair+nbaautre,INDEX('Analyse Préliminaire Autres'!$M$11:$M$42,A67-nbappomp-nbapven-nbapair),IF($A67<=nbappomp+nbapven+nbapair,'Analyse Préliminaire air compr'!$AM$16,IF(A67<=nbappomp+nbapven+nbapair+nbaautre+nbafroid,INDEX('AP Groupe froid'!$M$14:$M$17,A67-nbappomp-nbapven-nbapair-nbaautre),\"\"))))))","v":""},{"$f":"IF($A67<=nbappomp,INDEX('Analyse Préliminaire Pompe'!N$13:N$47,$A67),IF($A67<=nbappomp+nbapven,INDEX('Analyse Préliminaire Ventilateu'!N$13:N$44,$A67-nbappomp),IF($A67<=nbappomp+nbapven+nbapair,\"\",IF(A67<=nbappomp+nbapven+nbapair+nbaautre,INDEX('Analyse Préliminaire Autres'!$N$11:$N$42,A67-nbappomp-nbapven-nbapair),\"\"))))","v":""},{"$f":"IF($A67<=nbappomp,INDEX('Analyse Préliminaire Pompe'!O$13:O$47,$A67),IF($A67<=nbappomp+nbapven,INDEX('Analyse Préliminaire Ventilateu'!O$13:O$44,$A67-nbappomp),IF($A67<=nbappomp+nbapven+nbapair,\"\",IF(A67<=nbappomp+nbapven+nbapair+nbaautre,INDEX('Analyse Préliminaire Autres'!$O$11:$O$42,A67-nbappomp-nbapven-nbapair),\"\"))))","v":""},{"$f":"IF($A67<=nbappomp,INDEX('Analyse Préliminaire Pompe'!P$13:P$47,$A67),IF($A67<=nbappomp+nbapven,INDEX('Analyse Préliminaire Ventilateu'!P$13:P$44,$A67-nbappomp),IF($A67<=nbappomp+nbapven+nbapair,\"\",IF(A67<=nbappomp+nbapven+nbapair+nbaautre,INDEX('Analyse Préliminaire Autres'!#REF!,A67-nbappomp-nbapven-nbapair),\"\"))))","v":""},{"$f":"IF($A67<=nbappomp,INDEX('Analyse Préliminaire Pompe'!Q$13:Q$47,$A67),IF($A67<=nbappomp+nbapven,\"\",IF($A67<=nbappomp+nbapven+nbapair,\"\",\"\")))","v":""},{"$f":"IF(AI67=\"\",IF($A67<=nbappomp,INDEX('Analyse Préliminaire Pompe'!S$13:S$47,$A67),IF($A67<=nbappomp+nbapven,INDEX('Analyse Préliminaire Ventilateu'!Q$13:Q$44,$A67-nbappomp),IF($A67<=nbappomp+nbapven+nbapair,\"\",IF(A67<=nbappomp+nbapven+nbapair+nbaautre,\"\",\"\")))),AI67)","v":""},{"$f":"IF(AN67,\"\",IF($A67<=nbappomp,INDEX('Analyse Préliminaire Pompe'!AO$13:AO$47,$A67),IF($A67<=nbappomp+nbapven,INDEX('Analyse Préliminaire Ventilateu'!AM$13:AM$44,$A67-nbappomp),IF($A67<=nbappomp+nbapven+nbapair,EcoAPkWhCP,IF(A67<=nbappomp+nbapven+nbapair+nbaautre,INDEX('Analyse Préliminaire Autres'!$E$11:$E$42,A67-nbappomp-nbapven-nbapair),IF($A67<=nbappomp+nbapven+nbapair+nbaautre+nbafroid,INDEX('AP Groupe froid'!$AN$14:$AN$17,$A67-nbappomp-nbapven-nbapair-nbaautre),\"\"))))))","v":""},{"$f":"IF(AN67,\"\",IF($A67<=nbappomp,INDEX('Analyse Préliminaire Pompe'!AP$13:AP$47,$A67),IF($A67<=nbappomp+nbapven,INDEX('Analyse Préliminaire Ventilateu'!AN$13:AN$44,$A67-nbappomp),IF($A67<=nbappomp+nbapven+nbapair,EcoAPpercCP,IF(A67<=nbappomp+nbapven+nbapair+nbaautre,INDEX('Analyse Préliminaire Autres'!$E$11:$E$42,A67-nbappomp-nbapven-nbapair),IF($A67<=nbappomp+nbapven+nbapair+nbaautre+nbafroid,INDEX('AP Groupe froid'!$AO$14:$AO$17,$A67-nbappomp-nbapven-nbapair-nbaautre),\"\"))))))","v":""},{"$f":"IF(AN67,\"\",IF($A67<=nbappomp,INDEX('Analyse Préliminaire Pompe'!AQ$13:AQ$47,$A67),IF($A67<=nbappomp+nbapven,INDEX('Analyse Préliminaire Ventilateu'!AO$13:AO$44,$A67-nbappomp),IF($A67<=nbappomp+nbapven+nbapair,consoanncp,IF(A67<=nbappomp+nbapven+nbapair+nbaautre,INDEX('Analyse Préliminaire Autres'!$E$11:$E$42,A67-nbappomp-nbapven-nbapair),IF($A67<=nbappomp+nbapven+nbapair+nbaautre+nbafroid,INDEX('AP Groupe froid'!$AP$14:$AP$17,$A67-nbappomp-nbapven-nbapair-nbaautre),\"\"))))))","v":""},{"$f":"IF(R67=\"\",-1,IF(AND($L67>'Economies classées'!$B$2,$K67>0.2,YEAR(TODAY())-$Z67>8),2,IF(AND($L67>'Economies classées'!$B$3,YEAR(TODAY())-$Z67>5),1,0)))","v":-1},null,null,"",{"$f":"IF($A67<=nbappomp,ISBLANK(INDEX('Analyse Préliminaire Pompe'!AO$13:AO$47,$A67)),IF($A67<=nbappomp+nbapven,ISBLANK(INDEX('Analyse Préliminaire Ventilateu'!AM$13:AM$44,$A67-nbappomp)),IF($A67<=nbappomp+nbapven+nbapair,ISBLANK(EcoAPkWhCP),IF(A67<=nbappomp+nbapven+nbapair+nbaautre,ISBLANK(INDEX('Analyse Préliminaire Autres'!AC$11:AC$42,A67-nbappomp-nbapven-nbapair)),IF(A67<=nbappomp+nbapven+nbapair+nbaautre+nbafroid,ISBLANK(INDEX('AP Groupe froid'!$AN$14:$AN$17,A67-nbappomp-nbapven-nbapair-nbaautre)),FALSE)))))","v":false},{"$f":"IF(E67=Listes!$H$25,1,0)","v":0},{"$f":"IF(E67=Listes!$H$26,1,0)","v":0},0,0,{"$f":"IF(E67=Listes!$H$28,1,0)","v":0},null,0,0,0,0,0,null,0,0,0,0,0,null,"","","","","",null,-1,-1,-1,-1,null,null,{"$f":"IF(E67=Listes!$H$25,1,0)","v":0},{"$f":"IF(E67=Listes!$H$26,1,0)","v":0},0,0,0,0,0,null,0,0,null,{"$error":"#VALUE!"},0,0,0,null,null,null,"",""]
[44,"",null,{"$f":"IF(A68<=nbappomp,INDEX('Analyse Préliminaire Pompe'!$B$13:$B$47,A68),IF(A68<=nbappomp+nbapven,INDEX('Analyse Préliminaire Ventilateu'!$B$13:$B$44,A68-nbappomp),IF(A68<=nbappomp+nbapven+nbapair,301,IF(A68<=nbappomp+nbapven+nbapair+nbaautre,INDEX('Analyse Préliminaire Autres'!$B$11:$B$42,A68-nbappomp-nbapven-nbapair),IF(A68<=nbappomp+nbapven+nbapair+nbaautre+nbafroid,INDEX('AP Groupe froid'!$B$14:$B$17,A68-nbappomp-nbapven-nbapair-nbaautre),\"\")))))","v":""},{"$f":"IF(A68<=nbappomp,INDEX('Analyse Préliminaire Pompe'!$C$13:$C$47,A68),IF(A68<=nbappomp+nbapven,INDEX('Analyse Préliminaire Ventilateu'!$C$13:$C$44,A68-nbappomp),IF(A68<=nbappomp+nbapven+nbapair,$AJ$4,IF(A68<=nbappomp+nbapven+nbapair+nbaautre,INDEX('Analyse Préliminaire Autres'!$C$11:$C$42,A68-nbappomp-nbapven-nbapair),IF(A68<=nbappomp+nbapven+nbapair+nbaautre+nbafroid,INDEX('AP Groupe froid'!$C$14:$C$17,A68-nbappomp-nbapven-nbapair-nbaautre),\"\")))))","v":""},null,null,{"$f":"IF(A68<=nbappomp,INDEX('Analyse Préliminaire Pompe'!$H$13:$H$47,A68),IF(A68<=nbappomp+nbapven,INDEX('Analyse Préliminaire Ventilateu'!$H$13:$H$44,A68-nbappomp),IF(A68<=nbappomp+nbapven+nbapair,$AJ$4,IF(A68<=nbappomp+nbapven+nbapair+nbaautre,INDEX('Analyse Préliminaire Autres'!$H$11:$H$42,A68-nbappomp-nbapven-nbapair),IF(A68<=nbappomp+nbapven+nbapair+nbaautre+nbafroid,INDEX('AP Groupe froid'!$I$14:$I$17,A68-nbappomp-nbapven-nbapair-nbaautre),\"\")))))","v":""},null,null,{"$f":"IF(AH68=\"\",IF($A68<=nbappomp,INDEX('Analyse Préliminaire Pompe'!AE$13:AE$47,$A68),IF($A68<=nbappomp+nbapven,INDEX('Analyse Préliminaire Ventilateu'!AC$13:AC$44,$A68-nbappomp),IF($A68<=nbappomp+nbapven+nbapair,'Analyse Préliminaire air compr'!$AI$22,IF(A68<=nbappomp+nbapven+nbapair+nbaautre,INDEX('Analyse Préliminaire Autres'!$X$11:$X$42,A68-nbappomp-nbapven-nbapair),IF(A68<=nbappomp+nbapven+nbapair+nbaautre+nbafroid,INDEX('AP Groupe froid'!$AF$14:$AF$17,A68-nbappomp-nbapven-nbapair-nbaautre),\"\"))))),AH68)","v":""},{"$f":"IF(AG68=\"\",IF($A68<=nbappomp,INDEX('Analyse Préliminaire Pompe'!AD$13:AD$47,$A68),IF($A68<=nbappomp+nbapven,INDEX('Analyse Préliminaire Ventilateu'!AB$13:AB$44,$A68-nbappomp),IF($A68<=nbappomp+nbapven+nbapair,'Analyse Préliminaire air compr'!$AH$22,IF(A68<=nbappomp+nbapven+nbapair+nbaautre,INDEX('Analyse Préliminaire Autres'!$W$11:$W$42,A68-nbappomp-nbapven-nbapair),IF(A68<=nbappomp+nbapven+nbapair+nbaautre+nbafroid,INDEX('AP Groupe froid'!$AE$14:$AE$17,A68-nbappomp-nbapven-nbapair-nbaautre),\"\"))))),AG68)","v":""},null,"",null,"",null,{"$f":"IF(AI68=\"\",IF($A68<=nbappomp,INDEX('Analyse Préliminaire Pompe'!T$13:T$47,$A68),IF($A68<=nbappomp+nbapven,INDEX('Analyse Préliminaire Ventilateu'!R$13:R$44,$A68-nbappomp),IF($A68<=nbappomp+nbapven+nbapair,'Analyse Préliminaire air compr'!$AH$13,IF(A68<=nbappomp+nbapven+nbapair+nbaautre,INDEX('Analyse Préliminaire Autres'!$P$11:$P$42,A68-nbappomp-nbapven-nbapair),IF(A68<=nbappomp+nbapven+nbapair+nbaautre+nbafroid,INDEX('AP Groupe froid'!$AD$14:$AD$17,A68-nbappomp-nbapven-nbapair-nbaautre),\"\"))))),AI68)","v":""},null,{"$f":"IF($A68<=nbappomp,INDEX('Analyse Préliminaire Pompe'!X$13:X$47,$A68),IF($A68<=nbappomp+nbapven,INDEX('Analyse Préliminaire Ventilateu'!V$13:V$44,$A68-nbappomp),IF($A68<=nbappomp+nbapven+nbapair,'Analyse Préliminaire air compr'!$E$35,IF(A68<=nbappomp+nbapven+nbapair+nbaautre,INDEX('Analyse Préliminaire Autres'!$R$11:$R$42,A68-nbappomp-nbapven-nbapair),IF(A68<=nbappomp+nbapven+nbapair+nbaautre+nbafroid,INDEX('AP Groupe froid'!$Z$14:$Z$17,A68-nbappomp-nbapven-nbapair-nbaautre),\"\")))))","v":""},null,null,{"$f":"IF(AG68=\"\",IF($A68<=nbappomp,INDEX('Analyse Préliminaire Pompe'!AN$13:AN$47,$A68),IF($A68<=nbappomp+nbapven,INDEX('Analyse Préliminaire Ventilateu'!AL$13:AL$44,$A68-nbappomp),IF($A68<=nbappomp+nbapven+nbapair,'Analyse Préliminaire air compr'!$AM$16,IF(A68<=nbappomp+nbapven+nbapair+nbaautre,INDEX('Analyse Préliminaire Autres'!$AB$11:$AB$42,A68-nbappomp-nbapven-nbapair),IF(A68<=nbappomp+nbapven+nbapair+nbaautre+nbafroid,INDEX('AP Groupe froid'!$AM$14:$AM$17,A68-nbappomp-nbapven-nbapair-nbaautre),\"\"))))),'Economies classées'!$A$47)","v":""},{"$f":"IF($A68<=nbappomp,INDEX('Analyse Préliminaire Pompe'!E$13:E$47,$A68),IF($A68<=nbappomp+nbapven,INDEX('Analyse Préliminaire Ventilateu'!E$13:E$44,$A68-nbappomp),IF($A68<=nbappomp+nbapven+nbapair,\"voir detail\",IF(A68<=nbappomp+nbapven+nbapair+nbaautre,INDEX('Analyse Préliminaire Autres'!$E$11:$E$42,A68-nbappomp-nbapven-nbapair),IF(A68<=nbappomp+nbapven+nbapair+nbaautre+nbafroid,INDEX('AP Groupe froid'!$F$14:$F$17,A68-nbappomp-nbapven-nbapair-nbaautre),\"\")))))","v":""},{"$f":"IF($A68<=nbappomp,INDEX('Analyse Préliminaire Pompe'!K$13:K$47,$A68),IF($A68<=nbappomp+nbapven,INDEX('Analyse Préliminaire Ventilateu'!K$13:K$44,$A68-nbappomp),IF($A68<=nbappomp+nbapven+nbapair,SUM('Analyse Préliminaire air compr'!$I$26:$I$32),IF(A68<=nbappomp+nbapven+nbapair+nbaautre,INDEX('Analyse Préliminaire Autres'!$K$11:$K$42,A68-nbappomp-nbapven-nbapair),IF(A68<=nbappomp+nbapven+nbapair+nbaautre+nbafroid,INDEX('AP Groupe froid'!$O$14:$O$17,A68-nbappomp-nbapven-nbapair-nbaautre),\"\")))))","v":""},{"$f":"IF($A68<=nbappomp,INDEX('Analyse Préliminaire Pompe'!L$13:L$47,$A68),IF($A68<=nbappomp+nbapven,INDEX('Analyse Préliminaire Ventilateu'!L$13:L$44,$A68-nbappomp),IF($A68<=nbappomp+nbapven+nbapair,MIN('Analyse Préliminaire air compr'!$J$26:$J$32),IF(A68<=nbappomp+nbapven+nbapair+nbaautre,INDEX('Analyse Préliminaire Autres'!$L$11:$L$42,A68-nbappomp-nbapven-nbapair),IF($A68<=nbappomp+nbapven+nbapair,'Analyse Préliminaire air compr'!$AM$16,IF(A68<=nbappomp+nbapven+nbapair+nbaautre+nbafroid,INDEX('AP Groupe froid'!$L$14:$L$17,A68-nbappomp-nbapven-nbapair-nbaautre),\"\"))))))","v":""},{"$f":"IF($A68<=nbappomp,INDEX('Analyse Préliminaire Pompe'!M$13:M$47,$A68),IF($A68<=nbappomp+nbapven,INDEX('Analyse Préliminaire Ventilateu'!M$13:M$44,$A68-nbappomp),IF($A68<=nbappomp+nbapven+nbapair,\"\",IF(A68<=nbappomp+nbapven+nbapair+nbaautre,INDEX('Analyse Préliminaire Autres'!$M$11:$M$42,A68-nbappomp-nbapven-nbapair),IF($A68<=nbappomp+nbapven+nbapair,'Analyse Préliminaire air compr'!$AM$16,IF(A68<=nbappomp+nbapven+nbapair+nbaautre+nbafroid,INDEX('AP Groupe froid'!$M$14:$M$17,A68-nbappomp-nbapven-nbapair-nbaautre),\"\"))))))","v":""},{"$f":"IF($A68<=nbappomp,INDEX('Analyse Préliminaire Pompe'!N$13:N$47,$A68),IF($A68<=nbappomp+nbapven,INDEX('Analyse Préliminaire Ventilateu'!N$13:N$44,$A68-nbappomp),IF($A68<=nbappomp+nbapven+nbapair,\"\",IF(A68<=nbappomp+nbapven+nbapair+nbaautre,INDEX('Analyse Préliminaire Autres'!$N$11:$N$42,A68-nbappomp-nbapven-nbapair),\"\"))))","v":""},{"$f":"IF($A68<=nbappomp,INDEX('Analyse Préliminaire Pompe'!O$13:O$47,$A68),IF($A68<=nbappomp+nbapven,INDEX('Analyse Préliminaire Ventilateu'!O$13:O$44,$A68-nbappomp),IF($A68<=nbappomp+nbapven+nbapair,\"\",IF(A68<=nbappomp+nbapven+nbapair+nbaautre,INDEX('Analyse Préliminaire Autres'!$O$11:$O$42,A68-nbappomp-nbapven-nbapair),\"\"))))","v":""},{"$f":"IF($A68<=nbappomp,INDEX('Analyse Préliminaire Pompe'!P$13:P$47,$A68),IF($A68<=nbappomp+nbapven,INDEX('Analyse Préliminaire Ventilateu'!P$13:P$44,$A68-nbappomp),IF($A68<=nbappomp+nbapven+nbapair,\"\",IF(A68<=nbappomp+nbapven+nbapair+nbaautre,INDEX('Analyse Préliminaire Autres'!#REF!,A68-nbappomp-nbapven-nbapair),\"\"))))","v":""},{"$f":"IF($A68<=nbappomp,INDEX('Analyse Préliminaire Pompe'!Q$13:Q$47,$A68),IF($A68<=nbappomp+nbapven,\"\",IF($A68<=nbappomp+nbapven+nbapair,\"\",\"\")))","v":""},{"$f":"IF(AI68=\"\",IF($A68<=nbappomp,INDEX('Analyse Préliminaire Pompe'!S$13:S$47,$A68),IF($A68<=nbappomp+nbapven,INDEX('Analyse Préliminaire Ventilateu'!Q$13:Q$44,$A68-nbappomp),IF($A68<=nbappomp+nbapven+nbapair,\"\",IF(A68<=nbappomp+nbapven+nbapair+nbaautre,\"\",\"\")))),AI68)","v":""},{"$f":"IF(AN68,\"\",IF($A68<=nbappomp,INDEX('Analyse Préliminaire Pompe'!AO$13:AO$47,$A68),IF($A68<=nbappomp+nbapven,INDEX('Analyse Préliminaire Ventilateu'!AM$13:AM$44,$A68-nbappomp),IF($A68<=nbappomp+nbapven+nbapair,EcoAPkWhCP,IF(A68<=nbappomp+nbapven+nbapair+nbaautre,INDEX('Analyse Préliminaire Autres'!$E$11:$E$42,A68-nbappomp-nbapven-nbapair),IF($A68<=nbappomp+nbapven+nbapair+nbaautre+nbafroid,INDEX('AP Groupe froid'!$AN$14:$AN$17,$A68-nbappomp-nbapven-nbapair-nbaautre),\"\"))))))","v":""},{"$f":"IF(AN68,\"\",IF($A68<=nbappomp,INDEX('Analyse Préliminaire Pompe'!AP$13:AP$47,$A68),IF($A68<=nbappomp+nbapven,INDEX('Analyse Préliminaire Ventilateu'!AN$13:AN$44,$A68-nbappomp),IF($A68<=nbappomp+nbapven+nbapair,EcoAPpercCP,IF(A68<=nbappomp+nbapven+nbapair+nbaautre,INDEX('Analyse Préliminaire Autres'!$E$11:$E$42,A68-nbappomp-nbapven-nbapair),IF($A68<=nbappomp+nbapven+nbapair+nbaautre+nbafroid,INDEX('AP Groupe froid'!$AO$14:$AO$17,$A68-nbappomp-nbapven-nbapair-nbaautre),\"\"))))))","v":""},{"$f":"IF(AN68,\"\",IF($A68<=nbappomp,INDEX('Analyse Préliminaire Pompe'!AQ$13:AQ$47,$A68),IF($A68<=nbappomp+nbapven,INDEX('Analyse Préliminaire Ventilateu'!AO$13:AO$44,$A68-nbappomp),IF($A68<=nbappomp+nbapven+nbapair,consoanncp,IF(A68<=nbappomp+nbapven+nbapair+nbaautre,INDEX('Analyse Préliminaire Autres'!$E$11:$E$42,A68-nbappomp-nbapven-nbapair),IF($A68<=nbappomp+nbapven+nbapair+nbaautre+nbafroid,INDEX('AP Groupe froid'!$AP$14:$AP$17,$A68-nbappomp-nbapven-nbapair-nbaautre),\"\"))))))","v":""},{"$f":"IF(R68=\"\",-1,IF(AND($L68>'Economies classées'!$B$2,$K68>0.2,YEAR(TODAY())-$Z68>8),2,IF(AND($L68>'Economies classées'!$B$3,YEAR(TODAY())-$Z68>5),1,0)))","v":-1},null,null,"",{"$f":"IF($A68<=nbappomp,ISBLANK(INDEX('Analyse Préliminaire Pompe'!AO$13:AO$47,$A68)),IF($A68<=nbappomp+nbapven,ISBLANK(INDEX('Analyse Préliminaire Ventilateu'!AM$13:AM$44,$A68-nbappomp)),IF($A68<=nbappomp+nbapven+nbapair,ISBLANK(EcoAPkWhCP),IF(A68<=nbappomp+nbapven+nbapair+nbaautre,ISBLANK(INDEX('Analyse Préliminaire Autres'!AC$11:AC$42,A68-nbappomp-nbapven-nbapair)),IF(A68<=nbappomp+nbapven+nbapair+nbaautre+nbafroid,ISBLANK(INDEX('AP Groupe froid'!$AN$14:$AN$17,A68-nbappomp-nbapven-nbapair-nbaautre)),FALSE)))))","v":false},{"$f":"IF(E68=Listes!$H$25,1,0)","v":0},{"$f":"IF(E68=Listes!$H$26,1,0)","v":0},0,0,{"$f":"IF(E68=Listes!$H$28,1,0)","v":0},null,0,0,0,0,0,null,0,0,0,0,0,null,"","","","","",null,-1,-1,-1,-1,null,null,{"$f":"IF(E68=Listes!$H$25,1,0)","v":0},{"$f":"IF(E68=Listes!$H$26,1,0)","v":0},0,0,0,0,0,null,0,0,null,{"$error":"#VALUE!"},0,0,0,null,null,null,"",""]
[45,"",null,{"$f":"IF(A69<=nbappomp,INDEX('Analyse Préliminaire Pompe'!$B$13:$B$47,A69),IF(A69<=nbappomp+nbapven,INDEX('Analyse Préliminaire Ventilateu'!$B$13:$B$44,A69-nbappomp),IF(A69<=nbappomp+nbapven+nbapair,301,IF(A69<=nbappomp+nbapven+nbapair+nbaautre,INDEX('Analyse Préliminaire Autres'!$B$11:$B$42,A69-nbappomp-nbapven-nbapair),IF(A69<=nbappomp+nbapven+nbapair+nbaautre+nbafroid,INDEX('AP Groupe froid'!$B$14:$B$17,A69-nbappomp-nbapven-nbapair-nbaautre),\"\")))))","v":""},{"$f":"IF(A69<=nbappomp,INDEX('Analyse Préliminaire Pompe'!$C$13:$C$47,A69),IF(A69<=nbappomp+nbapven,INDEX('Analyse Préliminaire Ventilateu'!$C$13:$C$44,A69-nbappomp),IF(A69<=nbappomp+nbapven+nbapair,$AJ$4,IF(A69<=nbappomp+nbapven+nbapair+nbaautre,INDEX('Analyse Préliminaire Autres'!$C$11:$C$42,A69-nbappomp-nbapven-nbapair),IF(A69<=nbappomp+nbapven+nbapair+nbaautre+nbafroid,INDEX('AP Groupe froid'!$C$14:$C$17,A69-nbappomp-nbapven-nbapair-nbaautre),\"\")))))","v":""},null,null,{"$f":"IF(A69<=nbappomp,INDEX('Analyse Préliminaire Pompe'!$H$13:$H$47,A69),IF(A69<=nbappomp+nbapven,INDEX('Analyse Préliminaire Ventilateu'!$H$13:$H$44,A69-nbappomp),IF(A69<=nbappomp+nbapven+nbapair,$AJ$4,IF(A69<=nbappomp+nbapven+nbapair+nbaautre,INDEX('Analyse Préliminaire Autres'!$H$11:$H$42,A69-nbappomp-nbapven-nbapair),IF(A69<=nbappomp+nbapven+nbapair+nbaautre+nbafroid,INDEX('AP Groupe froid'!$I$14:$I$17,A69-nbappomp-nbapven-nbapair-nbaautre),\"\")))))","v":""},null,null,{"$f":"IF(AH69=\"\",IF($A69<=nbappomp,INDEX('Analyse Préliminaire Pompe'!AE$13:AE$47,$A69),IF($A69<=nbappomp+nbapven,INDEX('Analyse Préliminaire Ventilateu'!AC$13:AC$44,$A69-nbappomp),IF($A69<=nbappomp+nbapven+nbapair,'Analyse Préliminaire air compr'!$AI$22,IF(A69<=nbappomp+nbapven+nbapair+nbaautre,INDEX('Analyse Préliminaire Autres'!$X$11:$X$42,A69-nbappomp-nbapven-nbapair),IF(A69<=nbappomp+nbapven+nbapair+nbaautre+nbafroid,INDEX('AP Groupe froid'!$AF$14:$AF$17,A69-nbappomp-nbapven-nbapair-nbaautre),\"\"))))),AH69)","v":""},{"$f":"IF(AG69=\"\",IF($A69<=nbappomp,INDEX('Analyse Préliminaire Pompe'!AD$13:AD$47,$A69),IF($A69<=nbappomp+nbapven,INDEX('Analyse Préliminaire Ventilateu'!AB$13:AB$44,$A69-nbappomp),IF($A69<=nbappomp+nbapven+nbapair,'Analyse Préliminaire air compr'!$AH$22,IF(A69<=nbappomp+nbapven+nbapair+nbaautre,INDEX('Analyse Préliminaire Autres'!$W$11:$W$42,A69-nbappomp-nbapven-nbapair),IF(A69<=nbappomp+nbapven+nbapair+nbaautre+nbafroid,INDEX('AP Groupe froid'!$AE$14:$AE$17,A69-nbappomp-nbapven-nbapair-nbaautre),\"\"))))),AG69)","v":""},null,"",null,"",null,{"$f":"IF(AI69=\"\",IF($A69<=nbappomp,INDEX('Analyse Préliminaire Pompe'!T$13:T$47,$A69),IF($A69<=nbappomp+nbapven,INDEX('Analyse Préliminaire Ventilateu'!R$13:R$44,$A69-nbappomp),IF($A69<=nbappomp+nbapven+nbapair,'Analyse Préliminaire air compr'!$AH$13,IF(A69<=nbappomp+nbapven+nbapair+nbaautre,INDEX('Analyse Préliminaire Autres'!$P$11:$P$42,A69-nbappomp-nbapven-nbapair),IF(A69<=nbappomp+nbapven+nbapair+nbaautre+nbafroid,INDEX('AP Groupe froid'!$AD$14:$AD$17,A69-nbappomp-nbapven-nbapair-nbaautre),\"\"))))),AI69)","v":""},null,{"$f":"IF($A69<=nbappomp,INDEX('Analyse Préliminaire Pompe'!X$13:X$47,$A69),IF($A69<=nbappomp+nbapven,INDEX('Analyse Préliminaire Ventilateu'!V$13:V$44,$A69-nbappomp),IF($A69<=nbappomp+nbapven+nbapair,'Analyse Préliminaire air compr'!$E$35,IF(A69<=nbappomp+nbapven+nbapair+nbaautre,INDEX('Analyse Préliminaire Autres'!$R$11:$R$42,A69-nbappomp-nbapven-nbapair),IF(A69<=nbappomp+nbapven+nbapair+nbaautre+nbafroid,INDEX('AP Groupe froid'!$Z$14:$Z$17,A69-nbappomp-nbapven-nbapair-nbaautre),\"\")))))","v":""},null,null,{"$f":"IF(AG69=\"\",IF($A69<=nbappomp,INDEX('Analyse Préliminaire Pompe'!AN$13:AN$47,$A69),IF($A69<=nbappomp+nbapven,INDEX('Analyse Préliminaire Ventilateu'!AL$13:AL$44,$A69-nbappomp),IF($A69<=nbappomp+nbapven+nbapair,'Analyse Préliminaire air compr'!$AM$16,IF(A69<=nbappomp+nbapven+nbapair+nbaautre,INDEX('Analyse Préliminaire Autres'!$AB$11:$AB$42,A69-nbappomp-nbapven-nbapair),IF(A69<=nbappomp+nbapven+nbapair+nbaautre+nbafroid,INDEX('AP Groupe froid'!$AM$14:$AM$17,A69-nbappomp-nbapven-nbapair-nbaautre),\"\"))))),'Economies classées'!$A$47)","v":""},{"$f":"IF($A69<=nbappomp,INDEX('Analyse Préliminaire Pompe'!E$13:E$47,$A69),IF($A69<=nbappomp+nbapven,INDEX('Analyse Préliminaire Ventilateu'!E$13:E$44,$A69-nbappomp),IF($A69<=nbappomp+nbapven+nbapair,\"voir detail\",IF(A69<=nbappomp+nbapven+nbapair+nbaautre,INDEX('Analyse Préliminaire Autres'!$E$11:$E$42,A69-nbappomp-nbapven-nbapair),IF(A69<=nbappomp+nbapven+nbapair+nbaautre+nbafroid,INDEX('AP Groupe froid'!$F$14:$F$17,A69-nbappomp-nbapven-nbapair-nbaautre),\"\")))))","v":""},{"$f":"IF($A69<=nbappomp,INDEX('Analyse Préliminaire Pompe'!K$13:K$47,$A69),IF($A69<=nbappomp+nbapven,INDEX('Analyse Préliminaire Ventilateu'!K$13:K$44,$A69-nbappomp),IF($A69<=nbappomp+nbapven+nbapair,SUM('Analyse Préliminaire air compr'!$I$26:$I$32),IF(A69<=nbappomp+nbapven+nbapair+nbaautre,INDEX('Analyse Préliminaire Autres'!$K$11:$K$42,A69-nbappomp-nbapven-nbapair),IF(A69<=nbappomp+nbapven+nbapair+nbaautre+nbafroid,INDEX('AP Groupe froid'!$O$14:$O$17,A69-nbappomp-nbapven-nbapair-nbaautre),\"\")))))","v":""},{"$f":"IF($A69<=nbappomp,INDEX('Analyse Préliminaire Pompe'!L$13:L$47,$A69),IF($A69<=nbappomp+nbapven,INDEX('Analyse Préliminaire Ventilateu'!L$13:L$44,$A69-nbappomp),IF($A69<=nbappomp+nbapven+nbapair,MIN('Analyse Préliminaire air compr'!$J$26:$J$32),IF(A69<=nbappomp+nbapven+nbapair+nbaautre,INDEX('Analyse Préliminaire Autres'!$L$11:$L$42,A69-nbappomp-nbapven-nbapair),IF($A69<=nbappomp+nbapven+nbapair,'Analyse Préliminaire air compr'!$AM$16,IF(A69<=nbappomp+nbapven+nbapair+nbaautre+nbafroid,INDEX('AP Groupe froid'!$L$14:$L$17,A69-nbappomp-nbapven-nbapair-nbaautre),\"\"))))))","v":""},{"$f":"IF($A69<=nbappomp,INDEX('Analyse Préliminaire Pompe'!M$13:M$47,$A69),IF($A69<=nbappomp+nbapven,INDEX('Analyse Préliminaire Ventilateu'!M$13:M$44,$A69-nbappomp),IF($A69<=nbappomp+nbapven+nbapair,\"\",IF(A69<=nbappomp+nbapven+nbapair+nbaautre,INDEX('Analyse Préliminaire Autres'!$M$11:$M$42,A69-nbappomp-nbapven-nbapair),IF($A69<=nbappomp+nbapven+nbapair,'Analyse Préliminaire air compr'!$AM$16,IF(A69<=nbappomp+nbapven+nbapair+nbaautre+nbafroid,INDEX('AP Groupe froid'!$M$14:$M$17,A69-nbappomp-nbapven-nbapair-nbaautre),\"\"))))))","v":""},{"$f":"IF($A69<=nbappomp,INDEX('Analyse Préliminaire Pompe'!N$13:N$47,$A69),IF($A69<=nbappomp+nbapven,INDEX('Analyse Préliminaire Ventilateu'!N$13:N$44,$A69-nbappomp),IF($A69<=nbappomp+nbapven+nbapair,\"\",IF(A69<=nbappomp+nbapven+nbapair+nbaautre,INDEX('Analyse Préliminaire Autres'!$N$11:$N$42,A69-nbappomp-nbapven-nbapair),\"\"))))","v":""},{"$f":"IF($A69<=nbappomp,INDEX('Analyse Préliminaire Pompe'!O$13:O$47,$A69),IF($A69<=nbappomp+nbapven,INDEX('Analyse Préliminaire Ventilateu'!O$13:O$44,$A69-nbappomp),IF($A69<=nbappomp+nbapven+nbapair,\"\",IF(A69<=nbappomp+nbapven+nbapair+nbaautre,INDEX('Analyse Préliminaire Autres'!$O$11:$O$42,A69-nbappomp-nbapven-nbapair),\"\"))))","v":""},{"$f":"IF($A69<=nbappomp,INDEX('Analyse Préliminaire Pompe'!P$13:P$47,$A69),IF($A69<=nbappomp+nbapven,INDEX('Analyse Préliminaire Ventilateu'!P$13:P$44,$A69-nbappomp),IF($A69<=nbappomp+nbapven+nbapair,\"\",IF(A69<=nbappomp+nbapven+nbapair+nbaautre,INDEX('Analyse Préliminaire Autres'!#REF!,A69-nbappomp-nbapven-nbapair),\"\"))))","v":""},{"$f":"IF($A69<=nbappomp,INDEX('Analyse Préliminaire Pompe'!Q$13:Q$47,$A69),IF($A69<=nbappomp+nbapven,\"\",IF($A69<=nbappomp+nbapven+nbapair,\"\",\"\")))","v":""},{"$f":"IF(AI69=\"\",IF($A69<=nbappomp,INDEX('Analyse Préliminaire Pompe'!S$13:S$47,$A69),IF($A69<=nbappomp+nbapven,INDEX('Analyse Préliminaire Ventilateu'!Q$13:Q$44,$A69-nbappomp),IF($A69<=nbappomp+nbapven+nbapair,\"\",IF(A69<=nbappomp+nbapven+nbapair+nbaautre,\"\",\"\")))),AI69)","v":""},{"$f":"IF(AN69,\"\",IF($A69<=nbappomp,INDEX('Analyse Préliminaire Pompe'!AO$13:AO$47,$A69),IF($A69<=nbappomp+nbapven,INDEX('Analyse Préliminaire Ventilateu'!AM$13:AM$44,$A69-nbappomp),IF($A69<=nbappomp+nbapven+nbapair,EcoAPkWhCP,IF(A69<=nbappomp+nbapven+nbapair+nbaautre,INDEX('Analyse Préliminaire Autres'!$E$11:$E$42,A69-nbappomp-nbapven-nbapair),IF($A69<=nbappomp+nbapven+nbapair+nbaautre+nbafroid,INDEX('AP Groupe froid'!$AN$14:$AN$17,$A69-nbappomp-nbapven-nbapair-nbaautre),\"\"))))))","v":""},{"$f":"IF(AN69,\"\",IF($A69<=nbappomp,INDEX('Analyse Préliminaire Pompe'!AP$13:AP$47,$A69),IF($A69<=nbappomp+nbapven,INDEX('Analyse Préliminaire Ventilateu'!AN$13:AN$44,$A69-nbappomp),IF($A69<=nbappomp+nbapven+nbapair,EcoAPpercCP,IF(A69<=nbappomp+nbapven+nbapair+nbaautre,INDEX('Analyse Préliminaire Autres'!$E$11:$E$42,A69-nbappomp-nbapven-nbapair),IF($A69<=nbappomp+nbapven+nbapair+nbaautre+nbafroid,INDEX('AP Groupe froid'!$AO$14:$AO$17,$A69-nbappomp-nbapven-nbapair-nbaautre),\"\"))))))","v":""},{"$f":"IF(AN69,\"\",IF($A69<=nbappomp,INDEX('Analyse Préliminaire Pompe'!AQ$13:AQ$47,$A69),IF($A69<=nbappomp+nbapven,INDEX('Analyse Préliminaire Ventilateu'!AO$13:AO$44,$A69-nbappomp),IF($A69<=nbappomp+nbapven+nbapair,consoanncp,IF(A69<=nbappomp+nbapven+nbapair+nbaautre,INDEX('Analyse Préliminaire Autres'!$E$11:$E$42,A69-nbappomp-nbapven-nbapair),IF($A69<=nbappomp+nbapven+nbapair+nbaautre+nbafroid,INDEX('AP Groupe froid'!$AP$14:$AP$17,$A69-nbappomp-nbapven-nbapair-nbaautre),\"\"))))))","v":""},{"$f":"IF(R69=\"\",-1,IF(AND($L69>'Economies classées'!$B$2,$K69>0.2,YEAR(TODAY())-$Z69>8),2,IF(AND($L69>'Economies classées'!$B$3,YEAR(TODAY())-$Z69>5),1,0)))","v":-1},null,null,"",{"$f":"IF($A69<=nbappomp,ISBLANK(INDEX('Analyse Préliminaire Pompe'!AO$13:AO$47,$A69)),IF($A69<=nbappomp+nbapven,ISBLANK(INDEX('Analyse Préliminaire Ventilateu'!AM$13:AM$44,$A69-nbappomp)),IF($A69<=nbappomp+nbapven+nbapair,ISBLANK(EcoAPkWhCP),IF(A69<=nbappomp+nbapven+nbapair+nbaautre,ISBLANK(INDEX('Analyse Préliminaire Autres'!AC$11:AC$42,A69-nbappomp-nbapven-nbapair)),IF(A69<=nbappomp+nbapven+nbapair+nbaautre+nbafroid,ISBLANK(INDEX('AP Groupe froid'!$AN$14:$AN$17,A69-nbappomp-nbapven-nbapair-nbaautre)),FALSE)))))","v":false},{"$f":"IF(E69=Listes!$H$25,1,0)","v":0},{"$f":"IF(E69=Listes!$H$26,1,0)","v":0},0,0,{"$f":"IF(E69=Listes!$H$28,1,0)","v":0},null,0,0,0,0,0,null,0,0,0,0,0,null,"","","","","",null,-1,-1,-1,-1,null,null,{"$f":"IF(E69=Listes!$H$25,1,0)","v":0},{"$f":"IF(E69=Listes!$H$26,1,0)","v":0},0,0,0,0,0,null,0,0,null,{"$error":"#VALUE!"},0,0,0,null,null,null,"",""]
[46,"",null,{"$f":"IF(A70<=nbappomp,INDEX('Analyse Préliminaire Pompe'!$B$13:$B$47,A70),IF(A70<=nbappomp+nbapven,INDEX('Analyse Préliminaire Ventilateu'!$B$13:$B$44,A70-nbappomp),IF(A70<=nbappomp+nbapven+nbapair,301,IF(A70<=nbappomp+nbapven+nbapair+nbaautre,INDEX('Analyse Préliminaire Autres'!$B$11:$B$42,A70-nbappomp-nbapven-nbapair),IF(A70<=nbappomp+nbapven+nbapair+nbaautre+nbafroid,INDEX('AP Groupe froid'!$B$14:$B$17,A70-nbappomp-nbapven-nbapair-nbaautre),\"\")))))","v":""},{"$f":"IF(A70<=nbappomp,INDEX('Analyse Préliminaire Pompe'!$C$13:$C$47,A70),IF(A70<=nbappomp+nbapven,INDEX('Analyse Préliminaire Ventilateu'!$C$13:$C$44,A70-nbappomp),IF(A70<=nbappomp+nbapven+nbapair,$AJ$4,IF(A70<=nbappomp+nbapven+nbapair+nbaautre,INDEX('Analyse Préliminaire Autres'!$C$11:$C$42,A70-nbappomp-nbapven-nbapair),IF(A70<=nbappomp+nbapven+nbapair+nbaautre+nbafroid,INDEX('AP Groupe froid'!$C$14:$C$17,A70-nbappomp-nbapven-nbapair-nbaautre),\"\")))))","v":""},null,null,{"$f":"IF(A70<=nbappomp,INDEX('Analyse Préliminaire Pompe'!$H$13:$H$47,A70),IF(A70<=nbappomp+nbapven,INDEX('Analyse Préliminaire Ventilateu'!$H$13:$H$44,A70-nbappomp),IF(A70<=nbappomp+nbapven+nbapair,$AJ$4,IF(A70<=nbappomp+nbapven+nbapair+nbaautre,INDEX('Analyse Préliminaire Autres'!$H$11:$H$42,A70-nbappomp-nbapven-nbapair),IF(A70<=nbappomp+nbapven+nbapair+nbaautre+nbafroid,INDEX('AP Groupe froid'!$I$14:$I$17,A70-nbappomp-nbapven-nbapair-nbaautre),\"\")))))","v":""},null,null,{"$f":"IF(AH70=\"\",IF($A70<=nbappomp,INDEX('Analyse Préliminaire Pompe'!AE$13:AE$47,$A70),IF($A70<=nbappomp+nbapven,INDEX('Analyse Préliminaire Ventilateu'!AC$13:AC$44,$A70-nbappomp),IF($A70<=nbappomp+nbapven+nbapair,'Analyse Préliminaire air compr'!$AI$22,IF(A70<=nbappomp+nbapven+nbapair+nbaautre,INDEX('Analyse Préliminaire Autres'!$X$11:$X$42,A70-nbappomp-nbapven-nbapair),IF(A70<=nbappomp+nbapven+nbapair+nbaautre+nbafroid,INDEX('AP Groupe froid'!$AF$14:$AF$17,A70-nbappomp-nbapven-nbapair-nbaautre),\"\"))))),AH70)","v":""},{"$f":"IF(AG70=\"\",IF($A70<=nbappomp,INDEX('Analyse Préliminaire Pompe'!AD$13:AD$47,$A70),IF($A70<=nbappomp+nbapven,INDEX('Analyse Préliminaire Ventilateu'!AB$13:AB$44,$A70-nbappomp),IF($A70<=nbappomp+nbapven+nbapair,'Analyse Préliminaire air compr'!$AH$22,IF(A70<=nbappomp+nbapven+nbapair+nbaautre,INDEX('Analyse Préliminaire Autres'!$W$11:$W$42,A70-nbappomp-nbapven-nbapair),IF(A70<=nbappomp+nbapven+nbapair+nbaautre+nbafroid,INDEX('AP Groupe froid'!$AE$14:$AE$17,A70-nbappomp-nbapven-nbapair-nbaautre),\"\"))))),AG70)","v":""},null,"",null,"",null,{"$f":"IF(AI70=\"\",IF($A70<=nbappomp,INDEX('Analyse Préliminaire Pompe'!T$13:T$47,$A70),IF($A70<=nbappomp+nbapven,INDEX('Analyse Préliminaire Ventilateu'!R$13:R$44,$A70-nbappomp),IF($A70<=nbappomp+nbapven+nbapair,'Analyse Préliminaire air compr'!$AH$13,IF(A70<=nbappomp+nbapven+nbapair+nbaautre,INDEX('Analyse Préliminaire Autres'!$P$11:$P$42,A70-nbappomp-nbapven-nbapair),IF(A70<=nbappomp+nbapven+nbapair+nbaautre+nbafroid,INDEX('AP Groupe froid'!$AD$14:$AD$17,A70-nbappomp-nbapven-nbapair-nbaautre),\"\"))))),AI70)","v":""},null,{"$f":"IF($A70<=nbappomp,INDEX('Analyse Préliminaire Pompe'!X$13:X$47,$A70),IF($A70<=nbappomp+nbapven,INDEX('Analyse Préliminaire Ventilateu'!V$13:V$44,$A70-nbappomp),IF($A70<=nbappomp+nbapven+nbapair,'Analyse Préliminaire air compr'!$E$35,IF(A70<=nbappomp+nbapven+nbapair+nbaautre,INDEX('Analyse Préliminaire Autres'!$R$11:$R$42,A70-nbappomp-nbapven-nbapair),IF(A70<=nbappomp+nbapven+nbapair+nbaautre+nbafroid,INDEX('AP Groupe froid'!$Z$14:$Z$17,A70-nbappomp-nbapven-nbapair-nbaautre),\"\")))))","v":""},null,null,{"$f":"IF(AG70=\"\",IF($A70<=nbappomp,INDEX('Analyse Préliminaire Pompe'!AN$13:AN$47,$A70),IF($A70<=nbappomp+nbapven,INDEX('Analyse Préliminaire Ventilateu'!AL$13:AL$44,$A70-nbappomp),IF($A70<=nbappomp+nbapven+nbapair,'Analyse Préliminaire air compr'!$AM$16,IF(A70<=nbappomp+nbapven+nbapair+nbaautre,INDEX('Analyse Préliminaire Autres'!$AB$11:$AB$42,A70-nbappomp-nbapven-nbapair),IF(A70<=nbappomp+nbapven+nbapair+nbaautre+nbafroid,INDEX('AP Groupe froid'!$AM$14:$AM$17,A70-nbappomp-nbapven-nbapair-nbaautre),\"\"))))),'Economies classées'!$A$47)","v":""},{"$f":"IF($A70<=nbappomp,INDEX('Analyse Préliminaire Pompe'!E$13:E$47,$A70),IF($A70<=nbappomp+nbapven,INDEX('Analyse Préliminaire Ventilateu'!E$13:E$44,$A70-nbappomp),IF($A70<=nbappomp+nbapven+nbapair,\"voir detail\",IF(A70<=nbappomp+nbapven+nbapair+nbaautre,INDEX('Analyse Préliminaire Autres'!$E$11:$E$42,A70-nbappomp-nbapven-nbapair),IF(A70<=nbappomp+nbapven+nbapair+nbaautre+nbafroid,INDEX('AP Groupe froid'!$F$14:$F$17,A70-nbappomp-nbapven-nbapair-nbaautre),\"\")))))","v":""},{"$f":"IF($A70<=nbappomp,INDEX('Analyse Préliminaire Pompe'!K$13:K$47,$A70),IF($A70<=nbappomp+nbapven,INDEX('Analyse Préliminaire Ventilateu'!K$13:K$44,$A70-nbappomp),IF($A70<=nbappomp+nbapven+nbapair,SUM('Analyse Préliminaire air compr'!$I$26:$I$32),IF(A70<=nbappomp+nbapven+nbapair+nbaautre,INDEX('Analyse Préliminaire Autres'!$K$11:$K$42,A70-nbappomp-nbapven-nbapair),IF(A70<=nbappomp+nbapven+nbapair+nbaautre+nbafroid,INDEX('AP Groupe froid'!$O$14:$O$17,A70-nbappomp-nbapven-nbapair-nbaautre),\"\")))))","v":""},{"$f":"IF($A70<=nbappomp,INDEX('Analyse Préliminaire Pompe'!L$13:L$47,$A70),IF($A70<=nbappomp+nbapven,INDEX('Analyse Préliminaire Ventilateu'!L$13:L$44,$A70-nbappomp),IF($A70<=nbappomp+nbapven+nbapair,MIN('Analyse Préliminaire air compr'!$J$26:$J$32),IF(A70<=nbappomp+nbapven+nbapair+nbaautre,INDEX('Analyse Préliminaire Autres'!$L$11:$L$42,A70-nbappomp-nbapven-nbapair),IF($A70<=nbappomp+nbapven+nbapair,'Analyse Préliminaire air compr'!$AM$16,IF(A70<=nbappomp+nbapven+nbapair+nbaautre+nbafroid,INDEX('AP Groupe froid'!$L$14:$L$17,A70-nbappomp-nbapven-nbapair-nbaautre),\"\"))))))","v":""},{"$f":"IF($A70<=nbappomp,INDEX('Analyse Préliminaire Pompe'!M$13:M$47,$A70),IF($A70<=nbappomp+nbapven,INDEX('Analyse Préliminaire Ventilateu'!M$13:M$44,$A70-nbappomp),IF($A70<=nbappomp+nbapven+nbapair,\"\",IF(A70<=nbappomp+nbapven+nbapair+nbaautre,INDEX('Analyse Préliminaire Autres'!$M$11:$M$42,A70-nbappomp-nbapven-nbapair),IF($A70<=nbappomp+nbapven+nbapair,'Analyse Préliminaire air compr'!$AM$16,IF(A70<=nbappomp+nbapven+nbapair+nbaautre+nbafroid,INDEX('AP Groupe froid'!$M$14:$M$17,A70-nbappomp-nbapven-nbapair-nbaautre),\"\"))))))","v":""},{"$f":"IF($A70<=nbappomp,INDEX('Analyse Préliminaire Pompe'!N$13:N$47,$A70),IF($A70<=nbappomp+nbapven,INDEX('Analyse Préliminaire Ventilateu'!N$13:N$44,$A70-nbappomp),IF($A70<=nbappomp+nbapven+nbapair,\"\",IF(A70<=nbappomp+nbapven+nbapair+nbaautre,INDEX('Analyse Préliminaire Autres'!$N$11:$N$42,A70-nbappomp-nbapven-nbapair),\"\"))))","v":""},{"$f":"IF($A70<=nbappomp,INDEX('Analyse Préliminaire Pompe'!O$13:O$47,$A70),IF($A70<=nbappomp+nbapven,INDEX('Analyse Préliminaire Ventilateu'!O$13:O$44,$A70-nbappomp),IF($A70<=nbappomp+nbapven+nbapair,\"\",IF(A70<=nbappomp+nbapven+nbapair+nbaautre,INDEX('Analyse Préliminaire Autres'!$O$11:$O$42,A70-nbappomp-nbapven-nbapair),\"\"))))","v":""},{"$f":"IF($A70<=nbappomp,INDEX('Analyse Préliminaire Pompe'!P$13:P$47,$A70),IF($A70<=nbappomp+nbapven,INDEX('Analyse Préliminaire Ventilateu'!P$13:P$44,$A70-nbappomp),IF($A70<=nbappomp+nbapven+nbapair,\"\",IF(A70<=nbappomp+nbapven+nbapair+nbaautre,INDEX('Analyse Préliminaire Autres'!#REF!,A70-nbappomp-nbapven-nbapair),\"\"))))","v":""},{"$f":"IF($A70<=nbappomp,INDEX('Analyse Préliminaire Pompe'!Q$13:Q$47,$A70),IF($A70<=nbappomp+nbapven,\"\",IF($A70<=nbappomp+nbapven+nbapair,\"\",\"\")))","v":""},{"$f":"IF(AI70=\"\",IF($A70<=nbappomp,INDEX('Analyse Préliminaire Pompe'!S$13:S$47,$A70),IF($A70<=nbappomp+nbapven,INDEX('Analyse Préliminaire Ventilateu'!Q$13:Q$44,$A70-nbappomp),IF($A70<=nbappomp+nbapven+nbapair,\"\",IF(A70<=nbappomp+nbapven+nbapair+nbaautre,\"\",\"\")))),AI70)","v":""},{"$f":"IF(AN70,\"\",IF($A70<=nbappomp,INDEX('Analyse Préliminaire Pompe'!AO$13:AO$47,$A70),IF($A70<=nbappomp+nbapven,INDEX('Analyse Préliminaire Ventilateu'!AM$13:AM$44,$A70-nbappomp),IF($A70<=nbappomp+nbapven+nbapair,EcoAPkWhCP,IF(A70<=nbappomp+nbapven+nbapair+nbaautre,INDEX('Analyse Préliminaire Autres'!$E$11:$E$42,A70-nbappomp-nbapven-nbapair),IF($A70<=nbappomp+nbapven+nbapair+nbaautre+nbafroid,INDEX('AP Groupe froid'!$AN$14:$AN$17,$A70-nbappomp-nbapven-nbapair-nbaautre),\"\"))))))","v":""},{"$f":"IF(AN70,\"\",IF($A70<=nbappomp,INDEX('Analyse Préliminaire Pompe'!AP$13:AP$47,$A70),IF($A70<=nbappomp+nbapven,INDEX('Analyse Préliminaire Ventilateu'!AN$13:AN$44,$A70-nbappomp),IF($A70<=nbappomp+nbapven+nbapair,EcoAPpercCP,IF(A70<=nbappomp+nbapven+nbapair+nbaautre,INDEX('Analyse Préliminaire Autres'!$E$11:$E$42,A70-nbappomp-nbapven-nbapair),IF($A70<=nbappomp+nbapven+nbapair+nbaautre+nbafroid,INDEX('AP Groupe froid'!$AO$14:$AO$17,$A70-nbappomp-nbapven-nbapair-nbaautre),\"\"))))))","v":""},{"$f":"IF(AN70,\"\",IF($A70<=nbappomp,INDEX('Analyse Préliminaire Pompe'!AQ$13:AQ$47,$A70),IF($A70<=nbappomp+nbapven,INDEX('Analyse Préliminaire Ventilateu'!AO$13:AO$44,$A70-nbappomp),IF($A70<=nbappomp+nbapven+nbapair,consoanncp,IF(A70<=nbappomp+nbapven+nbapair+nbaautre,INDEX('Analyse Préliminaire Autres'!$E$11:$E$42,A70-nbappomp-nbapven-nbapair),IF($A70<=nbappomp+nbapven+nbapair+nbaautre+nbafroid,INDEX('AP Groupe froid'!$AP$14:$AP$17,$A70-nbappomp-nbapven-nbapair-nbaautre),\"\"))))))","v":""},{"$f":"IF(R70=\"\",-1,IF(AND($L70>'Economies classées'!$B$2,$K70>0.2,YEAR(TODAY())-$Z70>8),2,IF(AND($L70>'Economies classées'!$B$3,YEAR(TODAY())-$Z70>5),1,0)))","v":-1},null,null,"",{"$f":"IF($A70<=nbappomp,ISBLANK(INDEX('Analyse Préliminaire Pompe'!AO$13:AO$47,$A70)),IF($A70<=nbappomp+nbapven,ISBLANK(INDEX('Analyse Préliminaire Ventilateu'!AM$13:AM$44,$A70-nbappomp)),IF($A70<=nbappomp+nbapven+nbapair,ISBLANK(EcoAPkWhCP),IF(A70<=nbappomp+nbapven+nbapair+nbaautre,ISBLANK(INDEX('Analyse Préliminaire Autres'!AC$11:AC$42,A70-nbappomp-nbapven-nbapair)),IF(A70<=nbappomp+nbapven+nbapair+nbaautre+nbafroid,ISBLANK(INDEX('AP Groupe froid'!$AN$14:$AN$17,A70-nbappomp-nbapven-nbapair-nbaautre)),FALSE)))))","v":false},{"$f":"IF(E70=Listes!$H$25,1,0)","v":0},{"$f":"IF(E70=Listes!$H$26,1,0)","v":0},0,0,{"$f":"IF(E70=Listes!$H$28,1,0)","v":0},null,0,0,0,0,0,null,0,0,0,0,0,null,"","","","","",null,-1,-1,-1,-1,null,null,{"$f":"IF(E70=Listes!$H$25,1,0)","v":0},{"$f":"IF(E70=Listes!$H$26,1,0)","v":0},0,0,0,0,0,null,0,0,null,{"$error":"#VALUE!"},0,0,0,null,null,null,"",""]
[47,"",null,{"$f":"IF(A71<=nbappomp,INDEX('Analyse Préliminaire Pompe'!$B$13:$B$47,A71),IF(A71<=nbappomp+nbapven,INDEX('Analyse Préliminaire Ventilateu'!$B$13:$B$44,A71-nbappomp),IF(A71<=nbappomp+nbapven+nbapair,301,IF(A71<=nbappomp+nbapven+nbapair+nbaautre,INDEX('Analyse Préliminaire Autres'!$B$11:$B$42,A71-nbappomp-nbapven-nbapair),IF(A71<=nbappomp+nbapven+nbapair+nbaautre+nbafroid,INDEX('AP Groupe froid'!$B$14:$B$17,A71-nbappomp-nbapven-nbapair-nbaautre),\"\")))))","v":""},{"$f":"IF(A71<=nbappomp,INDEX('Analyse Préliminaire Pompe'!$C$13:$C$47,A71),IF(A71<=nbappomp+nbapven,INDEX('Analyse Préliminaire Ventilateu'!$C$13:$C$44,A71-nbappomp),IF(A71<=nbappomp+nbapven+nbapair,$AJ$4,IF(A71<=nbappomp+nbapven+nbapair+nbaautre,INDEX('Analyse Préliminaire Autres'!$C$11:$C$42,A71-nbappomp-nbapven-nbapair),IF(A71<=nbappomp+nbapven+nbapair+nbaautre+nbafroid,INDEX('AP Groupe froid'!$C$14:$C$17,A71-nbappomp-nbapven-nbapair-nbaautre),\"\")))))","v":""},null,null,{"$f":"IF(A71<=nbappomp,INDEX('Analyse Préliminaire Pompe'!$H$13:$H$47,A71),IF(A71<=nbappomp+nbapven,INDEX('Analyse Préliminaire Ventilateu'!$H$13:$H$44,A71-nbappomp),IF(A71<=nbappomp+nbapven+nbapair,$AJ$4,IF(A71<=nbappomp+nbapven+nbapair+nbaautre,INDEX('Analyse Préliminaire Autres'!$H$11:$H$42,A71-nbappomp-nbapven-nbapair),IF(A71<=nbappomp+nbapven+nbapair+nbaautre+nbafroid,INDEX('AP Groupe froid'!$I$14:$I$17,A71-nbappomp-nbapven-nbapair-nbaautre),\"\")))))","v":""},null,null,{"$f":"IF(AH71=\"\",IF($A71<=nbappomp,INDEX('Analyse Préliminaire Pompe'!AE$13:AE$47,$A71),IF($A71<=nbappomp+nbapven,INDEX('Analyse Préliminaire Ventilateu'!AC$13:AC$44,$A71-nbappomp),IF($A71<=nbappomp+nbapven+nbapair,'Analyse Préliminaire air compr'!$AI$22,IF(A71<=nbappomp+nbapven+nbapair+nbaautre,INDEX('Analyse Préliminaire Autres'!$X$11:$X$42,A71-nbappomp-nbapven-nbapair),IF(A71<=nbappomp+nbapven+nbapair+nbaautre+nbafroid,INDEX('AP Groupe froid'!$AF$14:$AF$17,A71-nbappomp-nbapven-nbapair-nbaautre),\"\"))))),AH71)","v":""},{"$f":"IF(AG71=\"\",IF($A71<=nbappomp,INDEX('Analyse Préliminaire Pompe'!AD$13:AD$47,$A71),IF($A71<=nbappomp+nbapven,INDEX('Analyse Préliminaire Ventilateu'!AB$13:AB$44,$A71-nbappomp),IF($A71<=nbappomp+nbapven+nbapair,'Analyse Préliminaire air compr'!$AH$22,IF(A71<=nbappomp+nbapven+nbapair+nbaautre,INDEX('Analyse Préliminaire Autres'!$W$11:$W$42,A71-nbappomp-nbapven-nbapair),IF(A71<=nbappomp+nbapven+nbapair+nbaautre+nbafroid,INDEX('AP Groupe froid'!$AE$14:$AE$17,A71-nbappomp-nbapven-nbapair-nbaautre),\"\"))))),AG71)","v":""},null,"",null,"",null,{"$f":"IF(AI71=\"\",IF($A71<=nbappomp,INDEX('Analyse Préliminaire Pompe'!T$13:T$47,$A71),IF($A71<=nbappomp+nbapven,INDEX('Analyse Préliminaire Ventilateu'!R$13:R$44,$A71-nbappomp),IF($A71<=nbappomp+nbapven+nbapair,'Analyse Préliminaire air compr'!$AH$13,IF(A71<=nbappomp+nbapven+nbapair+nbaautre,INDEX('Analyse Préliminaire Autres'!$P$11:$P$42,A71-nbappomp-nbapven-nbapair),IF(A71<=nbappomp+nbapven+nbapair+nbaautre+nbafroid,INDEX('AP Groupe froid'!$AD$14:$AD$17,A71-nbappomp-nbapven-nbapair-nbaautre),\"\"))))),AI71)","v":""},null,{"$f":"IF($A71<=nbappomp,INDEX('Analyse Préliminaire Pompe'!X$13:X$47,$A71),IF($A71<=nbappomp+nbapven,INDEX('Analyse Préliminaire Ventilateu'!V$13:V$44,$A71-nbappomp),IF($A71<=nbappomp+nbapven+nbapair,'Analyse Préliminaire air compr'!$E$35,IF(A71<=nbappomp+nbapven+nbapair+nbaautre,INDEX('Analyse Préliminaire Autres'!$R$11:$R$42,A71-nbappomp-nbapven-nbapair),IF(A71<=nbappomp+nbapven+nbapair+nbaautre+nbafroid,INDEX('AP Groupe froid'!$Z$14:$Z$17,A71-nbappomp-nbapven-nbapair-nbaautre),\"\")))))","v":""},null,null,{"$f":"IF(AG71=\"\",IF($A71<=nbappomp,INDEX('Analyse Préliminaire Pompe'!AN$13:AN$47,$A71),IF($A71<=nbappomp+nbapven,INDEX('Analyse Préliminaire Ventilateu'!AL$13:AL$44,$A71-nbappomp),IF($A71<=nbappomp+nbapven+nbapair,'Analyse Préliminaire air compr'!$AM$16,IF(A71<=nbappomp+nbapven+nbapair+nbaautre,INDEX('Analyse Préliminaire Autres'!$AB$11:$AB$42,A71-nbappomp-nbapven-nbapair),IF(A71<=nbappomp+nbapven+nbapair+nbaautre+nbafroid,INDEX('AP Groupe froid'!$AM$14:$AM$17,A71-nbappomp-nbapven-nbapair-nbaautre),\"\"))))),'Economies classées'!$A$47)","v":""},{"$f":"IF($A71<=nbappomp,INDEX('Analyse Préliminaire Pompe'!E$13:E$47,$A71),IF($A71<=nbappomp+nbapven,INDEX('Analyse Préliminaire Ventilateu'!E$13:E$44,$A71-nbappomp),IF($A71<=nbappomp+nbapven+nbapair,\"voir detail\",IF(A71<=nbappomp+nbapven+nbapair+nbaautre,INDEX('Analyse Préliminaire Autres'!$E$11:$E$42,A71-nbappomp-nbapven-nbapair),IF(A71<=nbappomp+nbapven+nbapair+nbaautre+nbafroid,INDEX('AP Groupe froid'!$F$14:$F$17,A71-nbappomp-nbapven-nbapair-nbaautre),\"\")))))","v":""},{"$f":"IF($A71<=nbappomp,INDEX('Analyse Préliminaire Pompe'!K$13:K$47,$A71),IF($A71<=nbappomp+nbapven,INDEX('Analyse Préliminaire Ventilateu'!K$13:K$44,$A71-nbappomp),IF($A71<=nbappomp+nbapven+nbapair,SUM('Analyse Préliminaire air compr'!$I$26:$I$32),IF(A71<=nbappomp+nbapven+nbapair+nbaautre,INDEX('Analyse Préliminaire Autres'!$K$11:$K$42,A71-nbappomp-nbapven-nbapair),IF(A71<=nbappomp+nbapven+nbapair+nbaautre+nbafroid,INDEX('AP Groupe froid'!$O$14:$O$17,A71-nbappomp-nbapven-nbapair-nbaautre),\"\")))))","v":""},{"$f":"IF($A71<=nbappomp,INDEX('Analyse Préliminaire Pompe'!L$13:L$47,$A71),IF($A71<=nbappomp+nbapven,INDEX('Analyse Préliminaire Ventilateu'!L$13:L$44,$A71-nbappomp),IF($A71<=nbappomp+nbapven+nbapair,MIN('Analyse Préliminaire air compr'!$J$26:$J$32),IF(A71<=nbappomp+nbapven+nbapair+nbaautre,INDEX('Analyse Préliminaire Autres'!$L$11:$L$42,A71-nbappomp-nbapven-nbapair),IF($A71<=nbappomp+nbapven+nbapair,'Analyse Préliminaire air compr'!$AM$16,IF(A71<=nbappomp+nbapven+nbapair+nbaautre+nbafroid,INDEX('AP Groupe froid'!$L$14:$L$17,A71-nbappomp-nbapven-nbapair-nbaautre),\"\"))))))","v":""},{"$f":"IF($A71<=nbappomp,INDEX('Analyse Préliminaire Pompe'!M$13:M$47,$A71),IF($A71<=nbappomp+nbapven,INDEX('Analyse Préliminaire Ventilateu'!M$13:M$44,$A71-nbappomp),IF($A71<=nbappomp+nbapven+nbapair,\"\",IF(A71<=nbappomp+nbapven+nbapair+nbaautre,INDEX('Analyse Préliminaire Autres'!$M$11:$M$42,A71-nbappomp-nbapven-nbapair),IF($A71<=nbappomp+nbapven+nbapair,'Analyse Préliminaire air compr'!$AM$16,IF(A71<=nbappomp+nbapven+nbapair+nbaautre+nbafroid,INDEX('AP Groupe froid'!$M$14:$M$17,A71-nbappomp-nbapven-nbapair-nbaautre),\"\"))))))","v":""},{"$f":"IF($A71<=nbappomp,INDEX('Analyse Préliminaire Pompe'!N$13:N$47,$A71),IF($A71<=nbappomp+nbapven,INDEX('Analyse Préliminaire Ventilateu'!N$13:N$44,$A71-nbappomp),IF($A71<=nbappomp+nbapven+nbapair,\"\",IF(A71<=nbappomp+nbapven+nbapair+nbaautre,INDEX('Analyse Préliminaire Autres'!$N$11:$N$42,A71-nbappomp-nbapven-nbapair),\"\"))))","v":""},{"$f":"IF($A71<=nbappomp,INDEX('Analyse Préliminaire Pompe'!O$13:O$47,$A71),IF($A71<=nbappomp+nbapven,INDEX('Analyse Préliminaire Ventilateu'!O$13:O$44,$A71-nbappomp),IF($A71<=nbappomp+nbapven+nbapair,\"\",IF(A71<=nbappomp+nbapven+nbapair+nbaautre,INDEX('Analyse Préliminaire Autres'!$O$11:$O$42,A71-nbappomp-nbapven-nbapair),\"\"))))","v":""},{"$f":"IF($A71<=nbappomp,INDEX('Analyse Préliminaire Pompe'!P$13:P$47,$A71),IF($A71<=nbappomp+nbapven,INDEX('Analyse Préliminaire Ventilateu'!P$13:P$44,$A71-nbappomp),IF($A71<=nbappomp+nbapven+nbapair,\"\",IF(A71<=nbappomp+nbapven+nbapair+nbaautre,INDEX('Analyse Préliminaire Autres'!#REF!,A71-nbappomp-nbapven-nbapair),\"\"))))","v":""},{"$f":"IF($A71<=nbappomp,INDEX('Analyse Préliminaire Pompe'!Q$13:Q$47,$A71),IF($A71<=nbappomp+nbapven,\"\",IF($A71<=nbappomp+nbapven+nbapair,\"\",\"\")))","v":""},{"$f":"IF(AI71=\"\",IF($A71<=nbappomp,INDEX('Analyse Préliminaire Pompe'!S$13:S$47,$A71),IF($A71<=nbappomp+nbapven,INDEX('Analyse Préliminaire Ventilateu'!Q$13:Q$44,$A71-nbappomp),IF($A71<=nbappomp+nbapven+nbapair,\"\",IF(A71<=nbappomp+nbapven+nbapair+nbaautre,\"\",\"\")))),AI71)","v":""},{"$f":"IF(AN71,\"\",IF($A71<=nbappomp,INDEX('Analyse Préliminaire Pompe'!AO$13:AO$47,$A71),IF($A71<=nbappomp+nbapven,INDEX('Analyse Préliminaire Ventilateu'!AM$13:AM$44,$A71-nbappomp),IF($A71<=nbappomp+nbapven+nbapair,EcoAPkWhCP,IF(A71<=nbappomp+nbapven+nbapair+nbaautre,INDEX('Analyse Préliminaire Autres'!$E$11:$E$42,A71-nbappomp-nbapven-nbapair),IF($A71<=nbappomp+nbapven+nbapair+nbaautre+nbafroid,INDEX('AP Groupe froid'!$AN$14:$AN$17,$A71-nbappomp-nbapven-nbapair-nbaautre),\"\"))))))","v":""},{"$f":"IF(AN71,\"\",IF($A71<=nbappomp,INDEX('Analyse Préliminaire Pompe'!AP$13:AP$47,$A71),IF($A71<=nbappomp+nbapven,INDEX('Analyse Préliminaire Ventilateu'!AN$13:AN$44,$A71-nbappomp),IF($A71<=nbappomp+nbapven+nbapair,EcoAPpercCP,IF(A71<=nbappomp+nbapven+nbapair+nbaautre,INDEX('Analyse Préliminaire Autres'!$E$11:$E$42,A71-nbappomp-nbapven-nbapair),IF($A71<=nbappomp+nbapven+nbapair+nbaautre+nbafroid,INDEX('AP Groupe froid'!$AO$14:$AO$17,$A71-nbappomp-nbapven-nbapair-nbaautre),\"\"))))))","v":""},{"$f":"IF(AN71,\"\",IF($A71<=nbappomp,INDEX('Analyse Préliminaire Pompe'!AQ$13:AQ$47,$A71),IF($A71<=nbappomp+nbapven,INDEX('Analyse Préliminaire Ventilateu'!AO$13:AO$44,$A71-nbappomp),IF($A71<=nbappomp+nbapven+nbapair,consoanncp,IF(A71<=nbappomp+nbapven+nbapair+nbaautre,INDEX('Analyse Préliminaire Autres'!$E$11:$E$42,A71-nbappomp-nbapven-nbapair),IF($A71<=nbappomp+nbapven+nbapair+nbaautre+nbafroid,INDEX('AP Groupe froid'!$AP$14:$AP$17,$A71-nbappomp-nbapven-nbapair-nbaautre),\"\"))))))","v":""},{"$f":"IF(R71=\"\",-1,IF(AND($L71>'Economies classées'!$B$2,$K71>0.2,YEAR(TODAY())-$Z71>8),2,IF(AND($L71>'Economies classées'!$B$3,YEAR(TODAY())-$Z71>5),1,0)))","v":-1},null,null,"",{"$f":"IF($A71<=nbappomp,ISBLANK(INDEX('Analyse Préliminaire Pompe'!AO$13:AO$47,$A71)),IF($A71<=nbappomp+nbapven,ISBLANK(INDEX('Analyse Préliminaire Ventilateu'!AM$13:AM$44,$A71-nbappomp)),IF($A71<=nbappomp+nbapven+nbapair,ISBLANK(EcoAPkWhCP),IF(A71<=nbappomp+nbapven+nbapair+nbaautre,ISBLANK(INDEX('Analyse Préliminaire Autres'!AC$11:AC$42,A71-nbappomp-nbapven-nbapair)),IF(A71<=nbappomp+nbapven+nbapair+nbaautre+nbafroid,ISBLANK(INDEX('AP Groupe froid'!$AN$14:$AN$17,A71-nbappomp-nbapven-nbapair-nbaautre)),FALSE)))))","v":false},{"$f":"IF(E71=Listes!$H$25,1,0)","v":0},{"$f":"IF(E71=Listes!$H$26,1,0)","v":0},0,0,{"$f":"IF(E71=Listes!$H$28,1,0)","v":0},null,0,0,0,0,0,null,0,0,0,0,0,null,"","","","","",null,-1,-1,-1,-1,null,null,{"$f":"IF(E71=Listes!$H$25,1,0)","v":0},{"$f":"IF(E71=Listes!$H$26,1,0)","v":0},0,0,0,0,0,null,0,0,null,{"$error":"#VALUE!"},0,0,0,null,null,null,"",""]
[48,"",null,{"$f":"IF(A72<=nbappomp,INDEX('Analyse Préliminaire Pompe'!$B$13:$B$47,A72),IF(A72<=nbappomp+nbapven,INDEX('Analyse Préliminaire Ventilateu'!$B$13:$B$44,A72-nbappomp),IF(A72<=nbappomp+nbapven+nbapair,301,IF(A72<=nbappomp+nbapven+nbapair+nbaautre,INDEX('Analyse Préliminaire Autres'!$B$11:$B$42,A72-nbappomp-nbapven-nbapair),IF(A72<=nbappomp+nbapven+nbapair+nbaautre+nbafroid,INDEX('AP Groupe froid'!$B$14:$B$17,A72-nbappomp-nbapven-nbapair-nbaautre),\"\")))))","v":""},{"$f":"IF(A72<=nbappomp,INDEX('Analyse Préliminaire Pompe'!$C$13:$C$47,A72),IF(A72<=nbappomp+nbapven,INDEX('Analyse Préliminaire Ventilateu'!$C$13:$C$44,A72-nbappomp),IF(A72<=nbappomp+nbapven+nbapair,$AJ$4,IF(A72<=nbappomp+nbapven+nbapair+nbaautre,INDEX('Analyse Préliminaire Autres'!$C$11:$C$42,A72-nbappomp-nbapven-nbapair),IF(A72<=nbappomp+nbapven+nbapair+nbaautre+nbafroid,INDEX('AP Groupe froid'!$C$14:$C$17,A72-nbappomp-nbapven-nbapair-nbaautre),\"\")))))","v":""},null,null,{"$f":"IF(A72<=nbappomp,INDEX('Analyse Préliminaire Pompe'!$H$13:$H$47,A72),IF(A72<=nbappomp+nbapven,INDEX('Analyse Préliminaire Ventilateu'!$H$13:$H$44,A72-nbappomp),IF(A72<=nbappomp+nbapven+nbapair,$AJ$4,IF(A72<=nbappomp+nbapven+nbapair+nbaautre,INDEX('Analyse Préliminaire Autres'!$H$11:$H$42,A72-nbappomp-nbapven-nbapair),IF(A72<=nbappomp+nbapven+nbapair+nbaautre+nbafroid,INDEX('AP Groupe froid'!$I$14:$I$17,A72-nbappomp-nbapven-nbapair-nbaautre),\"\")))))","v":""},null,null,{"$f":"IF(AH72=\"\",IF($A72<=nbappomp,INDEX('Analyse Préliminaire Pompe'!AE$13:AE$47,$A72),IF($A72<=nbappomp+nbapven,INDEX('Analyse Préliminaire Ventilateu'!AC$13:AC$44,$A72-nbappomp),IF($A72<=nbappomp+nbapven+nbapair,'Analyse Préliminaire air compr'!$AI$22,IF(A72<=nbappomp+nbapven+nbapair+nbaautre,INDEX('Analyse Préliminaire Autres'!$X$11:$X$42,A72-nbappomp-nbapven-nbapair),IF(A72<=nbappomp+nbapven+nbapair+nbaautre+nbafroid,INDEX('AP Groupe froid'!$AF$14:$AF$17,A72-nbappomp-nbapven-nbapair-nbaautre),\"\"))))),AH72)","v":""},{"$f":"IF(AG72=\"\",IF($A72<=nbappomp,INDEX('Analyse Préliminaire Pompe'!AD$13:AD$47,$A72),IF($A72<=nbappomp+nbapven,INDEX('Analyse Préliminaire Ventilateu'!AB$13:AB$44,$A72-nbappomp),IF($A72<=nbappomp+nbapven+nbapair,'Analyse Préliminaire air compr'!$AH$22,IF(A72<=nbappomp+nbapven+nbapair+nbaautre,INDEX('Analyse Préliminaire Autres'!$W$11:$W$42,A72-nbappomp-nbapven-nbapair),IF(A72<=nbappomp+nbapven+nbapair+nbaautre+nbafroid,INDEX('AP Groupe froid'!$AE$14:$AE$17,A72-nbappomp-nbapven-nbapair-nbaautre),\"\"))))),AG72)","v":""},null,"",null,"",null,{"$f":"IF(AI72=\"\",IF($A72<=nbappomp,INDEX('Analyse Préliminaire Pompe'!T$13:T$47,$A72),IF($A72<=nbappomp+nbapven,INDEX('Analyse Préliminaire Ventilateu'!R$13:R$44,$A72-nbappomp),IF($A72<=nbappomp+nbapven+nbapair,'Analyse Préliminaire air compr'!$AH$13,IF(A72<=nbappomp+nbapven+nbapair+nbaautre,INDEX('Analyse Préliminaire Autres'!$P$11:$P$42,A72-nbappomp-nbapven-nbapair),IF(A72<=nbappomp+nbapven+nbapair+nbaautre+nbafroid,INDEX('AP Groupe froid'!$AD$14:$AD$17,A72-nbappomp-nbapven-nbapair-nbaautre),\"\"))))),AI72)","v":""},null,{"$f":"IF($A72<=nbappomp,INDEX('Analyse Préliminaire Pompe'!X$13:X$47,$A72),IF($A72<=nbappomp+nbapven,INDEX('Analyse Préliminaire Ventilateu'!V$13:V$44,$A72-nbappomp),IF($A72<=nbappomp+nbapven+nbapair,'Analyse Préliminaire air compr'!$E$35,IF(A72<=nbappomp+nbapven+nbapair+nbaautre,INDEX('Analyse Préliminaire Autres'!$R$11:$R$42,A72-nbappomp-nbapven-nbapair),IF(A72<=nbappomp+nbapven+nbapair+nbaautre+nbafroid,INDEX('AP Groupe froid'!$Z$14:$Z$17,A72-nbappomp-nbapven-nbapair-nbaautre),\"\")))))","v":""},null,null,{"$f":"IF(AG72=\"\",IF($A72<=nbappomp,INDEX('Analyse Préliminaire Pompe'!AN$13:AN$47,$A72),IF($A72<=nbappomp+nbapven,INDEX('Analyse Préliminaire Ventilateu'!AL$13:AL$44,$A72-nbappomp),IF($A72<=nbappomp+nbapven+nbapair,'Analyse Préliminaire air compr'!$AM$16,IF(A72<=nbappomp+nbapven+nbapair+nbaautre,INDEX('Analyse Préliminaire Autres'!$AB$11:$AB$42,A72-nbappomp-nbapven-nbapair),IF(A72<=nbappomp+nbapven+nbapair+nbaautre+nbafroid,INDEX('AP Groupe froid'!$AM$14:$AM$17,A72-nbappomp-nbapven-nbapair-nbaautre),\"\"))))),'Economies classées'!$A$47)","v":""},{"$f":"IF($A72<=nbappomp,INDEX('Analyse Préliminaire Pompe'!E$13:E$47,$A72),IF($A72<=nbappomp+nbapven,INDEX('Analyse Préliminaire Ventilateu'!E$13:E$44,$A72-nbappomp),IF($A72<=nbappomp+nbapven+nbapair,\"voir detail\",IF(A72<=nbappomp+nbapven+nbapair+nbaautre,INDEX('Analyse Préliminaire Autres'!$E$11:$E$42,A72-nbappomp-nbapven-nbapair),IF(A72<=nbappomp+nbapven+nbapair+nbaautre+nbafroid,INDEX('AP Groupe froid'!$F$14:$F$17,A72-nbappomp-nbapven-nbapair-nbaautre),\"\")))))","v":""},{"$f":"IF($A72<=nbappomp,INDEX('Analyse Préliminaire Pompe'!K$13:K$47,$A72),IF($A72<=nbappomp+nbapven,INDEX('Analyse Préliminaire Ventilateu'!K$13:K$44,$A72-nbappomp),IF($A72<=nbappomp+nbapven+nbapair,SUM('Analyse Préliminaire air compr'!$I$26:$I$32),IF(A72<=nbappomp+nbapven+nbapair+nbaautre,INDEX('Analyse Préliminaire Autres'!$K$11:$K$42,A72-nbappomp-nbapven-nbapair),IF(A72<=nbappomp+nbapven+nbapair+nbaautre+nbafroid,INDEX('AP Groupe froid'!$O$14:$O$17,A72-nbappomp-nbapven-nbapair-nbaautre),\"\")))))","v":""},{"$f":"IF($A72<=nbappomp,INDEX('Analyse Préliminaire Pompe'!L$13:L$47,$A72),IF($A72<=nbappomp+nbapven,INDEX('Analyse Préliminaire Ventilateu'!L$13:L$44,$A72-nbappomp),IF($A72<=nbappomp+nbapven+nbapair,MIN('Analyse Préliminaire air compr'!$J$26:$J$32),IF(A72<=nbappomp+nbapven+nbapair+nbaautre,INDEX('Analyse Préliminaire Autres'!$L$11:$L$42,A72-nbappomp-nbapven-nbapair),IF($A72<=nbappomp+nbapven+nbapair,'Analyse Préliminaire air compr'!$AM$16,IF(A72<=nbappomp+nbapven+nbapair+nbaautre+nbafroid,INDEX('AP Groupe froid'!$L$14:$L$17,A72-nbappomp-nbapven-nbapair-nbaautre),\"\"))))))","v":""},{"$f":"IF($A72<=nbappomp,INDEX('Analyse Préliminaire Pompe'!M$13:M$47,$A72),IF($A72<=nbappomp+nbapven,INDEX('Analyse Préliminaire Ventilateu'!M$13:M$44,$A72-nbappomp),IF($A72<=nbappomp+nbapven+nbapair,\"\",IF(A72<=nbappomp+nbapven+nbapair+nbaautre,INDEX('Analyse Préliminaire Autres'!$M$11:$M$42,A72-nbappomp-nbapven-nbapair),IF($A72<=nbappomp+nbapven+nbapair,'Analyse Préliminaire air compr'!$AM$16,IF(A72<=nbappomp+nbapven+nbapair+nbaautre+nbafroid,INDEX('AP Groupe froid'!$M$14:$M$17,A72-nbappomp-nbapven-nbapair-nbaautre),\"\"))))))","v":""},{"$f":"IF($A72<=nbappomp,INDEX('Analyse Préliminaire Pompe'!N$13:N$47,$A72),IF($A72<=nbappomp+nbapven,INDEX('Analyse Préliminaire Ventilateu'!N$13:N$44,$A72-nbappomp),IF($A72<=nbappomp+nbapven+nbapair,\"\",IF(A72<=nbappomp+nbapven+nbapair+nbaautre,INDEX('Analyse Préliminaire Autres'!$N$11:$N$42,A72-nbappomp-nbapven-nbapair),\"\"))))","v":""},{"$f":"IF($A72<=nbappomp,INDEX('Analyse Préliminaire Pompe'!O$13:O$47,$A72),IF($A72<=nbappomp+nbapven,INDEX('Analyse Préliminaire Ventilateu'!O$13:O$44,$A72-nbappomp),IF($A72<=nbappomp+nbapven+nbapair,\"\",IF(A72<=nbappomp+nbapven+nbapair+nbaautre,INDEX('Analyse Préliminaire Autres'!$O$11:$O$42,A72-nbappomp-nbapven-nbapair),\"\"))))","v":""},{"$f":"IF($A72<=nbappomp,INDEX('Analyse Préliminaire Pompe'!P$13:P$47,$A72),IF($A72<=nbappomp+nbapven,INDEX('Analyse Préliminaire Ventilateu'!P$13:P$44,$A72-nbappomp),IF($A72<=nbappomp+nbapven+nbapair,\"\",IF(A72<=nbappomp+nbapven+nbapair+nbaautre,INDEX('Analyse Préliminaire Autres'!#REF!,A72-nbappomp-nbapven-nbapair),\"\"))))","v":""},{"$f":"IF($A72<=nbappomp,INDEX('Analyse Préliminaire Pompe'!Q$13:Q$47,$A72),IF($A72<=nbappomp+nbapven,\"\",IF($A72<=nbappomp+nbapven+nbapair,\"\",\"\")))","v":""},{"$f":"IF(AI72=\"\",IF($A72<=nbappomp,INDEX('Analyse Préliminaire Pompe'!S$13:S$47,$A72),IF($A72<=nbappomp+nbapven,INDEX('Analyse Préliminaire Ventilateu'!Q$13:Q$44,$A72-nbappomp),IF($A72<=nbappomp+nbapven+nbapair,\"\",IF(A72<=nbappomp+nbapven+nbapair+nbaautre,\"\",\"\")))),AI72)","v":""},{"$f":"IF(AN72,\"\",IF($A72<=nbappomp,INDEX('Analyse Préliminaire Pompe'!AO$13:AO$47,$A72),IF($A72<=nbappomp+nbapven,INDEX('Analyse Préliminaire Ventilateu'!AM$13:AM$44,$A72-nbappomp),IF($A72<=nbappomp+nbapven+nbapair,EcoAPkWhCP,IF(A72<=nbappomp+nbapven+nbapair+nbaautre,INDEX('Analyse Préliminaire Autres'!$E$11:$E$42,A72-nbappomp-nbapven-nbapair),IF($A72<=nbappomp+nbapven+nbapair+nbaautre+nbafroid,INDEX('AP Groupe froid'!$AN$14:$AN$17,$A72-nbappomp-nbapven-nbapair-nbaautre),\"\"))))))","v":""},{"$f":"IF(AN72,\"\",IF($A72<=nbappomp,INDEX('Analyse Préliminaire Pompe'!AP$13:AP$47,$A72),IF($A72<=nbappomp+nbapven,INDEX('Analyse Préliminaire Ventilateu'!AN$13:AN$44,$A72-nbappomp),IF($A72<=nbappomp+nbapven+nbapair,EcoAPpercCP,IF(A72<=nbappomp+nbapven+nbapair+nbaautre,INDEX('Analyse Préliminaire Autres'!$E$11:$E$42,A72-nbappomp-nbapven-nbapair),IF($A72<=nbappomp+nbapven+nbapair+nbaautre+nbafroid,INDEX('AP Groupe froid'!$AO$14:$AO$17,$A72-nbappomp-nbapven-nbapair-nbaautre),\"\"))))))","v":""},{"$f":"IF(AN72,\"\",IF($A72<=nbappomp,INDEX('Analyse Préliminaire Pompe'!AQ$13:AQ$47,$A72),IF($A72<=nbappomp+nbapven,INDEX('Analyse Préliminaire Ventilateu'!AO$13:AO$44,$A72-nbappomp),IF($A72<=nbappomp+nbapven+nbapair,consoanncp,IF(A72<=nbappomp+nbapven+nbapair+nbaautre,INDEX('Analyse Préliminaire Autres'!$E$11:$E$42,A72-nbappomp-nbapven-nbapair),IF($A72<=nbappomp+nbapven+nbapair+nbaautre+nbafroid,INDEX('AP Groupe froid'!$AP$14:$AP$17,$A72-nbappomp-nbapven-nbapair-nbaautre),\"\"))))))","v":""},{"$f":"IF(R72=\"\",-1,IF(AND($L72>'Economies classées'!$B$2,$K72>0.2,YEAR(TODAY())-$Z72>8),2,IF(AND($L72>'Economies classées'!$B$3,YEAR(TODAY())-$Z72>5),1,0)))","v":-1},null,null,"",{"$f":"IF($A72<=nbappomp,ISBLANK(INDEX('Analyse Préliminaire Pompe'!AO$13:AO$47,$A72)),IF($A72<=nbappomp+nbapven,ISBLANK(INDEX('Analyse Préliminaire Ventilateu'!AM$13:AM$44,$A72-nbappomp)),IF($A72<=nbappomp+nbapven+nbapair,ISBLANK(EcoAPkWhCP),IF(A72<=nbappomp+nbapven+nbapair+nbaautre,ISBLANK(INDEX('Analyse Préliminaire Autres'!AC$11:AC$42,A72-nbappomp-nbapven-nbapair)),IF(A72<=nbappomp+nbapven+nbapair+nbaautre+nbafroid,ISBLANK(INDEX('AP Groupe froid'!$AN$14:$AN$17,A72-nbappomp-nbapven-nbapair-nbaautre)),FALSE)))))","v":false},{"$f":"IF(E72=Listes!$H$25,1,0)","v":0},{"$f":"IF(E72=Listes!$H$26,1,0)","v":0},0,0,{"$f":"IF(E72=Listes!$H$28,1,0)","v":0},null,0,0,0,0,0,null,0,0,0,0,0,null,"","","","","",null,-1,-1,-1,-1,null,null,{"$f":"IF(E72=Listes!$H$25,1,0)","v":0},{"$f":"IF(E72=Listes!$H$26,1,0)","v":0},0,0,0,0,0,null,0,0,null,{"$error":"#VALUE!"},0,0,0,null,null,null,"",""]
[49,"",null,{"$f":"IF(A73<=nbappomp,INDEX('Analyse Préliminaire Pompe'!$B$13:$B$47,A73),IF(A73<=nbappomp+nbapven,INDEX('Analyse Préliminaire Ventilateu'!$B$13:$B$44,A73-nbappomp),IF(A73<=nbappomp+nbapven+nbapair,301,IF(A73<=nbappomp+nbapven+nbapair+nbaautre,INDEX('Analyse Préliminaire Autres'!$B$11:$B$42,A73-nbappomp-nbapven-nbapair),IF(A73<=nbappomp+nbapven+nbapair+nbaautre+nbafroid,INDEX('AP Groupe froid'!$B$14:$B$17,A73-nbappomp-nbapven-nbapair-nbaautre),\"\")))))","v":""},{"$f":"IF(A73<=nbappomp,INDEX('Analyse Préliminaire Pompe'!$C$13:$C$47,A73),IF(A73<=nbappomp+nbapven,INDEX('Analyse Préliminaire Ventilateu'!$C$13:$C$44,A73-nbappomp),IF(A73<=nbappomp+nbapven+nbapair,$AJ$4,IF(A73<=nbappomp+nbapven+nbapair+nbaautre,INDEX('Analyse Préliminaire Autres'!$C$11:$C$42,A73-nbappomp-nbapven-nbapair),IF(A73<=nbappomp+nbapven+nbapair+nbaautre+nbafroid,INDEX('AP Groupe froid'!$C$14:$C$17,A73-nbappomp-nbapven-nbapair-nbaautre),\"\")))))","v":""},null,null,{"$f":"IF(A73<=nbappomp,INDEX('Analyse Préliminaire Pompe'!$H$13:$H$47,A73),IF(A73<=nbappomp+nbapven,INDEX('Analyse Préliminaire Ventilateu'!$H$13:$H$44,A73-nbappomp),IF(A73<=nbappomp+nbapven+nbapair,$AJ$4,IF(A73<=nbappomp+nbapven+nbapair+nbaautre,INDEX('Analyse Préliminaire Autres'!$H$11:$H$42,A73-nbappomp-nbapven-nbapair),IF(A73<=nbappomp+nbapven+nbapair+nbaautre+nbafroid,INDEX('AP Groupe froid'!$I$14:$I$17,A73-nbappomp-nbapven-nbapair-nbaautre),\"\")))))","v":""},null,null,{"$f":"IF(AH73=\"\",IF($A73<=nbappomp,INDEX('Analyse Préliminaire Pompe'!AE$13:AE$47,$A73),IF($A73<=nbappomp+nbapven,INDEX('Analyse Préliminaire Ventilateu'!AC$13:AC$44,$A73-nbappomp),IF($A73<=nbappomp+nbapven+nbapair,'Analyse Préliminaire air compr'!$AI$22,IF(A73<=nbappomp+nbapven+nbapair+nbaautre,INDEX('Analyse Préliminaire Autres'!$X$11:$X$42,A73-nbappomp-nbapven-nbapair),IF(A73<=nbappomp+nbapven+nbapair+nbaautre+nbafroid,INDEX('AP Groupe froid'!$AF$14:$AF$17,A73-nbappomp-nbapven-nbapair-nbaautre),\"\"))))),AH73)","v":""},{"$f":"IF(AG73=\"\",IF($A73<=nbappomp,INDEX('Analyse Préliminaire Pompe'!AD$13:AD$47,$A73),IF($A73<=nbappomp+nbapven,INDEX('Analyse Préliminaire Ventilateu'!AB$13:AB$44,$A73-nbappomp),IF($A73<=nbappomp+nbapven+nbapair,'Analyse Préliminaire air compr'!$AH$22,IF(A73<=nbappomp+nbapven+nbapair+nbaautre,INDEX('Analyse Préliminaire Autres'!$W$11:$W$42,A73-nbappomp-nbapven-nbapair),IF(A73<=nbappomp+nbapven+nbapair+nbaautre+nbafroid,INDEX('AP Groupe froid'!$AE$14:$AE$17,A73-nbappomp-nbapven-nbapair-nbaautre),\"\"))))),AG73)","v":""},null,"",null,"",null,{"$f":"IF(AI73=\"\",IF($A73<=nbappomp,INDEX('Analyse Préliminaire Pompe'!T$13:T$47,$A73),IF($A73<=nbappomp+nbapven,INDEX('Analyse Préliminaire Ventilateu'!R$13:R$44,$A73-nbappomp),IF($A73<=nbappomp+nbapven+nbapair,'Analyse Préliminaire air compr'!$AH$13,IF(A73<=nbappomp+nbapven+nbapair+nbaautre,INDEX('Analyse Préliminaire Autres'!$P$11:$P$42,A73-nbappomp-nbapven-nbapair),IF(A73<=nbappomp+nbapven+nbapair+nbaautre+nbafroid,INDEX('AP Groupe froid'!$AD$14:$AD$17,A73-nbappomp-nbapven-nbapair-nbaautre),\"\"))))),AI73)","v":""},null,{"$f":"IF($A73<=nbappomp,INDEX('Analyse Préliminaire Pompe'!X$13:X$47,$A73),IF($A73<=nbappomp+nbapven,INDEX('Analyse Préliminaire Ventilateu'!V$13:V$44,$A73-nbappomp),IF($A73<=nbappomp+nbapven+nbapair,'Analyse Préliminaire air compr'!$E$35,IF(A73<=nbappomp+nbapven+nbapair+nbaautre,INDEX('Analyse Préliminaire Autres'!$R$11:$R$42,A73-nbappomp-nbapven-nbapair),IF(A73<=nbappomp+nbapven+nbapair+nbaautre+nbafroid,INDEX('AP Groupe froid'!$Z$14:$Z$17,A73-nbappomp-nbapven-nbapair-nbaautre),\"\")))))","v":""},null,null,{"$f":"IF(AG73=\"\",IF($A73<=nbappomp,INDEX('Analyse Préliminaire Pompe'!AN$13:AN$47,$A73),IF($A73<=nbappomp+nbapven,INDEX('Analyse Préliminaire Ventilateu'!AL$13:AL$44,$A73-nbappomp),IF($A73<=nbappomp+nbapven+nbapair,'Analyse Préliminaire air compr'!$AM$16,IF(A73<=nbappomp+nbapven+nbapair+nbaautre,INDEX('Analyse Préliminaire Autres'!$AB$11:$AB$42,A73-nbappomp-nbapven-nbapair),IF(A73<=nbappomp+nbapven+nbapair+nbaautre+nbafroid,INDEX('AP Groupe froid'!$AM$14:$AM$17,A73-nbappomp-nbapven-nbapair-nbaautre),\"\"))))),'Economies classées'!$A$47)","v":""},{"$f":"IF($A73<=nbappomp,INDEX('Analyse Préliminaire Pompe'!E$13:E$47,$A73),IF($A73<=nbappomp+nbapven,INDEX('Analyse Préliminaire Ventilateu'!E$13:E$44,$A73-nbappomp),IF($A73<=nbappomp+nbapven+nbapair,\"voir detail\",IF(A73<=nbappomp+nbapven+nbapair+nbaautre,INDEX('Analyse Préliminaire Autres'!$E$11:$E$42,A73-nbappomp-nbapven-nbapair),IF(A73<=nbappomp+nbapven+nbapair+nbaautre+nbafroid,INDEX('AP Groupe froid'!$F$14:$F$17,A73-nbappomp-nbapven-nbapair-nbaautre),\"\")))))","v":""},{"$f":"IF($A73<=nbappomp,INDEX('Analyse Préliminaire Pompe'!K$13:K$47,$A73),IF($A73<=nbappomp+nbapven,INDEX('Analyse Préliminaire Ventilateu'!K$13:K$44,$A73-nbappomp),IF($A73<=nbappomp+nbapven+nbapair,SUM('Analyse Préliminaire air compr'!$I$26:$I$32),IF(A73<=nbappomp+nbapven+nbapair+nbaautre,INDEX('Analyse Préliminaire Autres'!$K$11:$K$42,A73-nbappomp-nbapven-nbapair),IF(A73<=nbappomp+nbapven+nbapair+nbaautre+nbafroid,INDEX('AP Groupe froid'!$O$14:$O$17,A73-nbappomp-nbapven-nbapair-nbaautre),\"\")))))","v":""},{"$f":"IF($A73<=nbappomp,INDEX('Analyse Préliminaire Pompe'!L$13:L$47,$A73),IF($A73<=nbappomp+nbapven,INDEX('Analyse Préliminaire Ventilateu'!L$13:L$44,$A73-nbappomp),IF($A73<=nbappomp+nbapven+nbapair,MIN('Analyse Préliminaire air compr'!$J$26:$J$32),IF(A73<=nbappomp+nbapven+nbapair+nbaautre,INDEX('Analyse Préliminaire Autres'!$L$11:$L$42,A73-nbappomp-nbapven-nbapair),IF($A73<=nbappomp+nbapven+nbapair,'Analyse Préliminaire air compr'!$AM$16,IF(A73<=nbappomp+nbapven+nbapair+nbaautre+nbafroid,INDEX('AP Groupe froid'!$L$14:$L$17,A73-nbappomp-nbapven-nbapair-nbaautre),\"\"))))))","v":""},{"$f":"IF($A73<=nbappomp,INDEX('Analyse Préliminaire Pompe'!M$13:M$47,$A73),IF($A73<=nbappomp+nbapven,INDEX('Analyse Préliminaire Ventilateu'!M$13:M$44,$A73-nbappomp),IF($A73<=nbappomp+nbapven+nbapair,\"\",IF(A73<=nbappomp+nbapven+nbapair+nbaautre,INDEX('Analyse Préliminaire Autres'!$M$11:$M$42,A73-nbappomp-nbapven-nbapair),IF($A73<=nbappomp+nbapven+nbapair,'Analyse Préliminaire air compr'!$AM$16,IF(A73<=nbappomp+nbapven+nbapair+nbaautre+nbafroid,INDEX('AP Groupe froid'!$M$14:$M$17,A73-nbappomp-nbapven-nbapair-nbaautre),\"\"))))))","v":""},{"$f":"IF($A73<=nbappomp,INDEX('Analyse Préliminaire Pompe'!N$13:N$47,$A73),IF($A73<=nbappomp+nbapven,INDEX('Analyse Préliminaire Ventilateu'!N$13:N$44,$A73-nbappomp),IF($A73<=nbappomp+nbapven+nbapair,\"\",IF(A73<=nbappomp+nbapven+nbapair+nbaautre,INDEX('Analyse Préliminaire Autres'!$N$11:$N$42,A73-nbappomp-nbapven-nbapair),\"\"))))","v":""},{"$f":"IF($A73<=nbappomp,INDEX('Analyse Préliminaire Pompe'!O$13:O$47,$A73),IF($A73<=nbappomp+nbapven,INDEX('Analyse Préliminaire Ventilateu'!O$13:O$44,$A73-nbappomp),IF($A73<=nbappomp+nbapven+nbapair,\"\",IF(A73<=nbappomp+nbapven+nbapair+nbaautre,INDEX('Analyse Préliminaire Autres'!$O$11:$O$42,A73-nbappomp-nbapven-nbapair),\"\"))))","v":""},{"$f":"IF($A73<=nbappomp,INDEX('Analyse Préliminaire Pompe'!P$13:P$47,$A73),IF($A73<=nbappomp+nbapven,INDEX('Analyse Préliminaire Ventilateu'!P$13:P$44,$A73-nbappomp),IF($A73<=nbappomp+nbapven+nbapair,\"\",IF(A73<=nbappomp+nbapven+nbapair+nbaautre,INDEX('Analyse Préliminaire Autres'!#REF!,A73-nbappomp-nbapven-nbapair),\"\"))))","v":""},{"$f":"IF($A73<=nbappomp,INDEX('Analyse Préliminaire Pompe'!Q$13:Q$47,$A73),IF($A73<=nbappomp+nbapven,\"\",IF($A73<=nbappomp+nbapven+nbapair,\"\",\"\")))","v":""},{"$f":"IF(AI73=\"\",IF($A73<=nbappomp,INDEX('Analyse Préliminaire Pompe'!S$13:S$47,$A73),IF($A73<=nbappomp+nbapven,INDEX('Analyse Préliminaire Ventilateu'!Q$13:Q$44,$A73-nbappomp),IF($A73<=nbappomp+nbapven+nbapair,\"\",IF(A73<=nbappomp+nbapven+nbapair+nbaautre,\"\",\"\")))),AI73)","v":""},{"$f":"IF(AN73,\"\",IF($A73<=nbappomp,INDEX('Analyse Préliminaire Pompe'!AO$13:AO$47,$A73),IF($A73<=nbappomp+nbapven,INDEX('Analyse Préliminaire Ventilateu'!AM$13:AM$44,$A73-nbappomp),IF($A73<=nbappomp+nbapven+nbapair,EcoAPkWhCP,IF(A73<=nbappomp+nbapven+nbapair+nbaautre,INDEX('Analyse Préliminaire Autres'!$E$11:$E$42,A73-nbappomp-nbapven-nbapair),IF($A73<=nbappomp+nbapven+nbapair+nbaautre+nbafroid,INDEX('AP Groupe froid'!$AN$14:$AN$17,$A73-nbappomp-nbapven-nbapair-nbaautre),\"\"))))))","v":""},{"$f":"IF(AN73,\"\",IF($A73<=nbappomp,INDEX('Analyse Préliminaire Pompe'!AP$13:AP$47,$A73),IF($A73<=nbappomp+nbapven,INDEX('Analyse Préliminaire Ventilateu'!AN$13:AN$44,$A73-nbappomp),IF($A73<=nbappomp+nbapven+nbapair,EcoAPpercCP,IF(A73<=nbappomp+nbapven+nbapair+nbaautre,INDEX('Analyse Préliminaire Autres'!$E$11:$E$42,A73-nbappomp-nbapven-nbapair),IF($A73<=nbappomp+nbapven+nbapair+nbaautre+nbafroid,INDEX('AP Groupe froid'!$AO$14:$AO$17,$A73-nbappomp-nbapven-nbapair-nbaautre),\"\"))))))","v":""},{"$f":"IF(AN73,\"\",IF($A73<=nbappomp,INDEX('Analyse Préliminaire Pompe'!AQ$13:AQ$47,$A73),IF($A73<=nbappomp+nbapven,INDEX('Analyse Préliminaire Ventilateu'!AO$13:AO$44,$A73-nbappomp),IF($A73<=nbappomp+nbapven+nbapair,consoanncp,IF(A73<=nbappomp+nbapven+nbapair+nbaautre,INDEX('Analyse Préliminaire Autres'!$E$11:$E$42,A73-nbappomp-nbapven-nbapair),IF($A73<=nbappomp+nbapven+nbapair+nbaautre+nbafroid,INDEX('AP Groupe froid'!$AP$14:$AP$17,$A73-nbappomp-nbapven-nbapair-nbaautre),\"\"))))))","v":""},{"$f":"IF(R73=\"\",-1,IF(AND($L73>'Economies classées'!$B$2,$K73>0.2,YEAR(TODAY())-$Z73>8),2,IF(AND($L73>'Economies classées'!$B$3,YEAR(TODAY())-$Z73>5),1,0)))","v":-1},null,null,"",{"$f":"IF($A73<=nbappomp,ISBLANK(INDEX('Analyse Préliminaire Pompe'!AO$13:AO$47,$A73)),IF($A73<=nbappomp+nbapven,ISBLANK(INDEX('Analyse Préliminaire Ventilateu'!AM$13:AM$44,$A73-nbappomp)),IF($A73<=nbappomp+nbapven+nbapair,ISBLANK(EcoAPkWhCP),IF(A73<=nbappomp+nbapven+nbapair+nbaautre,ISBLANK(INDEX('Analyse Préliminaire Autres'!AC$11:AC$42,A73-nbappomp-nbapven-nbapair)),IF(A73<=nbappomp+nbapven+nbapair+nbaautre+nbafroid,ISBLANK(INDEX('AP Groupe froid'!$AN$14:$AN$17,A73-nbappomp-nbapven-nbapair-nbaautre)),FALSE)))))","v":false},{"$f":"IF(E73=Listes!$H$25,1,0)","v":0},{"$f":"IF(E73=Listes!$H$26,1,0)","v":0},0,0,{"$f":"IF(E73=Listes!$H$28,1,0)","v":0},null,0,0,0,0,0,null,0,0,0,0,0,null,"","","","","",null,-1,-1,-1,-1,null,null,{"$f":"IF(E73=Listes!$H$25,1,0)","v":0},{"$f":"IF(E73=Listes!$H$26,1,0)","v":0},0,0,0,0,0,null,0,0,null,{"$error":"#VALUE!"},0,0,0,null,null,null,"",""]
[50,"",null,{"$f":"IF(A74<=nbappomp,INDEX('Analyse Préliminaire Pompe'!$B$13:$B$47,A74),IF(A74<=nbappomp+nbapven,INDEX('Analyse Préliminaire Ventilateu'!$B$13:$B$44,A74-nbappomp),IF(A74<=nbappomp+nbapven+nbapair,301,IF(A74<=nbappomp+nbapven+nbapair+nbaautre,INDEX('Analyse Préliminaire Autres'!$B$11:$B$42,A74-nbappomp-nbapven-nbapair),IF(A74<=nbappomp+nbapven+nbapair+nbaautre+nbafroid,INDEX('AP Groupe froid'!$B$14:$B$17,A74-nbappomp-nbapven-nbapair-nbaautre),\"\")))))","v":""},{"$f":"IF(A74<=nbappomp,INDEX('Analyse Préliminaire Pompe'!$C$13:$C$47,A74),IF(A74<=nbappomp+nbapven,INDEX('Analyse Préliminaire Ventilateu'!$C$13:$C$44,A74-nbappomp),IF(A74<=nbappomp+nbapven+nbapair,$AJ$4,IF(A74<=nbappomp+nbapven+nbapair+nbaautre,INDEX('Analyse Préliminaire Autres'!$C$11:$C$42,A74-nbappomp-nbapven-nbapair),IF(A74<=nbappomp+nbapven+nbapair+nbaautre+nbafroid,INDEX('AP Groupe froid'!$C$14:$C$17,A74-nbappomp-nbapven-nbapair-nbaautre),\"\")))))","v":""},null,null,{"$f":"IF(A74<=nbappomp,INDEX('Analyse Préliminaire Pompe'!$H$13:$H$47,A74),IF(A74<=nbappomp+nbapven,INDEX('Analyse Préliminaire Ventilateu'!$H$13:$H$44,A74-nbappomp),IF(A74<=nbappomp+nbapven+nbapair,$AJ$4,IF(A74<=nbappomp+nbapven+nbapair+nbaautre,INDEX('Analyse Préliminaire Autres'!$H$11:$H$42,A74-nbappomp-nbapven-nbapair),IF(A74<=nbappomp+nbapven+nbapair+nbaautre+nbafroid,INDEX('AP Groupe froid'!$I$14:$I$17,A74-nbappomp-nbapven-nbapair-nbaautre),\"\")))))","v":""},null,null,{"$f":"IF(AH74=\"\",IF($A74<=nbappomp,INDEX('Analyse Préliminaire Pompe'!AE$13:AE$47,$A74),IF($A74<=nbappomp+nbapven,INDEX('Analyse Préliminaire Ventilateu'!AC$13:AC$44,$A74-nbappomp),IF($A74<=nbappomp+nbapven+nbapair,'Analyse Préliminaire air compr'!$AI$22,IF(A74<=nbappomp+nbapven+nbapair+nbaautre,INDEX('Analyse Préliminaire Autres'!$X$11:$X$42,A74-nbappomp-nbapven-nbapair),IF(A74<=nbappomp+nbapven+nbapair+nbaautre+nbafroid,INDEX('AP Groupe froid'!$AF$14:$AF$17,A74-nbappomp-nbapven-nbapair-nbaautre),\"\"))))),AH74)","v":""},{"$f":"IF(AG74=\"\",IF($A74<=nbappomp,INDEX('Analyse Préliminaire Pompe'!AD$13:AD$47,$A74),IF($A74<=nbappomp+nbapven,INDEX('Analyse Préliminaire Ventilateu'!AB$13:AB$44,$A74-nbappomp),IF($A74<=nbappomp+nbapven+nbapair,'Analyse Préliminaire air compr'!$AH$22,IF(A74<=nbappomp+nbapven+nbapair+nbaautre,INDEX('Analyse Préliminaire Autres'!$W$11:$W$42,A74-nbappomp-nbapven-nbapair),IF(A74<=nbappomp+nbapven+nbapair+nbaautre+nbafroid,INDEX('AP Groupe froid'!$AE$14:$AE$17,A74-nbappomp-nbapven-nbapair-nbaautre),\"\"))))),AG74)","v":""},null,"",null,"",null,{"$f":"IF(AI74=\"\",IF($A74<=nbappomp,INDEX('Analyse Préliminaire Pompe'!T$13:T$47,$A74),IF($A74<=nbappomp+nbapven,INDEX('Analyse Préliminaire Ventilateu'!R$13:R$44,$A74-nbappomp),IF($A74<=nbappomp+nbapven+nbapair,'Analyse Préliminaire air compr'!$AH$13,IF(A74<=nbappomp+nbapven+nbapair+nbaautre,INDEX('Analyse Préliminaire Autres'!$P$11:$P$42,A74-nbappomp-nbapven-nbapair),IF(A74<=nbappomp+nbapven+nbapair+nbaautre+nbafroid,INDEX('AP Groupe froid'!$AD$14:$AD$17,A74-nbappomp-nbapven-nbapair-nbaautre),\"\"))))),AI74)","v":""},null,{"$f":"IF($A74<=nbappomp,INDEX('Analyse Préliminaire Pompe'!X$13:X$47,$A74),IF($A74<=nbappomp+nbapven,INDEX('Analyse Préliminaire Ventilateu'!V$13:V$44,$A74-nbappomp),IF($A74<=nbappomp+nbapven+nbapair,'Analyse Préliminaire air compr'!$E$35,IF(A74<=nbappomp+nbapven+nbapair+nbaautre,INDEX('Analyse Préliminaire Autres'!$R$11:$R$42,A74-nbappomp-nbapven-nbapair),IF(A74<=nbappomp+nbapven+nbapair+nbaautre+nbafroid,INDEX('AP Groupe froid'!$Z$14:$Z$17,A74-nbappomp-nbapven-nbapair-nbaautre),\"\")))))","v":""},null,null,{"$f":"IF(AG74=\"\",IF($A74<=nbappomp,INDEX('Analyse Préliminaire Pompe'!AN$13:AN$47,$A74),IF($A74<=nbappomp+nbapven,INDEX('Analyse Préliminaire Ventilateu'!AL$13:AL$44,$A74-nbappomp),IF($A74<=nbappomp+nbapven+nbapair,'Analyse Préliminaire air compr'!$AM$16,IF(A74<=nbappomp+nbapven+nbapair+nbaautre,INDEX('Analyse Préliminaire Autres'!$AB$11:$AB$42,A74-nbappomp-nbapven-nbapair),IF(A74<=nbappomp+nbapven+nbapair+nbaautre+nbafroid,INDEX('AP Groupe froid'!$AM$14:$AM$17,A74-nbappomp-nbapven-nbapair-nbaautre),\"\"))))),'Economies classées'!$A$47)","v":""},{"$f":"IF($A74<=nbappomp,INDEX('Analyse Préliminaire Pompe'!E$13:E$47,$A74),IF($A74<=nbappomp+nbapven,INDEX('Analyse Préliminaire Ventilateu'!E$13:E$44,$A74-nbappomp),IF($A74<=nbappomp+nbapven+nbapair,\"voir detail\",IF(A74<=nbappomp+nbapven+nbapair+nbaautre,INDEX('Analyse Préliminaire Autres'!$E$11:$E$42,A74-nbappomp-nbapven-nbapair),IF(A74<=nbappomp+nbapven+nbapair+nbaautre+nbafroid,INDEX('AP Groupe froid'!$F$14:$F$17,A74-nbappomp-nbapven-nbapair-nbaautre),\"\")))))","v":""},{"$f":"IF($A74<=nbappomp,INDEX('Analyse Préliminaire Pompe'!K$13:K$47,$A74),IF($A74<=nbappomp+nbapven,INDEX('Analyse Préliminaire Ventilateu'!K$13:K$44,$A74-nbappomp),IF($A74<=nbappomp+nbapven+nbapair,SUM('Analyse Préliminaire air compr'!$I$26:$I$32),IF(A74<=nbappomp+nbapven+nbapair+nbaautre,INDEX('Analyse Préliminaire Autres'!$K$11:$K$42,A74-nbappomp-nbapven-nbapair),IF(A74<=nbappomp+nbapven+nbapair+nbaautre+nbafroid,INDEX('AP Groupe froid'!$O$14:$O$17,A74-nbappomp-nbapven-nbapair-nbaautre),\"\")))))","v":""},{"$f":"IF($A74<=nbappomp,INDEX('Analyse Préliminaire Pompe'!L$13:L$47,$A74),IF($A74<=nbappomp+nbapven,INDEX('Analyse Préliminaire Ventilateu'!L$13:L$44,$A74-nbappomp),IF($A74<=nbappomp+nbapven+nbapair,MIN('Analyse Préliminaire air compr'!$J$26:$J$32),IF(A74<=nbappomp+nbapven+nbapair+nbaautre,INDEX('Analyse Préliminaire Autres'!$L$11:$L$42,A74-nbappomp-nbapven-nbapair),IF($A74<=nbappomp+nbapven+nbapair,'Analyse Préliminaire air compr'!$AM$16,IF(A74<=nbappomp+nbapven+nbapair+nbaautre+nbafroid,INDEX('AP Groupe froid'!$L$14:$L$17,A74-nbappomp-nbapven-nbapair-nbaautre),\"\"))))))","v":""},{"$f":"IF($A74<=nbappomp,INDEX('Analyse Préliminaire Pompe'!M$13:M$47,$A74),IF($A74<=nbappomp+nbapven,INDEX('Analyse Préliminaire Ventilateu'!M$13:M$44,$A74-nbappomp),IF($A74<=nbappomp+nbapven+nbapair,\"\",IF(A74<=nbappomp+nbapven+nbapair+nbaautre,INDEX('Analyse Préliminaire Autres'!$M$11:$M$42,A74-nbappomp-nbapven-nbapair),IF($A74<=nbappomp+nbapven+nbapair,'Analyse Préliminaire air compr'!$AM$16,IF(A74<=nbappomp+nbapven+nbapair+nbaautre+nbafroid,INDEX('AP Groupe froid'!$M$14:$M$17,A74-nbappomp-nbapven-nbapair-nbaautre),\"\"))))))","v":""},{"$f":"IF($A74<=nbappomp,INDEX('Analyse Préliminaire Pompe'!N$13:N$47,$A74),IF($A74<=nbappomp+nbapven,INDEX('Analyse Préliminaire Ventilateu'!N$13:N$44,$A74-nbappomp),IF($A74<=nbappomp+nbapven+nbapair,\"\",IF(A74<=nbappomp+nbapven+nbapair+nbaautre,INDEX('Analyse Préliminaire Autres'!$N$11:$N$42,A74-nbappomp-nbapven-nbapair),\"\"))))","v":""},{"$f":"IF($A74<=nbappomp,INDEX('Analyse Préliminaire Pompe'!O$13:O$47,$A74),IF($A74<=nbappomp+nbapven,INDEX('Analyse Préliminaire Ventilateu'!O$13:O$44,$A74-nbappomp),IF($A74<=nbappomp+nbapven+nbapair,\"\",IF(A74<=nbappomp+nbapven+nbapair+nbaautre,INDEX('Analyse Préliminaire Autres'!$O$11:$O$42,A74-nbappomp-nbapven-nbapair),\"\"))))","v":""},{"$f":"IF($A74<=nbappomp,INDEX('Analyse Préliminaire Pompe'!P$13:P$47,$A74),IF($A74<=nbappomp+nbapven,INDEX('Analyse Préliminaire Ventilateu'!P$13:P$44,$A74-nbappomp),IF($A74<=nbappomp+nbapven+nbapair,\"\",IF(A74<=nbappomp+nbapven+nbapair+nbaautre,INDEX('Analyse Préliminaire Autres'!#REF!,A74-nbappomp-nbapven-nbapair),\"\"))))","v":""},{"$f":"IF($A74<=nbappomp,INDEX('Analyse Préliminaire Pompe'!Q$13:Q$47,$A74),IF($A74<=nbappomp+nbapven,\"\",IF($A74<=nbappomp+nbapven+nbapair,\"\",\"\")))","v":""},{"$f":"IF(AI74=\"\",IF($A74<=nbappomp,INDEX('Analyse Préliminaire Pompe'!S$13:S$47,$A74),IF($A74<=nbappomp+nbapven,INDEX('Analyse Préliminaire Ventilateu'!Q$13:Q$44,$A74-nbappomp),IF($A74<=nbappomp+nbapven+nbapair,\"\",IF(A74<=nbappomp+nbapven+nbapair+nbaautre,\"\",\"\")))),AI74)","v":""},{"$f":"IF(AN74,\"\",IF($A74<=nbappomp,INDEX('Analyse Préliminaire Pompe'!AO$13:AO$47,$A74),IF($A74<=nbappomp+nbapven,INDEX('Analyse Préliminaire Ventilateu'!AM$13:AM$44,$A74-nbappomp),IF($A74<=nbappomp+nbapven+nbapair,EcoAPkWhCP,IF(A74<=nbappomp+nbapven+nbapair+nbaautre,INDEX('Analyse Préliminaire Autres'!$E$11:$E$42,A74-nbappomp-nbapven-nbapair),IF($A74<=nbappomp+nbapven+nbapair+nbaautre+nbafroid,INDEX('AP Groupe froid'!$AN$14:$AN$17,$A74-nbappomp-nbapven-nbapair-nbaautre),\"\"))))))","v":""},{"$f":"IF(AN74,\"\",IF($A74<=nbappomp,INDEX('Analyse Préliminaire Pompe'!AP$13:AP$47,$A74),IF($A74<=nbappomp+nbapven,INDEX('Analyse Préliminaire Ventilateu'!AN$13:AN$44,$A74-nbappomp),IF($A74<=nbappomp+nbapven+nbapair,EcoAPpercCP,IF(A74<=nbappomp+nbapven+nbapair+nbaautre,INDEX('Analyse Préliminaire Autres'!$E$11:$E$42,A74-nbappomp-nbapven-nbapair),IF($A74<=nbappomp+nbapven+nbapair+nbaautre+nbafroid,INDEX('AP Groupe froid'!$AO$14:$AO$17,$A74-nbappomp-nbapven-nbapair-nbaautre),\"\"))))))","v":""},{"$f":"IF(AN74,\"\",IF($A74<=nbappomp,INDEX('Analyse Préliminaire Pompe'!AQ$13:AQ$47,$A74),IF($A74<=nbappomp+nbapven,INDEX('Analyse Préliminaire Ventilateu'!AO$13:AO$44,$A74-nbappomp),IF($A74<=nbappomp+nbapven+nbapair,consoanncp,IF(A74<=nbappomp+nbapven+nbapair+nbaautre,INDEX('Analyse Préliminaire Autres'!$E$11:$E$42,A74-nbappomp-nbapven-nbapair),IF($A74<=nbappomp+nbapven+nbapair+nbaautre+nbafroid,INDEX('AP Groupe froid'!$AP$14:$AP$17,$A74-nbappomp-nbapven-nbapair-nbaautre),\"\"))))))","v":""},{"$f":"IF(R74=\"\",-1,IF(AND($L74>'Economies classées'!$B$2,$K74>0.2,YEAR(TODAY())-$Z74>8),2,IF(AND($L74>'Economies classées'!$B$3,YEAR(TODAY())-$Z74>5),1,0)))","v":-1},null,null,"",{"$f":"IF($A74<=nbappomp,ISBLANK(INDEX('Analyse Préliminaire Pompe'!AO$13:AO$47,$A74)),IF($A74<=nbappomp+nbapven,ISBLANK(INDEX('Analyse Préliminaire Ventilateu'!AM$13:AM$44,$A74-nbappomp)),IF($A74<=nbappomp+nbapven+nbapair,ISBLANK(EcoAPkWhCP),IF(A74<=nbappomp+nbapven+nbapair+nbaautre,ISBLANK(INDEX('Analyse Préliminaire Autres'!AC$11:AC$42,A74-nbappomp-nbapven-nbapair)),IF(A74<=nbappomp+nbapven+nbapair+nbaautre+nbafroid,ISBLANK(INDEX('AP Groupe froid'!$AN$14:$AN$17,A74-nbappomp-nbapven-nbapair-nbaautre)),FALSE)))))","v":false},{"$f":"IF(E74=Listes!$H$25,1,0)","v":0},{"$f":"IF(E74=Listes!$H$26,1,0)","v":0},0,0,{"$f":"IF(E74=Listes!$H$28,1,0)","v":0},null,0,0,0,0,0,null,0,0,0,0,0,null,"","","","","",null,-1,-1,-1,-1,null,null,{"$f":"IF(E74=Listes!$H$25,1,0)","v":0},{"$f":"IF(E74=Listes!$H$26,1,0)","v":0},0,0,0,0,0,null,0,0,null,{"$error":"#VALUE!"},0,0,0,null,null,null,"",""]
[51,"",null,{"$f":"IF(A75<=nbappomp,INDEX('Analyse Préliminaire Pompe'!$B$13:$B$47,A75),IF(A75<=nbappomp+nbapven,INDEX('Analyse Préliminaire Ventilateu'!$B$13:$B$44,A75-nbappomp),IF(A75<=nbappomp+nbapven+nbapair,301,IF(A75<=nbappomp+nbapven+nbapair+nbaautre,INDEX('Analyse Préliminaire Autres'!$B$11:$B$42,A75-nbappomp-nbapven-nbapair),IF(A75<=nbappomp+nbapven+nbapair+nbaautre+nbafroid,INDEX('AP Groupe froid'!$B$14:$B$17,A75-nbappomp-nbapven-nbapair-nbaautre),\"\")))))","v":""},{"$f":"IF(A75<=nbappomp,INDEX('Analyse Préliminaire Pompe'!$C$13:$C$47,A75),IF(A75<=nbappomp+nbapven,INDEX('Analyse Préliminaire Ventilateu'!$C$13:$C$44,A75-nbappomp),IF(A75<=nbappomp+nbapven+nbapair,$AJ$4,IF(A75<=nbappomp+nbapven+nbapair+nbaautre,INDEX('Analyse Préliminaire Autres'!$C$11:$C$42,A75-nbappomp-nbapven-nbapair),IF(A75<=nbappomp+nbapven+nbapair+nbaautre+nbafroid,INDEX('AP Groupe froid'!$C$14:$C$17,A75-nbappomp-nbapven-nbapair-nbaautre),\"\")))))","v":""},null,null,{"$f":"IF(A75<=nbappomp,INDEX('Analyse Préliminaire Pompe'!$H$13:$H$47,A75),IF(A75<=nbappomp+nbapven,INDEX('Analyse Préliminaire Ventilateu'!$H$13:$H$44,A75-nbappomp),IF(A75<=nbappomp+nbapven+nbapair,$AJ$4,IF(A75<=nbappomp+nbapven+nbapair+nbaautre,INDEX('Analyse Préliminaire Autres'!$H$11:$H$42,A75-nbappomp-nbapven-nbapair),IF(A75<=nbappomp+nbapven+nbapair+nbaautre+nbafroid,INDEX('AP Groupe froid'!$I$14:$I$17,A75-nbappomp-nbapven-nbapair-nbaautre),\"\")))))","v":""},null,null,{"$f":"IF(AH75=\"\",IF($A75<=nbappomp,INDEX('Analyse Préliminaire Pompe'!AE$13:AE$47,$A75),IF($A75<=nbappomp+nbapven,INDEX('Analyse Préliminaire Ventilateu'!AC$13:AC$44,$A75-nbappomp),IF($A75<=nbappomp+nbapven+nbapair,'Analyse Préliminaire air compr'!$AI$22,IF(A75<=nbappomp+nbapven+nbapair+nbaautre,INDEX('Analyse Préliminaire Autres'!$X$11:$X$42,A75-nbappomp-nbapven-nbapair),IF(A75<=nbappomp+nbapven+nbapair+nbaautre+nbafroid,INDEX('AP Groupe froid'!$AF$14:$AF$17,A75-nbappomp-nbapven-nbapair-nbaautre),\"\"))))),AH75)","v":""},{"$f":"IF(AG75=\"\",IF($A75<=nbappomp,INDEX('Analyse Préliminaire Pompe'!AD$13:AD$47,$A75),IF($A75<=nbappomp+nbapven,INDEX('Analyse Préliminaire Ventilateu'!AB$13:AB$44,$A75-nbappomp),IF($A75<=nbappomp+nbapven+nbapair,'Analyse Préliminaire air compr'!$AH$22,IF(A75<=nbappomp+nbapven+nbapair+nbaautre,INDEX('Analyse Préliminaire Autres'!$W$11:$W$42,A75-nbappomp-nbapven-nbapair),IF(A75<=nbappomp+nbapven+nbapair+nbaautre+nbafroid,INDEX('AP Groupe froid'!$AE$14:$AE$17,A75-nbappomp-nbapven-nbapair-nbaautre),\"\"))))),AG75)","v":""},null,"",null,"",null,{"$f":"IF(AI75=\"\",IF($A75<=nbappomp,INDEX('Analyse Préliminaire Pompe'!T$13:T$47,$A75),IF($A75<=nbappomp+nbapven,INDEX('Analyse Préliminaire Ventilateu'!R$13:R$44,$A75-nbappomp),IF($A75<=nbappomp+nbapven+nbapair,'Analyse Préliminaire air compr'!$AH$13,IF(A75<=nbappomp+nbapven+nbapair+nbaautre,INDEX('Analyse Préliminaire Autres'!$P$11:$P$42,A75-nbappomp-nbapven-nbapair),IF(A75<=nbappomp+nbapven+nbapair+nbaautre+nbafroid,INDEX('AP Groupe froid'!$AD$14:$AD$17,A75-nbappomp-nbapven-nbapair-nbaautre),\"\"))))),AI75)","v":""},null,{"$f":"IF($A75<=nbappomp,INDEX('Analyse Préliminaire Pompe'!X$13:X$47,$A75),IF($A75<=nbappomp+nbapven,INDEX('Analyse Préliminaire Ventilateu'!V$13:V$44,$A75-nbappomp),IF($A75<=nbappomp+nbapven+nbapair,'Analyse Préliminaire air compr'!$E$35,IF(A75<=nbappomp+nbapven+nbapair+nbaautre,INDEX('Analyse Préliminaire Autres'!$R$11:$R$42,A75-nbappomp-nbapven-nbapair),IF(A75<=nbappomp+nbapven+nbapair+nbaautre+nbafroid,INDEX('AP Groupe froid'!$Z$14:$Z$17,A75-nbappomp-nbapven-nbapair-nbaautre),\"\")))))","v":""},null,null,{"$f":"IF(AG75=\"\",IF($A75<=nbappomp,INDEX('Analyse Préliminaire Pompe'!AN$13:AN$47,$A75),IF($A75<=nbappomp+nbapven,INDEX('Analyse Préliminaire Ventilateu'!AL$13:AL$44,$A75-nbappomp),IF($A75<=nbappomp+nbapven+nbapair,'Analyse Préliminaire air compr'!$AM$16,IF(A75<=nbappomp+nbapven+nbapair+nbaautre,INDEX('Analyse Préliminaire Autres'!$AB$11:$AB$42,A75-nbappomp-nbapven-nbapair),IF(A75<=nbappomp+nbapven+nbapair+nbaautre+nbafroid,INDEX('AP Groupe froid'!$AM$14:$AM$17,A75-nbappomp-nbapven-nbapair-nbaautre),\"\"))))),'Economies classées'!$A$47)","v":""},{"$f":"IF($A75<=nbappomp,INDEX('Analyse Préliminaire Pompe'!E$13:E$47,$A75),IF($A75<=nbappomp+nbapven,INDEX('Analyse Préliminaire Ventilateu'!E$13:E$44,$A75-nbappomp),IF($A75<=nbappomp+nbapven+nbapair,\"voir detail\",IF(A75<=nbappomp+nbapven+nbapair+nbaautre,INDEX('Analyse Préliminaire Autres'!$E$11:$E$42,A75-nbappomp-nbapven-nbapair),IF(A75<=nbappomp+nbapven+nbapair+nbaautre+nbafroid,INDEX('AP Groupe froid'!$F$14:$F$17,A75-nbappomp-nbapven-nbapair-nbaautre),\"\")))))","v":""},{"$f":"IF($A75<=nbappomp,INDEX('Analyse Préliminaire Pompe'!K$13:K$47,$A75),IF($A75<=nbappomp+nbapven,INDEX('Analyse Préliminaire Ventilateu'!K$13:K$44,$A75-nbappomp),IF($A75<=nbappomp+nbapven+nbapair,SUM('Analyse Préliminaire air compr'!$I$26:$I$32),IF(A75<=nbappomp+nbapven+nbapair+nbaautre,INDEX('Analyse Préliminaire Autres'!$K$11:$K$42,A75-nbappomp-nbapven-nbapair),IF(A75<=nbappomp+nbapven+nbapair+nbaautre+nbafroid,INDEX('AP Groupe froid'!$O$14:$O$17,A75-nbappomp-nbapven-nbapair-nbaautre),\"\")))))","v":""},{"$f":"IF($A75<=nbappomp,INDEX('Analyse Préliminaire Pompe'!L$13:L$47,$A75),IF($A75<=nbappomp+nbapven,INDEX('Analyse Préliminaire Ventilateu'!L$13:L$44,$A75-nbappomp),IF($A75<=nbappomp+nbapven+nbapair,MIN('Analyse Préliminaire air compr'!$J$26:$J$32),IF(A75<=nbappomp+nbapven+nbapair+nbaautre,INDEX('Analyse Préliminaire Autres'!$L$11:$L$42,A75-nbappomp-nbapven-nbapair),IF($A75<=nbappomp+nbapven+nbapair,'Analyse Préliminaire air compr'!$AM$16,IF(A75<=nbappomp+nbapven+nbapair+nbaautre+nbafroid,INDEX('AP Groupe froid'!$L$14:$L$17,A75-nbappomp-nbapven-nbapair-nbaautre),\"\"))))))","v":""},{"$f":"IF($A75<=nbappomp,INDEX('Analyse Préliminaire Pompe'!M$13:M$47,$A75),IF($A75<=nbappomp+nbapven,INDEX('Analyse Préliminaire Ventilateu'!M$13:M$44,$A75-nbappomp),IF($A75<=nbappomp+nbapven+nbapair,\"\",IF(A75<=nbappomp+nbapven+nbapair+nbaautre,INDEX('Analyse Préliminaire Autres'!$M$11:$M$42,A75-nbappomp-nbapven-nbapair),IF($A75<=nbappomp+nbapven+nbapair,'Analyse Préliminaire air compr'!$AM$16,IF(A75<=nbappomp+nbapven+nbapair+nbaautre+nbafroid,INDEX('AP Groupe froid'!$M$14:$M$17,A75-nbappomp-nbapven-nbapair-nbaautre),\"\"))))))","v":""},{"$f":"IF($A75<=nbappomp,INDEX('Analyse Préliminaire Pompe'!N$13:N$47,$A75),IF($A75<=nbappomp+nbapven,INDEX('Analyse Préliminaire Ventilateu'!N$13:N$44,$A75-nbappomp),IF($A75<=nbappomp+nbapven+nbapair,\"\",IF(A75<=nbappomp+nbapven+nbapair+nbaautre,INDEX('Analyse Préliminaire Autres'!$N$11:$N$42,A75-nbappomp-nbapven-nbapair),\"\"))))","v":""},{"$f":"IF($A75<=nbappomp,INDEX('Analyse Préliminaire Pompe'!O$13:O$47,$A75),IF($A75<=nbappomp+nbapven,INDEX('Analyse Préliminaire Ventilateu'!O$13:O$44,$A75-nbappomp),IF($A75<=nbappomp+nbapven+nbapair,\"\",IF(A75<=nbappomp+nbapven+nbapair+nbaautre,INDEX('Analyse Préliminaire Autres'!$O$11:$O$42,A75-nbappomp-nbapven-nbapair),\"\"))))","v":""},{"$f":"IF($A75<=nbappomp,INDEX('Analyse Préliminaire Pompe'!P$13:P$47,$A75),IF($A75<=nbappomp+nbapven,INDEX('Analyse Préliminaire Ventilateu'!P$13:P$44,$A75-nbappomp),IF($A75<=nbappomp+nbapven+nbapair,\"\",IF(A75<=nbappomp+nbapven+nbapair+nbaautre,INDEX('Analyse Préliminaire Autres'!#REF!,A75-nbappomp-nbapven-nbapair),\"\"))))","v":""},{"$f":"IF($A75<=nbappomp,INDEX('Analyse Préliminaire Pompe'!Q$13:Q$47,$A75),IF($A75<=nbappomp+nbapven,\"\",IF($A75<=nbappomp+nbapven+nbapair,\"\",\"\")))","v":""},{"$f":"IF(AI75=\"\",IF($A75<=nbappomp,INDEX('Analyse Préliminaire Pompe'!S$13:S$47,$A75),IF($A75<=nbappomp+nbapven,INDEX('Analyse Préliminaire Ventilateu'!Q$13:Q$44,$A75-nbappomp),IF($A75<=nbappomp+nbapven+nbapair,\"\",IF(A75<=nbappomp+nbapven+nbapair+nbaautre,\"\",\"\")))),AI75)","v":""},{"$f":"IF(AN75,\"\",IF($A75<=nbappomp,INDEX('Analyse Préliminaire Pompe'!AO$13:AO$47,$A75),IF($A75<=nbappomp+nbapven,INDEX('Analyse Préliminaire Ventilateu'!AM$13:AM$44,$A75-nbappomp),IF($A75<=nbappomp+nbapven+nbapair,EcoAPkWhCP,IF(A75<=nbappomp+nbapven+nbapair+nbaautre,INDEX('Analyse Préliminaire Autres'!$E$11:$E$42,A75-nbappomp-nbapven-nbapair),IF($A75<=nbappomp+nbapven+nbapair+nbaautre+nbafroid,INDEX('AP Groupe froid'!$AN$14:$AN$17,$A75-nbappomp-nbapven-nbapair-nbaautre),\"\"))))))","v":""},{"$f":"IF(AN75,\"\",IF($A75<=nbappomp,INDEX('Analyse Préliminaire Pompe'!AP$13:AP$47,$A75),IF($A75<=nbappomp+nbapven,INDEX('Analyse Préliminaire Ventilateu'!AN$13:AN$44,$A75-nbappomp),IF($A75<=nbappomp+nbapven+nbapair,EcoAPpercCP,IF(A75<=nbappomp+nbapven+nbapair+nbaautre,INDEX('Analyse Préliminaire Autres'!$E$11:$E$42,A75-nbappomp-nbapven-nbapair),IF($A75<=nbappomp+nbapven+nbapair+nbaautre+nbafroid,INDEX('AP Groupe froid'!$AO$14:$AO$17,$A75-nbappomp-nbapven-nbapair-nbaautre),\"\"))))))","v":""},{"$f":"IF(AN75,\"\",IF($A75<=nbappomp,INDEX('Analyse Préliminaire Pompe'!AQ$13:AQ$47,$A75),IF($A75<=nbappomp+nbapven,INDEX('Analyse Préliminaire Ventilateu'!AO$13:AO$44,$A75-nbappomp),IF($A75<=nbappomp+nbapven+nbapair,consoanncp,IF(A75<=nbappomp+nbapven+nbapair+nbaautre,INDEX('Analyse Préliminaire Autres'!$E$11:$E$42,A75-nbappomp-nbapven-nbapair),IF($A75<=nbappomp+nbapven+nbapair+nbaautre+nbafroid,INDEX('AP Groupe froid'!$AP$14:$AP$17,$A75-nbappomp-nbapven-nbapair-nbaautre),\"\"))))))","v":""},{"$f":"IF(R75=\"\",-1,IF(AND($L75>'Economies classées'!$B$2,$K75>0.2,YEAR(TODAY())-$Z75>8),2,IF(AND($L75>'Economies classées'!$B$3,YEAR(TODAY())-$Z75>5),1,0)))","v":-1},null,null,"",{"$f":"IF($A75<=nbappomp,ISBLANK(INDEX('Analyse Préliminaire Pompe'!AO$13:AO$47,$A75)),IF($A75<=nbappomp+nbapven,ISBLANK(INDEX('Analyse Préliminaire Ventilateu'!AM$13:AM$44,$A75-nbappomp)),IF($A75<=nbappomp+nbapven+nbapair,ISBLANK(EcoAPkWhCP),IF(A75<=nbappomp+nbapven+nbapair+nbaautre,ISBLANK(INDEX('Analyse Préliminaire Autres'!AC$11:AC$42,A75-nbappomp-nbapven-nbapair)),IF(A75<=nbappomp+nbapven+nbapair+nbaautre+nbafroid,ISBLANK(INDEX('AP Groupe froid'!$AN$14:$AN$17,A75-nbappomp-nbapven-nbapair-nbaautre)),FALSE)))))","v":false},{"$f":"IF(E75=Listes!$H$25,1,0)","v":0},{"$f":"IF(E75=Listes!$H$26,1,0)","v":0},0,0,{"$f":"IF(E75=Listes!$H$28,1,0)","v":0},null,0,0,0,0,0,null,0,0,0,0,0,null,"","","","","",null,-1,-1,-1,-1,null,null,{"$f":"IF(E75=Listes!$H$25,1,0)","v":0},{"$f":"IF(E75=Listes!$H$26,1,0)","v":0},0,0,0,0,0,null,0,0,null,{"$error":"#VALUE!"},0,0,0,null,null,null,"",""]
[52,"",null,{"$f":"IF(A76<=nbappomp,INDEX('Analyse Préliminaire Pompe'!$B$13:$B$47,A76),IF(A76<=nbappomp+nbapven,INDEX('Analyse Préliminaire Ventilateu'!$B$13:$B$44,A76-nbappomp),IF(A76<=nbappomp+nbapven+nbapair,301,IF(A76<=nbappomp+nbapven+nbapair+nbaautre,INDEX('Analyse Préliminaire Autres'!$B$11:$B$42,A76-nbappomp-nbapven-nbapair),IF(A76<=nbappomp+nbapven+nbapair+nbaautre+nbafroid,INDEX('AP Groupe froid'!$B$14:$B$17,A76-nbappomp-nbapven-nbapair-nbaautre),\"\")))))","v":""},{"$f":"IF(A76<=nbappomp,INDEX('Analyse Préliminaire Pompe'!$C$13:$C$47,A76),IF(A76<=nbappomp+nbapven,INDEX('Analyse Préliminaire Ventilateu'!$C$13:$C$44,A76-nbappomp),IF(A76<=nbappomp+nbapven+nbapair,$AJ$4,IF(A76<=nbappomp+nbapven+nbapair+nbaautre,INDEX('Analyse Préliminaire Autres'!$C$11:$C$42,A76-nbappomp-nbapven-nbapair),IF(A76<=nbappomp+nbapven+nbapair+nbaautre+nbafroid,INDEX('AP Groupe froid'!$C$14:$C$17,A76-nbappomp-nbapven-nbapair-nbaautre),\"\")))))","v":""},null,null,{"$f":"IF(A76<=nbappomp,INDEX('Analyse Préliminaire Pompe'!$H$13:$H$47,A76),IF(A76<=nbappomp+nbapven,INDEX('Analyse Préliminaire Ventilateu'!$H$13:$H$44,A76-nbappomp),IF(A76<=nbappomp+nbapven+nbapair,$AJ$4,IF(A76<=nbappomp+nbapven+nbapair+nbaautre,INDEX('Analyse Préliminaire Autres'!$H$11:$H$42,A76-nbappomp-nbapven-nbapair),IF(A76<=nbappomp+nbapven+nbapair+nbaautre+nbafroid,INDEX('AP Groupe froid'!$I$14:$I$17,A76-nbappomp-nbapven-nbapair-nbaautre),\"\")))))","v":""},null,null,{"$f":"IF(AH76=\"\",IF($A76<=nbappomp,INDEX('Analyse Préliminaire Pompe'!AE$13:AE$47,$A76),IF($A76<=nbappomp+nbapven,INDEX('Analyse Préliminaire Ventilateu'!AC$13:AC$44,$A76-nbappomp),IF($A76<=nbappomp+nbapven+nbapair,'Analyse Préliminaire air compr'!$AI$22,IF(A76<=nbappomp+nbapven+nbapair+nbaautre,INDEX('Analyse Préliminaire Autres'!$X$11:$X$42,A76-nbappomp-nbapven-nbapair),IF(A76<=nbappomp+nbapven+nbapair+nbaautre+nbafroid,INDEX('AP Groupe froid'!$AF$14:$AF$17,A76-nbappomp-nbapven-nbapair-nbaautre),\"\"))))),AH76)","v":""},{"$f":"IF(AG76=\"\",IF($A76<=nbappomp,INDEX('Analyse Préliminaire Pompe'!AD$13:AD$47,$A76),IF($A76<=nbappomp+nbapven,INDEX('Analyse Préliminaire Ventilateu'!AB$13:AB$44,$A76-nbappomp),IF($A76<=nbappomp+nbapven+nbapair,'Analyse Préliminaire air compr'!$AH$22,IF(A76<=nbappomp+nbapven+nbapair+nbaautre,INDEX('Analyse Préliminaire Autres'!$W$11:$W$42,A76-nbappomp-nbapven-nbapair),IF(A76<=nbappomp+nbapven+nbapair+nbaautre+nbafroid,INDEX('AP Groupe froid'!$AE$14:$AE$17,A76-nbappomp-nbapven-nbapair-nbaautre),\"\"))))),AG76)","v":""},null,"",null,"",null,{"$f":"IF(AI76=\"\",IF($A76<=nbappomp,INDEX('Analyse Préliminaire Pompe'!T$13:T$47,$A76),IF($A76<=nbappomp+nbapven,INDEX('Analyse Préliminaire Ventilateu'!R$13:R$44,$A76-nbappomp),IF($A76<=nbappomp+nbapven+nbapair,'Analyse Préliminaire air compr'!$AH$13,IF(A76<=nbappomp+nbapven+nbapair+nbaautre,INDEX('Analyse Préliminaire Autres'!$P$11:$P$42,A76-nbappomp-nbapven-nbapair),IF(A76<=nbappomp+nbapven+nbapair+nbaautre+nbafroid,INDEX('AP Groupe froid'!$AD$14:$AD$17,A76-nbappomp-nbapven-nbapair-nbaautre),\"\"))))),AI76)","v":""},null,{"$f":"IF($A76<=nbappomp,INDEX('Analyse Préliminaire Pompe'!X$13:X$47,$A76),IF($A76<=nbappomp+nbapven,INDEX('Analyse Préliminaire Ventilateu'!V$13:V$44,$A76-nbappomp),IF($A76<=nbappomp+nbapven+nbapair,'Analyse Préliminaire air compr'!$E$35,IF(A76<=nbappomp+nbapven+nbapair+nbaautre,INDEX('Analyse Préliminaire Autres'!$R$11:$R$42,A76-nbappomp-nbapven-nbapair),IF(A76<=nbappomp+nbapven+nbapair+nbaautre+nbafroid,INDEX('AP Groupe froid'!$Z$14:$Z$17,A76-nbappomp-nbapven-nbapair-nbaautre),\"\")))))","v":""},null,null,{"$f":"IF(AG76=\"\",IF($A76<=nbappomp,INDEX('Analyse Préliminaire Pompe'!AN$13:AN$47,$A76),IF($A76<=nbappomp+nbapven,INDEX('Analyse Préliminaire Ventilateu'!AL$13:AL$44,$A76-nbappomp),IF($A76<=nbappomp+nbapven+nbapair,'Analyse Préliminaire air compr'!$AM$16,IF(A76<=nbappomp+nbapven+nbapair+nbaautre,INDEX('Analyse Préliminaire Autres'!$AB$11:$AB$42,A76-nbappomp-nbapven-nbapair),IF(A76<=nbappomp+nbapven+nbapair+nbaautre+nbafroid,INDEX('AP Groupe froid'!$AM$14:$AM$17,A76-nbappomp-nbapven-nbapair-nbaautre),\"\"))))),'Economies classées'!$A$47)","v":""},{"$f":"IF($A76<=nbappomp,INDEX('Analyse Préliminaire Pompe'!E$13:E$47,$A76),IF($A76<=nbappomp+nbapven,INDEX('Analyse Préliminaire Ventilateu'!E$13:E$44,$A76-nbappomp),IF($A76<=nbappomp+nbapven+nbapair,\"voir detail\",IF(A76<=nbappomp+nbapven+nbapair+nbaautre,INDEX('Analyse Préliminaire Autres'!$E$11:$E$42,A76-nbappomp-nbapven-nbapair),IF(A76<=nbappomp+nbapven+nbapair+nbaautre+nbafroid,INDEX('AP Groupe froid'!$F$14:$F$17,A76-nbappomp-nbapven-nbapair-nbaautre),\"\")))))","v":""},{"$f":"IF($A76<=nbappomp,INDEX('Analyse Préliminaire Pompe'!K$13:K$47,$A76),IF($A76<=nbappomp+nbapven,INDEX('Analyse Préliminaire Ventilateu'!K$13:K$44,$A76-nbappomp),IF($A76<=nbappomp+nbapven+nbapair,SUM('Analyse Préliminaire air compr'!$I$26:$I$32),IF(A76<=nbappomp+nbapven+nbapair+nbaautre,INDEX('Analyse Préliminaire Autres'!$K$11:$K$42,A76-nbappomp-nbapven-nbapair),IF(A76<=nbappomp+nbapven+nbapair+nbaautre+nbafroid,INDEX('AP Groupe froid'!$O$14:$O$17,A76-nbappomp-nbapven-nbapair-nbaautre),\"\")))))","v":""},{"$f":"IF($A76<=nbappomp,INDEX('Analyse Préliminaire Pompe'!L$13:L$47,$A76),IF($A76<=nbappomp+nbapven,INDEX('Analyse Préliminaire Ventilateu'!L$13:L$44,$A76-nbappomp),IF($A76<=nbappomp+nbapven+nbapair,MIN('Analyse Préliminaire air compr'!$J$26:$J$32),IF(A76<=nbappomp+nbapven+nbapair+nbaautre,INDEX('Analyse Préliminaire Autres'!$L$11:$L$42,A76-nbappomp-nbapven-nbapair),IF($A76<=nbappomp+nbapven+nbapair,'Analyse Préliminaire air compr'!$AM$16,IF(A76<=nbappomp+nbapven+nbapair+nbaautre+nbafroid,INDEX('AP Groupe froid'!$L$14:$L$17,A76-nbappomp-nbapven-nbapair-nbaautre),\"\"))))))","v":""},{"$f":"IF($A76<=nbappomp,INDEX('Analyse Préliminaire Pompe'!M$13:M$47,$A76),IF($A76<=nbappomp+nbapven,INDEX('Analyse Préliminaire Ventilateu'!M$13:M$44,$A76-nbappomp),IF($A76<=nbappomp+nbapven+nbapair,\"\",IF(A76<=nbappomp+nbapven+nbapair+nbaautre,INDEX('Analyse Préliminaire Autres'!$M$11:$M$42,A76-nbappomp-nbapven-nbapair),IF($A76<=nbappomp+nbapven+nbapair,'Analyse Préliminaire air compr'!$AM$16,IF(A76<=nbappomp+nbapven+nbapair+nbaautre+nbafroid,INDEX('AP Groupe froid'!$M$14:$M$17,A76-nbappomp-nbapven-nbapair-nbaautre),\"\"))))))","v":""},{"$f":"IF($A76<=nbappomp,INDEX('Analyse Préliminaire Pompe'!N$13:N$47,$A76),IF($A76<=nbappomp+nbapven,INDEX('Analyse Préliminaire Ventilateu'!N$13:N$44,$A76-nbappomp),IF($A76<=nbappomp+nbapven+nbapair,\"\",IF(A76<=nbappomp+nbapven+nbapair+nbaautre,INDEX('Analyse Préliminaire Autres'!$N$11:$N$42,A76-nbappomp-nbapven-nbapair),\"\"))))","v":""},{"$f":"IF($A76<=nbappomp,INDEX('Analyse Préliminaire Pompe'!O$13:O$47,$A76),IF($A76<=nbappomp+nbapven,INDEX('Analyse Préliminaire Ventilateu'!O$13:O$44,$A76-nbappomp),IF($A76<=nbappomp+nbapven+nbapair,\"\",IF(A76<=nbappomp+nbapven+nbapair+nbaautre,INDEX('Analyse Préliminaire Autres'!$O$11:$O$42,A76-nbappomp-nbapven-nbapair),\"\"))))","v":""},{"$f":"IF($A76<=nbappomp,INDEX('Analyse Préliminaire Pompe'!P$13:P$47,$A76),IF($A76<=nbappomp+nbapven,INDEX('Analyse Préliminaire Ventilateu'!P$13:P$44,$A76-nbappomp),IF($A76<=nbappomp+nbapven+nbapair,\"\",IF(A76<=nbappomp+nbapven+nbapair+nbaautre,INDEX('Analyse Préliminaire Autres'!#REF!,A76-nbappomp-nbapven-nbapair),\"\"))))","v":""},{"$f":"IF($A76<=nbappomp,INDEX('Analyse Préliminaire Pompe'!Q$13:Q$47,$A76),IF($A76<=nbappomp+nbapven,\"\",IF($A76<=nbappomp+nbapven+nbapair,\"\",\"\")))","v":""},{"$f":"IF(AI76=\"\",IF($A76<=nbappomp,INDEX('Analyse Préliminaire Pompe'!S$13:S$47,$A76),IF($A76<=nbappomp+nbapven,INDEX('Analyse Préliminaire Ventilateu'!Q$13:Q$44,$A76-nbappomp),IF($A76<=nbappomp+nbapven+nbapair,\"\",IF(A76<=nbappomp+nbapven+nbapair+nbaautre,\"\",\"\")))),AI76)","v":""},{"$f":"IF(AN76,\"\",IF($A76<=nbappomp,INDEX('Analyse Préliminaire Pompe'!AO$13:AO$47,$A76),IF($A76<=nbappomp+nbapven,INDEX('Analyse Préliminaire Ventilateu'!AM$13:AM$44,$A76-nbappomp),IF($A76<=nbappomp+nbapven+nbapair,EcoAPkWhCP,IF(A76<=nbappomp+nbapven+nbapair+nbaautre,INDEX('Analyse Préliminaire Autres'!$E$11:$E$42,A76-nbappomp-nbapven-nbapair),IF($A76<=nbappomp+nbapven+nbapair+nbaautre+nbafroid,INDEX('AP Groupe froid'!$AN$14:$AN$17,$A76-nbappomp-nbapven-nbapair-nbaautre),\"\"))))))","v":""},{"$f":"IF(AN76,\"\",IF($A76<=nbappomp,INDEX('Analyse Préliminaire Pompe'!AP$13:AP$47,$A76),IF($A76<=nbappomp+nbapven,INDEX('Analyse Préliminaire Ventilateu'!AN$13:AN$44,$A76-nbappomp),IF($A76<=nbappomp+nbapven+nbapair,EcoAPpercCP,IF(A76<=nbappomp+nbapven+nbapair+nbaautre,INDEX('Analyse Préliminaire Autres'!$E$11:$E$42,A76-nbappomp-nbapven-nbapair),IF($A76<=nbappomp+nbapven+nbapair+nbaautre+nbafroid,INDEX('AP Groupe froid'!$AO$14:$AO$17,$A76-nbappomp-nbapven-nbapair-nbaautre),\"\"))))))","v":""},{"$f":"IF(AN76,\"\",IF($A76<=nbappomp,INDEX('Analyse Préliminaire Pompe'!AQ$13:AQ$47,$A76),IF($A76<=nbappomp+nbapven,INDEX('Analyse Préliminaire Ventilateu'!AO$13:AO$44,$A76-nbappomp),IF($A76<=nbappomp+nbapven+nbapair,consoanncp,IF(A76<=nbappomp+nbapven+nbapair+nbaautre,INDEX('Analyse Préliminaire Autres'!$E$11:$E$42,A76-nbappomp-nbapven-nbapair),IF($A76<=nbappomp+nbapven+nbapair+nbaautre+nbafroid,INDEX('AP Groupe froid'!$AP$14:$AP$17,$A76-nbappomp-nbapven-nbapair-nbaautre),\"\"))))))","v":""},{"$f":"IF(R76=\"\",-1,IF(AND($L76>'Economies classées'!$B$2,$K76>0.2,YEAR(TODAY())-$Z76>8),2,IF(AND($L76>'Economies classées'!$B$3,YEAR(TODAY())-$Z76>5),1,0)))","v":-1},null,null,"",{"$f":"IF($A76<=nbappomp,ISBLANK(INDEX('Analyse Préliminaire Pompe'!AO$13:AO$47,$A76)),IF($A76<=nbappomp+nbapven,ISBLANK(INDEX('Analyse Préliminaire Ventilateu'!AM$13:AM$44,$A76-nbappomp)),IF($A76<=nbappomp+nbapven+nbapair,ISBLANK(EcoAPkWhCP),IF(A76<=nbappomp+nbapven+nbapair+nbaautre,ISBLANK(INDEX('Analyse Préliminaire Autres'!AC$11:AC$42,A76-nbappomp-nbapven-nbapair)),IF(A76<=nbappomp+nbapven+nbapair+nbaautre+nbafroid,ISBLANK(INDEX('AP Groupe froid'!$AN$14:$AN$17,A76-nbappomp-nbapven-nbapair-nbaautre)),FALSE)))))","v":false},{"$f":"IF(E76=Listes!$H$25,1,0)","v":0},{"$f":"IF(E76=Listes!$H$26,1,0)","v":0},0,0,{"$f":"IF(E76=Listes!$H$28,1,0)","v":0},null,0,0,0,0,0,null,0,0,0,0,0,null,"","","","","",null,-1,-1,-1,-1,null,null,{"$f":"IF(E76=Listes!$H$25,1,0)","v":0},{"$f":"IF(E76=Listes!$H$26,1,0)","v":0},0,0,0,0,0,null,0,0,null,{"$error":"#VALUE!"},0,0,0,null,null,null,"",""]
[53,"",null,{"$f":"IF(A77<=nbappomp,INDEX('Analyse Préliminaire Pompe'!$B$13:$B$47,A77),IF(A77<=nbappomp+nbapven,INDEX('Analyse Préliminaire Ventilateu'!$B$13:$B$44,A77-nbappomp),IF(A77<=nbappomp+nbapven+nbapair,301,IF(A77<=nbappomp+nbapven+nbapair+nbaautre,INDEX('Analyse Préliminaire Autres'!$B$11:$B$42,A77-nbappomp-nbapven-nbapair),IF(A77<=nbappomp+nbapven+nbapair+nbaautre+nbafroid,INDEX('AP Groupe froid'!$B$14:$B$17,A77-nbappomp-nbapven-nbapair-nbaautre),\"\")))))","v":""},{"$f":"IF(A77<=nbappomp,INDEX('Analyse Préliminaire Pompe'!$C$13:$C$47,A77),IF(A77<=nbappomp+nbapven,INDEX('Analyse Préliminaire Ventilateu'!$C$13:$C$44,A77-nbappomp),IF(A77<=nbappomp+nbapven+nbapair,$AJ$4,IF(A77<=nbappomp+nbapven+nbapair+nbaautre,INDEX('Analyse Préliminaire Autres'!$C$11:$C$42,A77-nbappomp-nbapven-nbapair),IF(A77<=nbappomp+nbapven+nbapair+nbaautre+nbafroid,INDEX('AP Groupe froid'!$C$14:$C$17,A77-nbappomp-nbapven-nbapair-nbaautre),\"\")))))","v":""},null,null,{"$f":"IF(A77<=nbappomp,INDEX('Analyse Préliminaire Pompe'!$H$13:$H$47,A77),IF(A77<=nbappomp+nbapven,INDEX('Analyse Préliminaire Ventilateu'!$H$13:$H$44,A77-nbappomp),IF(A77<=nbappomp+nbapven+nbapair,$AJ$4,IF(A77<=nbappomp+nbapven+nbapair+nbaautre,INDEX('Analyse Préliminaire Autres'!$H$11:$H$42,A77-nbappomp-nbapven-nbapair),IF(A77<=nbappomp+nbapven+nbapair+nbaautre+nbafroid,INDEX('AP Groupe froid'!$I$14:$I$17,A77-nbappomp-nbapven-nbapair-nbaautre),\"\")))))","v":""},null,null,{"$f":"IF(AH77=\"\",IF($A77<=nbappomp,INDEX('Analyse Préliminaire Pompe'!AE$13:AE$47,$A77),IF($A77<=nbappomp+nbapven,INDEX('Analyse Préliminaire Ventilateu'!AC$13:AC$44,$A77-nbappomp),IF($A77<=nbappomp+nbapven+nbapair,'Analyse Préliminaire air compr'!$AI$22,IF(A77<=nbappomp+nbapven+nbapair+nbaautre,INDEX('Analyse Préliminaire Autres'!$X$11:$X$42,A77-nbappomp-nbapven-nbapair),IF(A77<=nbappomp+nbapven+nbapair+nbaautre+nbafroid,INDEX('AP Groupe froid'!$AF$14:$AF$17,A77-nbappomp-nbapven-nbapair-nbaautre),\"\"))))),AH77)","v":""},{"$f":"IF(AG77=\"\",IF($A77<=nbappomp,INDEX('Analyse Préliminaire Pompe'!AD$13:AD$47,$A77),IF($A77<=nbappomp+nbapven,INDEX('Analyse Préliminaire Ventilateu'!AB$13:AB$44,$A77-nbappomp),IF($A77<=nbappomp+nbapven+nbapair,'Analyse Préliminaire air compr'!$AH$22,IF(A77<=nbappomp+nbapven+nbapair+nbaautre,INDEX('Analyse Préliminaire Autres'!$W$11:$W$42,A77-nbappomp-nbapven-nbapair),IF(A77<=nbappomp+nbapven+nbapair+nbaautre+nbafroid,INDEX('AP Groupe froid'!$AE$14:$AE$17,A77-nbappomp-nbapven-nbapair-nbaautre),\"\"))))),AG77)","v":""},null,"",null,"",null,{"$f":"IF(AI77=\"\",IF($A77<=nbappomp,INDEX('Analyse Préliminaire Pompe'!T$13:T$47,$A77),IF($A77<=nbappomp+nbapven,INDEX('Analyse Préliminaire Ventilateu'!R$13:R$44,$A77-nbappomp),IF($A77<=nbappomp+nbapven+nbapair,'Analyse Préliminaire air compr'!$AH$13,IF(A77<=nbappomp+nbapven+nbapair+nbaautre,INDEX('Analyse Préliminaire Autres'!$P$11:$P$42,A77-nbappomp-nbapven-nbapair),IF(A77<=nbappomp+nbapven+nbapair+nbaautre+nbafroid,INDEX('AP Groupe froid'!$AD$14:$AD$17,A77-nbappomp-nbapven-nbapair-nbaautre),\"\"))))),AI77)","v":""},null,{"$f":"IF($A77<=nbappomp,INDEX('Analyse Préliminaire Pompe'!X$13:X$47,$A77),IF($A77<=nbappomp+nbapven,INDEX('Analyse Préliminaire Ventilateu'!V$13:V$44,$A77-nbappomp),IF($A77<=nbappomp+nbapven+nbapair,'Analyse Préliminaire air compr'!$E$35,IF(A77<=nbappomp+nbapven+nbapair+nbaautre,INDEX('Analyse Préliminaire Autres'!$R$11:$R$42,A77-nbappomp-nbapven-nbapair),IF(A77<=nbappomp+nbapven+nbapair+nbaautre+nbafroid,INDEX('AP Groupe froid'!$Z$14:$Z$17,A77-nbappomp-nbapven-nbapair-nbaautre),\"\")))))","v":""},null,null,{"$f":"IF(AG77=\"\",IF($A77<=nbappomp,INDEX('Analyse Préliminaire Pompe'!AN$13:AN$47,$A77),IF($A77<=nbappomp+nbapven,INDEX('Analyse Préliminaire Ventilateu'!AL$13:AL$44,$A77-nbappomp),IF($A77<=nbappomp+nbapven+nbapair,'Analyse Préliminaire air compr'!$AM$16,IF(A77<=nbappomp+nbapven+nbapair+nbaautre,INDEX('Analyse Préliminaire Autres'!$AB$11:$AB$42,A77-nbappomp-nbapven-nbapair),IF(A77<=nbappomp+nbapven+nbapair+nbaautre+nbafroid,INDEX('AP Groupe froid'!$AM$14:$AM$17,A77-nbappomp-nbapven-nbapair-nbaautre),\"\"))))),'Economies classées'!$A$47)","v":""},{"$f":"IF($A77<=nbappomp,INDEX('Analyse Préliminaire Pompe'!E$13:E$47,$A77),IF($A77<=nbappomp+nbapven,INDEX('Analyse Préliminaire Ventilateu'!E$13:E$44,$A77-nbappomp),IF($A77<=nbappomp+nbapven+nbapair,\"voir detail\",IF(A77<=nbappomp+nbapven+nbapair+nbaautre,INDEX('Analyse Préliminaire Autres'!$E$11:$E$42,A77-nbappomp-nbapven-nbapair),IF(A77<=nbappomp+nbapven+nbapair+nbaautre+nbafroid,INDEX('AP Groupe froid'!$F$14:$F$17,A77-nbappomp-nbapven-nbapair-nbaautre),\"\")))))","v":""},{"$f":"IF($A77<=nbappomp,INDEX('Analyse Préliminaire Pompe'!K$13:K$47,$A77),IF($A77<=nbappomp+nbapven,INDEX('Analyse Préliminaire Ventilateu'!K$13:K$44,$A77-nbappomp),IF($A77<=nbappomp+nbapven+nbapair,SUM('Analyse Préliminaire air compr'!$I$26:$I$32),IF(A77<=nbappomp+nbapven+nbapair+nbaautre,INDEX('Analyse Préliminaire Autres'!$K$11:$K$42,A77-nbappomp-nbapven-nbapair),IF(A77<=nbappomp+nbapven+nbapair+nbaautre+nbafroid,INDEX('AP Groupe froid'!$O$14:$O$17,A77-nbappomp-nbapven-nbapair-nbaautre),\"\")))))","v":""},{"$f":"IF($A77<=nbappomp,INDEX('Analyse Préliminaire Pompe'!L$13:L$47,$A77),IF($A77<=nbappomp+nbapven,INDEX('Analyse Préliminaire Ventilateu'!L$13:L$44,$A77-nbappomp),IF($A77<=nbappomp+nbapven+nbapair,MIN('Analyse Préliminaire air compr'!$J$26:$J$32),IF(A77<=nbappomp+nbapven+nbapair+nbaautre,INDEX('Analyse Préliminaire Autres'!$L$11:$L$42,A77-nbappomp-nbapven-nbapair),IF($A77<=nbappomp+nbapven+nbapair,'Analyse Préliminaire air compr'!$AM$16,IF(A77<=nbappomp+nbapven+nbapair+nbaautre+nbafroid,INDEX('AP Groupe froid'!$L$14:$L$17,A77-nbappomp-nbapven-nbapair-nbaautre),\"\"))))))","v":""},{"$f":"IF($A77<=nbappomp,INDEX('Analyse Préliminaire Pompe'!M$13:M$47,$A77),IF($A77<=nbappomp+nbapven,INDEX('Analyse Préliminaire Ventilateu'!M$13:M$44,$A77-nbappomp),IF($A77<=nbappomp+nbapven+nbapair,\"\",IF(A77<=nbappomp+nbapven+nbapair+nbaautre,INDEX('Analyse Préliminaire Autres'!$M$11:$M$42,A77-nbappomp-nbapven-nbapair),IF($A77<=nbappomp+nbapven+nbapair,'Analyse Préliminaire air compr'!$AM$16,IF(A77<=nbappomp+nbapven+nbapair+nbaautre+nbafroid,INDEX('AP Groupe froid'!$M$14:$M$17,A77-nbappomp-nbapven-nbapair-nbaautre),\"\"))))))","v":""},{"$f":"IF($A77<=nbappomp,INDEX('Analyse Préliminaire Pompe'!N$13:N$47,$A77),IF($A77<=nbappomp+nbapven,INDEX('Analyse Préliminaire Ventilateu'!N$13:N$44,$A77-nbappomp),IF($A77<=nbappomp+nbapven+nbapair,\"\",IF(A77<=nbappomp+nbapven+nbapair+nbaautre,INDEX('Analyse Préliminaire Autres'!$N$11:$N$42,A77-nbappomp-nbapven-nbapair),\"\"))))","v":""},{"$f":"IF($A77<=nbappomp,INDEX('Analyse Préliminaire Pompe'!O$13:O$47,$A77),IF($A77<=nbappomp+nbapven,INDEX('Analyse Préliminaire Ventilateu'!O$13:O$44,$A77-nbappomp),IF($A77<=nbappomp+nbapven+nbapair,\"\",IF(A77<=nbappomp+nbapven+nbapair+nbaautre,INDEX('Analyse Préliminaire Autres'!$O$11:$O$42,A77-nbappomp-nbapven-nbapair),\"\"))))","v":""},{"$f":"IF($A77<=nbappomp,INDEX('Analyse Préliminaire Pompe'!P$13:P$47,$A77),IF($A77<=nbappomp+nbapven,INDEX('Analyse Préliminaire Ventilateu'!P$13:P$44,$A77-nbappomp),IF($A77<=nbappomp+nbapven+nbapair,\"\",IF(A77<=nbappomp+nbapven+nbapair+nbaautre,INDEX('Analyse Préliminaire Autres'!#REF!,A77-nbappomp-nbapven-nbapair),\"\"))))","v":""},{"$f":"IF($A77<=nbappomp,INDEX('Analyse Préliminaire Pompe'!Q$13:Q$47,$A77),IF($A77<=nbappomp+nbapven,\"\",IF($A77<=nbappomp+nbapven+nbapair,\"\",\"\")))","v":""},{"$f":"IF(AI77=\"\",IF($A77<=nbappomp,INDEX('Analyse Préliminaire Pompe'!S$13:S$47,$A77),IF($A77<=nbappomp+nbapven,INDEX('Analyse Préliminaire Ventilateu'!Q$13:Q$44,$A77-nbappomp),IF($A77<=nbappomp+nbapven+nbapair,\"\",IF(A77<=nbappomp+nbapven+nbapair+nbaautre,\"\",\"\")))),AI77)","v":""},{"$f":"IF(AN77,\"\",IF($A77<=nbappomp,INDEX('Analyse Préliminaire Pompe'!AO$13:AO$47,$A77),IF($A77<=nbappomp+nbapven,INDEX('Analyse Préliminaire Ventilateu'!AM$13:AM$44,$A77-nbappomp),IF($A77<=nbappomp+nbapven+nbapair,EcoAPkWhCP,IF(A77<=nbappomp+nbapven+nbapair+nbaautre,INDEX('Analyse Préliminaire Autres'!$E$11:$E$42,A77-nbappomp-nbapven-nbapair),IF($A77<=nbappomp+nbapven+nbapair+nbaautre+nbafroid,INDEX('AP Groupe froid'!$AN$14:$AN$17,$A77-nbappomp-nbapven-nbapair-nbaautre),\"\"))))))","v":""},{"$f":"IF(AN77,\"\",IF($A77<=nbappomp,INDEX('Analyse Préliminaire Pompe'!AP$13:AP$47,$A77),IF($A77<=nbappomp+nbapven,INDEX('Analyse Préliminaire Ventilateu'!AN$13:AN$44,$A77-nbappomp),IF($A77<=nbappomp+nbapven+nbapair,EcoAPpercCP,IF(A77<=nbappomp+nbapven+nbapair+nbaautre,INDEX('Analyse Préliminaire Autres'!$E$11:$E$42,A77-nbappomp-nbapven-nbapair),IF($A77<=nbappomp+nbapven+nbapair+nbaautre+nbafroid,INDEX('AP Groupe froid'!$AO$14:$AO$17,$A77-nbappomp-nbapven-nbapair-nbaautre),\"\"))))))","v":""},{"$f":"IF(AN77,\"\",IF($A77<=nbappomp,INDEX('Analyse Préliminaire Pompe'!AQ$13:AQ$47,$A77),IF($A77<=nbappomp+nbapven,INDEX('Analyse Préliminaire Ventilateu'!AO$13:AO$44,$A77-nbappomp),IF($A77<=nbappomp+nbapven+nbapair,consoanncp,IF(A77<=nbappomp+nbapven+nbapair+nbaautre,INDEX('Analyse Préliminaire Autres'!$E$11:$E$42,A77-nbappomp-nbapven-nbapair),IF($A77<=nbappomp+nbapven+nbapair+nbaautre+nbafroid,INDEX('AP Groupe froid'!$AP$14:$AP$17,$A77-nbappomp-nbapven-nbapair-nbaautre),\"\"))))))","v":""},{"$f":"IF(R77=\"\",-1,IF(AND($L77>'Economies classées'!$B$2,$K77>0.2,YEAR(TODAY())-$Z77>8),2,IF(AND($L77>'Economies classées'!$B$3,YEAR(TODAY())-$Z77>5),1,0)))","v":-1},null,null,"",{"$f":"IF($A77<=nbappomp,ISBLANK(INDEX('Analyse Préliminaire Pompe'!AO$13:AO$47,$A77)),IF($A77<=nbappomp+nbapven,ISBLANK(INDEX('Analyse Préliminaire Ventilateu'!AM$13:AM$44,$A77-nbappomp)),IF($A77<=nbappomp+nbapven+nbapair,ISBLANK(EcoAPkWhCP),IF(A77<=nbappomp+nbapven+nbapair+nbaautre,ISBLANK(INDEX('Analyse Préliminaire Autres'!AC$11:AC$42,A77-nbappomp-nbapven-nbapair)),IF(A77<=nbappomp+nbapven+nbapair+nbaautre+nbafroid,ISBLANK(INDEX('AP Groupe froid'!$AN$14:$AN$17,A77-nbappomp-nbapven-nbapair-nbaautre)),FALSE)))))","v":false},{"$f":"IF(E77=Listes!$H$25,1,0)","v":0},{"$f":"IF(E77=Listes!$H$26,1,0)","v":0},0,0,{"$f":"IF(E77=Listes!$H$28,1,0)","v":0},null,0,0,0,0,0,null,0,0,0,0,0,null,"","","","","",null,-1,-1,-1,-1,null,null,{"$f":"IF(E77=Listes!$H$25,1,0)","v":0},{"$f":"IF(E77=Listes!$H$26,1,0)","v":0},0,0,0,0,0,null,0,0,null,{"$error":"#VALUE!"},0,0,0,null,null,null,"",""]
[54,"",null,{"$f":"IF(A78<=nbappomp,INDEX('Analyse Préliminaire Pompe'!$B$13:$B$47,A78),IF(A78<=nbappomp+nbapven,INDEX('Analyse Préliminaire Ventilateu'!$B$13:$B$44,A78-nbappomp),IF(A78<=nbappomp+nbapven+nbapair,301,IF(A78<=nbappomp+nbapven+nbapair+nbaautre,INDEX('Analyse Préliminaire Autres'!$B$11:$B$42,A78-nbappomp-nbapven-nbapair),IF(A78<=nbappomp+nbapven+nbapair+nbaautre+nbafroid,INDEX('AP Groupe froid'!$B$14:$B$17,A78-nbappomp-nbapven-nbapair-nbaautre),\"\")))))","v":""},{"$f":"IF(A78<=nbappomp,INDEX('Analyse Préliminaire Pompe'!$C$13:$C$47,A78),IF(A78<=nbappomp+nbapven,INDEX('Analyse Préliminaire Ventilateu'!$C$13:$C$44,A78-nbappomp),IF(A78<=nbappomp+nbapven+nbapair,$AJ$4,IF(A78<=nbappomp+nbapven+nbapair+nbaautre,INDEX('Analyse Préliminaire Autres'!$C$11:$C$42,A78-nbappomp-nbapven-nbapair),IF(A78<=nbappomp+nbapven+nbapair+nbaautre+nbafroid,INDEX('AP Groupe froid'!$C$14:$C$17,A78-nbappomp-nbapven-nbapair-nbaautre),\"\")))))","v":""},null,null,{"$f":"IF(A78<=nbappomp,INDEX('Analyse Préliminaire Pompe'!$H$13:$H$47,A78),IF(A78<=nbappomp+nbapven,INDEX('Analyse Préliminaire Ventilateu'!$H$13:$H$44,A78-nbappomp),IF(A78<=nbappomp+nbapven+nbapair,$AJ$4,IF(A78<=nbappomp+nbapven+nbapair+nbaautre,INDEX('Analyse Préliminaire Autres'!$H$11:$H$42,A78-nbappomp-nbapven-nbapair),IF(A78<=nbappomp+nbapven+nbapair+nbaautre+nbafroid,INDEX('AP Groupe froid'!$I$14:$I$17,A78-nbappomp-nbapven-nbapair-nbaautre),\"\")))))","v":""},null,null,{"$f":"IF(AH78=\"\",IF($A78<=nbappomp,INDEX('Analyse Préliminaire Pompe'!AE$13:AE$47,$A78),IF($A78<=nbappomp+nbapven,INDEX('Analyse Préliminaire Ventilateu'!AC$13:AC$44,$A78-nbappomp),IF($A78<=nbappomp+nbapven+nbapair,'Analyse Préliminaire air compr'!$AI$22,IF(A78<=nbappomp+nbapven+nbapair+nbaautre,INDEX('Analyse Préliminaire Autres'!$X$11:$X$42,A78-nbappomp-nbapven-nbapair),IF(A78<=nbappomp+nbapven+nbapair+nbaautre+nbafroid,INDEX('AP Groupe froid'!$AF$14:$AF$17,A78-nbappomp-nbapven-nbapair-nbaautre),\"\"))))),AH78)","v":""},{"$f":"IF(AG78=\"\",IF($A78<=nbappomp,INDEX('Analyse Préliminaire Pompe'!AD$13:AD$47,$A78),IF($A78<=nbappomp+nbapven,INDEX('Analyse Préliminaire Ventilateu'!AB$13:AB$44,$A78-nbappomp),IF($A78<=nbappomp+nbapven+nbapair,'Analyse Préliminaire air compr'!$AH$22,IF(A78<=nbappomp+nbapven+nbapair+nbaautre,INDEX('Analyse Préliminaire Autres'!$W$11:$W$42,A78-nbappomp-nbapven-nbapair),IF(A78<=nbappomp+nbapven+nbapair+nbaautre+nbafroid,INDEX('AP Groupe froid'!$AE$14:$AE$17,A78-nbappomp-nbapven-nbapair-nbaautre),\"\"))))),AG78)","v":""},null,"",null,"",null,{"$f":"IF(AI78=\"\",IF($A78<=nbappomp,INDEX('Analyse Préliminaire Pompe'!T$13:T$47,$A78),IF($A78<=nbappomp+nbapven,INDEX('Analyse Préliminaire Ventilateu'!R$13:R$44,$A78-nbappomp),IF($A78<=nbappomp+nbapven+nbapair,'Analyse Préliminaire air compr'!$AH$13,IF(A78<=nbappomp+nbapven+nbapair+nbaautre,INDEX('Analyse Préliminaire Autres'!$P$11:$P$42,A78-nbappomp-nbapven-nbapair),IF(A78<=nbappomp+nbapven+nbapair+nbaautre+nbafroid,INDEX('AP Groupe froid'!$AD$14:$AD$17,A78-nbappomp-nbapven-nbapair-nbaautre),\"\"))))),AI78)","v":""},null,{"$f":"IF($A78<=nbappomp,INDEX('Analyse Préliminaire Pompe'!X$13:X$47,$A78),IF($A78<=nbappomp+nbapven,INDEX('Analyse Préliminaire Ventilateu'!V$13:V$44,$A78-nbappomp),IF($A78<=nbappomp+nbapven+nbapair,'Analyse Préliminaire air compr'!$E$35,IF(A78<=nbappomp+nbapven+nbapair+nbaautre,INDEX('Analyse Préliminaire Autres'!$R$11:$R$42,A78-nbappomp-nbapven-nbapair),IF(A78<=nbappomp+nbapven+nbapair+nbaautre+nbafroid,INDEX('AP Groupe froid'!$Z$14:$Z$17,A78-nbappomp-nbapven-nbapair-nbaautre),\"\")))))","v":""},null,null,{"$f":"IF(AG78=\"\",IF($A78<=nbappomp,INDEX('Analyse Préliminaire Pompe'!AN$13:AN$47,$A78),IF($A78<=nbappomp+nbapven,INDEX('Analyse Préliminaire Ventilateu'!AL$13:AL$44,$A78-nbappomp),IF($A78<=nbappomp+nbapven+nbapair,'Analyse Préliminaire air compr'!$AM$16,IF(A78<=nbappomp+nbapven+nbapair+nbaautre,INDEX('Analyse Préliminaire Autres'!$AB$11:$AB$42,A78-nbappomp-nbapven-nbapair),IF(A78<=nbappomp+nbapven+nbapair+nbaautre+nbafroid,INDEX('AP Groupe froid'!$AM$14:$AM$17,A78-nbappomp-nbapven-nbapair-nbaautre),\"\"))))),'Economies classées'!$A$47)","v":""},{"$f":"IF($A78<=nbappomp,INDEX('Analyse Préliminaire Pompe'!E$13:E$47,$A78),IF($A78<=nbappomp+nbapven,INDEX('Analyse Préliminaire Ventilateu'!E$13:E$44,$A78-nbappomp),IF($A78<=nbappomp+nbapven+nbapair,\"voir detail\",IF(A78<=nbappomp+nbapven+nbapair+nbaautre,INDEX('Analyse Préliminaire Autres'!$E$11:$E$42,A78-nbappomp-nbapven-nbapair),IF(A78<=nbappomp+nbapven+nbapair+nbaautre+nbafroid,INDEX('AP Groupe froid'!$F$14:$F$17,A78-nbappomp-nbapven-nbapair-nbaautre),\"\")))))","v":""},{"$f":"IF($A78<=nbappomp,INDEX('Analyse Préliminaire Pompe'!K$13:K$47,$A78),IF($A78<=nbappomp+nbapven,INDEX('Analyse Préliminaire Ventilateu'!K$13:K$44,$A78-nbappomp),IF($A78<=nbappomp+nbapven+nbapair,SUM('Analyse Préliminaire air compr'!$I$26:$I$32),IF(A78<=nbappomp+nbapven+nbapair+nbaautre,INDEX('Analyse Préliminaire Autres'!$K$11:$K$42,A78-nbappomp-nbapven-nbapair),IF(A78<=nbappomp+nbapven+nbapair+nbaautre+nbafroid,INDEX('AP Groupe froid'!$O$14:$O$17,A78-nbappomp-nbapven-nbapair-nbaautre),\"\")))))","v":""},{"$f":"IF($A78<=nbappomp,INDEX('Analyse Préliminaire Pompe'!L$13:L$47,$A78),IF($A78<=nbappomp+nbapven,INDEX('Analyse Préliminaire Ventilateu'!L$13:L$44,$A78-nbappomp),IF($A78<=nbappomp+nbapven+nbapair,MIN('Analyse Préliminaire air compr'!$J$26:$J$32),IF(A78<=nbappomp+nbapven+nbapair+nbaautre,INDEX('Analyse Préliminaire Autres'!$L$11:$L$42,A78-nbappomp-nbapven-nbapair),IF($A78<=nbappomp+nbapven+nbapair,'Analyse Préliminaire air compr'!$AM$16,IF(A78<=nbappomp+nbapven+nbapair+nbaautre+nbafroid,INDEX('AP Groupe froid'!$L$14:$L$17,A78-nbappomp-nbapven-nbapair-nbaautre),\"\"))))))","v":""},{"$f":"IF($A78<=nbappomp,INDEX('Analyse Préliminaire Pompe'!M$13:M$47,$A78),IF($A78<=nbappomp+nbapven,INDEX('Analyse Préliminaire Ventilateu'!M$13:M$44,$A78-nbappomp),IF($A78<=nbappomp+nbapven+nbapair,\"\",IF(A78<=nbappomp+nbapven+nbapair+nbaautre,INDEX('Analyse Préliminaire Autres'!$M$11:$M$42,A78-nbappomp-nbapven-nbapair),IF($A78<=nbappomp+nbapven+nbapair,'Analyse Préliminaire air compr'!$AM$16,IF(A78<=nbappomp+nbapven+nbapair+nbaautre+nbafroid,INDEX('AP Groupe froid'!$M$14:$M$17,A78-nbappomp-nbapven-nbapair-nbaautre),\"\"))))))","v":""},{"$f":"IF($A78<=nbappomp,INDEX('Analyse Préliminaire Pompe'!N$13:N$47,$A78),IF($A78<=nbappomp+nbapven,INDEX('Analyse Préliminaire Ventilateu'!N$13:N$44,$A78-nbappomp),IF($A78<=nbappomp+nbapven+nbapair,\"\",IF(A78<=nbappomp+nbapven+nbapair+nbaautre,INDEX('Analyse Préliminaire Autres'!$N$11:$N$42,A78-nbappomp-nbapven-nbapair),\"\"))))","v":""},{"$f":"IF($A78<=nbappomp,INDEX('Analyse Préliminaire Pompe'!O$13:O$47,$A78),IF($A78<=nbappomp+nbapven,INDEX('Analyse Préliminaire Ventilateu'!O$13:O$44,$A78-nbappomp),IF($A78<=nbappomp+nbapven+nbapair,\"\",IF(A78<=nbappomp+nbapven+nbapair+nbaautre,INDEX('Analyse Préliminaire Autres'!$O$11:$O$42,A78-nbappomp-nbapven-nbapair),\"\"))))","v":""},{"$f":"IF($A78<=nbappomp,INDEX('Analyse Préliminaire Pompe'!P$13:P$47,$A78),IF($A78<=nbappomp+nbapven,INDEX('Analyse Préliminaire Ventilateu'!P$13:P$44,$A78-nbappomp),IF($A78<=nbappomp+nbapven+nbapair,\"\",IF(A78<=nbappomp+nbapven+nbapair+nbaautre,INDEX('Analyse Préliminaire Autres'!#REF!,A78-nbappomp-nbapven-nbapair),\"\"))))","v":""},{"$f":"IF($A78<=nbappomp,INDEX('Analyse Préliminaire Pompe'!Q$13:Q$47,$A78),IF($A78<=nbappomp+nbapven,\"\",IF($A78<=nbappomp+nbapven+nbapair,\"\",\"\")))","v":""},{"$f":"IF(AI78=\"\",IF($A78<=nbappomp,INDEX('Analyse Préliminaire Pompe'!S$13:S$47,$A78),IF($A78<=nbappomp+nbapven,INDEX('Analyse Préliminaire Ventilateu'!Q$13:Q$44,$A78-nbappomp),IF($A78<=nbappomp+nbapven+nbapair,\"\",IF(A78<=nbappomp+nbapven+nbapair+nbaautre,\"\",\"\")))),AI78)","v":""},{"$f":"IF(AN78,\"\",IF($A78<=nbappomp,INDEX('Analyse Préliminaire Pompe'!AO$13:AO$47,$A78),IF($A78<=nbappomp+nbapven,INDEX('Analyse Préliminaire Ventilateu'!AM$13:AM$44,$A78-nbappomp),IF($A78<=nbappomp+nbapven+nbapair,EcoAPkWhCP,IF(A78<=nbappomp+nbapven+nbapair+nbaautre,INDEX('Analyse Préliminaire Autres'!$E$11:$E$42,A78-nbappomp-nbapven-nbapair),IF($A78<=nbappomp+nbapven+nbapair+nbaautre+nbafroid,INDEX('AP Groupe froid'!$AN$14:$AN$17,$A78-nbappomp-nbapven-nbapair-nbaautre),\"\"))))))","v":""},{"$f":"IF(AN78,\"\",IF($A78<=nbappomp,INDEX('Analyse Préliminaire Pompe'!AP$13:AP$47,$A78),IF($A78<=nbappomp+nbapven,INDEX('Analyse Préliminaire Ventilateu'!AN$13:AN$44,$A78-nbappomp),IF($A78<=nbappomp+nbapven+nbapair,EcoAPpercCP,IF(A78<=nbappomp+nbapven+nbapair+nbaautre,INDEX('Analyse Préliminaire Autres'!$E$11:$E$42,A78-nbappomp-nbapven-nbapair),IF($A78<=nbappomp+nbapven+nbapair+nbaautre+nbafroid,INDEX('AP Groupe froid'!$AO$14:$AO$17,$A78-nbappomp-nbapven-nbapair-nbaautre),\"\"))))))","v":""},{"$f":"IF(AN78,\"\",IF($A78<=nbappomp,INDEX('Analyse Préliminaire Pompe'!AQ$13:AQ$47,$A78),IF($A78<=nbappomp+nbapven,INDEX('Analyse Préliminaire Ventilateu'!AO$13:AO$44,$A78-nbappomp),IF($A78<=nbappomp+nbapven+nbapair,consoanncp,IF(A78<=nbappomp+nbapven+nbapair+nbaautre,INDEX('Analyse Préliminaire Autres'!$E$11:$E$42,A78-nbappomp-nbapven-nbapair),IF($A78<=nbappomp+nbapven+nbapair+nbaautre+nbafroid,INDEX('AP Groupe froid'!$AP$14:$AP$17,$A78-nbappomp-nbapven-nbapair-nbaautre),\"\"))))))","v":""},{"$f":"IF(R78=\"\",-1,IF(AND($L78>'Economies classées'!$B$2,$K78>0.2,YEAR(TODAY())-$Z78>8),2,IF(AND($L78>'Economies classées'!$B$3,YEAR(TODAY())-$Z78>5),1,0)))","v":-1},null,null,"",{"$f":"IF($A78<=nbappomp,ISBLANK(INDEX('Analyse Préliminaire Pompe'!AO$13:AO$47,$A78)),IF($A78<=nbappomp+nbapven,ISBLANK(INDEX('Analyse Préliminaire Ventilateu'!AM$13:AM$44,$A78-nbappomp)),IF($A78<=nbappomp+nbapven+nbapair,ISBLANK(EcoAPkWhCP),IF(A78<=nbappomp+nbapven+nbapair+nbaautre,ISBLANK(INDEX('Analyse Préliminaire Autres'!AC$11:AC$42,A78-nbappomp-nbapven-nbapair)),IF(A78<=nbappomp+nbapven+nbapair+nbaautre+nbafroid,ISBLANK(INDEX('AP Groupe froid'!$AN$14:$AN$17,A78-nbappomp-nbapven-nbapair-nbaautre)),FALSE)))))","v":false},{"$f":"IF(E78=Listes!$H$25,1,0)","v":0},{"$f":"IF(E78=Listes!$H$26,1,0)","v":0},0,0,{"$f":"IF(E78=Listes!$H$28,1,0)","v":0},null,0,0,0,0,0,null,0,0,0,0,0,null,"","","","","",null,-1,-1,-1,-1,null,null,{"$f":"IF(E78=Listes!$H$25,1,0)","v":0},{"$f":"IF(E78=Listes!$H$26,1,0)","v":0},0,0,0,0,0,null,0,0,null,{"$error":"#VALUE!"},0,0,0,null,null,null,"",""]
[55,"",null,{"$f":"IF(A79<=nbappomp,INDEX('Analyse Préliminaire Pompe'!$B$13:$B$47,A79),IF(A79<=nbappomp+nbapven,INDEX('Analyse Préliminaire Ventilateu'!$B$13:$B$44,A79-nbappomp),IF(A79<=nbappomp+nbapven+nbapair,301,IF(A79<=nbappomp+nbapven+nbapair+nbaautre,INDEX('Analyse Préliminaire Autres'!$B$11:$B$42,A79-nbappomp-nbapven-nbapair),IF(A79<=nbappomp+nbapven+nbapair+nbaautre+nbafroid,INDEX('AP Groupe froid'!$B$14:$B$17,A79-nbappomp-nbapven-nbapair-nbaautre),\"\")))))","v":""},{"$f":"IF(A79<=nbappomp,INDEX('Analyse Préliminaire Pompe'!$C$13:$C$47,A79),IF(A79<=nbappomp+nbapven,INDEX('Analyse Préliminaire Ventilateu'!$C$13:$C$44,A79-nbappomp),IF(A79<=nbappomp+nbapven+nbapair,$AJ$4,IF(A79<=nbappomp+nbapven+nbapair+nbaautre,INDEX('Analyse Préliminaire Autres'!$C$11:$C$42,A79-nbappomp-nbapven-nbapair),IF(A79<=nbappomp+nbapven+nbapair+nbaautre+nbafroid,INDEX('AP Groupe froid'!$C$14:$C$17,A79-nbappomp-nbapven-nbapair-nbaautre),\"\")))))","v":""},null,null,{"$f":"IF(A79<=nbappomp,INDEX('Analyse Préliminaire Pompe'!$H$13:$H$47,A79),IF(A79<=nbappomp+nbapven,INDEX('Analyse Préliminaire Ventilateu'!$H$13:$H$44,A79-nbappomp),IF(A79<=nbappomp+nbapven+nbapair,$AJ$4,IF(A79<=nbappomp+nbapven+nbapair+nbaautre,INDEX('Analyse Préliminaire Autres'!$H$11:$H$42,A79-nbappomp-nbapven-nbapair),IF(A79<=nbappomp+nbapven+nbapair+nbaautre+nbafroid,INDEX('AP Groupe froid'!$I$14:$I$17,A79-nbappomp-nbapven-nbapair-nbaautre),\"\")))))","v":""},null,null,{"$f":"IF(AH79=\"\",IF($A79<=nbappomp,INDEX('Analyse Préliminaire Pompe'!AE$13:AE$47,$A79),IF($A79<=nbappomp+nbapven,INDEX('Analyse Préliminaire Ventilateu'!AC$13:AC$44,$A79-nbappomp),IF($A79<=nbappomp+nbapven+nbapair,'Analyse Préliminaire air compr'!$AI$22,IF(A79<=nbappomp+nbapven+nbapair+nbaautre,INDEX('Analyse Préliminaire Autres'!$X$11:$X$42,A79-nbappomp-nbapven-nbapair),IF(A79<=nbappomp+nbapven+nbapair+nbaautre+nbafroid,INDEX('AP Groupe froid'!$AF$14:$AF$17,A79-nbappomp-nbapven-nbapair-nbaautre),\"\"))))),AH79)","v":""},{"$f":"IF(AG79=\"\",IF($A79<=nbappomp,INDEX('Analyse Préliminaire Pompe'!AD$13:AD$47,$A79),IF($A79<=nbappomp+nbapven,INDEX('Analyse Préliminaire Ventilateu'!AB$13:AB$44,$A79-nbappomp),IF($A79<=nbappomp+nbapven+nbapair,'Analyse Préliminaire air compr'!$AH$22,IF(A79<=nbappomp+nbapven+nbapair+nbaautre,INDEX('Analyse Préliminaire Autres'!$W$11:$W$42,A79-nbappomp-nbapven-nbapair),IF(A79<=nbappomp+nbapven+nbapair+nbaautre+nbafroid,INDEX('AP Groupe froid'!$AE$14:$AE$17,A79-nbappomp-nbapven-nbapair-nbaautre),\"\"))))),AG79)","v":""},null,"",null,"",null,{"$f":"IF(AI79=\"\",IF($A79<=nbappomp,INDEX('Analyse Préliminaire Pompe'!T$13:T$47,$A79),IF($A79<=nbappomp+nbapven,INDEX('Analyse Préliminaire Ventilateu'!R$13:R$44,$A79-nbappomp),IF($A79<=nbappomp+nbapven+nbapair,'Analyse Préliminaire air compr'!$AH$13,IF(A79<=nbappomp+nbapven+nbapair+nbaautre,INDEX('Analyse Préliminaire Autres'!$P$11:$P$42,A79-nbappomp-nbapven-nbapair),IF(A79<=nbappomp+nbapven+nbapair+nbaautre+nbafroid,INDEX('AP Groupe froid'!$AD$14:$AD$17,A79-nbappomp-nbapven-nbapair-nbaautre),\"\"))))),AI79)","v":""},null,{"$f":"IF($A79<=nbappomp,INDEX('Analyse Préliminaire Pompe'!X$13:X$47,$A79),IF($A79<=nbappomp+nbapven,INDEX('Analyse Préliminaire Ventilateu'!V$13:V$44,$A79-nbappomp),IF($A79<=nbappomp+nbapven+nbapair,'Analyse Préliminaire air compr'!$E$35,IF(A79<=nbappomp+nbapven+nbapair+nbaautre,INDEX('Analyse Préliminaire Autres'!$R$11:$R$42,A79-nbappomp-nbapven-nbapair),IF(A79<=nbappomp+nbapven+nbapair+nbaautre+nbafroid,INDEX('AP Groupe froid'!$Z$14:$Z$17,A79-nbappomp-nbapven-nbapair-nbaautre),\"\")))))","v":""},null,null,{"$f":"IF(AG79=\"\",IF($A79<=nbappomp,INDEX('Analyse Préliminaire Pompe'!AN$13:AN$47,$A79),IF($A79<=nbappomp+nbapven,INDEX('Analyse Préliminaire Ventilateu'!AL$13:AL$44,$A79-nbappomp),IF($A79<=nbappomp+nbapven+nbapair,'Analyse Préliminaire air compr'!$AM$16,IF(A79<=nbappomp+nbapven+nbapair+nbaautre,INDEX('Analyse Préliminaire Autres'!$AB$11:$AB$42,A79-nbappomp-nbapven-nbapair),IF(A79<=nbappomp+nbapven+nbapair+nbaautre+nbafroid,INDEX('AP Groupe froid'!$AM$14:$AM$17,A79-nbappomp-nbapven-nbapair-nbaautre),\"\"))))),'Economies classées'!$A$47)","v":""},{"$f":"IF($A79<=nbappomp,INDEX('Analyse Préliminaire Pompe'!E$13:E$47,$A79),IF($A79<=nbappomp+nbapven,INDEX('Analyse Préliminaire Ventilateu'!E$13:E$44,$A79-nbappomp),IF($A79<=nbappomp+nbapven+nbapair,\"voir detail\",IF(A79<=nbappomp+nbapven+nbapair+nbaautre,INDEX('Analyse Préliminaire Autres'!$E$11:$E$42,A79-nbappomp-nbapven-nbapair),IF(A79<=nbappomp+nbapven+nbapair+nbaautre+nbafroid,INDEX('AP Groupe froid'!$F$14:$F$17,A79-nbappomp-nbapven-nbapair-nbaautre),\"\")))))","v":""},{"$f":"IF($A79<=nbappomp,INDEX('Analyse Préliminaire Pompe'!K$13:K$47,$A79),IF($A79<=nbappomp+nbapven,INDEX('Analyse Préliminaire Ventilateu'!K$13:K$44,$A79-nbappomp),IF($A79<=nbappomp+nbapven+nbapair,SUM('Analyse Préliminaire air compr'!$I$26:$I$32),IF(A79<=nbappomp+nbapven+nbapair+nbaautre,INDEX('Analyse Préliminaire Autres'!$K$11:$K$42,A79-nbappomp-nbapven-nbapair),IF(A79<=nbappomp+nbapven+nbapair+nbaautre+nbafroid,INDEX('AP Groupe froid'!$O$14:$O$17,A79-nbappomp-nbapven-nbapair-nbaautre),\"\")))))","v":""},{"$f":"IF($A79<=nbappomp,INDEX('Analyse Préliminaire Pompe'!L$13:L$47,$A79),IF($A79<=nbappomp+nbapven,INDEX('Analyse Préliminaire Ventilateu'!L$13:L$44,$A79-nbappomp),IF($A79<=nbappomp+nbapven+nbapair,MIN('Analyse Préliminaire air compr'!$J$26:$J$32),IF(A79<=nbappomp+nbapven+nbapair+nbaautre,INDEX('Analyse Préliminaire Autres'!$L$11:$L$42,A79-nbappomp-nbapven-nbapair),IF($A79<=nbappomp+nbapven+nbapair,'Analyse Préliminaire air compr'!$AM$16,IF(A79<=nbappomp+nbapven+nbapair+nbaautre+nbafroid,INDEX('AP Groupe froid'!$L$14:$L$17,A79-nbappomp-nbapven-nbapair-nbaautre),\"\"))))))","v":""},{"$f":"IF($A79<=nbappomp,INDEX('Analyse Préliminaire Pompe'!M$13:M$47,$A79),IF($A79<=nbappomp+nbapven,INDEX('Analyse Préliminaire Ventilateu'!M$13:M$44,$A79-nbappomp),IF($A79<=nbappomp+nbapven+nbapair,\"\",IF(A79<=nbappomp+nbapven+nbapair+nbaautre,INDEX('Analyse Préliminaire Autres'!$M$11:$M$42,A79-nbappomp-nbapven-nbapair),IF($A79<=nbappomp+nbapven+nbapair,'Analyse Préliminaire air compr'!$AM$16,IF(A79<=nbappomp+nbapven+nbapair+nbaautre+nbafroid,INDEX('AP Groupe froid'!$M$14:$M$17,A79-nbappomp-nbapven-nbapair-nbaautre),\"\"))))))","v":""},{"$f":"IF($A79<=nbappomp,INDEX('Analyse Préliminaire Pompe'!N$13:N$47,$A79),IF($A79<=nbappomp+nbapven,INDEX('Analyse Préliminaire Ventilateu'!N$13:N$44,$A79-nbappomp),IF($A79<=nbappomp+nbapven+nbapair,\"\",IF(A79<=nbappomp+nbapven+nbapair+nbaautre,INDEX('Analyse Préliminaire Autres'!$N$11:$N$42,A79-nbappomp-nbapven-nbapair),\"\"))))","v":""},{"$f":"IF($A79<=nbappomp,INDEX('Analyse Préliminaire Pompe'!O$13:O$47,$A79),IF($A79<=nbappomp+nbapven,INDEX('Analyse Préliminaire Ventilateu'!O$13:O$44,$A79-nbappomp),IF($A79<=nbappomp+nbapven+nbapair,\"\",IF(A79<=nbappomp+nbapven+nbapair+nbaautre,INDEX('Analyse Préliminaire Autres'!$O$11:$O$42,A79-nbappomp-nbapven-nbapair),\"\"))))","v":""},{"$f":"IF($A79<=nbappomp,INDEX('Analyse Préliminaire Pompe'!P$13:P$47,$A79),IF($A79<=nbappomp+nbapven,INDEX('Analyse Préliminaire Ventilateu'!P$13:P$44,$A79-nbappomp),IF($A79<=nbappomp+nbapven+nbapair,\"\",IF(A79<=nbappomp+nbapven+nbapair+nbaautre,INDEX('Analyse Préliminaire Autres'!#REF!,A79-nbappomp-nbapven-nbapair),\"\"))))","v":""},{"$f":"IF($A79<=nbappomp,INDEX('Analyse Préliminaire Pompe'!Q$13:Q$47,$A79),IF($A79<=nbappomp+nbapven,\"\",IF($A79<=nbappomp+nbapven+nbapair,\"\",\"\")))","v":""},{"$f":"IF(AI79=\"\",IF($A79<=nbappomp,INDEX('Analyse Préliminaire Pompe'!S$13:S$47,$A79),IF($A79<=nbappomp+nbapven,INDEX('Analyse Préliminaire Ventilateu'!Q$13:Q$44,$A79-nbappomp),IF($A79<=nbappomp+nbapven+nbapair,\"\",IF(A79<=nbappomp+nbapven+nbapair+nbaautre,\"\",\"\")))),AI79)","v":""},{"$f":"IF(AN79,\"\",IF($A79<=nbappomp,INDEX('Analyse Préliminaire Pompe'!AO$13:AO$47,$A79),IF($A79<=nbappomp+nbapven,INDEX('Analyse Préliminaire Ventilateu'!AM$13:AM$44,$A79-nbappomp),IF($A79<=nbappomp+nbapven+nbapair,EcoAPkWhCP,IF(A79<=nbappomp+nbapven+nbapair+nbaautre,INDEX('Analyse Préliminaire Autres'!$E$11:$E$42,A79-nbappomp-nbapven-nbapair),IF($A79<=nbappomp+nbapven+nbapair+nbaautre+nbafroid,INDEX('AP Groupe froid'!$AN$14:$AN$17,$A79-nbappomp-nbapven-nbapair-nbaautre),\"\"))))))","v":""},{"$f":"IF(AN79,\"\",IF($A79<=nbappomp,INDEX('Analyse Préliminaire Pompe'!AP$13:AP$47,$A79),IF($A79<=nbappomp+nbapven,INDEX('Analyse Préliminaire Ventilateu'!AN$13:AN$44,$A79-nbappomp),IF($A79<=nbappomp+nbapven+nbapair,EcoAPpercCP,IF(A79<=nbappomp+nbapven+nbapair+nbaautre,INDEX('Analyse Préliminaire Autres'!$E$11:$E$42,A79-nbappomp-nbapven-nbapair),IF($A79<=nbappomp+nbapven+nbapair+nbaautre+nbafroid,INDEX('AP Groupe froid'!$AO$14:$AO$17,$A79-nbappomp-nbapven-nbapair-nbaautre),\"\"))))))","v":""},{"$f":"IF(AN79,\"\",IF($A79<=nbappomp,INDEX('Analyse Préliminaire Pompe'!AQ$13:AQ$47,$A79),IF($A79<=nbappomp+nbapven,INDEX('Analyse Préliminaire Ventilateu'!AO$13:AO$44,$A79-nbappomp),IF($A79<=nbappomp+nbapven+nbapair,consoanncp,IF(A79<=nbappomp+nbapven+nbapair+nbaautre,INDEX('Analyse Préliminaire Autres'!$E$11:$E$42,A79-nbappomp-nbapven-nbapair),IF($A79<=nbappomp+nbapven+nbapair+nbaautre+nbafroid,INDEX('AP Groupe froid'!$AP$14:$AP$17,$A79-nbappomp-nbapven-nbapair-nbaautre),\"\"))))))","v":""},{"$f":"IF(R79=\"\",-1,IF(AND($L79>'Economies classées'!$B$2,$K79>0.2,YEAR(TODAY())-$Z79>8),2,IF(AND($L79>'Economies classées'!$B$3,YEAR(TODAY())-$Z79>5),1,0)))","v":-1},null,null,"",{"$f":"IF($A79<=nbappomp,ISBLANK(INDEX('Analyse Préliminaire Pompe'!AO$13:AO$47,$A79)),IF($A79<=nbappomp+nbapven,ISBLANK(INDEX('Analyse Préliminaire Ventilateu'!AM$13:AM$44,$A79-nbappomp)),IF($A79<=nbappomp+nbapven+nbapair,ISBLANK(EcoAPkWhCP),IF(A79<=nbappomp+nbapven+nbapair+nbaautre,ISBLANK(INDEX('Analyse Préliminaire Autres'!AC$11:AC$42,A79-nbappomp-nbapven-nbapair)),IF(A79<=nbappomp+nbapven+nbapair+nbaautre+nbafroid,ISBLANK(INDEX('AP Groupe froid'!$AN$14:$AN$17,A79-nbappomp-nbapven-nbapair-nbaautre)),FALSE)))))","v":false},{"$f":"IF(E79=Listes!$H$25,1,0)","v":0},{"$f":"IF(E79=Listes!$H$26,1,0)","v":0},0,0,{"$f":"IF(E79=Listes!$H$28,1,0)","v":0},null,0,0,0,0,0,null,0,0,0,0,0,null,"","","","","",null,-1,-1,-1,-1,null,null,{"$f":"IF(E79=Listes!$H$25,1,0)","v":0},{"$f":"IF(E79=Listes!$H$26,1,0)","v":0},0,0,0,0,0,null,0,0,null,{"$error":"#VALUE!"},0,0,0,null,null,null,"",""]
[56,"",null,{"$f":"IF(A80<=nbappomp,INDEX('Analyse Préliminaire Pompe'!$B$13:$B$47,A80),IF(A80<=nbappomp+nbapven,INDEX('Analyse Préliminaire Ventilateu'!$B$13:$B$44,A80-nbappomp),IF(A80<=nbappomp+nbapven+nbapair,301,IF(A80<=nbappomp+nbapven+nbapair+nbaautre,INDEX('Analyse Préliminaire Autres'!$B$11:$B$42,A80-nbappomp-nbapven-nbapair),IF(A80<=nbappomp+nbapven+nbapair+nbaautre+nbafroid,INDEX('AP Groupe froid'!$B$14:$B$17,A80-nbappomp-nbapven-nbapair-nbaautre),\"\")))))","v":""},{"$f":"IF(A80<=nbappomp,INDEX('Analyse Préliminaire Pompe'!$C$13:$C$47,A80),IF(A80<=nbappomp+nbapven,INDEX('Analyse Préliminaire Ventilateu'!$C$13:$C$44,A80-nbappomp),IF(A80<=nbappomp+nbapven+nbapair,$AJ$4,IF(A80<=nbappomp+nbapven+nbapair+nbaautre,INDEX('Analyse Préliminaire Autres'!$C$11:$C$42,A80-nbappomp-nbapven-nbapair),IF(A80<=nbappomp+nbapven+nbapair+nbaautre+nbafroid,INDEX('AP Groupe froid'!$C$14:$C$17,A80-nbappomp-nbapven-nbapair-nbaautre),\"\")))))","v":""},null,null,{"$f":"IF(A80<=nbappomp,INDEX('Analyse Préliminaire Pompe'!$H$13:$H$47,A80),IF(A80<=nbappomp+nbapven,INDEX('Analyse Préliminaire Ventilateu'!$H$13:$H$44,A80-nbappomp),IF(A80<=nbappomp+nbapven+nbapair,$AJ$4,IF(A80<=nbappomp+nbapven+nbapair+nbaautre,INDEX('Analyse Préliminaire Autres'!$H$11:$H$42,A80-nbappomp-nbapven-nbapair),IF(A80<=nbappomp+nbapven+nbapair+nbaautre+nbafroid,INDEX('AP Groupe froid'!$I$14:$I$17,A80-nbappomp-nbapven-nbapair-nbaautre),\"\")))))","v":""},null,null,{"$f":"IF(AH80=\"\",IF($A80<=nbappomp,INDEX('Analyse Préliminaire Pompe'!AE$13:AE$47,$A80),IF($A80<=nbappomp+nbapven,INDEX('Analyse Préliminaire Ventilateu'!AC$13:AC$44,$A80-nbappomp),IF($A80<=nbappomp+nbapven+nbapair,'Analyse Préliminaire air compr'!$AI$22,IF(A80<=nbappomp+nbapven+nbapair+nbaautre,INDEX('Analyse Préliminaire Autres'!$X$11:$X$42,A80-nbappomp-nbapven-nbapair),IF(A80<=nbappomp+nbapven+nbapair+nbaautre+nbafroid,INDEX('AP Groupe froid'!$AF$14:$AF$17,A80-nbappomp-nbapven-nbapair-nbaautre),\"\"))))),AH80)","v":""},{"$f":"IF(AG80=\"\",IF($A80<=nbappomp,INDEX('Analyse Préliminaire Pompe'!AD$13:AD$47,$A80),IF($A80<=nbappomp+nbapven,INDEX('Analyse Préliminaire Ventilateu'!AB$13:AB$44,$A80-nbappomp),IF($A80<=nbappomp+nbapven+nbapair,'Analyse Préliminaire air compr'!$AH$22,IF(A80<=nbappomp+nbapven+nbapair+nbaautre,INDEX('Analyse Préliminaire Autres'!$W$11:$W$42,A80-nbappomp-nbapven-nbapair),IF(A80<=nbappomp+nbapven+nbapair+nbaautre+nbafroid,INDEX('AP Groupe froid'!$AE$14:$AE$17,A80-nbappomp-nbapven-nbapair-nbaautre),\"\"))))),AG80)","v":""},null,"",null,"",null,{"$f":"IF(AI80=\"\",IF($A80<=nbappomp,INDEX('Analyse Préliminaire Pompe'!T$13:T$47,$A80),IF($A80<=nbappomp+nbapven,INDEX('Analyse Préliminaire Ventilateu'!R$13:R$44,$A80-nbappomp),IF($A80<=nbappomp+nbapven+nbapair,'Analyse Préliminaire air compr'!$AH$13,IF(A80<=nbappomp+nbapven+nbapair+nbaautre,INDEX('Analyse Préliminaire Autres'!$P$11:$P$42,A80-nbappomp-nbapven-nbapair),IF(A80<=nbappomp+nbapven+nbapair+nbaautre+nbafroid,INDEX('AP Groupe froid'!$AD$14:$AD$17,A80-nbappomp-nbapven-nbapair-nbaautre),\"\"))))),AI80)","v":""},null,{"$f":"IF($A80<=nbappomp,INDEX('Analyse Préliminaire Pompe'!X$13:X$47,$A80),IF($A80<=nbappomp+nbapven,INDEX('Analyse Préliminaire Ventilateu'!V$13:V$44,$A80-nbappomp),IF($A80<=nbappomp+nbapven+nbapair,'Analyse Préliminaire air compr'!$E$35,IF(A80<=nbappomp+nbapven+nbapair+nbaautre,INDEX('Analyse Préliminaire Autres'!$R$11:$R$42,A80-nbappomp-nbapven-nbapair),IF(A80<=nbappomp+nbapven+nbapair+nbaautre+nbafroid,INDEX('AP Groupe froid'!$Z$14:$Z$17,A80-nbappomp-nbapven-nbapair-nbaautre),\"\")))))","v":""},null,null,{"$f":"IF(AG80=\"\",IF($A80<=nbappomp,INDEX('Analyse Préliminaire Pompe'!AN$13:AN$47,$A80),IF($A80<=nbappomp+nbapven,INDEX('Analyse Préliminaire Ventilateu'!AL$13:AL$44,$A80-nbappomp),IF($A80<=nbappomp+nbapven+nbapair,'Analyse Préliminaire air compr'!$AM$16,IF(A80<=nbappomp+nbapven+nbapair+nbaautre,INDEX('Analyse Préliminaire Autres'!$AB$11:$AB$42,A80-nbappomp-nbapven-nbapair),IF(A80<=nbappomp+nbapven+nbapair+nbaautre+nbafroid,INDEX('AP Groupe froid'!$AM$14:$AM$17,A80-nbappomp-nbapven-nbapair-nbaautre),\"\"))))),'Economies classées'!$A$47)","v":""},{"$f":"IF($A80<=nbappomp,INDEX('Analyse Préliminaire Pompe'!E$13:E$47,$A80),IF($A80<=nbappomp+nbapven,INDEX('Analyse Préliminaire Ventilateu'!E$13:E$44,$A80-nbappomp),IF($A80<=nbappomp+nbapven+nbapair,\"voir detail\",IF(A80<=nbappomp+nbapven+nbapair+nbaautre,INDEX('Analyse Préliminaire Autres'!$E$11:$E$42,A80-nbappomp-nbapven-nbapair),IF(A80<=nbappomp+nbapven+nbapair+nbaautre+nbafroid,INDEX('AP Groupe froid'!$F$14:$F$17,A80-nbappomp-nbapven-nbapair-nbaautre),\"\")))))","v":""},{"$f":"IF($A80<=nbappomp,INDEX('Analyse Préliminaire Pompe'!K$13:K$47,$A80),IF($A80<=nbappomp+nbapven,INDEX('Analyse Préliminaire Ventilateu'!K$13:K$44,$A80-nbappomp),IF($A80<=nbappomp+nbapven+nbapair,SUM('Analyse Préliminaire air compr'!$I$26:$I$32),IF(A80<=nbappomp+nbapven+nbapair+nbaautre,INDEX('Analyse Préliminaire Autres'!$K$11:$K$42,A80-nbappomp-nbapven-nbapair),IF(A80<=nbappomp+nbapven+nbapair+nbaautre+nbafroid,INDEX('AP Groupe froid'!$O$14:$O$17,A80-nbappomp-nbapven-nbapair-nbaautre),\"\")))))","v":""},{"$f":"IF($A80<=nbappomp,INDEX('Analyse Préliminaire Pompe'!L$13:L$47,$A80),IF($A80<=nbappomp+nbapven,INDEX('Analyse Préliminaire Ventilateu'!L$13:L$44,$A80-nbappomp),IF($A80<=nbappomp+nbapven+nbapair,MIN('Analyse Préliminaire air compr'!$J$26:$J$32),IF(A80<=nbappomp+nbapven+nbapair+nbaautre,INDEX('Analyse Préliminaire Autres'!$L$11:$L$42,A80-nbappomp-nbapven-nbapair),IF($A80<=nbappomp+nbapven+nbapair,'Analyse Préliminaire air compr'!$AM$16,IF(A80<=nbappomp+nbapven+nbapair+nbaautre+nbafroid,INDEX('AP Groupe froid'!$L$14:$L$17,A80-nbappomp-nbapven-nbapair-nbaautre),\"\"))))))","v":""},{"$f":"IF($A80<=nbappomp,INDEX('Analyse Préliminaire Pompe'!M$13:M$47,$A80),IF($A80<=nbappomp+nbapven,INDEX('Analyse Préliminaire Ventilateu'!M$13:M$44,$A80-nbappomp),IF($A80<=nbappomp+nbapven+nbapair,\"\",IF(A80<=nbappomp+nbapven+nbapair+nbaautre,INDEX('Analyse Préliminaire Autres'!$M$11:$M$42,A80-nbappomp-nbapven-nbapair),IF($A80<=nbappomp+nbapven+nbapair,'Analyse Préliminaire air compr'!$AM$16,IF(A80<=nbappomp+nbapven+nbapair+nbaautre+nbafroid,INDEX('AP Groupe froid'!$M$14:$M$17,A80-nbappomp-nbapven-nbapair-nbaautre),\"\"))))))","v":""},{"$f":"IF($A80<=nbappomp,INDEX('Analyse Préliminaire Pompe'!N$13:N$47,$A80),IF($A80<=nbappomp+nbapven,INDEX('Analyse Préliminaire Ventilateu'!N$13:N$44,$A80-nbappomp),IF($A80<=nbappomp+nbapven+nbapair,\"\",IF(A80<=nbappomp+nbapven+nbapair+nbaautre,INDEX('Analyse Préliminaire Autres'!$N$11:$N$42,A80-nbappomp-nbapven-nbapair),\"\"))))","v":""},{"$f":"IF($A80<=nbappomp,INDEX('Analyse Préliminaire Pompe'!O$13:O$47,$A80),IF($A80<=nbappomp+nbapven,INDEX('Analyse Préliminaire Ventilateu'!O$13:O$44,$A80-nbappomp),IF($A80<=nbappomp+nbapven+nbapair,\"\",IF(A80<=nbappomp+nbapven+nbapair+nbaautre,INDEX('Analyse Préliminaire Autres'!$O$11:$O$42,A80-nbappomp-nbapven-nbapair),\"\"))))","v":""},{"$f":"IF($A80<=nbappomp,INDEX('Analyse Préliminaire Pompe'!P$13:P$47,$A80),IF($A80<=nbappomp+nbapven,INDEX('Analyse Préliminaire Ventilateu'!P$13:P$44,$A80-nbappomp),IF($A80<=nbappomp+nbapven+nbapair,\"\",IF(A80<=nbappomp+nbapven+nbapair+nbaautre,INDEX('Analyse Préliminaire Autres'!#REF!,A80-nbappomp-nbapven-nbapair),\"\"))))","v":""},{"$f":"IF($A80<=nbappomp,INDEX('Analyse Préliminaire Pompe'!Q$13:Q$47,$A80),IF($A80<=nbappomp+nbapven,\"\",IF($A80<=nbappomp+nbapven+nbapair,\"\",\"\")))","v":""},{"$f":"IF(AI80=\"\",IF($A80<=nbappomp,INDEX('Analyse Préliminaire Pompe'!S$13:S$47,$A80),IF($A80<=nbappomp+nbapven,INDEX('Analyse Préliminaire Ventilateu'!Q$13:Q$44,$A80-nbappomp),IF($A80<=nbappomp+nbapven+nbapair,\"\",IF(A80<=nbappomp+nbapven+nbapair+nbaautre,\"\",\"\")))),AI80)","v":""},{"$f":"IF(AN80,\"\",IF($A80<=nbappomp,INDEX('Analyse Préliminaire Pompe'!AO$13:AO$47,$A80),IF($A80<=nbappomp+nbapven,INDEX('Analyse Préliminaire Ventilateu'!AM$13:AM$44,$A80-nbappomp),IF($A80<=nbappomp+nbapven+nbapair,EcoAPkWhCP,IF(A80<=nbappomp+nbapven+nbapair+nbaautre,INDEX('Analyse Préliminaire Autres'!$E$11:$E$42,A80-nbappomp-nbapven-nbapair),IF($A80<=nbappomp+nbapven+nbapair+nbaautre+nbafroid,INDEX('AP Groupe froid'!$AN$14:$AN$17,$A80-nbappomp-nbapven-nbapair-nbaautre),\"\"))))))","v":""},{"$f":"IF(AN80,\"\",IF($A80<=nbappomp,INDEX('Analyse Préliminaire Pompe'!AP$13:AP$47,$A80),IF($A80<=nbappomp+nbapven,INDEX('Analyse Préliminaire Ventilateu'!AN$13:AN$44,$A80-nbappomp),IF($A80<=nbappomp+nbapven+nbapair,EcoAPpercCP,IF(A80<=nbappomp+nbapven+nbapair+nbaautre,INDEX('Analyse Préliminaire Autres'!$E$11:$E$42,A80-nbappomp-nbapven-nbapair),IF($A80<=nbappomp+nbapven+nbapair+nbaautre+nbafroid,INDEX('AP Groupe froid'!$AO$14:$AO$17,$A80-nbappomp-nbapven-nbapair-nbaautre),\"\"))))))","v":""},{"$f":"IF(AN80,\"\",IF($A80<=nbappomp,INDEX('Analyse Préliminaire Pompe'!AQ$13:AQ$47,$A80),IF($A80<=nbappomp+nbapven,INDEX('Analyse Préliminaire Ventilateu'!AO$13:AO$44,$A80-nbappomp),IF($A80<=nbappomp+nbapven+nbapair,consoanncp,IF(A80<=nbappomp+nbapven+nbapair+nbaautre,INDEX('Analyse Préliminaire Autres'!$E$11:$E$42,A80-nbappomp-nbapven-nbapair),IF($A80<=nbappomp+nbapven+nbapair+nbaautre+nbafroid,INDEX('AP Groupe froid'!$AP$14:$AP$17,$A80-nbappomp-nbapven-nbapair-nbaautre),\"\"))))))","v":""},{"$f":"IF(R80=\"\",-1,IF(AND($L80>'Economies classées'!$B$2,$K80>0.2,YEAR(TODAY())-$Z80>8),2,IF(AND($L80>'Economies classées'!$B$3,YEAR(TODAY())-$Z80>5),1,0)))","v":-1},null,null,"",{"$f":"IF($A80<=nbappomp,ISBLANK(INDEX('Analyse Préliminaire Pompe'!AO$13:AO$47,$A80)),IF($A80<=nbappomp+nbapven,ISBLANK(INDEX('Analyse Préliminaire Ventilateu'!AM$13:AM$44,$A80-nbappomp)),IF($A80<=nbappomp+nbapven+nbapair,ISBLANK(EcoAPkWhCP),IF(A80<=nbappomp+nbapven+nbapair+nbaautre,ISBLANK(INDEX('Analyse Préliminaire Autres'!AC$11:AC$42,A80-nbappomp-nbapven-nbapair)),IF(A80<=nbappomp+nbapven+nbapair+nbaautre+nbafroid,ISBLANK(INDEX('AP Groupe froid'!$AN$14:$AN$17,A80-nbappomp-nbapven-nbapair-nbaautre)),FALSE)))))","v":false},{"$f":"IF(E80=Listes!$H$25,1,0)","v":0},{"$f":"IF(E80=Listes!$H$26,1,0)","v":0},0,0,{"$f":"IF(E80=Listes!$H$28,1,0)","v":0},null,0,0,0,0,0,null,0,0,0,0,0,null,"","","","","",null,-1,-1,-1,-1,null,null,{"$f":"IF(E80=Listes!$H$25,1,0)","v":0},{"$f":"IF(E80=Listes!$H$26,1,0)","v":0},0,0,0,0,0,null,0,0,null,{"$error":"#VALUE!"},0,0,0,null,null,null,"",""]
[57,"",null,{"$f":"IF(A81<=nbappomp,INDEX('Analyse Préliminaire Pompe'!$B$13:$B$47,A81),IF(A81<=nbappomp+nbapven,INDEX('Analyse Préliminaire Ventilateu'!$B$13:$B$44,A81-nbappomp),IF(A81<=nbappomp+nbapven+nbapair,301,IF(A81<=nbappomp+nbapven+nbapair+nbaautre,INDEX('Analyse Préliminaire Autres'!$B$11:$B$42,A81-nbappomp-nbapven-nbapair),IF(A81<=nbappomp+nbapven+nbapair+nbaautre+nbafroid,INDEX('AP Groupe froid'!$B$14:$B$17,A81-nbappomp-nbapven-nbapair-nbaautre),\"\")))))","v":""},{"$f":"IF(A81<=nbappomp,INDEX('Analyse Préliminaire Pompe'!$C$13:$C$47,A81),IF(A81<=nbappomp+nbapven,INDEX('Analyse Préliminaire Ventilateu'!$C$13:$C$44,A81-nbappomp),IF(A81<=nbappomp+nbapven+nbapair,$AJ$4,IF(A81<=nbappomp+nbapven+nbapair+nbaautre,INDEX('Analyse Préliminaire Autres'!$C$11:$C$42,A81-nbappomp-nbapven-nbapair),IF(A81<=nbappomp+nbapven+nbapair+nbaautre+nbafroid,INDEX('AP Groupe froid'!$C$14:$C$17,A81-nbappomp-nbapven-nbapair-nbaautre),\"\")))))","v":""},null,null,{"$f":"IF(A81<=nbappomp,INDEX('Analyse Préliminaire Pompe'!$H$13:$H$47,A81),IF(A81<=nbappomp+nbapven,INDEX('Analyse Préliminaire Ventilateu'!$H$13:$H$44,A81-nbappomp),IF(A81<=nbappomp+nbapven+nbapair,$AJ$4,IF(A81<=nbappomp+nbapven+nbapair+nbaautre,INDEX('Analyse Préliminaire Autres'!$H$11:$H$42,A81-nbappomp-nbapven-nbapair),IF(A81<=nbappomp+nbapven+nbapair+nbaautre+nbafroid,INDEX('AP Groupe froid'!$I$14:$I$17,A81-nbappomp-nbapven-nbapair-nbaautre),\"\")))))","v":""},null,null,{"$f":"IF(AH81=\"\",IF($A81<=nbappomp,INDEX('Analyse Préliminaire Pompe'!AE$13:AE$47,$A81),IF($A81<=nbappomp+nbapven,INDEX('Analyse Préliminaire Ventilateu'!AC$13:AC$44,$A81-nbappomp),IF($A81<=nbappomp+nbapven+nbapair,'Analyse Préliminaire air compr'!$AI$22,IF(A81<=nbappomp+nbapven+nbapair+nbaautre,INDEX('Analyse Préliminaire Autres'!$X$11:$X$42,A81-nbappomp-nbapven-nbapair),IF(A81<=nbappomp+nbapven+nbapair+nbaautre+nbafroid,INDEX('AP Groupe froid'!$AF$14:$AF$17,A81-nbappomp-nbapven-nbapair-nbaautre),\"\"))))),AH81)","v":""},{"$f":"IF(AG81=\"\",IF($A81<=nbappomp,INDEX('Analyse Préliminaire Pompe'!AD$13:AD$47,$A81),IF($A81<=nbappomp+nbapven,INDEX('Analyse Préliminaire Ventilateu'!AB$13:AB$44,$A81-nbappomp),IF($A81<=nbappomp+nbapven+nbapair,'Analyse Préliminaire air compr'!$AH$22,IF(A81<=nbappomp+nbapven+nbapair+nbaautre,INDEX('Analyse Préliminaire Autres'!$W$11:$W$42,A81-nbappomp-nbapven-nbapair),IF(A81<=nbappomp+nbapven+nbapair+nbaautre+nbafroid,INDEX('AP Groupe froid'!$AE$14:$AE$17,A81-nbappomp-nbapven-nbapair-nbaautre),\"\"))))),AG81)","v":""},null,"",null,"",null,{"$f":"IF(AI81=\"\",IF($A81<=nbappomp,INDEX('Analyse Préliminaire Pompe'!T$13:T$47,$A81),IF($A81<=nbappomp+nbapven,INDEX('Analyse Préliminaire Ventilateu'!R$13:R$44,$A81-nbappomp),IF($A81<=nbappomp+nbapven+nbapair,'Analyse Préliminaire air compr'!$AH$13,IF(A81<=nbappomp+nbapven+nbapair+nbaautre,INDEX('Analyse Préliminaire Autres'!$P$11:$P$42,A81-nbappomp-nbapven-nbapair),IF(A81<=nbappomp+nbapven+nbapair+nbaautre+nbafroid,INDEX('AP Groupe froid'!$AD$14:$AD$17,A81-nbappomp-nbapven-nbapair-nbaautre),\"\"))))),AI81)","v":""},null,{"$f":"IF($A81<=nbappomp,INDEX('Analyse Préliminaire Pompe'!X$13:X$47,$A81),IF($A81<=nbappomp+nbapven,INDEX('Analyse Préliminaire Ventilateu'!V$13:V$44,$A81-nbappomp),IF($A81<=nbappomp+nbapven+nbapair,'Analyse Préliminaire air compr'!$E$35,IF(A81<=nbappomp+nbapven+nbapair+nbaautre,INDEX('Analyse Préliminaire Autres'!$R$11:$R$42,A81-nbappomp-nbapven-nbapair),IF(A81<=nbappomp+nbapven+nbapair+nbaautre+nbafroid,INDEX('AP Groupe froid'!$Z$14:$Z$17,A81-nbappomp-nbapven-nbapair-nbaautre),\"\")))))","v":""},null,null,{"$f":"IF(AG81=\"\",IF($A81<=nbappomp,INDEX('Analyse Préliminaire Pompe'!AN$13:AN$47,$A81),IF($A81<=nbappomp+nbapven,INDEX('Analyse Préliminaire Ventilateu'!AL$13:AL$44,$A81-nbappomp),IF($A81<=nbappomp+nbapven+nbapair,'Analyse Préliminaire air compr'!$AM$16,IF(A81<=nbappomp+nbapven+nbapair+nbaautre,INDEX('Analyse Préliminaire Autres'!$AB$11:$AB$42,A81-nbappomp-nbapven-nbapair),IF(A81<=nbappomp+nbapven+nbapair+nbaautre+nbafroid,INDEX('AP Groupe froid'!$AM$14:$AM$17,A81-nbappomp-nbapven-nbapair-nbaautre),\"\"))))),'Economies classées'!$A$47)","v":""},{"$f":"IF($A81<=nbappomp,INDEX('Analyse Préliminaire Pompe'!E$13:E$47,$A81),IF($A81<=nbappomp+nbapven,INDEX('Analyse Préliminaire Ventilateu'!E$13:E$44,$A81-nbappomp),IF($A81<=nbappomp+nbapven+nbapair,\"voir detail\",IF(A81<=nbappomp+nbapven+nbapair+nbaautre,INDEX('Analyse Préliminaire Autres'!$E$11:$E$42,A81-nbappomp-nbapven-nbapair),IF(A81<=nbappomp+nbapven+nbapair+nbaautre+nbafroid,INDEX('AP Groupe froid'!$F$14:$F$17,A81-nbappomp-nbapven-nbapair-nbaautre),\"\")))))","v":""},{"$f":"IF($A81<=nbappomp,INDEX('Analyse Préliminaire Pompe'!K$13:K$47,$A81),IF($A81<=nbappomp+nbapven,INDEX('Analyse Préliminaire Ventilateu'!K$13:K$44,$A81-nbappomp),IF($A81<=nbappomp+nbapven+nbapair,SUM('Analyse Préliminaire air compr'!$I$26:$I$32),IF(A81<=nbappomp+nbapven+nbapair+nbaautre,INDEX('Analyse Préliminaire Autres'!$K$11:$K$42,A81-nbappomp-nbapven-nbapair),IF(A81<=nbappomp+nbapven+nbapair+nbaautre+nbafroid,INDEX('AP Groupe froid'!$O$14:$O$17,A81-nbappomp-nbapven-nbapair-nbaautre),\"\")))))","v":""},{"$f":"IF($A81<=nbappomp,INDEX('Analyse Préliminaire Pompe'!L$13:L$47,$A81),IF($A81<=nbappomp+nbapven,INDEX('Analyse Préliminaire Ventilateu'!L$13:L$44,$A81-nbappomp),IF($A81<=nbappomp+nbapven+nbapair,MIN('Analyse Préliminaire air compr'!$J$26:$J$32),IF(A81<=nbappomp+nbapven+nbapair+nbaautre,INDEX('Analyse Préliminaire Autres'!$L$11:$L$42,A81-nbappomp-nbapven-nbapair),IF($A81<=nbappomp+nbapven+nbapair,'Analyse Préliminaire air compr'!$AM$16,IF(A81<=nbappomp+nbapven+nbapair+nbaautre+nbafroid,INDEX('AP Groupe froid'!$L$14:$L$17,A81-nbappomp-nbapven-nbapair-nbaautre),\"\"))))))","v":""},{"$f":"IF($A81<=nbappomp,INDEX('Analyse Préliminaire Pompe'!M$13:M$47,$A81),IF($A81<=nbappomp+nbapven,INDEX('Analyse Préliminaire Ventilateu'!M$13:M$44,$A81-nbappomp),IF($A81<=nbappomp+nbapven+nbapair,\"\",IF(A81<=nbappomp+nbapven+nbapair+nbaautre,INDEX('Analyse Préliminaire Autres'!$M$11:$M$42,A81-nbappomp-nbapven-nbapair),IF($A81<=nbappomp+nbapven+nbapair,'Analyse Préliminaire air compr'!$AM$16,IF(A81<=nbappomp+nbapven+nbapair+nbaautre+nbafroid,INDEX('AP Groupe froid'!$M$14:$M$17,A81-nbappomp-nbapven-nbapair-nbaautre),\"\"))))))","v":""},{"$f":"IF($A81<=nbappomp,INDEX('Analyse Préliminaire Pompe'!N$13:N$47,$A81),IF($A81<=nbappomp+nbapven,INDEX('Analyse Préliminaire Ventilateu'!N$13:N$44,$A81-nbappomp),IF($A81<=nbappomp+nbapven+nbapair,\"\",IF(A81<=nbappomp+nbapven+nbapair+nbaautre,INDEX('Analyse Préliminaire Autres'!$N$11:$N$42,A81-nbappomp-nbapven-nbapair),\"\"))))","v":""},{"$f":"IF($A81<=nbappomp,INDEX('Analyse Préliminaire Pompe'!O$13:O$47,$A81),IF($A81<=nbappomp+nbapven,INDEX('Analyse Préliminaire Ventilateu'!O$13:O$44,$A81-nbappomp),IF($A81<=nbappomp+nbapven+nbapair,\"\",IF(A81<=nbappomp+nbapven+nbapair+nbaautre,INDEX('Analyse Préliminaire Autres'!$O$11:$O$42,A81-nbappomp-nbapven-nbapair),\"\"))))","v":""},{"$f":"IF($A81<=nbappomp,INDEX('Analyse Préliminaire Pompe'!P$13:P$47,$A81),IF($A81<=nbappomp+nbapven,INDEX('Analyse Préliminaire Ventilateu'!P$13:P$44,$A81-nbappomp),IF($A81<=nbappomp+nbapven+nbapair,\"\",IF(A81<=nbappomp+nbapven+nbapair+nbaautre,INDEX('Analyse Préliminaire Autres'!#REF!,A81-nbappomp-nbapven-nbapair),\"\"))))","v":""},{"$f":"IF($A81<=nbappomp,INDEX('Analyse Préliminaire Pompe'!Q$13:Q$47,$A81),IF($A81<=nbappomp+nbapven,\"\",IF($A81<=nbappomp+nbapven+nbapair,\"\",\"\")))","v":""},{"$f":"IF(AI81=\"\",IF($A81<=nbappomp,INDEX('Analyse Préliminaire Pompe'!S$13:S$47,$A81),IF($A81<=nbappomp+nbapven,INDEX('Analyse Préliminaire Ventilateu'!Q$13:Q$44,$A81-nbappomp),IF($A81<=nbappomp+nbapven+nbapair,\"\",IF(A81<=nbappomp+nbapven+nbapair+nbaautre,\"\",\"\")))),AI81)","v":""},{"$f":"IF(AN81,\"\",IF($A81<=nbappomp,INDEX('Analyse Préliminaire Pompe'!AO$13:AO$47,$A81),IF($A81<=nbappomp+nbapven,INDEX('Analyse Préliminaire Ventilateu'!AM$13:AM$44,$A81-nbappomp),IF($A81<=nbappomp+nbapven+nbapair,EcoAPkWhCP,IF(A81<=nbappomp+nbapven+nbapair+nbaautre,INDEX('Analyse Préliminaire Autres'!$E$11:$E$42,A81-nbappomp-nbapven-nbapair),IF($A81<=nbappomp+nbapven+nbapair+nbaautre+nbafroid,INDEX('AP Groupe froid'!$AN$14:$AN$17,$A81-nbappomp-nbapven-nbapair-nbaautre),\"\"))))))","v":""},{"$f":"IF(AN81,\"\",IF($A81<=nbappomp,INDEX('Analyse Préliminaire Pompe'!AP$13:AP$47,$A81),IF($A81<=nbappomp+nbapven,INDEX('Analyse Préliminaire Ventilateu'!AN$13:AN$44,$A81-nbappomp),IF($A81<=nbappomp+nbapven+nbapair,EcoAPpercCP,IF(A81<=nbappomp+nbapven+nbapair+nbaautre,INDEX('Analyse Préliminaire Autres'!$E$11:$E$42,A81-nbappomp-nbapven-nbapair),IF($A81<=nbappomp+nbapven+nbapair+nbaautre+nbafroid,INDEX('AP Groupe froid'!$AO$14:$AO$17,$A81-nbappomp-nbapven-nbapair-nbaautre),\"\"))))))","v":""},{"$f":"IF(AN81,\"\",IF($A81<=nbappomp,INDEX('Analyse Préliminaire Pompe'!AQ$13:AQ$47,$A81),IF($A81<=nbappomp+nbapven,INDEX('Analyse Préliminaire Ventilateu'!AO$13:AO$44,$A81-nbappomp),IF($A81<=nbappomp+nbapven+nbapair,consoanncp,IF(A81<=nbappomp+nbapven+nbapair+nbaautre,INDEX('Analyse Préliminaire Autres'!$E$11:$E$42,A81-nbappomp-nbapven-nbapair),IF($A81<=nbappomp+nbapven+nbapair+nbaautre+nbafroid,INDEX('AP Groupe froid'!$AP$14:$AP$17,$A81-nbappomp-nbapven-nbapair-nbaautre),\"\"))))))","v":""},{"$f":"IF(R81=\"\",-1,IF(AND($L81>'Economies classées'!$B$2,$K81>0.2,YEAR(TODAY())-$Z81>8),2,IF(AND($L81>'Economies classées'!$B$3,YEAR(TODAY())-$Z81>5),1,0)))","v":-1},null,null,"",{"$f":"IF($A81<=nbappomp,ISBLANK(INDEX('Analyse Préliminaire Pompe'!AO$13:AO$47,$A81)),IF($A81<=nbappomp+nbapven,ISBLANK(INDEX('Analyse Préliminaire Ventilateu'!AM$13:AM$44,$A81-nbappomp)),IF($A81<=nbappomp+nbapven+nbapair,ISBLANK(EcoAPkWhCP),IF(A81<=nbappomp+nbapven+nbapair+nbaautre,ISBLANK(INDEX('Analyse Préliminaire Autres'!AC$11:AC$42,A81-nbappomp-nbapven-nbapair)),IF(A81<=nbappomp+nbapven+nbapair+nbaautre+nbafroid,ISBLANK(INDEX('AP Groupe froid'!$AN$14:$AN$17,A81-nbappomp-nbapven-nbapair-nbaautre)),FALSE)))))","v":false},{"$f":"IF(E81=Listes!$H$25,1,0)","v":0},{"$f":"IF(E81=Listes!$H$26,1,0)","v":0},0,0,{"$f":"IF(E81=Listes!$H$28,1,0)","v":0},null,0,0,0,0,0,null,0,0,0,0,0,null,"","","","","",null,-1,-1,-1,-1,null,null,{"$f":"IF(E81=Listes!$H$25,1,0)","v":0},{"$f":"IF(E81=Listes!$H$26,1,0)","v":0},0,0,0,0,0,null,0,0,null,{"$error":"#VALUE!"},0,0,0,null,null,null,"",""]
[58,"",null,{"$f":"IF(A82<=nbappomp,INDEX('Analyse Préliminaire Pompe'!$B$13:$B$47,A82),IF(A82<=nbappomp+nbapven,INDEX('Analyse Préliminaire Ventilateu'!$B$13:$B$44,A82-nbappomp),IF(A82<=nbappomp+nbapven+nbapair,301,IF(A82<=nbappomp+nbapven+nbapair+nbaautre,INDEX('Analyse Préliminaire Autres'!$B$11:$B$42,A82-nbappomp-nbapven-nbapair),IF(A82<=nbappomp+nbapven+nbapair+nbaautre+nbafroid,INDEX('AP Groupe froid'!$B$14:$B$17,A82-nbappomp-nbapven-nbapair-nbaautre),\"\")))))","v":""},{"$f":"IF(A82<=nbappomp,INDEX('Analyse Préliminaire Pompe'!$C$13:$C$47,A82),IF(A82<=nbappomp+nbapven,INDEX('Analyse Préliminaire Ventilateu'!$C$13:$C$44,A82-nbappomp),IF(A82<=nbappomp+nbapven+nbapair,$AJ$4,IF(A82<=nbappomp+nbapven+nbapair+nbaautre,INDEX('Analyse Préliminaire Autres'!$C$11:$C$42,A82-nbappomp-nbapven-nbapair),IF(A82<=nbappomp+nbapven+nbapair+nbaautre+nbafroid,INDEX('AP Groupe froid'!$C$14:$C$17,A82-nbappomp-nbapven-nbapair-nbaautre),\"\")))))","v":""},null,null,{"$f":"IF(A82<=nbappomp,INDEX('Analyse Préliminaire Pompe'!$H$13:$H$47,A82),IF(A82<=nbappomp+nbapven,INDEX('Analyse Préliminaire Ventilateu'!$H$13:$H$44,A82-nbappomp),IF(A82<=nbappomp+nbapven+nbapair,$AJ$4,IF(A82<=nbappomp+nbapven+nbapair+nbaautre,INDEX('Analyse Préliminaire Autres'!$H$11:$H$42,A82-nbappomp-nbapven-nbapair),IF(A82<=nbappomp+nbapven+nbapair+nbaautre+nbafroid,INDEX('AP Groupe froid'!$I$14:$I$17,A82-nbappomp-nbapven-nbapair-nbaautre),\"\")))))","v":""},null,null,{"$f":"IF(AH82=\"\",IF($A82<=nbappomp,INDEX('Analyse Préliminaire Pompe'!AE$13:AE$47,$A82),IF($A82<=nbappomp+nbapven,INDEX('Analyse Préliminaire Ventilateu'!AC$13:AC$44,$A82-nbappomp),IF($A82<=nbappomp+nbapven+nbapair,'Analyse Préliminaire air compr'!$AI$22,IF(A82<=nbappomp+nbapven+nbapair+nbaautre,INDEX('Analyse Préliminaire Autres'!$X$11:$X$42,A82-nbappomp-nbapven-nbapair),IF(A82<=nbappomp+nbapven+nbapair+nbaautre+nbafroid,INDEX('AP Groupe froid'!$AF$14:$AF$17,A82-nbappomp-nbapven-nbapair-nbaautre),\"\"))))),AH82)","v":""},{"$f":"IF(AG82=\"\",IF($A82<=nbappomp,INDEX('Analyse Préliminaire Pompe'!AD$13:AD$47,$A82),IF($A82<=nbappomp+nbapven,INDEX('Analyse Préliminaire Ventilateu'!AB$13:AB$44,$A82-nbappomp),IF($A82<=nbappomp+nbapven+nbapair,'Analyse Préliminaire air compr'!$AH$22,IF(A82<=nbappomp+nbapven+nbapair+nbaautre,INDEX('Analyse Préliminaire Autres'!$W$11:$W$42,A82-nbappomp-nbapven-nbapair),IF(A82<=nbappomp+nbapven+nbapair+nbaautre+nbafroid,INDEX('AP Groupe froid'!$AE$14:$AE$17,A82-nbappomp-nbapven-nbapair-nbaautre),\"\"))))),AG82)","v":""},null,"",null,"",null,{"$f":"IF(AI82=\"\",IF($A82<=nbappomp,INDEX('Analyse Préliminaire Pompe'!T$13:T$47,$A82),IF($A82<=nbappomp+nbapven,INDEX('Analyse Préliminaire Ventilateu'!R$13:R$44,$A82-nbappomp),IF($A82<=nbappomp+nbapven+nbapair,'Analyse Préliminaire air compr'!$AH$13,IF(A82<=nbappomp+nbapven+nbapair+nbaautre,INDEX('Analyse Préliminaire Autres'!$P$11:$P$42,A82-nbappomp-nbapven-nbapair),IF(A82<=nbappomp+nbapven+nbapair+nbaautre+nbafroid,INDEX('AP Groupe froid'!$AD$14:$AD$17,A82-nbappomp-nbapven-nbapair-nbaautre),\"\"))))),AI82)","v":""},null,{"$f":"IF($A82<=nbappomp,INDEX('Analyse Préliminaire Pompe'!X$13:X$47,$A82),IF($A82<=nbappomp+nbapven,INDEX('Analyse Préliminaire Ventilateu'!V$13:V$44,$A82-nbappomp),IF($A82<=nbappomp+nbapven+nbapair,'Analyse Préliminaire air compr'!$E$35,IF(A82<=nbappomp+nbapven+nbapair+nbaautre,INDEX('Analyse Préliminaire Autres'!$R$11:$R$42,A82-nbappomp-nbapven-nbapair),IF(A82<=nbappomp+nbapven+nbapair+nbaautre+nbafroid,INDEX('AP Groupe froid'!$Z$14:$Z$17,A82-nbappomp-nbapven-nbapair-nbaautre),\"\")))))","v":""},null,null,{"$f":"IF(AG82=\"\",IF($A82<=nbappomp,INDEX('Analyse Préliminaire Pompe'!AN$13:AN$47,$A82),IF($A82<=nbappomp+nbapven,INDEX('Analyse Préliminaire Ventilateu'!AL$13:AL$44,$A82-nbappomp),IF($A82<=nbappomp+nbapven+nbapair,'Analyse Préliminaire air compr'!$AM$16,IF(A82<=nbappomp+nbapven+nbapair+nbaautre,INDEX('Analyse Préliminaire Autres'!$AB$11:$AB$42,A82-nbappomp-nbapven-nbapair),IF(A82<=nbappomp+nbapven+nbapair+nbaautre+nbafroid,INDEX('AP Groupe froid'!$AM$14:$AM$17,A82-nbappomp-nbapven-nbapair-nbaautre),\"\"))))),'Economies classées'!$A$47)","v":""},{"$f":"IF($A82<=nbappomp,INDEX('Analyse Préliminaire Pompe'!E$13:E$47,$A82),IF($A82<=nbappomp+nbapven,INDEX('Analyse Préliminaire Ventilateu'!E$13:E$44,$A82-nbappomp),IF($A82<=nbappomp+nbapven+nbapair,\"voir detail\",IF(A82<=nbappomp+nbapven+nbapair+nbaautre,INDEX('Analyse Préliminaire Autres'!$E$11:$E$42,A82-nbappomp-nbapven-nbapair),IF(A82<=nbappomp+nbapven+nbapair+nbaautre+nbafroid,INDEX('AP Groupe froid'!$F$14:$F$17,A82-nbappomp-nbapven-nbapair-nbaautre),\"\")))))","v":""},{"$f":"IF($A82<=nbappomp,INDEX('Analyse Préliminaire Pompe'!K$13:K$47,$A82),IF($A82<=nbappomp+nbapven,INDEX('Analyse Préliminaire Ventilateu'!K$13:K$44,$A82-nbappomp),IF($A82<=nbappomp+nbapven+nbapair,SUM('Analyse Préliminaire air compr'!$I$26:$I$32),IF(A82<=nbappomp+nbapven+nbapair+nbaautre,INDEX('Analyse Préliminaire Autres'!$K$11:$K$42,A82-nbappomp-nbapven-nbapair),IF(A82<=nbappomp+nbapven+nbapair+nbaautre+nbafroid,INDEX('AP Groupe froid'!$O$14:$O$17,A82-nbappomp-nbapven-nbapair-nbaautre),\"\")))))","v":""},{"$f":"IF($A82<=nbappomp,INDEX('Analyse Préliminaire Pompe'!L$13:L$47,$A82),IF($A82<=nbappomp+nbapven,INDEX('Analyse Préliminaire Ventilateu'!L$13:L$44,$A82-nbappomp),IF($A82<=nbappomp+nbapven+nbapair,MIN('Analyse Préliminaire air compr'!$J$26:$J$32),IF(A82<=nbappomp+nbapven+nbapair+nbaautre,INDEX('Analyse Préliminaire Autres'!$L$11:$L$42,A82-nbappomp-nbapven-nbapair),IF($A82<=nbappomp+nbapven+nbapair,'Analyse Préliminaire air compr'!$AM$16,IF(A82<=nbappomp+nbapven+nbapair+nbaautre+nbafroid,INDEX('AP Groupe froid'!$L$14:$L$17,A82-nbappomp-nbapven-nbapair-nbaautre),\"\"))))))","v":""},{"$f":"IF($A82<=nbappomp,INDEX('Analyse Préliminaire Pompe'!M$13:M$47,$A82),IF($A82<=nbappomp+nbapven,INDEX('Analyse Préliminaire Ventilateu'!M$13:M$44,$A82-nbappomp),IF($A82<=nbappomp+nbapven+nbapair,\"\",IF(A82<=nbappomp+nbapven+nbapair+nbaautre,INDEX('Analyse Préliminaire Autres'!$M$11:$M$42,A82-nbappomp-nbapven-nbapair),IF($A82<=nbappomp+nbapven+nbapair,'Analyse Préliminaire air compr'!$AM$16,IF(A82<=nbappomp+nbapven+nbapair+nbaautre+nbafroid,INDEX('AP Groupe froid'!$M$14:$M$17,A82-nbappomp-nbapven-nbapair-nbaautre),\"\"))))))","v":""},{"$f":"IF($A82<=nbappomp,INDEX('Analyse Préliminaire Pompe'!N$13:N$47,$A82),IF($A82<=nbappomp+nbapven,INDEX('Analyse Préliminaire Ventilateu'!N$13:N$44,$A82-nbappomp),IF($A82<=nbappomp+nbapven+nbapair,\"\",IF(A82<=nbappomp+nbapven+nbapair+nbaautre,INDEX('Analyse Préliminaire Autres'!$N$11:$N$42,A82-nbappomp-nbapven-nbapair),\"\"))))","v":""},{"$f":"IF($A82<=nbappomp,INDEX('Analyse Préliminaire Pompe'!O$13:O$47,$A82),IF($A82<=nbappomp+nbapven,INDEX('Analyse Préliminaire Ventilateu'!O$13:O$44,$A82-nbappomp),IF($A82<=nbappomp+nbapven+nbapair,\"\",IF(A82<=nbappomp+nbapven+nbapair+nbaautre,INDEX('Analyse Préliminaire Autres'!$O$11:$O$42,A82-nbappomp-nbapven-nbapair),\"\"))))","v":""},{"$f":"IF($A82<=nbappomp,INDEX('Analyse Préliminaire Pompe'!P$13:P$47,$A82),IF($A82<=nbappomp+nbapven,INDEX('Analyse Préliminaire Ventilateu'!P$13:P$44,$A82-nbappomp),IF($A82<=nbappomp+nbapven+nbapair,\"\",IF(A82<=nbappomp+nbapven+nbapair+nbaautre,INDEX('Analyse Préliminaire Autres'!#REF!,A82-nbappomp-nbapven-nbapair),\"\"))))","v":""},{"$f":"IF($A82<=nbappomp,INDEX('Analyse Préliminaire Pompe'!Q$13:Q$47,$A82),IF($A82<=nbappomp+nbapven,\"\",IF($A82<=nbappomp+nbapven+nbapair,\"\",\"\")))","v":""},{"$f":"IF(AI82=\"\",IF($A82<=nbappomp,INDEX('Analyse Préliminaire Pompe'!S$13:S$47,$A82),IF($A82<=nbappomp+nbapven,INDEX('Analyse Préliminaire Ventilateu'!Q$13:Q$44,$A82-nbappomp),IF($A82<=nbappomp+nbapven+nbapair,\"\",IF(A82<=nbappomp+nbapven+nbapair+nbaautre,\"\",\"\")))),AI82)","v":""},{"$f":"IF(AN82,\"\",IF($A82<=nbappomp,INDEX('Analyse Préliminaire Pompe'!AO$13:AO$47,$A82),IF($A82<=nbappomp+nbapven,INDEX('Analyse Préliminaire Ventilateu'!AM$13:AM$44,$A82-nbappomp),IF($A82<=nbappomp+nbapven+nbapair,EcoAPkWhCP,IF(A82<=nbappomp+nbapven+nbapair+nbaautre,INDEX('Analyse Préliminaire Autres'!$E$11:$E$42,A82-nbappomp-nbapven-nbapair),IF($A82<=nbappomp+nbapven+nbapair+nbaautre+nbafroid,INDEX('AP Groupe froid'!$AN$14:$AN$17,$A82-nbappomp-nbapven-nbapair-nbaautre),\"\"))))))","v":""},{"$f":"IF(AN82,\"\",IF($A82<=nbappomp,INDEX('Analyse Préliminaire Pompe'!AP$13:AP$47,$A82),IF($A82<=nbappomp+nbapven,INDEX('Analyse Préliminaire Ventilateu'!AN$13:AN$44,$A82-nbappomp),IF($A82<=nbappomp+nbapven+nbapair,EcoAPpercCP,IF(A82<=nbappomp+nbapven+nbapair+nbaautre,INDEX('Analyse Préliminaire Autres'!$E$11:$E$42,A82-nbappomp-nbapven-nbapair),IF($A82<=nbappomp+nbapven+nbapair+nbaautre+nbafroid,INDEX('AP Groupe froid'!$AO$14:$AO$17,$A82-nbappomp-nbapven-nbapair-nbaautre),\"\"))))))","v":""},{"$f":"IF(AN82,\"\",IF($A82<=nbappomp,INDEX('Analyse Préliminaire Pompe'!AQ$13:AQ$47,$A82),IF($A82<=nbappomp+nbapven,INDEX('Analyse Préliminaire Ventilateu'!AO$13:AO$44,$A82-nbappomp),IF($A82<=nbappomp+nbapven+nbapair,consoanncp,IF(A82<=nbappomp+nbapven+nbapair+nbaautre,INDEX('Analyse Préliminaire Autres'!$E$11:$E$42,A82-nbappomp-nbapven-nbapair),IF($A82<=nbappomp+nbapven+nbapair+nbaautre+nbafroid,INDEX('AP Groupe froid'!$AP$14:$AP$17,$A82-nbappomp-nbapven-nbapair-nbaautre),\"\"))))))","v":""},{"$f":"IF(R82=\"\",-1,IF(AND($L82>'Economies classées'!$B$2,$K82>0.2,YEAR(TODAY())-$Z82>8),2,IF(AND($L82>'Economies classées'!$B$3,YEAR(TODAY())-$Z82>5),1,0)))","v":-1},null,null,"",{"$f":"IF($A82<=nbappomp,ISBLANK(INDEX('Analyse Préliminaire Pompe'!AO$13:AO$47,$A82)),IF($A82<=nbappomp+nbapven,ISBLANK(INDEX('Analyse Préliminaire Ventilateu'!AM$13:AM$44,$A82-nbappomp)),IF($A82<=nbappomp+nbapven+nbapair,ISBLANK(EcoAPkWhCP),IF(A82<=nbappomp+nbapven+nbapair+nbaautre,ISBLANK(INDEX('Analyse Préliminaire Autres'!AC$11:AC$42,A82-nbappomp-nbapven-nbapair)),IF(A82<=nbappomp+nbapven+nbapair+nbaautre+nbafroid,ISBLANK(INDEX('AP Groupe froid'!$AN$14:$AN$17,A82-nbappomp-nbapven-nbapair-nbaautre)),FALSE)))))","v":false},{"$f":"IF(E82=Listes!$H$25,1,0)","v":0},{"$f":"IF(E82=Listes!$H$26,1,0)","v":0},0,0,{"$f":"IF(E82=Listes!$H$28,1,0)","v":0},null,0,0,0,0,0,null,0,0,0,0,0,null,"","","","","",null,-1,-1,-1,-1,null,null,{"$f":"IF(E82=Listes!$H$25,1,0)","v":0},{"$f":"IF(E82=Listes!$H$26,1,0)","v":0},0,0,0,0,0,null,0,0,null,{"$error":"#VALUE!"},0,0,0,null,null,null,"",""]
[59,"",null,{"$f":"IF(A83<=nbappomp,INDEX('Analyse Préliminaire Pompe'!$B$13:$B$47,A83),IF(A83<=nbappomp+nbapven,INDEX('Analyse Préliminaire Ventilateu'!$B$13:$B$44,A83-nbappomp),IF(A83<=nbappomp+nbapven+nbapair,301,IF(A83<=nbappomp+nbapven+nbapair+nbaautre,INDEX('Analyse Préliminaire Autres'!$B$11:$B$42,A83-nbappomp-nbapven-nbapair),IF(A83<=nbappomp+nbapven+nbapair+nbaautre+nbafroid,INDEX('AP Groupe froid'!$B$14:$B$17,A83-nbappomp-nbapven-nbapair-nbaautre),\"\")))))","v":""},{"$f":"IF(A83<=nbappomp,INDEX('Analyse Préliminaire Pompe'!$C$13:$C$47,A83),IF(A83<=nbappomp+nbapven,INDEX('Analyse Préliminaire Ventilateu'!$C$13:$C$44,A83-nbappomp),IF(A83<=nbappomp+nbapven+nbapair,$AJ$4,IF(A83<=nbappomp+nbapven+nbapair+nbaautre,INDEX('Analyse Préliminaire Autres'!$C$11:$C$42,A83-nbappomp-nbapven-nbapair),IF(A83<=nbappomp+nbapven+nbapair+nbaautre+nbafroid,INDEX('AP Groupe froid'!$C$14:$C$17,A83-nbappomp-nbapven-nbapair-nbaautre),\"\")))))","v":""},null,null,{"$f":"IF(A83<=nbappomp,INDEX('Analyse Préliminaire Pompe'!$H$13:$H$47,A83),IF(A83<=nbappomp+nbapven,INDEX('Analyse Préliminaire Ventilateu'!$H$13:$H$44,A83-nbappomp),IF(A83<=nbappomp+nbapven+nbapair,$AJ$4,IF(A83<=nbappomp+nbapven+nbapair+nbaautre,INDEX('Analyse Préliminaire Autres'!$H$11:$H$42,A83-nbappomp-nbapven-nbapair),IF(A83<=nbappomp+nbapven+nbapair+nbaautre+nbafroid,INDEX('AP Groupe froid'!$I$14:$I$17,A83-nbappomp-nbapven-nbapair-nbaautre),\"\")))))","v":""},null,null,{"$f":"IF(AH83=\"\",IF($A83<=nbappomp,INDEX('Analyse Préliminaire Pompe'!AE$13:AE$47,$A83),IF($A83<=nbappomp+nbapven,INDEX('Analyse Préliminaire Ventilateu'!AC$13:AC$44,$A83-nbappomp),IF($A83<=nbappomp+nbapven+nbapair,'Analyse Préliminaire air compr'!$AI$22,IF(A83<=nbappomp+nbapven+nbapair+nbaautre,INDEX('Analyse Préliminaire Autres'!$X$11:$X$42,A83-nbappomp-nbapven-nbapair),IF(A83<=nbappomp+nbapven+nbapair+nbaautre+nbafroid,INDEX('AP Groupe froid'!$AF$14:$AF$17,A83-nbappomp-nbapven-nbapair-nbaautre),\"\"))))),AH83)","v":""},{"$f":"IF(AG83=\"\",IF($A83<=nbappomp,INDEX('Analyse Préliminaire Pompe'!AD$13:AD$47,$A83),IF($A83<=nbappomp+nbapven,INDEX('Analyse Préliminaire Ventilateu'!AB$13:AB$44,$A83-nbappomp),IF($A83<=nbappomp+nbapven+nbapair,'Analyse Préliminaire air compr'!$AH$22,IF(A83<=nbappomp+nbapven+nbapair+nbaautre,INDEX('Analyse Préliminaire Autres'!$W$11:$W$42,A83-nbappomp-nbapven-nbapair),IF(A83<=nbappomp+nbapven+nbapair+nbaautre+nbafroid,INDEX('AP Groupe froid'!$AE$14:$AE$17,A83-nbappomp-nbapven-nbapair-nbaautre),\"\"))))),AG83)","v":""},null,"",null,"",null,{"$f":"IF(AI83=\"\",IF($A83<=nbappomp,INDEX('Analyse Préliminaire Pompe'!T$13:T$47,$A83),IF($A83<=nbappomp+nbapven,INDEX('Analyse Préliminaire Ventilateu'!R$13:R$44,$A83-nbappomp),IF($A83<=nbappomp+nbapven+nbapair,'Analyse Préliminaire air compr'!$AH$13,IF(A83<=nbappomp+nbapven+nbapair+nbaautre,INDEX('Analyse Préliminaire Autres'!$P$11:$P$42,A83-nbappomp-nbapven-nbapair),IF(A83<=nbappomp+nbapven+nbapair+nbaautre+nbafroid,INDEX('AP Groupe froid'!$AD$14:$AD$17,A83-nbappomp-nbapven-nbapair-nbaautre),\"\"))))),AI83)","v":""},null,{"$f":"IF($A83<=nbappomp,INDEX('Analyse Préliminaire Pompe'!X$13:X$47,$A83),IF($A83<=nbappomp+nbapven,INDEX('Analyse Préliminaire Ventilateu'!V$13:V$44,$A83-nbappomp),IF($A83<=nbappomp+nbapven+nbapair,'Analyse Préliminaire air compr'!$E$35,IF(A83<=nbappomp+nbapven+nbapair+nbaautre,INDEX('Analyse Préliminaire Autres'!$R$11:$R$42,A83-nbappomp-nbapven-nbapair),IF(A83<=nbappomp+nbapven+nbapair+nbaautre+nbafroid,INDEX('AP Groupe froid'!$Z$14:$Z$17,A83-nbappomp-nbapven-nbapair-nbaautre),\"\")))))","v":""},null,null,{"$f":"IF(AG83=\"\",IF($A83<=nbappomp,INDEX('Analyse Préliminaire Pompe'!AN$13:AN$47,$A83),IF($A83<=nbappomp+nbapven,INDEX('Analyse Préliminaire Ventilateu'!AL$13:AL$44,$A83-nbappomp),IF($A83<=nbappomp+nbapven+nbapair,'Analyse Préliminaire air compr'!$AM$16,IF(A83<=nbappomp+nbapven+nbapair+nbaautre,INDEX('Analyse Préliminaire Autres'!$AB$11:$AB$42,A83-nbappomp-nbapven-nbapair),IF(A83<=nbappomp+nbapven+nbapair+nbaautre+nbafroid,INDEX('AP Groupe froid'!$AM$14:$AM$17,A83-nbappomp-nbapven-nbapair-nbaautre),\"\"))))),'Economies classées'!$A$47)","v":""},{"$f":"IF($A83<=nbappomp,INDEX('Analyse Préliminaire Pompe'!E$13:E$47,$A83),IF($A83<=nbappomp+nbapven,INDEX('Analyse Préliminaire Ventilateu'!E$13:E$44,$A83-nbappomp),IF($A83<=nbappomp+nbapven+nbapair,\"voir detail\",IF(A83<=nbappomp+nbapven+nbapair+nbaautre,INDEX('Analyse Préliminaire Autres'!$E$11:$E$42,A83-nbappomp-nbapven-nbapair),IF(A83<=nbappomp+nbapven+nbapair+nbaautre+nbafroid,INDEX('AP Groupe froid'!$F$14:$F$17,A83-nbappomp-nbapven-nbapair-nbaautre),\"\")))))","v":""},{"$f":"IF($A83<=nbappomp,INDEX('Analyse Préliminaire Pompe'!K$13:K$47,$A83),IF($A83<=nbappomp+nbapven,INDEX('Analyse Préliminaire Ventilateu'!K$13:K$44,$A83-nbappomp),IF($A83<=nbappomp+nbapven+nbapair,SUM('Analyse Préliminaire air compr'!$I$26:$I$32),IF(A83<=nbappomp+nbapven+nbapair+nbaautre,INDEX('Analyse Préliminaire Autres'!$K$11:$K$42,A83-nbappomp-nbapven-nbapair),IF(A83<=nbappomp+nbapven+nbapair+nbaautre+nbafroid,INDEX('AP Groupe froid'!$O$14:$O$17,A83-nbappomp-nbapven-nbapair-nbaautre),\"\")))))","v":""},{"$f":"IF($A83<=nbappomp,INDEX('Analyse Préliminaire Pompe'!L$13:L$47,$A83),IF($A83<=nbappomp+nbapven,INDEX('Analyse Préliminaire Ventilateu'!L$13:L$44,$A83-nbappomp),IF($A83<=nbappomp+nbapven+nbapair,MIN('Analyse Préliminaire air compr'!$J$26:$J$32),IF(A83<=nbappomp+nbapven+nbapair+nbaautre,INDEX('Analyse Préliminaire Autres'!$L$11:$L$42,A83-nbappomp-nbapven-nbapair),IF($A83<=nbappomp+nbapven+nbapair,'Analyse Préliminaire air compr'!$AM$16,IF(A83<=nbappomp+nbapven+nbapair+nbaautre+nbafroid,INDEX('AP Groupe froid'!$L$14:$L$17,A83-nbappomp-nbapven-nbapair-nbaautre),\"\"))))))","v":""},{"$f":"IF($A83<=nbappomp,INDEX('Analyse Préliminaire Pompe'!M$13:M$47,$A83),IF($A83<=nbappomp+nbapven,INDEX('Analyse Préliminaire Ventilateu'!M$13:M$44,$A83-nbappomp),IF($A83<=nbappomp+nbapven+nbapair,\"\",IF(A83<=nbappomp+nbapven+nbapair+nbaautre,INDEX('Analyse Préliminaire Autres'!$M$11:$M$42,A83-nbappomp-nbapven-nbapair),IF($A83<=nbappomp+nbapven+nbapair,'Analyse Préliminaire air compr'!$AM$16,IF(A83<=nbappomp+nbapven+nbapair+nbaautre+nbafroid,INDEX('AP Groupe froid'!$M$14:$M$17,A83-nbappomp-nbapven-nbapair-nbaautre),\"\"))))))","v":""},{"$f":"IF($A83<=nbappomp,INDEX('Analyse Préliminaire Pompe'!N$13:N$47,$A83),IF($A83<=nbappomp+nbapven,INDEX('Analyse Préliminaire Ventilateu'!N$13:N$44,$A83-nbappomp),IF($A83<=nbappomp+nbapven+nbapair,\"\",IF(A83<=nbappomp+nbapven+nbapair+nbaautre,INDEX('Analyse Préliminaire Autres'!$N$11:$N$42,A83-nbappomp-nbapven-nbapair),\"\"))))","v":""},{"$f":"IF($A83<=nbappomp,INDEX('Analyse Préliminaire Pompe'!O$13:O$47,$A83),IF($A83<=nbappomp+nbapven,INDEX('Analyse Préliminaire Ventilateu'!O$13:O$44,$A83-nbappomp),IF($A83<=nbappomp+nbapven+nbapair,\"\",IF(A83<=nbappomp+nbapven+nbapair+nbaautre,INDEX('Analyse Préliminaire Autres'!$O$11:$O$42,A83-nbappomp-nbapven-nbapair),\"\"))))","v":""},{"$f":"IF($A83<=nbappomp,INDEX('Analyse Préliminaire Pompe'!P$13:P$47,$A83),IF($A83<=nbappomp+nbapven,INDEX('Analyse Préliminaire Ventilateu'!P$13:P$44,$A83-nbappomp),IF($A83<=nbappomp+nbapven+nbapair,\"\",IF(A83<=nbappomp+nbapven+nbapair+nbaautre,INDEX('Analyse Préliminaire Autres'!#REF!,A83-nbappomp-nbapven-nbapair),\"\"))))","v":""},{"$f":"IF($A83<=nbappomp,INDEX('Analyse Préliminaire Pompe'!Q$13:Q$47,$A83),IF($A83<=nbappomp+nbapven,\"\",IF($A83<=nbappomp+nbapven+nbapair,\"\",\"\")))","v":""},{"$f":"IF(AI83=\"\",IF($A83<=nbappomp,INDEX('Analyse Préliminaire Pompe'!S$13:S$47,$A83),IF($A83<=nbappomp+nbapven,INDEX('Analyse Préliminaire Ventilateu'!Q$13:Q$44,$A83-nbappomp),IF($A83<=nbappomp+nbapven+nbapair,\"\",IF(A83<=nbappomp+nbapven+nbapair+nbaautre,\"\",\"\")))),AI83)","v":""},{"$f":"IF(AN83,\"\",IF($A83<=nbappomp,INDEX('Analyse Préliminaire Pompe'!AO$13:AO$47,$A83),IF($A83<=nbappomp+nbapven,INDEX('Analyse Préliminaire Ventilateu'!AM$13:AM$44,$A83-nbappomp),IF($A83<=nbappomp+nbapven+nbapair,EcoAPkWhCP,IF(A83<=nbappomp+nbapven+nbapair+nbaautre,INDEX('Analyse Préliminaire Autres'!$E$11:$E$42,A83-nbappomp-nbapven-nbapair),IF($A83<=nbappomp+nbapven+nbapair+nbaautre+nbafroid,INDEX('AP Groupe froid'!$AN$14:$AN$17,$A83-nbappomp-nbapven-nbapair-nbaautre),\"\"))))))","v":""},{"$f":"IF(AN83,\"\",IF($A83<=nbappomp,INDEX('Analyse Préliminaire Pompe'!AP$13:AP$47,$A83),IF($A83<=nbappomp+nbapven,INDEX('Analyse Préliminaire Ventilateu'!AN$13:AN$44,$A83-nbappomp),IF($A83<=nbappomp+nbapven+nbapair,EcoAPpercCP,IF(A83<=nbappomp+nbapven+nbapair+nbaautre,INDEX('Analyse Préliminaire Autres'!$E$11:$E$42,A83-nbappomp-nbapven-nbapair),IF($A83<=nbappomp+nbapven+nbapair+nbaautre+nbafroid,INDEX('AP Groupe froid'!$AO$14:$AO$17,$A83-nbappomp-nbapven-nbapair-nbaautre),\"\"))))))","v":""},{"$f":"IF(AN83,\"\",IF($A83<=nbappomp,INDEX('Analyse Préliminaire Pompe'!AQ$13:AQ$47,$A83),IF($A83<=nbappomp+nbapven,INDEX('Analyse Préliminaire Ventilateu'!AO$13:AO$44,$A83-nbappomp),IF($A83<=nbappomp+nbapven+nbapair,consoanncp,IF(A83<=nbappomp+nbapven+nbapair+nbaautre,INDEX('Analyse Préliminaire Autres'!$E$11:$E$42,A83-nbappomp-nbapven-nbapair),IF($A83<=nbappomp+nbapven+nbapair+nbaautre+nbafroid,INDEX('AP Groupe froid'!$AP$14:$AP$17,$A83-nbappomp-nbapven-nbapair-nbaautre),\"\"))))))","v":""},{"$f":"IF(R83=\"\",-1,IF(AND($L83>'Economies classées'!$B$2,$K83>0.2,YEAR(TODAY())-$Z83>8),2,IF(AND($L83>'Economies classées'!$B$3,YEAR(TODAY())-$Z83>5),1,0)))","v":-1},null,null,"",{"$f":"IF($A83<=nbappomp,ISBLANK(INDEX('Analyse Préliminaire Pompe'!AO$13:AO$47,$A83)),IF($A83<=nbappomp+nbapven,ISBLANK(INDEX('Analyse Préliminaire Ventilateu'!AM$13:AM$44,$A83-nbappomp)),IF($A83<=nbappomp+nbapven+nbapair,ISBLANK(EcoAPkWhCP),IF(A83<=nbappomp+nbapven+nbapair+nbaautre,ISBLANK(INDEX('Analyse Préliminaire Autres'!AC$11:AC$42,A83-nbappomp-nbapven-nbapair)),IF(A83<=nbappomp+nbapven+nbapair+nbaautre+nbafroid,ISBLANK(INDEX('AP Groupe froid'!$AN$14:$AN$17,A83-nbappomp-nbapven-nbapair-nbaautre)),FALSE)))))","v":false},{"$f":"IF(E83=Listes!$H$25,1,0)","v":0},{"$f":"IF(E83=Listes!$H$26,1,0)","v":0},0,0,{"$f":"IF(E83=Listes!$H$28,1,0)","v":0},null,0,0,0,0,0,null,0,0,0,0,0,null,"","","","","",null,-1,-1,-1,-1,null,null,{"$f":"IF(E83=Listes!$H$25,1,0)","v":0},{"$f":"IF(E83=Listes!$H$26,1,0)","v":0},0,0,0,0,0,null,0,0,null,{"$error":"#VALUE!"},0,0,0,null,null,null,"",""]
[60,"",null,{"$f":"IF(A84<=nbappomp,INDEX('Analyse Préliminaire Pompe'!$B$13:$B$47,A84),IF(A84<=nbappomp+nbapven,INDEX('Analyse Préliminaire Ventilateu'!$B$13:$B$44,A84-nbappomp),IF(A84<=nbappomp+nbapven+nbapair,301,IF(A84<=nbappomp+nbapven+nbapair+nbaautre,INDEX('Analyse Préliminaire Autres'!$B$11:$B$42,A84-nbappomp-nbapven-nbapair),IF(A84<=nbappomp+nbapven+nbapair+nbaautre+nbafroid,INDEX('AP Groupe froid'!$B$14:$B$17,A84-nbappomp-nbapven-nbapair-nbaautre),\"\")))))","v":""},{"$f":"IF(A84<=nbappomp,INDEX('Analyse Préliminaire Pompe'!$C$13:$C$47,A84),IF(A84<=nbappomp+nbapven,INDEX('Analyse Préliminaire Ventilateu'!$C$13:$C$44,A84-nbappomp),IF(A84<=nbappomp+nbapven+nbapair,$AJ$4,IF(A84<=nbappomp+nbapven+nbapair+nbaautre,INDEX('Analyse Préliminaire Autres'!$C$11:$C$42,A84-nbappomp-nbapven-nbapair),IF(A84<=nbappomp+nbapven+nbapair+nbaautre+nbafroid,INDEX('AP Groupe froid'!$C$14:$C$17,A84-nbappomp-nbapven-nbapair-nbaautre),\"\")))))","v":""},null,null,{"$f":"IF(A84<=nbappomp,INDEX('Analyse Préliminaire Pompe'!$H$13:$H$47,A84),IF(A84<=nbappomp+nbapven,INDEX('Analyse Préliminaire Ventilateu'!$H$13:$H$44,A84-nbappomp),IF(A84<=nbappomp+nbapven+nbapair,$AJ$4,IF(A84<=nbappomp+nbapven+nbapair+nbaautre,INDEX('Analyse Préliminaire Autres'!$H$11:$H$42,A84-nbappomp-nbapven-nbapair),IF(A84<=nbappomp+nbapven+nbapair+nbaautre+nbafroid,INDEX('AP Groupe froid'!$I$14:$I$17,A84-nbappomp-nbapven-nbapair-nbaautre),\"\")))))","v":""},null,null,{"$f":"IF(AH84=\"\",IF($A84<=nbappomp,INDEX('Analyse Préliminaire Pompe'!AE$13:AE$47,$A84),IF($A84<=nbappomp+nbapven,INDEX('Analyse Préliminaire Ventilateu'!AC$13:AC$44,$A84-nbappomp),IF($A84<=nbappomp+nbapven+nbapair,'Analyse Préliminaire air compr'!$AI$22,IF(A84<=nbappomp+nbapven+nbapair+nbaautre,INDEX('Analyse Préliminaire Autres'!$X$11:$X$42,A84-nbappomp-nbapven-nbapair),IF(A84<=nbappomp+nbapven+nbapair+nbaautre+nbafroid,INDEX('AP Groupe froid'!$AF$14:$AF$17,A84-nbappomp-nbapven-nbapair-nbaautre),\"\"))))),AH84)","v":""},{"$f":"IF(AG84=\"\",IF($A84<=nbappomp,INDEX('Analyse Préliminaire Pompe'!AD$13:AD$47,$A84),IF($A84<=nbappomp+nbapven,INDEX('Analyse Préliminaire Ventilateu'!AB$13:AB$44,$A84-nbappomp),IF($A84<=nbappomp+nbapven+nbapair,'Analyse Préliminaire air compr'!$AH$22,IF(A84<=nbappomp+nbapven+nbapair+nbaautre,INDEX('Analyse Préliminaire Autres'!$W$11:$W$42,A84-nbappomp-nbapven-nbapair),IF(A84<=nbappomp+nbapven+nbapair+nbaautre+nbafroid,INDEX('AP Groupe froid'!$AE$14:$AE$17,A84-nbappomp-nbapven-nbapair-nbaautre),\"\"))))),AG84)","v":""},null,"",null,"",null,{"$f":"IF(AI84=\"\",IF($A84<=nbappomp,INDEX('Analyse Préliminaire Pompe'!T$13:T$47,$A84),IF($A84<=nbappomp+nbapven,INDEX('Analyse Préliminaire Ventilateu'!R$13:R$44,$A84-nbappomp),IF($A84<=nbappomp+nbapven+nbapair,'Analyse Préliminaire air compr'!$AH$13,IF(A84<=nbappomp+nbapven+nbapair+nbaautre,INDEX('Analyse Préliminaire Autres'!$P$11:$P$42,A84-nbappomp-nbapven-nbapair),IF(A84<=nbappomp+nbapven+nbapair+nbaautre+nbafroid,INDEX('AP Groupe froid'!$AD$14:$AD$17,A84-nbappomp-nbapven-nbapair-nbaautre),\"\"))))),AI84)","v":""},null,{"$f":"IF($A84<=nbappomp,INDEX('Analyse Préliminaire Pompe'!X$13:X$47,$A84),IF($A84<=nbappomp+nbapven,INDEX('Analyse Préliminaire Ventilateu'!V$13:V$44,$A84-nbappomp),IF($A84<=nbappomp+nbapven+nbapair,'Analyse Préliminaire air compr'!$E$35,IF(A84<=nbappomp+nbapven+nbapair+nbaautre,INDEX('Analyse Préliminaire Autres'!$R$11:$R$42,A84-nbappomp-nbapven-nbapair),IF(A84<=nbappomp+nbapven+nbapair+nbaautre+nbafroid,INDEX('AP Groupe froid'!$Z$14:$Z$17,A84-nbappomp-nbapven-nbapair-nbaautre),\"\")))))","v":""},null,null,{"$f":"IF(AG84=\"\",IF($A84<=nbappomp,INDEX('Analyse Préliminaire Pompe'!AN$13:AN$47,$A84),IF($A84<=nbappomp+nbapven,INDEX('Analyse Préliminaire Ventilateu'!AL$13:AL$44,$A84-nbappomp),IF($A84<=nbappomp+nbapven+nbapair,'Analyse Préliminaire air compr'!$AM$16,IF(A84<=nbappomp+nbapven+nbapair+nbaautre,INDEX('Analyse Préliminaire Autres'!$AB$11:$AB$42,A84-nbappomp-nbapven-nbapair),IF(A84<=nbappomp+nbapven+nbapair+nbaautre+nbafroid,INDEX('AP Groupe froid'!$AM$14:$AM$17,A84-nbappomp-nbapven-nbapair-nbaautre),\"\"))))),'Economies classées'!$A$47)","v":""},{"$f":"IF($A84<=nbappomp,INDEX('Analyse Préliminaire Pompe'!E$13:E$47,$A84),IF($A84<=nbappomp+nbapven,INDEX('Analyse Préliminaire Ventilateu'!E$13:E$44,$A84-nbappomp),IF($A84<=nbappomp+nbapven+nbapair,\"voir detail\",IF(A84<=nbappomp+nbapven+nbapair+nbaautre,INDEX('Analyse Préliminaire Autres'!$E$11:$E$42,A84-nbappomp-nbapven-nbapair),IF(A84<=nbappomp+nbapven+nbapair+nbaautre+nbafroid,INDEX('AP Groupe froid'!$F$14:$F$17,A84-nbappomp-nbapven-nbapair-nbaautre),\"\")))))","v":""},{"$f":"IF($A84<=nbappomp,INDEX('Analyse Préliminaire Pompe'!K$13:K$47,$A84),IF($A84<=nbappomp+nbapven,INDEX('Analyse Préliminaire Ventilateu'!K$13:K$44,$A84-nbappomp),IF($A84<=nbappomp+nbapven+nbapair,SUM('Analyse Préliminaire air compr'!$I$26:$I$32),IF(A84<=nbappomp+nbapven+nbapair+nbaautre,INDEX('Analyse Préliminaire Autres'!$K$11:$K$42,A84-nbappomp-nbapven-nbapair),IF(A84<=nbappomp+nbapven+nbapair+nbaautre+nbafroid,INDEX('AP Groupe froid'!$O$14:$O$17,A84-nbappomp-nbapven-nbapair-nbaautre),\"\")))))","v":""},{"$f":"IF($A84<=nbappomp,INDEX('Analyse Préliminaire Pompe'!L$13:L$47,$A84),IF($A84<=nbappomp+nbapven,INDEX('Analyse Préliminaire Ventilateu'!L$13:L$44,$A84-nbappomp),IF($A84<=nbappomp+nbapven+nbapair,MIN('Analyse Préliminaire air compr'!$J$26:$J$32),IF(A84<=nbappomp+nbapven+nbapair+nbaautre,INDEX('Analyse Préliminaire Autres'!$L$11:$L$42,A84-nbappomp-nbapven-nbapair),IF($A84<=nbappomp+nbapven+nbapair,'Analyse Préliminaire air compr'!$AM$16,IF(A84<=nbappomp+nbapven+nbapair+nbaautre+nbafroid,INDEX('AP Groupe froid'!$L$14:$L$17,A84-nbappomp-nbapven-nbapair-nbaautre),\"\"))))))","v":""},{"$f":"IF($A84<=nbappomp,INDEX('Analyse Préliminaire Pompe'!M$13:M$47,$A84),IF($A84<=nbappomp+nbapven,INDEX('Analyse Préliminaire Ventilateu'!M$13:M$44,$A84-nbappomp),IF($A84<=nbappomp+nbapven+nbapair,\"\",IF(A84<=nbappomp+nbapven+nbapair+nbaautre,INDEX('Analyse Préliminaire Autres'!$M$11:$M$42,A84-nbappomp-nbapven-nbapair),IF($A84<=nbappomp+nbapven+nbapair,'Analyse Préliminaire air compr'!$AM$16,IF(A84<=nbappomp+nbapven+nbapair+nbaautre+nbafroid,INDEX('AP Groupe froid'!$M$14:$M$17,A84-nbappomp-nbapven-nbapair-nbaautre),\"\"))))))","v":""},{"$f":"IF($A84<=nbappomp,INDEX('Analyse Préliminaire Pompe'!N$13:N$47,$A84),IF($A84<=nbappomp+nbapven,INDEX('Analyse Préliminaire Ventilateu'!N$13:N$44,$A84-nbappomp),IF($A84<=nbappomp+nbapven+nbapair,\"\",IF(A84<=nbappomp+nbapven+nbapair+nbaautre,INDEX('Analyse Préliminaire Autres'!$N$11:$N$42,A84-nbappomp-nbapven-nbapair),\"\"))))","v":""},{"$f":"IF($A84<=nbappomp,INDEX('Analyse Préliminaire Pompe'!O$13:O$47,$A84),IF($A84<=nbappomp+nbapven,INDEX('Analyse Préliminaire Ventilateu'!O$13:O$44,$A84-nbappomp),IF($A84<=nbappomp+nbapven+nbapair,\"\",IF(A84<=nbappomp+nbapven+nbapair+nbaautre,INDEX('Analyse Préliminaire Autres'!$O$11:$O$42,A84-nbappomp-nbapven-nbapair),\"\"))))","v":""},{"$f":"IF($A84<=nbappomp,INDEX('Analyse Préliminaire Pompe'!P$13:P$47,$A84),IF($A84<=nbappomp+nbapven,INDEX('Analyse Préliminaire Ventilateu'!P$13:P$44,$A84-nbappomp),IF($A84<=nbappomp+nbapven+nbapair,\"\",IF(A84<=nbappomp+nbapven+nbapair+nbaautre,INDEX('Analyse Préliminaire Autres'!#REF!,A84-nbappomp-nbapven-nbapair),\"\"))))","v":""},{"$f":"IF($A84<=nbappomp,INDEX('Analyse Préliminaire Pompe'!Q$13:Q$47,$A84),IF($A84<=nbappomp+nbapven,\"\",IF($A84<=nbappomp+nbapven+nbapair,\"\",\"\")))","v":""},{"$f":"IF(AI84=\"\",IF($A84<=nbappomp,INDEX('Analyse Préliminaire Pompe'!S$13:S$47,$A84),IF($A84<=nbappomp+nbapven,INDEX('Analyse Préliminaire Ventilateu'!Q$13:Q$44,$A84-nbappomp),IF($A84<=nbappomp+nbapven+nbapair,\"\",IF(A84<=nbappomp+nbapven+nbapair+nbaautre,\"\",\"\")))),AI84)","v":""},{"$f":"IF(AN84,\"\",IF($A84<=nbappomp,INDEX('Analyse Préliminaire Pompe'!AO$13:AO$47,$A84),IF($A84<=nbappomp+nbapven,INDEX('Analyse Préliminaire Ventilateu'!AM$13:AM$44,$A84-nbappomp),IF($A84<=nbappomp+nbapven+nbapair,EcoAPkWhCP,IF(A84<=nbappomp+nbapven+nbapair+nbaautre,INDEX('Analyse Préliminaire Autres'!$E$11:$E$42,A84-nbappomp-nbapven-nbapair),IF($A84<=nbappomp+nbapven+nbapair+nbaautre+nbafroid,INDEX('AP Groupe froid'!$AN$14:$AN$17,$A84-nbappomp-nbapven-nbapair-nbaautre),\"\"))))))","v":""},{"$f":"IF(AN84,\"\",IF($A84<=nbappomp,INDEX('Analyse Préliminaire Pompe'!AP$13:AP$47,$A84),IF($A84<=nbappomp+nbapven,INDEX('Analyse Préliminaire Ventilateu'!AN$13:AN$44,$A84-nbappomp),IF($A84<=nbappomp+nbapven+nbapair,EcoAPpercCP,IF(A84<=nbappomp+nbapven+nbapair+nbaautre,INDEX('Analyse Préliminaire Autres'!$E$11:$E$42,A84-nbappomp-nbapven-nbapair),IF($A84<=nbappomp+nbapven+nbapair+nbaautre+nbafroid,INDEX('AP Groupe froid'!$AO$14:$AO$17,$A84-nbappomp-nbapven-nbapair-nbaautre),\"\"))))))","v":""},{"$f":"IF(AN84,\"\",IF($A84<=nbappomp,INDEX('Analyse Préliminaire Pompe'!AQ$13:AQ$47,$A84),IF($A84<=nbappomp+nbapven,INDEX('Analyse Préliminaire Ventilateu'!AO$13:AO$44,$A84-nbappomp),IF($A84<=nbappomp+nbapven+nbapair,consoanncp,IF(A84<=nbappomp+nbapven+nbapair+nbaautre,INDEX('Analyse Préliminaire Autres'!$E$11:$E$42,A84-nbappomp-nbapven-nbapair),IF($A84<=nbappomp+nbapven+nbapair+nbaautre+nbafroid,INDEX('AP Groupe froid'!$AP$14:$AP$17,$A84-nbappomp-nbapven-nbapair-nbaautre),\"\"))))))","v":""},{"$f":"IF(R84=\"\",-1,IF(AND($L84>'Economies classées'!$B$2,$K84>0.2,YEAR(TODAY())-$Z84>8),2,IF(AND($L84>'Economies classées'!$B$3,YEAR(TODAY())-$Z84>5),1,0)))","v":-1},null,null,"",{"$f":"IF($A84<=nbappomp,ISBLANK(INDEX('Analyse Préliminaire Pompe'!AO$13:AO$47,$A84)),IF($A84<=nbappomp+nbapven,ISBLANK(INDEX('Analyse Préliminaire Ventilateu'!AM$13:AM$44,$A84-nbappomp)),IF($A84<=nbappomp+nbapven+nbapair,ISBLANK(EcoAPkWhCP),IF(A84<=nbappomp+nbapven+nbapair+nbaautre,ISBLANK(INDEX('Analyse Préliminaire Autres'!AC$11:AC$42,A84-nbappomp-nbapven-nbapair)),IF(A84<=nbappomp+nbapven+nbapair+nbaautre+nbafroid,ISBLANK(INDEX('AP Groupe froid'!$AN$14:$AN$17,A84-nbappomp-nbapven-nbapair-nbaautre)),FALSE)))))","v":false},{"$f":"IF(E84=Listes!$H$25,1,0)","v":0},{"$f":"IF(E84=Listes!$H$26,1,0)","v":0},0,0,{"$f":"IF(E84=Listes!$H$28,1,0)","v":0},null,0,0,0,0,0,null,0,0,0,0,0,null,"","","","","",null,-1,-1,-1,-1,null,null,{"$f":"IF(E84=Listes!$H$25,1,0)","v":0},{"$f":"IF(E84=Listes!$H$26,1,0)","v":0},0,0,0,0,0,null,0,0,null,{"$error":"#VALUE!"},0,0,0,null,null,null,"",""]
[61,"",null,{"$f":"IF(A85<=nbappomp,INDEX('Analyse Préliminaire Pompe'!$B$13:$B$47,A85),IF(A85<=nbappomp+nbapven,INDEX('Analyse Préliminaire Ventilateu'!$B$13:$B$44,A85-nbappomp),IF(A85<=nbappomp+nbapven+nbapair,301,IF(A85<=nbappomp+nbapven+nbapair+nbaautre,INDEX('Analyse Préliminaire Autres'!$B$11:$B$42,A85-nbappomp-nbapven-nbapair),IF(A85<=nbappomp+nbapven+nbapair+nbaautre+nbafroid,INDEX('AP Groupe froid'!$B$14:$B$17,A85-nbappomp-nbapven-nbapair-nbaautre),\"\")))))","v":""},{"$f":"IF(A85<=nbappomp,INDEX('Analyse Préliminaire Pompe'!$C$13:$C$47,A85),IF(A85<=nbappomp+nbapven,INDEX('Analyse Préliminaire Ventilateu'!$C$13:$C$44,A85-nbappomp),IF(A85<=nbappomp+nbapven+nbapair,$AJ$4,IF(A85<=nbappomp+nbapven+nbapair+nbaautre,INDEX('Analyse Préliminaire Autres'!$C$11:$C$42,A85-nbappomp-nbapven-nbapair),IF(A85<=nbappomp+nbapven+nbapair+nbaautre+nbafroid,INDEX('AP Groupe froid'!$C$14:$C$17,A85-nbappomp-nbapven-nbapair-nbaautre),\"\")))))","v":""},null,null,{"$f":"IF(A85<=nbappomp,INDEX('Analyse Préliminaire Pompe'!$H$13:$H$47,A85),IF(A85<=nbappomp+nbapven,INDEX('Analyse Préliminaire Ventilateu'!$H$13:$H$44,A85-nbappomp),IF(A85<=nbappomp+nbapven+nbapair,$AJ$4,IF(A85<=nbappomp+nbapven+nbapair+nbaautre,INDEX('Analyse Préliminaire Autres'!$H$11:$H$42,A85-nbappomp-nbapven-nbapair),IF(A85<=nbappomp+nbapven+nbapair+nbaautre+nbafroid,INDEX('AP Groupe froid'!$I$14:$I$17,A85-nbappomp-nbapven-nbapair-nbaautre),\"\")))))","v":""},null,null,{"$f":"IF(AH85=\"\",IF($A85<=nbappomp,INDEX('Analyse Préliminaire Pompe'!AE$13:AE$47,$A85),IF($A85<=nbappomp+nbapven,INDEX('Analyse Préliminaire Ventilateu'!AC$13:AC$44,$A85-nbappomp),IF($A85<=nbappomp+nbapven+nbapair,'Analyse Préliminaire air compr'!$AI$22,IF(A85<=nbappomp+nbapven+nbapair+nbaautre,INDEX('Analyse Préliminaire Autres'!$X$11:$X$42,A85-nbappomp-nbapven-nbapair),IF(A85<=nbappomp+nbapven+nbapair+nbaautre+nbafroid,INDEX('AP Groupe froid'!$AF$14:$AF$17,A85-nbappomp-nbapven-nbapair-nbaautre),\"\"))))),AH85)","v":""},{"$f":"IF(AG85=\"\",IF($A85<=nbappomp,INDEX('Analyse Préliminaire Pompe'!AD$13:AD$47,$A85),IF($A85<=nbappomp+nbapven,INDEX('Analyse Préliminaire Ventilateu'!AB$13:AB$44,$A85-nbappomp),IF($A85<=nbappomp+nbapven+nbapair,'Analyse Préliminaire air compr'!$AH$22,IF(A85<=nbappomp+nbapven+nbapair+nbaautre,INDEX('Analyse Préliminaire Autres'!$W$11:$W$42,A85-nbappomp-nbapven-nbapair),IF(A85<=nbappomp+nbapven+nbapair+nbaautre+nbafroid,INDEX('AP Groupe froid'!$AE$14:$AE$17,A85-nbappomp-nbapven-nbapair-nbaautre),\"\"))))),AG85)","v":""},null,"",null,"",null,{"$f":"IF(AI85=\"\",IF($A85<=nbappomp,INDEX('Analyse Préliminaire Pompe'!T$13:T$47,$A85),IF($A85<=nbappomp+nbapven,INDEX('Analyse Préliminaire Ventilateu'!R$13:R$44,$A85-nbappomp),IF($A85<=nbappomp+nbapven+nbapair,'Analyse Préliminaire air compr'!$AH$13,IF(A85<=nbappomp+nbapven+nbapair+nbaautre,INDEX('Analyse Préliminaire Autres'!$P$11:$P$42,A85-nbappomp-nbapven-nbapair),IF(A85<=nbappomp+nbapven+nbapair+nbaautre+nbafroid,INDEX('AP Groupe froid'!$AD$14:$AD$17,A85-nbappomp-nbapven-nbapair-nbaautre),\"\"))))),AI85)","v":""},null,{"$f":"IF($A85<=nbappomp,INDEX('Analyse Préliminaire Pompe'!X$13:X$47,$A85),IF($A85<=nbappomp+nbapven,INDEX('Analyse Préliminaire Ventilateu'!V$13:V$44,$A85-nbappomp),IF($A85<=nbappomp+nbapven+nbapair,'Analyse Préliminaire air compr'!$E$35,IF(A85<=nbappomp+nbapven+nbapair+nbaautre,INDEX('Analyse Préliminaire Autres'!$R$11:$R$42,A85-nbappomp-nbapven-nbapair),IF(A85<=nbappomp+nbapven+nbapair+nbaautre+nbafroid,INDEX('AP Groupe froid'!$Z$14:$Z$17,A85-nbappomp-nbapven-nbapair-nbaautre),\"\")))))","v":""},null,null,{"$f":"IF(AG85=\"\",IF($A85<=nbappomp,INDEX('Analyse Préliminaire Pompe'!AN$13:AN$47,$A85),IF($A85<=nbappomp+nbapven,INDEX('Analyse Préliminaire Ventilateu'!AL$13:AL$44,$A85-nbappomp),IF($A85<=nbappomp+nbapven+nbapair,'Analyse Préliminaire air compr'!$AM$16,IF(A85<=nbappomp+nbapven+nbapair+nbaautre,INDEX('Analyse Préliminaire Autres'!$AB$11:$AB$42,A85-nbappomp-nbapven-nbapair),IF(A85<=nbappomp+nbapven+nbapair+nbaautre+nbafroid,INDEX('AP Groupe froid'!$AM$14:$AM$17,A85-nbappomp-nbapven-nbapair-nbaautre),\"\"))))),'Economies classées'!$A$47)","v":""},{"$f":"IF($A85<=nbappomp,INDEX('Analyse Préliminaire Pompe'!E$13:E$47,$A85),IF($A85<=nbappomp+nbapven,INDEX('Analyse Préliminaire Ventilateu'!E$13:E$44,$A85-nbappomp),IF($A85<=nbappomp+nbapven+nbapair,\"voir detail\",IF(A85<=nbappomp+nbapven+nbapair+nbaautre,INDEX('Analyse Préliminaire Autres'!$E$11:$E$42,A85-nbappomp-nbapven-nbapair),IF(A85<=nbappomp+nbapven+nbapair+nbaautre+nbafroid,INDEX('AP Groupe froid'!$F$14:$F$17,A85-nbappomp-nbapven-nbapair-nbaautre),\"\")))))","v":""},{"$f":"IF($A85<=nbappomp,INDEX('Analyse Préliminaire Pompe'!K$13:K$47,$A85),IF($A85<=nbappomp+nbapven,INDEX('Analyse Préliminaire Ventilateu'!K$13:K$44,$A85-nbappomp),IF($A85<=nbappomp+nbapven+nbapair,SUM('Analyse Préliminaire air compr'!$I$26:$I$32),IF(A85<=nbappomp+nbapven+nbapair+nbaautre,INDEX('Analyse Préliminaire Autres'!$K$11:$K$42,A85-nbappomp-nbapven-nbapair),IF(A85<=nbappomp+nbapven+nbapair+nbaautre+nbafroid,INDEX('AP Groupe froid'!$O$14:$O$17,A85-nbappomp-nbapven-nbapair-nbaautre),\"\")))))","v":""},{"$f":"IF($A85<=nbappomp,INDEX('Analyse Préliminaire Pompe'!L$13:L$47,$A85),IF($A85<=nbappomp+nbapven,INDEX('Analyse Préliminaire Ventilateu'!L$13:L$44,$A85-nbappomp),IF($A85<=nbappomp+nbapven+nbapair,MIN('Analyse Préliminaire air compr'!$J$26:$J$32),IF(A85<=nbappomp+nbapven+nbapair+nbaautre,INDEX('Analyse Préliminaire Autres'!$L$11:$L$42,A85-nbappomp-nbapven-nbapair),IF($A85<=nbappomp+nbapven+nbapair,'Analyse Préliminaire air compr'!$AM$16,IF(A85<=nbappomp+nbapven+nbapair+nbaautre+nbafroid,INDEX('AP Groupe froid'!$L$14:$L$17,A85-nbappomp-nbapven-nbapair-nbaautre),\"\"))))))","v":""},{"$f":"IF($A85<=nbappomp,INDEX('Analyse Préliminaire Pompe'!M$13:M$47,$A85),IF($A85<=nbappomp+nbapven,INDEX('Analyse Préliminaire Ventilateu'!M$13:M$44,$A85-nbappomp),IF($A85<=nbappomp+nbapven+nbapair,\"\",IF(A85<=nbappomp+nbapven+nbapair+nbaautre,INDEX('Analyse Préliminaire Autres'!$M$11:$M$42,A85-nbappomp-nbapven-nbapair),IF($A85<=nbappomp+nbapven+nbapair,'Analyse Préliminaire air compr'!$AM$16,IF(A85<=nbappomp+nbapven+nbapair+nbaautre+nbafroid,INDEX('AP Groupe froid'!$M$14:$M$17,A85-nbappomp-nbapven-nbapair-nbaautre),\"\"))))))","v":""},{"$f":"IF($A85<=nbappomp,INDEX('Analyse Préliminaire Pompe'!N$13:N$47,$A85),IF($A85<=nbappomp+nbapven,INDEX('Analyse Préliminaire Ventilateu'!N$13:N$44,$A85-nbappomp),IF($A85<=nbappomp+nbapven+nbapair,\"\",IF(A85<=nbappomp+nbapven+nbapair+nbaautre,INDEX('Analyse Préliminaire Autres'!$N$11:$N$42,A85-nbappomp-nbapven-nbapair),\"\"))))","v":""},{"$f":"IF($A85<=nbappomp,INDEX('Analyse Préliminaire Pompe'!O$13:O$47,$A85),IF($A85<=nbappomp+nbapven,INDEX('Analyse Préliminaire Ventilateu'!O$13:O$44,$A85-nbappomp),IF($A85<=nbappomp+nbapven+nbapair,\"\",IF(A85<=nbappomp+nbapven+nbapair+nbaautre,INDEX('Analyse Préliminaire Autres'!$O$11:$O$42,A85-nbappomp-nbapven-nbapair),\"\"))))","v":""},{"$f":"IF($A85<=nbappomp,INDEX('Analyse Préliminaire Pompe'!P$13:P$47,$A85),IF($A85<=nbappomp+nbapven,INDEX('Analyse Préliminaire Ventilateu'!P$13:P$44,$A85-nbappomp),IF($A85<=nbappomp+nbapven+nbapair,\"\",IF(A85<=nbappomp+nbapven+nbapair+nbaautre,INDEX('Analyse Préliminaire Autres'!#REF!,A85-nbappomp-nbapven-nbapair),\"\"))))","v":""},{"$f":"IF($A85<=nbappomp,INDEX('Analyse Préliminaire Pompe'!Q$13:Q$47,$A85),IF($A85<=nbappomp+nbapven,\"\",IF($A85<=nbappomp+nbapven+nbapair,\"\",\"\")))","v":""},{"$f":"IF(AI85=\"\",IF($A85<=nbappomp,INDEX('Analyse Préliminaire Pompe'!S$13:S$47,$A85),IF($A85<=nbappomp+nbapven,INDEX('Analyse Préliminaire Ventilateu'!Q$13:Q$44,$A85-nbappomp),IF($A85<=nbappomp+nbapven+nbapair,\"\",IF(A85<=nbappomp+nbapven+nbapair+nbaautre,\"\",\"\")))),AI85)","v":""},{"$f":"IF(AN85,\"\",IF($A85<=nbappomp,INDEX('Analyse Préliminaire Pompe'!AO$13:AO$47,$A85),IF($A85<=nbappomp+nbapven,INDEX('Analyse Préliminaire Ventilateu'!AM$13:AM$44,$A85-nbappomp),IF($A85<=nbappomp+nbapven+nbapair,EcoAPkWhCP,IF(A85<=nbappomp+nbapven+nbapair+nbaautre,INDEX('Analyse Préliminaire Autres'!$E$11:$E$42,A85-nbappomp-nbapven-nbapair),IF($A85<=nbappomp+nbapven+nbapair+nbaautre+nbafroid,INDEX('AP Groupe froid'!$AN$14:$AN$17,$A85-nbappomp-nbapven-nbapair-nbaautre),\"\"))))))","v":""},{"$f":"IF(AN85,\"\",IF($A85<=nbappomp,INDEX('Analyse Préliminaire Pompe'!AP$13:AP$47,$A85),IF($A85<=nbappomp+nbapven,INDEX('Analyse Préliminaire Ventilateu'!AN$13:AN$44,$A85-nbappomp),IF($A85<=nbappomp+nbapven+nbapair,EcoAPpercCP,IF(A85<=nbappomp+nbapven+nbapair+nbaautre,INDEX('Analyse Préliminaire Autres'!$E$11:$E$42,A85-nbappomp-nbapven-nbapair),IF($A85<=nbappomp+nbapven+nbapair+nbaautre+nbafroid,INDEX('AP Groupe froid'!$AO$14:$AO$17,$A85-nbappomp-nbapven-nbapair-nbaautre),\"\"))))))","v":""},{"$f":"IF(AN85,\"\",IF($A85<=nbappomp,INDEX('Analyse Préliminaire Pompe'!AQ$13:AQ$47,$A85),IF($A85<=nbappomp+nbapven,INDEX('Analyse Préliminaire Ventilateu'!AO$13:AO$44,$A85-nbappomp),IF($A85<=nbappomp+nbapven+nbapair,consoanncp,IF(A85<=nbappomp+nbapven+nbapair+nbaautre,INDEX('Analyse Préliminaire Autres'!$E$11:$E$42,A85-nbappomp-nbapven-nbapair),IF($A85<=nbappomp+nbapven+nbapair+nbaautre+nbafroid,INDEX('AP Groupe froid'!$AP$14:$AP$17,$A85-nbappomp-nbapven-nbapair-nbaautre),\"\"))))))","v":""},{"$f":"IF(R85=\"\",-1,IF(AND($L85>'Economies classées'!$B$2,$K85>0.2,YEAR(TODAY())-$Z85>8),2,IF(AND($L85>'Economies classées'!$B$3,YEAR(TODAY())-$Z85>5),1,0)))","v":-1},null,null,"",{"$f":"IF($A85<=nbappomp,ISBLANK(INDEX('Analyse Préliminaire Pompe'!AO$13:AO$47,$A85)),IF($A85<=nbappomp+nbapven,ISBLANK(INDEX('Analyse Préliminaire Ventilateu'!AM$13:AM$44,$A85-nbappomp)),IF($A85<=nbappomp+nbapven+nbapair,ISBLANK(EcoAPkWhCP),IF(A85<=nbappomp+nbapven+nbapair+nbaautre,ISBLANK(INDEX('Analyse Préliminaire Autres'!AC$11:AC$42,A85-nbappomp-nbapven-nbapair)),IF(A85<=nbappomp+nbapven+nbapair+nbaautre+nbafroid,ISBLANK(INDEX('AP Groupe froid'!$AN$14:$AN$17,A85-nbappomp-nbapven-nbapair-nbaautre)),FALSE)))))","v":false},{"$f":"IF(E85=Listes!$H$25,1,0)","v":0},{"$f":"IF(E85=Listes!$H$26,1,0)","v":0},0,0,{"$f":"IF(E85=Listes!$H$28,1,0)","v":0},null,0,0,0,0,0,null,0,0,0,0,0,null,"","","","","",null,-1,-1,-1,-1,null,null,{"$f":"IF(E85=Listes!$H$25,1,0)","v":0},{"$f":"IF(E85=Listes!$H$26,1,0)","v":0},0,0,0,0,0,null,0,0,null,{"$error":"#VALUE!"},0,0,0,null,null,null,"",""]
[62,"",null,{"$f":"IF(A86<=nbappomp,INDEX('Analyse Préliminaire Pompe'!$B$13:$B$47,A86),IF(A86<=nbappomp+nbapven,INDEX('Analyse Préliminaire Ventilateu'!$B$13:$B$44,A86-nbappomp),IF(A86<=nbappomp+nbapven+nbapair,301,IF(A86<=nbappomp+nbapven+nbapair+nbaautre,INDEX('Analyse Préliminaire Autres'!$B$11:$B$42,A86-nbappomp-nbapven-nbapair),IF(A86<=nbappomp+nbapven+nbapair+nbaautre+nbafroid,INDEX('AP Groupe froid'!$B$14:$B$17,A86-nbappomp-nbapven-nbapair-nbaautre),\"\")))))","v":""},{"$f":"IF(A86<=nbappomp,INDEX('Analyse Préliminaire Pompe'!$C$13:$C$47,A86),IF(A86<=nbappomp+nbapven,INDEX('Analyse Préliminaire Ventilateu'!$C$13:$C$44,A86-nbappomp),IF(A86<=nbappomp+nbapven+nbapair,$AJ$4,IF(A86<=nbappomp+nbapven+nbapair+nbaautre,INDEX('Analyse Préliminaire Autres'!$C$11:$C$42,A86-nbappomp-nbapven-nbapair),IF(A86<=nbappomp+nbapven+nbapair+nbaautre+nbafroid,INDEX('AP Groupe froid'!$C$14:$C$17,A86-nbappomp-nbapven-nbapair-nbaautre),\"\")))))","v":""},null,null,{"$f":"IF(A86<=nbappomp,INDEX('Analyse Préliminaire Pompe'!$H$13:$H$47,A86),IF(A86<=nbappomp+nbapven,INDEX('Analyse Préliminaire Ventilateu'!$H$13:$H$44,A86-nbappomp),IF(A86<=nbappomp+nbapven+nbapair,$AJ$4,IF(A86<=nbappomp+nbapven+nbapair+nbaautre,INDEX('Analyse Préliminaire Autres'!$H$11:$H$42,A86-nbappomp-nbapven-nbapair),IF(A86<=nbappomp+nbapven+nbapair+nbaautre+nbafroid,INDEX('AP Groupe froid'!$I$14:$I$17,A86-nbappomp-nbapven-nbapair-nbaautre),\"\")))))","v":""},null,null,{"$f":"IF(AH86=\"\",IF($A86<=nbappomp,INDEX('Analyse Préliminaire Pompe'!AE$13:AE$47,$A86),IF($A86<=nbappomp+nbapven,INDEX('Analyse Préliminaire Ventilateu'!AC$13:AC$44,$A86-nbappomp),IF($A86<=nbappomp+nbapven+nbapair,'Analyse Préliminaire air compr'!$AI$22,IF(A86<=nbappomp+nbapven+nbapair+nbaautre,INDEX('Analyse Préliminaire Autres'!$X$11:$X$42,A86-nbappomp-nbapven-nbapair),IF(A86<=nbappomp+nbapven+nbapair+nbaautre+nbafroid,INDEX('AP Groupe froid'!$AF$14:$AF$17,A86-nbappomp-nbapven-nbapair-nbaautre),\"\"))))),AH86)","v":""},{"$f":"IF(AG86=\"\",IF($A86<=nbappomp,INDEX('Analyse Préliminaire Pompe'!AD$13:AD$47,$A86),IF($A86<=nbappomp+nbapven,INDEX('Analyse Préliminaire Ventilateu'!AB$13:AB$44,$A86-nbappomp),IF($A86<=nbappomp+nbapven+nbapair,'Analyse Préliminaire air compr'!$AH$22,IF(A86<=nbappomp+nbapven+nbapair+nbaautre,INDEX('Analyse Préliminaire Autres'!$W$11:$W$42,A86-nbappomp-nbapven-nbapair),IF(A86<=nbappomp+nbapven+nbapair+nbaautre+nbafroid,INDEX('AP Groupe froid'!$AE$14:$AE$17,A86-nbappomp-nbapven-nbapair-nbaautre),\"\"))))),AG86)","v":""},null,"",null,"",null,{"$f":"IF(AI86=\"\",IF($A86<=nbappomp,INDEX('Analyse Préliminaire Pompe'!T$13:T$47,$A86),IF($A86<=nbappomp+nbapven,INDEX('Analyse Préliminaire Ventilateu'!R$13:R$44,$A86-nbappomp),IF($A86<=nbappomp+nbapven+nbapair,'Analyse Préliminaire air compr'!$AH$13,IF(A86<=nbappomp+nbapven+nbapair+nbaautre,INDEX('Analyse Préliminaire Autres'!$P$11:$P$42,A86-nbappomp-nbapven-nbapair),IF(A86<=nbappomp+nbapven+nbapair+nbaautre+nbafroid,INDEX('AP Groupe froid'!$AD$14:$AD$17,A86-nbappomp-nbapven-nbapair-nbaautre),\"\"))))),AI86)","v":""},null,{"$f":"IF($A86<=nbappomp,INDEX('Analyse Préliminaire Pompe'!X$13:X$47,$A86),IF($A86<=nbappomp+nbapven,INDEX('Analyse Préliminaire Ventilateu'!V$13:V$44,$A86-nbappomp),IF($A86<=nbappomp+nbapven+nbapair,'Analyse Préliminaire air compr'!$E$35,IF(A86<=nbappomp+nbapven+nbapair+nbaautre,INDEX('Analyse Préliminaire Autres'!$R$11:$R$42,A86-nbappomp-nbapven-nbapair),IF(A86<=nbappomp+nbapven+nbapair+nbaautre+nbafroid,INDEX('AP Groupe froid'!$Z$14:$Z$17,A86-nbappomp-nbapven-nbapair-nbaautre),\"\")))))","v":""},null,null,{"$f":"IF(AG86=\"\",IF($A86<=nbappomp,INDEX('Analyse Préliminaire Pompe'!AN$13:AN$47,$A86),IF($A86<=nbappomp+nbapven,INDEX('Analyse Préliminaire Ventilateu'!AL$13:AL$44,$A86-nbappomp),IF($A86<=nbappomp+nbapven+nbapair,'Analyse Préliminaire air compr'!$AM$16,IF(A86<=nbappomp+nbapven+nbapair+nbaautre,INDEX('Analyse Préliminaire Autres'!$AB$11:$AB$42,A86-nbappomp-nbapven-nbapair),IF(A86<=nbappomp+nbapven+nbapair+nbaautre+nbafroid,INDEX('AP Groupe froid'!$AM$14:$AM$17,A86-nbappomp-nbapven-nbapair-nbaautre),\"\"))))),'Economies classées'!$A$47)","v":""},{"$f":"IF($A86<=nbappomp,INDEX('Analyse Préliminaire Pompe'!E$13:E$47,$A86),IF($A86<=nbappomp+nbapven,INDEX('Analyse Préliminaire Ventilateu'!E$13:E$44,$A86-nbappomp),IF($A86<=nbappomp+nbapven+nbapair,\"voir detail\",IF(A86<=nbappomp+nbapven+nbapair+nbaautre,INDEX('Analyse Préliminaire Autres'!$E$11:$E$42,A86-nbappomp-nbapven-nbapair),IF(A86<=nbappomp+nbapven+nbapair+nbaautre+nbafroid,INDEX('AP Groupe froid'!$F$14:$F$17,A86-nbappomp-nbapven-nbapair-nbaautre),\"\")))))","v":""},{"$f":"IF($A86<=nbappomp,INDEX('Analyse Préliminaire Pompe'!K$13:K$47,$A86),IF($A86<=nbappomp+nbapven,INDEX('Analyse Préliminaire Ventilateu'!K$13:K$44,$A86-nbappomp),IF($A86<=nbappomp+nbapven+nbapair,SUM('Analyse Préliminaire air compr'!$I$26:$I$32),IF(A86<=nbappomp+nbapven+nbapair+nbaautre,INDEX('Analyse Préliminaire Autres'!$K$11:$K$42,A86-nbappomp-nbapven-nbapair),IF(A86<=nbappomp+nbapven+nbapair+nbaautre+nbafroid,INDEX('AP Groupe froid'!$O$14:$O$17,A86-nbappomp-nbapven-nbapair-nbaautre),\"\")))))","v":""},{"$f":"IF($A86<=nbappomp,INDEX('Analyse Préliminaire Pompe'!L$13:L$47,$A86),IF($A86<=nbappomp+nbapven,INDEX('Analyse Préliminaire Ventilateu'!L$13:L$44,$A86-nbappomp),IF($A86<=nbappomp+nbapven+nbapair,MIN('Analyse Préliminaire air compr'!$J$26:$J$32),IF(A86<=nbappomp+nbapven+nbapair+nbaautre,INDEX('Analyse Préliminaire Autres'!$L$11:$L$42,A86-nbappomp-nbapven-nbapair),IF($A86<=nbappomp+nbapven+nbapair,'Analyse Préliminaire air compr'!$AM$16,IF(A86<=nbappomp+nbapven+nbapair+nbaautre+nbafroid,INDEX('AP Groupe froid'!$L$14:$L$17,A86-nbappomp-nbapven-nbapair-nbaautre),\"\"))))))","v":""},{"$f":"IF($A86<=nbappomp,INDEX('Analyse Préliminaire Pompe'!M$13:M$47,$A86),IF($A86<=nbappomp+nbapven,INDEX('Analyse Préliminaire Ventilateu'!M$13:M$44,$A86-nbappomp),IF($A86<=nbappomp+nbapven+nbapair,\"\",IF(A86<=nbappomp+nbapven+nbapair+nbaautre,INDEX('Analyse Préliminaire Autres'!$M$11:$M$42,A86-nbappomp-nbapven-nbapair),IF($A86<=nbappomp+nbapven+nbapair,'Analyse Préliminaire air compr'!$AM$16,IF(A86<=nbappomp+nbapven+nbapair+nbaautre+nbafroid,INDEX('AP Groupe froid'!$M$14:$M$17,A86-nbappomp-nbapven-nbapair-nbaautre),\"\"))))))","v":""},{"$f":"IF($A86<=nbappomp,INDEX('Analyse Préliminaire Pompe'!N$13:N$47,$A86),IF($A86<=nbappomp+nbapven,INDEX('Analyse Préliminaire Ventilateu'!N$13:N$44,$A86-nbappomp),IF($A86<=nbappomp+nbapven+nbapair,\"\",IF(A86<=nbappomp+nbapven+nbapair+nbaautre,INDEX('Analyse Préliminaire Autres'!$N$11:$N$42,A86-nbappomp-nbapven-nbapair),\"\"))))","v":""},{"$f":"IF($A86<=nbappomp,INDEX('Analyse Préliminaire Pompe'!O$13:O$47,$A86),IF($A86<=nbappomp+nbapven,INDEX('Analyse Préliminaire Ventilateu'!O$13:O$44,$A86-nbappomp),IF($A86<=nbappomp+nbapven+nbapair,\"\",IF(A86<=nbappomp+nbapven+nbapair+nbaautre,INDEX('Analyse Préliminaire Autres'!$O$11:$O$42,A86-nbappomp-nbapven-nbapair),\"\"))))","v":""},{"$f":"IF($A86<=nbappomp,INDEX('Analyse Préliminaire Pompe'!P$13:P$47,$A86),IF($A86<=nbappomp+nbapven,INDEX('Analyse Préliminaire Ventilateu'!P$13:P$44,$A86-nbappomp),IF($A86<=nbappomp+nbapven+nbapair,\"\",IF(A86<=nbappomp+nbapven+nbapair+nbaautre,INDEX('Analyse Préliminaire Autres'!#REF!,A86-nbappomp-nbapven-nbapair),\"\"))))","v":""},{"$f":"IF($A86<=nbappomp,INDEX('Analyse Préliminaire Pompe'!Q$13:Q$47,$A86),IF($A86<=nbappomp+nbapven,\"\",IF($A86<=nbappomp+nbapven+nbapair,\"\",\"\")))","v":""},{"$f":"IF(AI86=\"\",IF($A86<=nbappomp,INDEX('Analyse Préliminaire Pompe'!S$13:S$47,$A86),IF($A86<=nbappomp+nbapven,INDEX('Analyse Préliminaire Ventilateu'!Q$13:Q$44,$A86-nbappomp),IF($A86<=nbappomp+nbapven+nbapair,\"\",IF(A86<=nbappomp+nbapven+nbapair+nbaautre,\"\",\"\")))),AI86)","v":""},{"$f":"IF(AN86,\"\",IF($A86<=nbappomp,INDEX('Analyse Préliminaire Pompe'!AO$13:AO$47,$A86),IF($A86<=nbappomp+nbapven,INDEX('Analyse Préliminaire Ventilateu'!AM$13:AM$44,$A86-nbappomp),IF($A86<=nbappomp+nbapven+nbapair,EcoAPkWhCP,IF(A86<=nbappomp+nbapven+nbapair+nbaautre,INDEX('Analyse Préliminaire Autres'!$E$11:$E$42,A86-nbappomp-nbapven-nbapair),IF($A86<=nbappomp+nbapven+nbapair+nbaautre+nbafroid,INDEX('AP Groupe froid'!$AN$14:$AN$17,$A86-nbappomp-nbapven-nbapair-nbaautre),\"\"))))))","v":""},{"$f":"IF(AN86,\"\",IF($A86<=nbappomp,INDEX('Analyse Préliminaire Pompe'!AP$13:AP$47,$A86),IF($A86<=nbappomp+nbapven,INDEX('Analyse Préliminaire Ventilateu'!AN$13:AN$44,$A86-nbappomp),IF($A86<=nbappomp+nbapven+nbapair,EcoAPpercCP,IF(A86<=nbappomp+nbapven+nbapair+nbaautre,INDEX('Analyse Préliminaire Autres'!$E$11:$E$42,A86-nbappomp-nbapven-nbapair),IF($A86<=nbappomp+nbapven+nbapair+nbaautre+nbafroid,INDEX('AP Groupe froid'!$AO$14:$AO$17,$A86-nbappomp-nbapven-nbapair-nbaautre),\"\"))))))","v":""},{"$f":"IF(AN86,\"\",IF($A86<=nbappomp,INDEX('Analyse Préliminaire Pompe'!AQ$13:AQ$47,$A86),IF($A86<=nbappomp+nbapven,INDEX('Analyse Préliminaire Ventilateu'!AO$13:AO$44,$A86-nbappomp),IF($A86<=nbappomp+nbapven+nbapair,consoanncp,IF(A86<=nbappomp+nbapven+nbapair+nbaautre,INDEX('Analyse Préliminaire Autres'!$E$11:$E$42,A86-nbappomp-nbapven-nbapair),IF($A86<=nbappomp+nbapven+nbapair+nbaautre+nbafroid,INDEX('AP Groupe froid'!$AP$14:$AP$17,$A86-nbappomp-nbapven-nbapair-nbaautre),\"\"))))))","v":""},{"$f":"IF(R86=\"\",-1,IF(AND($L86>'Economies classées'!$B$2,$K86>0.2,YEAR(TODAY())-$Z86>8),2,IF(AND($L86>'Economies classées'!$B$3,YEAR(TODAY())-$Z86>5),1,0)))","v":-1},null,null,"",{"$f":"IF($A86<=nbappomp,ISBLANK(INDEX('Analyse Préliminaire Pompe'!AO$13:AO$47,$A86)),IF($A86<=nbappomp+nbapven,ISBLANK(INDEX('Analyse Préliminaire Ventilateu'!AM$13:AM$44,$A86-nbappomp)),IF($A86<=nbappomp+nbapven+nbapair,ISBLANK(EcoAPkWhCP),IF(A86<=nbappomp+nbapven+nbapair+nbaautre,ISBLANK(INDEX('Analyse Préliminaire Autres'!AC$11:AC$42,A86-nbappomp-nbapven-nbapair)),IF(A86<=nbappomp+nbapven+nbapair+nbaautre+nbafroid,ISBLANK(INDEX('AP Groupe froid'!$AN$14:$AN$17,A86-nbappomp-nbapven-nbapair-nbaautre)),FALSE)))))","v":false},{"$f":"IF(E86=Listes!$H$25,1,0)","v":0},{"$f":"IF(E86=Listes!$H$26,1,0)","v":0},0,0,{"$f":"IF(E86=Listes!$H$28,1,0)","v":0},null,0,0,0,0,0,null,0,0,0,0,0,null,"","","","","",null,-1,-1,-1,-1,null,null,{"$f":"IF(E86=Listes!$H$25,1,0)","v":0},{"$f":"IF(E86=Listes!$H$26,1,0)","v":0},0,0,0,0,0,null,0,0,null,{"$error":"#VALUE!"},0,0,0,null,null,null,"",""]
[63,"",null,{"$f":"IF(A87<=nbappomp,INDEX('Analyse Préliminaire Pompe'!$B$13:$B$47,A87),IF(A87<=nbappomp+nbapven,INDEX('Analyse Préliminaire Ventilateu'!$B$13:$B$44,A87-nbappomp),IF(A87<=nbappomp+nbapven+nbapair,301,IF(A87<=nbappomp+nbapven+nbapair+nbaautre,INDEX('Analyse Préliminaire Autres'!$B$11:$B$42,A87-nbappomp-nbapven-nbapair),IF(A87<=nbappomp+nbapven+nbapair+nbaautre+nbafroid,INDEX('AP Groupe froid'!$B$14:$B$17,A87-nbappomp-nbapven-nbapair-nbaautre),\"\")))))","v":""},{"$f":"IF(A87<=nbappomp,INDEX('Analyse Préliminaire Pompe'!$C$13:$C$47,A87),IF(A87<=nbappomp+nbapven,INDEX('Analyse Préliminaire Ventilateu'!$C$13:$C$44,A87-nbappomp),IF(A87<=nbappomp+nbapven+nbapair,$AJ$4,IF(A87<=nbappomp+nbapven+nbapair+nbaautre,INDEX('Analyse Préliminaire Autres'!$C$11:$C$42,A87-nbappomp-nbapven-nbapair),IF(A87<=nbappomp+nbapven+nbapair+nbaautre+nbafroid,INDEX('AP Groupe froid'!$C$14:$C$17,A87-nbappomp-nbapven-nbapair-nbaautre),\"\")))))","v":""},null,null,{"$f":"IF(A87<=nbappomp,INDEX('Analyse Préliminaire Pompe'!$H$13:$H$47,A87),IF(A87<=nbappomp+nbapven,INDEX('Analyse Préliminaire Ventilateu'!$H$13:$H$44,A87-nbappomp),IF(A87<=nbappomp+nbapven+nbapair,$AJ$4,IF(A87<=nbappomp+nbapven+nbapair+nbaautre,INDEX('Analyse Préliminaire Autres'!$H$11:$H$42,A87-nbappomp-nbapven-nbapair),IF(A87<=nbappomp+nbapven+nbapair+nbaautre+nbafroid,INDEX('AP Groupe froid'!$I$14:$I$17,A87-nbappomp-nbapven-nbapair-nbaautre),\"\")))))","v":""},null,null,{"$f":"IF(AH87=\"\",IF($A87<=nbappomp,INDEX('Analyse Préliminaire Pompe'!AE$13:AE$47,$A87),IF($A87<=nbappomp+nbapven,INDEX('Analyse Préliminaire Ventilateu'!AC$13:AC$44,$A87-nbappomp),IF($A87<=nbappomp+nbapven+nbapair,'Analyse Préliminaire air compr'!$AI$22,IF(A87<=nbappomp+nbapven+nbapair+nbaautre,INDEX('Analyse Préliminaire Autres'!$X$11:$X$42,A87-nbappomp-nbapven-nbapair),IF(A87<=nbappomp+nbapven+nbapair+nbaautre+nbafroid,INDEX('AP Groupe froid'!$AF$14:$AF$17,A87-nbappomp-nbapven-nbapair-nbaautre),\"\"))))),AH87)","v":""},{"$f":"IF(AG87=\"\",IF($A87<=nbappomp,INDEX('Analyse Préliminaire Pompe'!AD$13:AD$47,$A87),IF($A87<=nbappomp+nbapven,INDEX('Analyse Préliminaire Ventilateu'!AB$13:AB$44,$A87-nbappomp),IF($A87<=nbappomp+nbapven+nbapair,'Analyse Préliminaire air compr'!$AH$22,IF(A87<=nbappomp+nbapven+nbapair+nbaautre,INDEX('Analyse Préliminaire Autres'!$W$11:$W$42,A87-nbappomp-nbapven-nbapair),IF(A87<=nbappomp+nbapven+nbapair+nbaautre+nbafroid,INDEX('AP Groupe froid'!$AE$14:$AE$17,A87-nbappomp-nbapven-nbapair-nbaautre),\"\"))))),AG87)","v":""},null,"",null,"",null,{"$f":"IF(AI87=\"\",IF($A87<=nbappomp,INDEX('Analyse Préliminaire Pompe'!T$13:T$47,$A87),IF($A87<=nbappomp+nbapven,INDEX('Analyse Préliminaire Ventilateu'!R$13:R$44,$A87-nbappomp),IF($A87<=nbappomp+nbapven+nbapair,'Analyse Préliminaire air compr'!$AH$13,IF(A87<=nbappomp+nbapven+nbapair+nbaautre,INDEX('Analyse Préliminaire Autres'!$P$11:$P$42,A87-nbappomp-nbapven-nbapair),IF(A87<=nbappomp+nbapven+nbapair+nbaautre+nbafroid,INDEX('AP Groupe froid'!$AD$14:$AD$17,A87-nbappomp-nbapven-nbapair-nbaautre),\"\"))))),AI87)","v":""},null,{"$f":"IF($A87<=nbappomp,INDEX('Analyse Préliminaire Pompe'!X$13:X$47,$A87),IF($A87<=nbappomp+nbapven,INDEX('Analyse Préliminaire Ventilateu'!V$13:V$44,$A87-nbappomp),IF($A87<=nbappomp+nbapven+nbapair,'Analyse Préliminaire air compr'!$E$35,IF(A87<=nbappomp+nbapven+nbapair+nbaautre,INDEX('Analyse Préliminaire Autres'!$R$11:$R$42,A87-nbappomp-nbapven-nbapair),IF(A87<=nbappomp+nbapven+nbapair+nbaautre+nbafroid,INDEX('AP Groupe froid'!$Z$14:$Z$17,A87-nbappomp-nbapven-nbapair-nbaautre),\"\")))))","v":""},null,null,{"$f":"IF(AG87=\"\",IF($A87<=nbappomp,INDEX('Analyse Préliminaire Pompe'!AN$13:AN$47,$A87),IF($A87<=nbappomp+nbapven,INDEX('Analyse Préliminaire Ventilateu'!AL$13:AL$44,$A87-nbappomp),IF($A87<=nbappomp+nbapven+nbapair,'Analyse Préliminaire air compr'!$AM$16,IF(A87<=nbappomp+nbapven+nbapair+nbaautre,INDEX('Analyse Préliminaire Autres'!$AB$11:$AB$42,A87-nbappomp-nbapven-nbapair),IF(A87<=nbappomp+nbapven+nbapair+nbaautre+nbafroid,INDEX('AP Groupe froid'!$AM$14:$AM$17,A87-nbappomp-nbapven-nbapair-nbaautre),\"\"))))),'Economies classées'!$A$47)","v":""},{"$f":"IF($A87<=nbappomp,INDEX('Analyse Préliminaire Pompe'!E$13:E$47,$A87),IF($A87<=nbappomp+nbapven,INDEX('Analyse Préliminaire Ventilateu'!E$13:E$44,$A87-nbappomp),IF($A87<=nbappomp+nbapven+nbapair,\"voir detail\",IF(A87<=nbappomp+nbapven+nbapair+nbaautre,INDEX('Analyse Préliminaire Autres'!$E$11:$E$42,A87-nbappomp-nbapven-nbapair),IF(A87<=nbappomp+nbapven+nbapair+nbaautre+nbafroid,INDEX('AP Groupe froid'!$F$14:$F$17,A87-nbappomp-nbapven-nbapair-nbaautre),\"\")))))","v":""},{"$f":"IF($A87<=nbappomp,INDEX('Analyse Préliminaire Pompe'!K$13:K$47,$A87),IF($A87<=nbappomp+nbapven,INDEX('Analyse Préliminaire Ventilateu'!K$13:K$44,$A87-nbappomp),IF($A87<=nbappomp+nbapven+nbapair,SUM('Analyse Préliminaire air compr'!$I$26:$I$32),IF(A87<=nbappomp+nbapven+nbapair+nbaautre,INDEX('Analyse Préliminaire Autres'!$K$11:$K$42,A87-nbappomp-nbapven-nbapair),IF(A87<=nbappomp+nbapven+nbapair+nbaautre+nbafroid,INDEX('AP Groupe froid'!$O$14:$O$17,A87-nbappomp-nbapven-nbapair-nbaautre),\"\")))))","v":""},{"$f":"IF($A87<=nbappomp,INDEX('Analyse Préliminaire Pompe'!L$13:L$47,$A87),IF($A87<=nbappomp+nbapven,INDEX('Analyse Préliminaire Ventilateu'!L$13:L$44,$A87-nbappomp),IF($A87<=nbappomp+nbapven+nbapair,MIN('Analyse Préliminaire air compr'!$J$26:$J$32),IF(A87<=nbappomp+nbapven+nbapair+nbaautre,INDEX('Analyse Préliminaire Autres'!$L$11:$L$42,A87-nbappomp-nbapven-nbapair),IF($A87<=nbappomp+nbapven+nbapair,'Analyse Préliminaire air compr'!$AM$16,IF(A87<=nbappomp+nbapven+nbapair+nbaautre+nbafroid,INDEX('AP Groupe froid'!$L$14:$L$17,A87-nbappomp-nbapven-nbapair-nbaautre),\"\"))))))","v":""},{"$f":"IF($A87<=nbappomp,INDEX('Analyse Préliminaire Pompe'!M$13:M$47,$A87),IF($A87<=nbappomp+nbapven,INDEX('Analyse Préliminaire Ventilateu'!M$13:M$44,$A87-nbappomp),IF($A87<=nbappomp+nbapven+nbapair,\"\",IF(A87<=nbappomp+nbapven+nbapair+nbaautre,INDEX('Analyse Préliminaire Autres'!$M$11:$M$42,A87-nbappomp-nbapven-nbapair),IF($A87<=nbappomp+nbapven+nbapair,'Analyse Préliminaire air compr'!$AM$16,IF(A87<=nbappomp+nbapven+nbapair+nbaautre+nbafroid,INDEX('AP Groupe froid'!$M$14:$M$17,A87-nbappomp-nbapven-nbapair-nbaautre),\"\"))))))","v":""},{"$f":"IF($A87<=nbappomp,INDEX('Analyse Préliminaire Pompe'!N$13:N$47,$A87),IF($A87<=nbappomp+nbapven,INDEX('Analyse Préliminaire Ventilateu'!N$13:N$44,$A87-nbappomp),IF($A87<=nbappomp+nbapven+nbapair,\"\",IF(A87<=nbappomp+nbapven+nbapair+nbaautre,INDEX('Analyse Préliminaire Autres'!$N$11:$N$42,A87-nbappomp-nbapven-nbapair),\"\"))))","v":""},{"$f":"IF($A87<=nbappomp,INDEX('Analyse Préliminaire Pompe'!O$13:O$47,$A87),IF($A87<=nbappomp+nbapven,INDEX('Analyse Préliminaire Ventilateu'!O$13:O$44,$A87-nbappomp),IF($A87<=nbappomp+nbapven+nbapair,\"\",IF(A87<=nbappomp+nbapven+nbapair+nbaautre,INDEX('Analyse Préliminaire Autres'!$O$11:$O$42,A87-nbappomp-nbapven-nbapair),\"\"))))","v":""},{"$f":"IF($A87<=nbappomp,INDEX('Analyse Préliminaire Pompe'!P$13:P$47,$A87),IF($A87<=nbappomp+nbapven,INDEX('Analyse Préliminaire Ventilateu'!P$13:P$44,$A87-nbappomp),IF($A87<=nbappomp+nbapven+nbapair,\"\",IF(A87<=nbappomp+nbapven+nbapair+nbaautre,INDEX('Analyse Préliminaire Autres'!#REF!,A87-nbappomp-nbapven-nbapair),\"\"))))","v":""},{"$f":"IF($A87<=nbappomp,INDEX('Analyse Préliminaire Pompe'!Q$13:Q$47,$A87),IF($A87<=nbappomp+nbapven,\"\",IF($A87<=nbappomp+nbapven+nbapair,\"\",\"\")))","v":""},{"$f":"IF(AI87=\"\",IF($A87<=nbappomp,INDEX('Analyse Préliminaire Pompe'!S$13:S$47,$A87),IF($A87<=nbappomp+nbapven,INDEX('Analyse Préliminaire Ventilateu'!Q$13:Q$44,$A87-nbappomp),IF($A87<=nbappomp+nbapven+nbapair,\"\",IF(A87<=nbappomp+nbapven+nbapair+nbaautre,\"\",\"\")))),AI87)","v":""},{"$f":"IF(AN87,\"\",IF($A87<=nbappomp,INDEX('Analyse Préliminaire Pompe'!AO$13:AO$47,$A87),IF($A87<=nbappomp+nbapven,INDEX('Analyse Préliminaire Ventilateu'!AM$13:AM$44,$A87-nbappomp),IF($A87<=nbappomp+nbapven+nbapair,EcoAPkWhCP,IF(A87<=nbappomp+nbapven+nbapair+nbaautre,INDEX('Analyse Préliminaire Autres'!$E$11:$E$42,A87-nbappomp-nbapven-nbapair),IF($A87<=nbappomp+nbapven+nbapair+nbaautre+nbafroid,INDEX('AP Groupe froid'!$AN$14:$AN$17,$A87-nbappomp-nbapven-nbapair-nbaautre),\"\"))))))","v":""},{"$f":"IF(AN87,\"\",IF($A87<=nbappomp,INDEX('Analyse Préliminaire Pompe'!AP$13:AP$47,$A87),IF($A87<=nbappomp+nbapven,INDEX('Analyse Préliminaire Ventilateu'!AN$13:AN$44,$A87-nbappomp),IF($A87<=nbappomp+nbapven+nbapair,EcoAPpercCP,IF(A87<=nbappomp+nbapven+nbapair+nbaautre,INDEX('Analyse Préliminaire Autres'!$E$11:$E$42,A87-nbappomp-nbapven-nbapair),IF($A87<=nbappomp+nbapven+nbapair+nbaautre+nbafroid,INDEX('AP Groupe froid'!$AO$14:$AO$17,$A87-nbappomp-nbapven-nbapair-nbaautre),\"\"))))))","v":""},{"$f":"IF(AN87,\"\",IF($A87<=nbappomp,INDEX('Analyse Préliminaire Pompe'!AQ$13:AQ$47,$A87),IF($A87<=nbappomp+nbapven,INDEX('Analyse Préliminaire Ventilateu'!AO$13:AO$44,$A87-nbappomp),IF($A87<=nbappomp+nbapven+nbapair,consoanncp,IF(A87<=nbappomp+nbapven+nbapair+nbaautre,INDEX('Analyse Préliminaire Autres'!$E$11:$E$42,A87-nbappomp-nbapven-nbapair),IF($A87<=nbappomp+nbapven+nbapair+nbaautre+nbafroid,INDEX('AP Groupe froid'!$AP$14:$AP$17,$A87-nbappomp-nbapven-nbapair-nbaautre),\"\"))))))","v":""},{"$f":"IF(R87=\"\",-1,IF(AND($L87>'Economies classées'!$B$2,$K87>0.2,YEAR(TODAY())-$Z87>8),2,IF(AND($L87>'Economies classées'!$B$3,YEAR(TODAY())-$Z87>5),1,0)))","v":-1},null,null,"",{"$f":"IF($A87<=nbappomp,ISBLANK(INDEX('Analyse Préliminaire Pompe'!AO$13:AO$47,$A87)),IF($A87<=nbappomp+nbapven,ISBLANK(INDEX('Analyse Préliminaire Ventilateu'!AM$13:AM$44,$A87-nbappomp)),IF($A87<=nbappomp+nbapven+nbapair,ISBLANK(EcoAPkWhCP),IF(A87<=nbappomp+nbapven+nbapair+nbaautre,ISBLANK(INDEX('Analyse Préliminaire Autres'!AC$11:AC$42,A87-nbappomp-nbapven-nbapair)),IF(A87<=nbappomp+nbapven+nbapair+nbaautre+nbafroid,ISBLANK(INDEX('AP Groupe froid'!$AN$14:$AN$17,A87-nbappomp-nbapven-nbapair-nbaautre)),FALSE)))))","v":false},{"$f":"IF(E87=Listes!$H$25,1,0)","v":0},{"$f":"IF(E87=Listes!$H$26,1,0)","v":0},0,0,{"$f":"IF(E87=Listes!$H$28,1,0)","v":0},null,0,0,0,0,0,null,0,0,0,0,0,null,"","","","","",null,-1,-1,-1,-1,null,null,{"$f":"IF(E87=Listes!$H$25,1,0)","v":0},{"$f":"IF(E87=Listes!$H$26,1,0)","v":0},0,0,0,0,0,null,0,0,null,{"$error":"#VALUE!"},0,0,0,null,null,null,"",""]
[64,"",null,{"$f":"IF(A88<=nbappomp,INDEX('Analyse Préliminaire Pompe'!$B$13:$B$47,A88),IF(A88<=nbappomp+nbapven,INDEX('Analyse Préliminaire Ventilateu'!$B$13:$B$44,A88-nbappomp),IF(A88<=nbappomp+nbapven+nbapair,301,IF(A88<=nbappomp+nbapven+nbapair+nbaautre,INDEX('Analyse Préliminaire Autres'!$B$11:$B$42,A88-nbappomp-nbapven-nbapair),IF(A88<=nbappomp+nbapven+nbapair+nbaautre+nbafroid,INDEX('AP Groupe froid'!$B$14:$B$17,A88-nbappomp-nbapven-nbapair-nbaautre),\"\")))))","v":""},{"$f":"IF(A88<=nbappomp,INDEX('Analyse Préliminaire Pompe'!$C$13:$C$47,A88),IF(A88<=nbappomp+nbapven,INDEX('Analyse Préliminaire Ventilateu'!$C$13:$C$44,A88-nbappomp),IF(A88<=nbappomp+nbapven+nbapair,$AJ$4,IF(A88<=nbappomp+nbapven+nbapair+nbaautre,INDEX('Analyse Préliminaire Autres'!$C$11:$C$42,A88-nbappomp-nbapven-nbapair),IF(A88<=nbappomp+nbapven+nbapair+nbaautre+nbafroid,INDEX('AP Groupe froid'!$C$14:$C$17,A88-nbappomp-nbapven-nbapair-nbaautre),\"\")))))","v":""},null,null,{"$f":"IF(A88<=nbappomp,INDEX('Analyse Préliminaire Pompe'!$H$13:$H$47,A88),IF(A88<=nbappomp+nbapven,INDEX('Analyse Préliminaire Ventilateu'!$H$13:$H$44,A88-nbappomp),IF(A88<=nbappomp+nbapven+nbapair,$AJ$4,IF(A88<=nbappomp+nbapven+nbapair+nbaautre,INDEX('Analyse Préliminaire Autres'!$H$11:$H$42,A88-nbappomp-nbapven-nbapair),IF(A88<=nbappomp+nbapven+nbapair+nbaautre+nbafroid,INDEX('AP Groupe froid'!$I$14:$I$17,A88-nbappomp-nbapven-nbapair-nbaautre),\"\")))))","v":""},null,null,{"$f":"IF(AH88=\"\",IF($A88<=nbappomp,INDEX('Analyse Préliminaire Pompe'!AE$13:AE$47,$A88),IF($A88<=nbappomp+nbapven,INDEX('Analyse Préliminaire Ventilateu'!AC$13:AC$44,$A88-nbappomp),IF($A88<=nbappomp+nbapven+nbapair,'Analyse Préliminaire air compr'!$AI$22,IF(A88<=nbappomp+nbapven+nbapair+nbaautre,INDEX('Analyse Préliminaire Autres'!$X$11:$X$42,A88-nbappomp-nbapven-nbapair),IF(A88<=nbappomp+nbapven+nbapair+nbaautre+nbafroid,INDEX('AP Groupe froid'!$AF$14:$AF$17,A88-nbappomp-nbapven-nbapair-nbaautre),\"\"))))),AH88)","v":""},{"$f":"IF(AG88=\"\",IF($A88<=nbappomp,INDEX('Analyse Préliminaire Pompe'!AD$13:AD$47,$A88),IF($A88<=nbappomp+nbapven,INDEX('Analyse Préliminaire Ventilateu'!AB$13:AB$44,$A88-nbappomp),IF($A88<=nbappomp+nbapven+nbapair,'Analyse Préliminaire air compr'!$AH$22,IF(A88<=nbappomp+nbapven+nbapair+nbaautre,INDEX('Analyse Préliminaire Autres'!$W$11:$W$42,A88-nbappomp-nbapven-nbapair),IF(A88<=nbappomp+nbapven+nbapair+nbaautre+nbafroid,INDEX('AP Groupe froid'!$AE$14:$AE$17,A88-nbappomp-nbapven-nbapair-nbaautre),\"\"))))),AG88)","v":""},null,"",null,"",null,{"$f":"IF(AI88=\"\",IF($A88<=nbappomp,INDEX('Analyse Préliminaire Pompe'!T$13:T$47,$A88),IF($A88<=nbappomp+nbapven,INDEX('Analyse Préliminaire Ventilateu'!R$13:R$44,$A88-nbappomp),IF($A88<=nbappomp+nbapven+nbapair,'Analyse Préliminaire air compr'!$AH$13,IF(A88<=nbappomp+nbapven+nbapair+nbaautre,INDEX('Analyse Préliminaire Autres'!$P$11:$P$42,A88-nbappomp-nbapven-nbapair),IF(A88<=nbappomp+nbapven+nbapair+nbaautre+nbafroid,INDEX('AP Groupe froid'!$AD$14:$AD$17,A88-nbappomp-nbapven-nbapair-nbaautre),\"\"))))),AI88)","v":""},null,{"$f":"IF($A88<=nbappomp,INDEX('Analyse Préliminaire Pompe'!X$13:X$47,$A88),IF($A88<=nbappomp+nbapven,INDEX('Analyse Préliminaire Ventilateu'!V$13:V$44,$A88-nbappomp),IF($A88<=nbappomp+nbapven+nbapair,'Analyse Préliminaire air compr'!$E$35,IF(A88<=nbappomp+nbapven+nbapair+nbaautre,INDEX('Analyse Préliminaire Autres'!$R$11:$R$42,A88-nbappomp-nbapven-nbapair),IF(A88<=nbappomp+nbapven+nbapair+nbaautre+nbafroid,INDEX('AP Groupe froid'!$Z$14:$Z$17,A88-nbappomp-nbapven-nbapair-nbaautre),\"\")))))","v":""},null,null,{"$f":"IF(AG88=\"\",IF($A88<=nbappomp,INDEX('Analyse Préliminaire Pompe'!AN$13:AN$47,$A88),IF($A88<=nbappomp+nbapven,INDEX('Analyse Préliminaire Ventilateu'!AL$13:AL$44,$A88-nbappomp),IF($A88<=nbappomp+nbapven+nbapair,'Analyse Préliminaire air compr'!$AM$16,IF(A88<=nbappomp+nbapven+nbapair+nbaautre,INDEX('Analyse Préliminaire Autres'!$AB$11:$AB$42,A88-nbappomp-nbapven-nbapair),IF(A88<=nbappomp+nbapven+nbapair+nbaautre+nbafroid,INDEX('AP Groupe froid'!$AM$14:$AM$17,A88-nbappomp-nbapven-nbapair-nbaautre),\"\"))))),'Economies classées'!$A$47)","v":""},{"$f":"IF($A88<=nbappomp,INDEX('Analyse Préliminaire Pompe'!E$13:E$47,$A88),IF($A88<=nbappomp+nbapven,INDEX('Analyse Préliminaire Ventilateu'!E$13:E$44,$A88-nbappomp),IF($A88<=nbappomp+nbapven+nbapair,\"voir detail\",IF(A88<=nbappomp+nbapven+nbapair+nbaautre,INDEX('Analyse Préliminaire Autres'!$E$11:$E$42,A88-nbappomp-nbapven-nbapair),IF(A88<=nbappomp+nbapven+nbapair+nbaautre+nbafroid,INDEX('AP Groupe froid'!$F$14:$F$17,A88-nbappomp-nbapven-nbapair-nbaautre),\"\")))))","v":""},{"$f":"IF($A88<=nbappomp,INDEX('Analyse Préliminaire Pompe'!K$13:K$47,$A88),IF($A88<=nbappomp+nbapven,INDEX('Analyse Préliminaire Ventilateu'!K$13:K$44,$A88-nbappomp),IF($A88<=nbappomp+nbapven+nbapair,SUM('Analyse Préliminaire air compr'!$I$26:$I$32),IF(A88<=nbappomp+nbapven+nbapair+nbaautre,INDEX('Analyse Préliminaire Autres'!$K$11:$K$42,A88-nbappomp-nbapven-nbapair),IF(A88<=nbappomp+nbapven+nbapair+nbaautre+nbafroid,INDEX('AP Groupe froid'!$O$14:$O$17,A88-nbappomp-nbapven-nbapair-nbaautre),\"\")))))","v":""},{"$f":"IF($A88<=nbappomp,INDEX('Analyse Préliminaire Pompe'!L$13:L$47,$A88),IF($A88<=nbappomp+nbapven,INDEX('Analyse Préliminaire Ventilateu'!L$13:L$44,$A88-nbappomp),IF($A88<=nbappomp+nbapven+nbapair,MIN('Analyse Préliminaire air compr'!$J$26:$J$32),IF(A88<=nbappomp+nbapven+nbapair+nbaautre,INDEX('Analyse Préliminaire Autres'!$L$11:$L$42,A88-nbappomp-nbapven-nbapair),IF($A88<=nbappomp+nbapven+nbapair,'Analyse Préliminaire air compr'!$AM$16,IF(A88<=nbappomp+nbapven+nbapair+nbaautre+nbafroid,INDEX('AP Groupe froid'!$L$14:$L$17,A88-nbappomp-nbapven-nbapair-nbaautre),\"\"))))))","v":""},{"$f":"IF($A88<=nbappomp,INDEX('Analyse Préliminaire Pompe'!M$13:M$47,$A88),IF($A88<=nbappomp+nbapven,INDEX('Analyse Préliminaire Ventilateu'!M$13:M$44,$A88-nbappomp),IF($A88<=nbappomp+nbapven+nbapair,\"\",IF(A88<=nbappomp+nbapven+nbapair+nbaautre,INDEX('Analyse Préliminaire Autres'!$M$11:$M$42,A88-nbappomp-nbapven-nbapair),IF($A88<=nbappomp+nbapven+nbapair,'Analyse Préliminaire air compr'!$AM$16,IF(A88<=nbappomp+nbapven+nbapair+nbaautre+nbafroid,INDEX('AP Groupe froid'!$M$14:$M$17,A88-nbappomp-nbapven-nbapair-nbaautre),\"\"))))))","v":""},{"$f":"IF($A88<=nbappomp,INDEX('Analyse Préliminaire Pompe'!N$13:N$47,$A88),IF($A88<=nbappomp+nbapven,INDEX('Analyse Préliminaire Ventilateu'!N$13:N$44,$A88-nbappomp),IF($A88<=nbappomp+nbapven+nbapair,\"\",IF(A88<=nbappomp+nbapven+nbapair+nbaautre,INDEX('Analyse Préliminaire Autres'!$N$11:$N$42,A88-nbappomp-nbapven-nbapair),\"\"))))","v":""},{"$f":"IF($A88<=nbappomp,INDEX('Analyse Préliminaire Pompe'!O$13:O$47,$A88),IF($A88<=nbappomp+nbapven,INDEX('Analyse Préliminaire Ventilateu'!O$13:O$44,$A88-nbappomp),IF($A88<=nbappomp+nbapven+nbapair,\"\",IF(A88<=nbappomp+nbapven+nbapair+nbaautre,INDEX('Analyse Préliminaire Autres'!$O$11:$O$42,A88-nbappomp-nbapven-nbapair),\"\"))))","v":""},{"$f":"IF($A88<=nbappomp,INDEX('Analyse Préliminaire Pompe'!P$13:P$47,$A88),IF($A88<=nbappomp+nbapven,INDEX('Analyse Préliminaire Ventilateu'!P$13:P$44,$A88-nbappomp),IF($A88<=nbappomp+nbapven+nbapair,\"\",IF(A88<=nbappomp+nbapven+nbapair+nbaautre,INDEX('Analyse Préliminaire Autres'!#REF!,A88-nbappomp-nbapven-nbapair),\"\"))))","v":""},{"$f":"IF($A88<=nbappomp,INDEX('Analyse Préliminaire Pompe'!Q$13:Q$47,$A88),IF($A88<=nbappomp+nbapven,\"\",IF($A88<=nbappomp+nbapven+nbapair,\"\",\"\")))","v":""},{"$f":"IF(AI88=\"\",IF($A88<=nbappomp,INDEX('Analyse Préliminaire Pompe'!S$13:S$47,$A88),IF($A88<=nbappomp+nbapven,INDEX('Analyse Préliminaire Ventilateu'!Q$13:Q$44,$A88-nbappomp),IF($A88<=nbappomp+nbapven+nbapair,\"\",IF(A88<=nbappomp+nbapven+nbapair+nbaautre,\"\",\"\")))),AI88)","v":""},{"$f":"IF(AN88,\"\",IF($A88<=nbappomp,INDEX('Analyse Préliminaire Pompe'!AO$13:AO$47,$A88),IF($A88<=nbappomp+nbapven,INDEX('Analyse Préliminaire Ventilateu'!AM$13:AM$44,$A88-nbappomp),IF($A88<=nbappomp+nbapven+nbapair,EcoAPkWhCP,IF(A88<=nbappomp+nbapven+nbapair+nbaautre,INDEX('Analyse Préliminaire Autres'!$E$11:$E$42,A88-nbappomp-nbapven-nbapair),IF($A88<=nbappomp+nbapven+nbapair+nbaautre+nbafroid,INDEX('AP Groupe froid'!$AN$14:$AN$17,$A88-nbappomp-nbapven-nbapair-nbaautre),\"\"))))))","v":""},{"$f":"IF(AN88,\"\",IF($A88<=nbappomp,INDEX('Analyse Préliminaire Pompe'!AP$13:AP$47,$A88),IF($A88<=nbappomp+nbapven,INDEX('Analyse Préliminaire Ventilateu'!AN$13:AN$44,$A88-nbappomp),IF($A88<=nbappomp+nbapven+nbapair,EcoAPpercCP,IF(A88<=nbappomp+nbapven+nbapair+nbaautre,INDEX('Analyse Préliminaire Autres'!$E$11:$E$42,A88-nbappomp-nbapven-nbapair),IF($A88<=nbappomp+nbapven+nbapair+nbaautre+nbafroid,INDEX('AP Groupe froid'!$AO$14:$AO$17,$A88-nbappomp-nbapven-nbapair-nbaautre),\"\"))))))","v":""},{"$f":"IF(AN88,\"\",IF($A88<=nbappomp,INDEX('Analyse Préliminaire Pompe'!AQ$13:AQ$47,$A88),IF($A88<=nbappomp+nbapven,INDEX('Analyse Préliminaire Ventilateu'!AO$13:AO$44,$A88-nbappomp),IF($A88<=nbappomp+nbapven+nbapair,consoanncp,IF(A88<=nbappomp+nbapven+nbapair+nbaautre,INDEX('Analyse Préliminaire Autres'!$E$11:$E$42,A88-nbappomp-nbapven-nbapair),IF($A88<=nbappomp+nbapven+nbapair+nbaautre+nbafroid,INDEX('AP Groupe froid'!$AP$14:$AP$17,$A88-nbappomp-nbapven-nbapair-nbaautre),\"\"))))))","v":""},{"$f":"IF(R88=\"\",-1,IF(AND($L88>'Economies classées'!$B$2,$K88>0.2,YEAR(TODAY())-$Z88>8),2,IF(AND($L88>'Economies classées'!$B$3,YEAR(TODAY())-$Z88>5),1,0)))","v":-1},null,null,"",{"$f":"IF($A88<=nbappomp,ISBLANK(INDEX('Analyse Préliminaire Pompe'!AO$13:AO$47,$A88)),IF($A88<=nbappomp+nbapven,ISBLANK(INDEX('Analyse Préliminaire Ventilateu'!AM$13:AM$44,$A88-nbappomp)),IF($A88<=nbappomp+nbapven+nbapair,ISBLANK(EcoAPkWhCP),IF(A88<=nbappomp+nbapven+nbapair+nbaautre,ISBLANK(INDEX('Analyse Préliminaire Autres'!AC$11:AC$42,A88-nbappomp-nbapven-nbapair)),IF(A88<=nbappomp+nbapven+nbapair+nbaautre+nbafroid,ISBLANK(INDEX('AP Groupe froid'!$AN$14:$AN$17,A88-nbappomp-nbapven-nbapair-nbaautre)),FALSE)))))","v":false},{"$f":"IF(E88=Listes!$H$25,1,0)","v":0},{"$f":"IF(E88=Listes!$H$26,1,0)","v":0},0,0,{"$f":"IF(E88=Listes!$H$28,1,0)","v":0},null,0,0,0,0,0,null,0,0,0,0,0,null,"","","","","",null,-1,-1,-1,-1,null,null,{"$f":"IF(E88=Listes!$H$25,1,0)","v":0},{"$f":"IF(E88=Listes!$H$26,1,0)","v":0},0,0,0,0,0,null,0,0,null,{"$error":"#VALUE!"},0,0,0,null,null,null,"",""]
[65,"",null,{"$f":"IF(A89<=nbappomp,INDEX('Analyse Préliminaire Pompe'!$B$13:$B$47,A89),IF(A89<=nbappomp+nbapven,INDEX('Analyse Préliminaire Ventilateu'!$B$13:$B$44,A89-nbappomp),IF(A89<=nbappomp+nbapven+nbapair,301,IF(A89<=nbappomp+nbapven+nbapair+nbaautre,INDEX('Analyse Préliminaire Autres'!$B$11:$B$42,A89-nbappomp-nbapven-nbapair),IF(A89<=nbappomp+nbapven+nbapair+nbaautre+nbafroid,INDEX('AP Groupe froid'!$B$14:$B$17,A89-nbappomp-nbapven-nbapair-nbaautre),\"\")))))","v":""},{"$f":"IF(A89<=nbappomp,INDEX('Analyse Préliminaire Pompe'!$C$13:$C$47,A89),IF(A89<=nbappomp+nbapven,INDEX('Analyse Préliminaire Ventilateu'!$C$13:$C$44,A89-nbappomp),IF(A89<=nbappomp+nbapven+nbapair,$AJ$4,IF(A89<=nbappomp+nbapven+nbapair+nbaautre,INDEX('Analyse Préliminaire Autres'!$C$11:$C$42,A89-nbappomp-nbapven-nbapair),IF(A89<=nbappomp+nbapven+nbapair+nbaautre+nbafroid,INDEX('AP Groupe froid'!$C$14:$C$17,A89-nbappomp-nbapven-nbapair-nbaautre),\"\")))))","v":""},null,null,{"$f":"IF(A89<=nbappomp,INDEX('Analyse Préliminaire Pompe'!$H$13:$H$47,A89),IF(A89<=nbappomp+nbapven,INDEX('Analyse Préliminaire Ventilateu'!$H$13:$H$44,A89-nbappomp),IF(A89<=nbappomp+nbapven+nbapair,$AJ$4,IF(A89<=nbappomp+nbapven+nbapair+nbaautre,INDEX('Analyse Préliminaire Autres'!$H$11:$H$42,A89-nbappomp-nbapven-nbapair),IF(A89<=nbappomp+nbapven+nbapair+nbaautre+nbafroid,INDEX('AP Groupe froid'!$I$14:$I$17,A89-nbappomp-nbapven-nbapair-nbaautre),\"\")))))","v":""},null,null,{"$f":"IF(AH89=\"\",IF($A89<=nbappomp,INDEX('Analyse Préliminaire Pompe'!AE$13:AE$47,$A89),IF($A89<=nbappomp+nbapven,INDEX('Analyse Préliminaire Ventilateu'!AC$13:AC$44,$A89-nbappomp),IF($A89<=nbappomp+nbapven+nbapair,'Analyse Préliminaire air compr'!$AI$22,IF(A89<=nbappomp+nbapven+nbapair+nbaautre,INDEX('Analyse Préliminaire Autres'!$X$11:$X$42,A89-nbappomp-nbapven-nbapair),IF(A89<=nbappomp+nbapven+nbapair+nbaautre+nbafroid,INDEX('AP Groupe froid'!$AF$14:$AF$17,A89-nbappomp-nbapven-nbapair-nbaautre),\"\"))))),AH89)","v":""},{"$f":"IF(AG89=\"\",IF($A89<=nbappomp,INDEX('Analyse Préliminaire Pompe'!AD$13:AD$47,$A89),IF($A89<=nbappomp+nbapven,INDEX('Analyse Préliminaire Ventilateu'!AB$13:AB$44,$A89-nbappomp),IF($A89<=nbappomp+nbapven+nbapair,'Analyse Préliminaire air compr'!$AH$22,IF(A89<=nbappomp+nbapven+nbapair+nbaautre,INDEX('Analyse Préliminaire Autres'!$W$11:$W$42,A89-nbappomp-nbapven-nbapair),IF(A89<=nbappomp+nbapven+nbapair+nbaautre+nbafroid,INDEX('AP Groupe froid'!$AE$14:$AE$17,A89-nbappomp-nbapven-nbapair-nbaautre),\"\"))))),AG89)","v":""},null,{"$f":"IF(L89=\"\",\"\",L89*$F$7)","v":""},null,{"$f":"IFERROR(ROUND(IF(L89=\"\",\"\",L89*$F$7*4),-3),\"\")","v":""},null,{"$f":"IF(AI89=\"\",IF($A89<=nbappomp,INDEX('Analyse Préliminaire Pompe'!T$13:T$47,$A89),IF($A89<=nbappomp+nbapven,INDEX('Analyse Préliminaire Ventilateu'!R$13:R$44,$A89-nbappomp),IF($A89<=nbappomp+nbapven+nbapair,'Analyse Préliminaire air compr'!$AH$13,IF(A89<=nbappomp+nbapven+nbapair+nbaautre,INDEX('Analyse Préliminaire Autres'!$P$11:$P$42,A89-nbappomp-nbapven-nbapair),IF(A89<=nbappomp+nbapven+nbapair+nbaautre+nbafroid,INDEX('AP Groupe froid'!$AD$14:$AD$17,A89-nbappomp-nbapven-nbapair-nbaautre),\"\"))))),AI89)","v":""},null,{"$f":"IF($A89<=nbappomp,INDEX('Analyse Préliminaire Pompe'!X$13:X$47,$A89),IF($A89<=nbappomp+nbapven,INDEX('Analyse Préliminaire Ventilateu'!V$13:V$44,$A89-nbappomp),IF($A89<=nbappomp+nbapven+nbapair,'Analyse Préliminaire air compr'!$E$35,IF(A89<=nbappomp+nbapven+nbapair+nbaautre,INDEX('Analyse Préliminaire Autres'!$R$11:$R$42,A89-nbappomp-nbapven-nbapair),IF(A89<=nbappomp+nbapven+nbapair+nbaautre+nbafroid,INDEX('AP Groupe froid'!$Z$14:$Z$17,A89-nbappomp-nbapven-nbapair-nbaautre),\"\")))))","v":""},null,null,{"$f":"IF(AG89=\"\",IF($A89<=nbappomp,INDEX('Analyse Préliminaire Pompe'!AN$13:AN$47,$A89),IF($A89<=nbappomp+nbapven,INDEX('Analyse Préliminaire Ventilateu'!AL$13:AL$44,$A89-nbappomp),IF($A89<=nbappomp+nbapven+nbapair,'Analyse Préliminaire air compr'!$AM$16,IF(A89<=nbappomp+nbapven+nbapair+nbaautre,INDEX('Analyse Préliminaire Autres'!$AB$11:$AB$42,A89-nbappomp-nbapven-nbapair),IF(A89<=nbappomp+nbapven+nbapair+nbaautre+nbafroid,INDEX('AP Groupe froid'!$AM$14:$AM$17,A89-nbappomp-nbapven-nbapair-nbaautre),\"\"))))),'Economies classées'!$A$47)","v":""},{"$f":"IF($A89<=nbappomp,INDEX('Analyse Préliminaire Pompe'!E$13:E$47,$A89),IF($A89<=nbappomp+nbapven,INDEX('Analyse Préliminaire Ventilateu'!E$13:E$44,$A89-nbappomp),IF($A89<=nbappomp+nbapven+nbapair,\"voir detail\",IF(A89<=nbappomp+nbapven+nbapair+nbaautre,INDEX('Analyse Préliminaire Autres'!$E$11:$E$42,A89-nbappomp-nbapven-nbapair),IF(A89<=nbappomp+nbapven+nbapair+nbaautre+nbafroid,INDEX('AP Groupe froid'!$F$14:$F$17,A89-nbappomp-nbapven-nbapair-nbaautre),\"\")))))","v":""},{"$f":"IF($A89<=nbappomp,INDEX('Analyse Préliminaire Pompe'!K$13:K$47,$A89),IF($A89<=nbappomp+nbapven,INDEX('Analyse Préliminaire Ventilateu'!K$13:K$44,$A89-nbappomp),IF($A89<=nbappomp+nbapven+nbapair,SUM('Analyse Préliminaire air compr'!$I$26:$I$32),IF(A89<=nbappomp+nbapven+nbapair+nbaautre,INDEX('Analyse Préliminaire Autres'!$K$11:$K$42,A89-nbappomp-nbapven-nbapair),IF(A89<=nbappomp+nbapven+nbapair+nbaautre+nbafroid,INDEX('AP Groupe froid'!$O$14:$O$17,A89-nbappomp-nbapven-nbapair-nbaautre),\"\")))))","v":""},{"$f":"IF($A89<=nbappomp,INDEX('Analyse Préliminaire Pompe'!L$13:L$47,$A89),IF($A89<=nbappomp+nbapven,INDEX('Analyse Préliminaire Ventilateu'!L$13:L$44,$A89-nbappomp),IF($A89<=nbappomp+nbapven+nbapair,MIN('Analyse Préliminaire air compr'!$J$26:$J$32),IF(A89<=nbappomp+nbapven+nbapair+nbaautre,INDEX('Analyse Préliminaire Autres'!$L$11:$L$42,A89-nbappomp-nbapven-nbapair),IF($A89<=nbappomp+nbapven+nbapair,'Analyse Préliminaire air compr'!$AM$16,IF(A89<=nbappomp+nbapven+nbapair+nbaautre+nbafroid,INDEX('AP Groupe froid'!$L$14:$L$17,A89-nbappomp-nbapven-nbapair-nbaautre),\"\"))))))","v":""},{"$f":"IF($A89<=nbappomp,INDEX('Analyse Préliminaire Pompe'!M$13:M$47,$A89),IF($A89<=nbappomp+nbapven,INDEX('Analyse Préliminaire Ventilateu'!M$13:M$44,$A89-nbappomp),IF($A89<=nbappomp+nbapven+nbapair,\"\",IF(A89<=nbappomp+nbapven+nbapair+nbaautre,INDEX('Analyse Préliminaire Autres'!$M$11:$M$42,A89-nbappomp-nbapven-nbapair),IF($A89<=nbappomp+nbapven+nbapair,'Analyse Préliminaire air compr'!$AM$16,IF(A89<=nbappomp+nbapven+nbapair+nbaautre+nbafroid,INDEX('AP Groupe froid'!$M$14:$M$17,A89-nbappomp-nbapven-nbapair-nbaautre),\"\"))))))","v":""},{"$f":"IF($A89<=nbappomp,INDEX('Analyse Préliminaire Pompe'!N$13:N$47,$A89),IF($A89<=nbappomp+nbapven,INDEX('Analyse Préliminaire Ventilateu'!N$13:N$44,$A89-nbappomp),IF($A89<=nbappomp+nbapven+nbapair,\"\",IF(A89<=nbappomp+nbapven+nbapair+nbaautre,INDEX('Analyse Préliminaire Autres'!$N$11:$N$42,A89-nbappomp-nbapven-nbapair),\"\"))))","v":""},{"$f":"IF($A89<=nbappomp,INDEX('Analyse Préliminaire Pompe'!O$13:O$47,$A89),IF($A89<=nbappomp+nbapven,INDEX('Analyse Préliminaire Ventilateu'!O$13:O$44,$A89-nbappomp),IF($A89<=nbappomp+nbapven+nbapair,\"\",IF(A89<=nbappomp+nbapven+nbapair+nbaautre,INDEX('Analyse Préliminaire Autres'!$O$11:$O$42,A89-nbappomp-nbapven-nbapair),\"\"))))","v":""},{"$f":"IF($A89<=nbappomp,INDEX('Analyse Préliminaire Pompe'!P$13:P$47,$A89),IF($A89<=nbappomp+nbapven,INDEX('Analyse Préliminaire Ventilateu'!P$13:P$44,$A89-nbappomp),IF($A89<=nbappomp+nbapven+nbapair,\"\",IF(A89<=nbappomp+nbapven+nbapair+nbaautre,INDEX('Analyse Préliminaire Autres'!#REF!,A89-nbappomp-nbapven-nbapair),\"\"))))","v":""},{"$f":"IF($A89<=nbappomp,INDEX('Analyse Préliminaire Pompe'!Q$13:Q$47,$A89),IF($A89<=nbappomp+nbapven,\"\",IF($A89<=nbappomp+nbapven+nbapair,\"\",\"\")))","v":""},{"$f":"IF(AI89=\"\",IF($A89<=nbappomp,INDEX('Analyse Préliminaire Pompe'!S$13:S$47,$A89),IF($A89<=nbappomp+nbapven,INDEX('Analyse Préliminaire Ventilateu'!Q$13:Q$44,$A89-nbappomp),IF($A89<=nbappomp+nbapven+nbapair,\"\",IF(A89<=nbappomp+nbapven+nbapair+nbaautre,\"\",\"\")))),AI89)","v":""},{"$f":"IF(AN89,\"\",IF($A89<=nbappomp,INDEX('Analyse Préliminaire Pompe'!AO$13:AO$47,$A89),IF($A89<=nbappomp+nbapven,INDEX('Analyse Préliminaire Ventilateu'!AM$13:AM$44,$A89-nbappomp),IF($A89<=nbappomp+nbapven+nbapair,EcoAPkWhCP,IF(A89<=nbappomp+nbapven+nbapair+nbaautre,INDEX('Analyse Préliminaire Autres'!$E$11:$E$42,A89-nbappomp-nbapven-nbapair),IF($A89<=nbappomp+nbapven+nbapair+nbaautre+nbafroid,INDEX('AP Groupe froid'!$AN$14:$AN$17,$A89-nbappomp-nbapven-nbapair-nbaautre),\"\"))))))","v":""},{"$f":"IF(AN89,\"\",IF($A89<=nbappomp,INDEX('Analyse Préliminaire Pompe'!AP$13:AP$47,$A89),IF($A89<=nbappomp+nbapven,INDEX('Analyse Préliminaire Ventilateu'!AN$13:AN$44,$A89-nbappomp),IF($A89<=nbappomp+nbapven+nbapair,EcoAPpercCP,IF(A89<=nbappomp+nbapven+nbapair+nbaautre,INDEX('Analyse Préliminaire Autres'!$E$11:$E$42,A89-nbappomp-nbapven-nbapair),IF($A89<=nbappomp+nbapven+nbapair+nbaautre+nbafroid,INDEX('AP Groupe froid'!$AO$14:$AO$17,$A89-nbappomp-nbapven-nbapair-nbaautre),\"\"))))))","v":""},{"$f":"IF(AN89,\"\",IF($A89<=nbappomp,INDEX('Analyse Préliminaire Pompe'!AQ$13:AQ$47,$A89),IF($A89<=nbappomp+nbapven,INDEX('Analyse Préliminaire Ventilateu'!AO$13:AO$44,$A89-nbappomp),IF($A89<=nbappomp+nbapven+nbapair,consoanncp,IF(A89<=nbappomp+nbapven+nbapair+nbaautre,INDEX('Analyse Préliminaire Autres'!$E$11:$E$42,A89-nbappomp-nbapven-nbapair),IF($A89<=nbappomp+nbapven+nbapair+nbaautre+nbafroid,INDEX('AP Groupe froid'!$AP$14:$AP$17,$A89-nbappomp-nbapven-nbapair-nbaautre),\"\"))))))","v":""},{"$f":"IF(R89=\"\",-1,IF(AND($L89>'Economies classées'!$B$2,$K89>0.2,YEAR(TODAY())-$Z89>8),2,IF(AND($L89>'Economies classées'!$B$3,YEAR(TODAY())-$Z89>5),1,0)))","v":-1},null,null,"",{"$f":"IF($A89<=nbappomp,ISBLANK(INDEX('Analyse Préliminaire Pompe'!AO$13:AO$47,$A89)),IF($A89<=nbappomp+nbapven,ISBLANK(INDEX('Analyse Préliminaire Ventilateu'!AM$13:AM$44,$A89-nbappomp)),IF($A89<=nbappomp+nbapven+nbapair,ISBLANK(EcoAPkWhCP),IF(A89<=nbappomp+nbapven+nbapair+nbaautre,ISBLANK(INDEX('Analyse Préliminaire Autres'!AC$11:AC$42,A89-nbappomp-nbapven-nbapair)),IF(A89<=nbappomp+nbapven+nbapair+nbaautre+nbafroid,ISBLANK(INDEX('AP Groupe froid'!$AN$14:$AN$17,A89-nbappomp-nbapven-nbapair-nbaautre)),FALSE)))))","v":false},{"$f":"IF(E89=Listes!$H$25,1,0)","v":0},{"$f":"IF(E89=Listes!$H$26,1,0)","v":0},0,{"$f":"IF(E89=GF_lis,1,0)","v":0},{"$f":"IF(E89=Listes!$H$28,1,0)","v":0},null,0,0,0,0,0,null,0,0,0,0,0,null,"","","","","",null,-1,-1,-1,-1,null,null,{"$f":"IF(E89=Listes!$H$25,1,0)","v":0},{"$f":"IF(E89=Listes!$H$26,1,0)","v":0},0,0,0,0,{"$f":"IF(E89=$AJ$4,1,0)","v":0},null,{"$f":"IF($L89=\"\",0,BY89*$L89)","v":0},{"$f":"IF($R89=\"\",0,BY89*$R89)","v":0},null,{"$f":"RANK(AG89,$AG$25:$AG$109)","v":{"$error":"#VALUE!"}},{"$f":"IF(E89=$AJ$5,1,0)","v":0},0,0,null,null,null,{"$f":"IF(AND(BS89=1,NOT($AN89)),$AG89,\"\")","v":""},{"$f":"IF(AND(BT89=1,NOT($AN89)),$AG89,\"\")","v":""}]
[66,{"$f":"L90","v":""},null,{"$f":"IF(A90<=nbappomp,INDEX('Analyse Préliminaire Pompe'!$B$13:$B$47,A90),IF(A90<=nbappomp+nbapven,INDEX('Analyse Préliminaire Ventilateu'!$B$13:$B$44,A90-nbappomp),IF(A90<=nbappomp+nbapven+nbapair,301,IF(A90<=nbappomp+nbapven+nbapair+nbaautre,INDEX('Analyse Préliminaire Autres'!$B$11:$B$42,A90-nbappomp-nbapven-nbapair),IF(A90<=nbappomp+nbapven+nbapair+nbaautre+nbafroid,INDEX('AP Groupe froid'!$B$14:$B$17,A90-nbappomp-nbapven-nbapair-nbaautre),\"\")))))","v":""},{"$f":"IF(A90<=nbappomp,INDEX('Analyse Préliminaire Pompe'!$C$13:$C$47,A90),IF(A90<=nbappomp+nbapven,INDEX('Analyse Préliminaire Ventilateu'!$C$13:$C$44,A90-nbappomp),IF(A90<=nbappomp+nbapven+nbapair,$AJ$4,IF(A90<=nbappomp+nbapven+nbapair+nbaautre,INDEX('Analyse Préliminaire Autres'!$C$11:$C$42,A90-nbappomp-nbapven-nbapair),IF(A90<=nbappomp+nbapven+nbapair+nbaautre+nbafroid,INDEX('AP Groupe froid'!$C$14:$C$17,A90-nbappomp-nbapven-nbapair-nbaautre),\"\")))))","v":""},null,null,{"$f":"IF(A90<=nbappomp,INDEX('Analyse Préliminaire Pompe'!$H$13:$H$47,A90),IF(A90<=nbappomp+nbapven,INDEX('Analyse Préliminaire Ventilateu'!$H$13:$H$44,A90-nbappomp),IF(A90<=nbappomp+nbapven+nbapair,$AJ$4,IF(A90<=nbappomp+nbapven+nbapair+nbaautre,INDEX('Analyse Préliminaire Autres'!$H$11:$H$42,A90-nbappomp-nbapven-nbapair),IF(A90<=nbappomp+nbapven+nbapair+nbaautre+nbafroid,INDEX('AP Groupe froid'!$I$14:$I$17,A90-nbappomp-nbapven-nbapair-nbaautre),\"\")))))","v":""},null,null,{"$f":"IF(AH90=\"\",IF($A90<=nbappomp,INDEX('Analyse Préliminaire Pompe'!AE$13:AE$47,$A90),IF($A90<=nbappomp+nbapven,INDEX('Analyse Préliminaire Ventilateu'!AC$13:AC$44,$A90-nbappomp),IF($A90<=nbappomp+nbapven+nbapair,'Analyse Préliminaire air compr'!$AI$22,IF(A90<=nbappomp+nbapven+nbapair+nbaautre,INDEX('Analyse Préliminaire Autres'!$X$11:$X$42,A90-nbappomp-nbapven-nbapair),IF(A90<=nbappomp+nbapven+nbapair+nbaautre+nbafroid,INDEX('AP Groupe froid'!$AF$14:$AF$17,A90-nbappomp-nbapven-nbapair-nbaautre),\"\"))))),AH90)","v":""},{"$f":"IF(AG90=\"\",IF($A90<=nbappomp,INDEX('Analyse Préliminaire Pompe'!AD$13:AD$47,$A90),IF($A90<=nbappomp+nbapven,INDEX('Analyse Préliminaire Ventilateu'!AB$13:AB$44,$A90-nbappomp),IF($A90<=nbappomp+nbapven+nbapair,'Analyse Préliminaire air compr'!$AH$22,IF(A90<=nbappomp+nbapven+nbapair+nbaautre,INDEX('Analyse Préliminaire Autres'!$W$11:$W$42,A90-nbappomp-nbapven-nbapair),IF(A90<=nbappomp+nbapven+nbapair+nbaautre+nbafroid,INDEX('AP Groupe froid'!$AE$14:$AE$17,A90-nbappomp-nbapven-nbapair-nbaautre),\"\"))))),AG90)","v":""},null,"",null,"",null,{"$f":"IF(AI90=\"\",IF($A90<=nbappomp,INDEX('Analyse Préliminaire Pompe'!T$13:T$47,$A90),IF($A90<=nbappomp+nbapven,INDEX('Analyse Préliminaire Ventilateu'!R$13:R$44,$A90-nbappomp),IF($A90<=nbappomp+nbapven+nbapair,'Analyse Préliminaire air compr'!$AH$13,IF(A90<=nbappomp+nbapven+nbapair+nbaautre,INDEX('Analyse Préliminaire Autres'!$P$11:$P$42,A90-nbappomp-nbapven-nbapair),IF(A90<=nbappomp+nbapven+nbapair+nbaautre+nbafroid,INDEX('AP Groupe froid'!$AD$14:$AD$17,A90-nbappomp-nbapven-nbapair-nbaautre),\"\"))))),AI90)","v":""},null,{"$f":"IF($A90<=nbappomp,INDEX('Analyse Préliminaire Pompe'!X$13:X$47,$A90),IF($A90<=nbappomp+nbapven,INDEX('Analyse Préliminaire Ventilateu'!V$13:V$44,$A90-nbappomp),IF($A90<=nbappomp+nbapven+nbapair,'Analyse Préliminaire air compr'!$E$35,IF(A90<=nbappomp+nbapven+nbapair+nbaautre,INDEX('Analyse Préliminaire Autres'!$R$11:$R$42,A90-nbappomp-nbapven-nbapair),IF(A90<=nbappomp+nbapven+nbapair+nbaautre+nbafroid,INDEX('AP Groupe froid'!$Z$14:$Z$17,A90-nbappomp-nbapven-nbapair-nbaautre),\"\")))))","v":""},null,null,{"$f":"IF(AG90=\"\",IF($A90<=nbappomp,INDEX('Analyse Préliminaire Pompe'!AN$13:AN$47,$A90),IF($A90<=nbappomp+nbapven,INDEX('Analyse Préliminaire Ventilateu'!AL$13:AL$44,$A90-nbappomp),IF($A90<=nbappomp+nbapven+nbapair,'Analyse Préliminaire air compr'!$AM$16,IF(A90<=nbappomp+nbapven+nbapair+nbaautre,INDEX('Analyse Préliminaire Autres'!$AB$11:$AB$42,A90-nbappomp-nbapven-nbapair),IF(A90<=nbappomp+nbapven+nbapair+nbaautre+nbafroid,INDEX('AP Groupe froid'!$AM$14:$AM$17,A90-nbappomp-nbapven-nbapair-nbaautre),\"\"))))),'Economies classées'!$A$47)","v":""},{"$f":"IF($A90<=nbappomp,INDEX('Analyse Préliminaire Pompe'!E$13:E$47,$A90),IF($A90<=nbappomp+nbapven,INDEX('Analyse Préliminaire Ventilateu'!E$13:E$44,$A90-nbappomp),IF($A90<=nbappomp+nbapven+nbapair,\"voir detail\",IF(A90<=nbappomp+nbapven+nbapair+nbaautre,INDEX('Analyse Préliminaire Autres'!$E$11:$E$42,A90-nbappomp-nbapven-nbapair),IF(A90<=nbappomp+nbapven+nbapair+nbaautre+nbafroid,INDEX('AP Groupe froid'!$F$14:$F$17,A90-nbappomp-nbapven-nbapair-nbaautre),\"\")))))","v":""},{"$f":"IF($A90<=nbappomp,INDEX('Analyse Préliminaire Pompe'!K$13:K$47,$A90),IF($A90<=nbappomp+nbapven,INDEX('Analyse Préliminaire Ventilateu'!K$13:K$44,$A90-nbappomp),IF($A90<=nbappomp+nbapven+nbapair,SUM('Analyse Préliminaire air compr'!$I$26:$I$32),IF(A90<=nbappomp+nbapven+nbapair+nbaautre,INDEX('Analyse Préliminaire Autres'!$K$11:$K$42,A90-nbappomp-nbapven-nbapair),IF(A90<=nbappomp+nbapven+nbapair+nbaautre+nbafroid,INDEX('AP Groupe froid'!$O$14:$O$17,A90-nbappomp-nbapven-nbapair-nbaautre),\"\")))))","v":""},{"$f":"IF($A90<=nbappomp,INDEX('Analyse Préliminaire Pompe'!L$13:L$47,$A90),IF($A90<=nbappomp+nbapven,INDEX('Analyse Préliminaire Ventilateu'!L$13:L$44,$A90-nbappomp),IF($A90<=nbappomp+nbapven+nbapair,MIN('Analyse Préliminaire air compr'!$J$26:$J$32),IF(A90<=nbappomp+nbapven+nbapair+nbaautre,INDEX('Analyse Préliminaire Autres'!$L$11:$L$42,A90-nbappomp-nbapven-nbapair),IF($A90<=nbappomp+nbapven+nbapair,'Analyse Préliminaire air compr'!$AM$16,IF(A90<=nbappomp+nbapven+nbapair+nbaautre+nbafroid,INDEX('AP Groupe froid'!$L$14:$L$17,A90-nbappomp-nbapven-nbapair-nbaautre),\"\"))))))","v":""},{"$f":"IF($A90<=nbappomp,INDEX('Analyse Préliminaire Pompe'!M$13:M$47,$A90),IF($A90<=nbappomp+nbapven,INDEX('Analyse Préliminaire Ventilateu'!M$13:M$44,$A90-nbappomp),IF($A90<=nbappomp+nbapven+nbapair,\"\",IF(A90<=nbappomp+nbapven+nbapair+nbaautre,INDEX('Analyse Préliminaire Autres'!$M$11:$M$42,A90-nbappomp-nbapven-nbapair),IF($A90<=nbappomp+nbapven+nbapair,'Analyse Préliminaire air compr'!$AM$16,IF(A90<=nbappomp+nbapven+nbapair+nbaautre+nbafroid,INDEX('AP Groupe froid'!$M$14:$M$17,A90-nbappomp-nbapven-nbapair-nbaautre),\"\"))))))","v":""},{"$f":"IF($A90<=nbappomp,INDEX('Analyse Préliminaire Pompe'!N$13:N$47,$A90),IF($A90<=nbappomp+nbapven,INDEX('Analyse Préliminaire Ventilateu'!N$13:N$44,$A90-nbappomp),IF($A90<=nbappomp+nbapven+nbapair,\"\",IF(A90<=nbappomp+nbapven+nbapair+nbaautre,INDEX('Analyse Préliminaire Autres'!$N$11:$N$42,A90-nbappomp-nbapven-nbapair),\"\"))))","v":""},{"$f":"IF($A90<=nbappomp,INDEX('Analyse Préliminaire Pompe'!O$13:O$47,$A90),IF($A90<=nbappomp+nbapven,INDEX('Analyse Préliminaire Ventilateu'!O$13:O$44,$A90-nbappomp),IF($A90<=nbappomp+nbapven+nbapair,\"\",IF(A90<=nbappomp+nbapven+nbapair+nbaautre,INDEX('Analyse Préliminaire Autres'!$O$11:$O$42,A90-nbappomp-nbapven-nbapair),\"\"))))","v":""},{"$f":"IF($A90<=nbappomp,INDEX('Analyse Préliminaire Pompe'!P$13:P$47,$A90),IF($A90<=nbappomp+nbapven,INDEX('Analyse Préliminaire Ventilateu'!P$13:P$44,$A90-nbappomp),IF($A90<=nbappomp+nbapven+nbapair,\"\",IF(A90<=nbappomp+nbapven+nbapair+nbaautre,INDEX('Analyse Préliminaire Autres'!#REF!,A90-nbappomp-nbapven-nbapair),\"\"))))","v":""},{"$f":"IF($A90<=nbappomp,INDEX('Analyse Préliminaire Pompe'!Q$13:Q$47,$A90),IF($A90<=nbappomp+nbapven,\"\",IF($A90<=nbappomp+nbapven+nbapair,\"\",\"\")))","v":""},{"$f":"IF(AI90=\"\",IF($A90<=nbappomp,INDEX('Analyse Préliminaire Pompe'!S$13:S$47,$A90),IF($A90<=nbappomp+nbapven,INDEX('Analyse Préliminaire Ventilateu'!Q$13:Q$44,$A90-nbappomp),IF($A90<=nbappomp+nbapven+nbapair,\"\",IF(A90<=nbappomp+nbapven+nbapair+nbaautre,\"\",\"\")))),AI90)","v":""},{"$f":"IF(AN90,\"\",IF($A90<=nbappomp,INDEX('Analyse Préliminaire Pompe'!AO$13:AO$47,$A90),IF($A90<=nbappomp+nbapven,INDEX('Analyse Préliminaire Ventilateu'!AM$13:AM$44,$A90-nbappomp),IF($A90<=nbappomp+nbapven+nbapair,EcoAPkWhCP,IF(A90<=nbappomp+nbapven+nbapair+nbaautre,INDEX('Analyse Préliminaire Autres'!$E$11:$E$42,A90-nbappomp-nbapven-nbapair),IF($A90<=nbappomp+nbapven+nbapair+nbaautre+nbafroid,INDEX('AP Groupe froid'!$AN$14:$AN$17,$A90-nbappomp-nbapven-nbapair-nbaautre),\"\"))))))","v":""},{"$f":"IF(AN90,\"\",IF($A90<=nbappomp,INDEX('Analyse Préliminaire Pompe'!AP$13:AP$47,$A90),IF($A90<=nbappomp+nbapven,INDEX('Analyse Préliminaire Ventilateu'!AN$13:AN$44,$A90-nbappomp),IF($A90<=nbappomp+nbapven+nbapair,EcoAPpercCP,IF(A90<=nbappomp+nbapven+nbapair+nbaautre,INDEX('Analyse Préliminaire Autres'!$E$11:$E$42,A90-nbappomp-nbapven-nbapair),IF($A90<=nbappomp+nbapven+nbapair+nbaautre+nbafroid,INDEX('AP Groupe froid'!$AO$14:$AO$17,$A90-nbappomp-nbapven-nbapair-nbaautre),\"\"))))))","v":""},{"$f":"IF(AN90,\"\",IF($A90<=nbappomp,INDEX('Analyse Préliminaire Pompe'!AQ$13:AQ$47,$A90),IF($A90<=nbappomp+nbapven,INDEX('Analyse Préliminaire Ventilateu'!AO$13:AO$44,$A90-nbappomp),IF($A90<=nbappomp+nbapven+nbapair,consoanncp,IF(A90<=nbappomp+nbapven+nbapair+nbaautre,INDEX('Analyse Préliminaire Autres'!$E$11:$E$42,A90-nbappomp-nbapven-nbapair),IF($A90<=nbappomp+nbapven+nbapair+nbaautre+nbafroid,INDEX('AP Groupe froid'!$AP$14:$AP$17,$A90-nbappomp-nbapven-nbapair-nbaautre),\"\"))))))","v":""},{"$f":"IF(R90=\"\",-1,IF(AND($L90>'Economies classées'!$B$2,$K90>0.2,YEAR(TODAY())-$Z90>8),2,IF(AND($L90>'Economies classées'!$B$3,YEAR(TODAY())-$Z90>5),1,0)))","v":-1},null,null,"",{"$f":"IF($A90<=nbappomp,ISBLANK(INDEX('Analyse Préliminaire Pompe'!AO$13:AO$47,$A90)),IF($A90<=nbappomp+nbapven,ISBLANK(INDEX('Analyse Préliminaire Ventilateu'!AM$13:AM$44,$A90-nbappomp)),IF($A90<=nbappomp+nbapven+nbapair,ISBLANK(EcoAPkWhCP),IF(A90<=nbappomp+nbapven+nbapair+nbaautre,ISBLANK(INDEX('Analyse Préliminaire Autres'!AC$11:AC$42,A90-nbappomp-nbapven-nbapair)),IF(A90<=nbappomp+nbapven+nbapair+nbaautre+nbafroid,ISBLANK(INDEX('AP Groupe froid'!$AN$14:$AN$17,A90-nbappomp-nbapven-nbapair-nbaautre)),FALSE)))))","v":false},{"$f":"IF(E90=Listes!$H$25,1,0)","v":0},{"$f":"IF(E90=Listes!$H$26,1,0)","v":0},{"$f":"IF(E90=$AJ$4,1,0)","v":0},0,{"$f":"IF(E90=Listes!$H$28,1,0)","v":0},null,{"$f":"IF($L90=\"\",0,AO90*$L90)","v":0},{"$f":"IF($L90=\"\",0,AP90*$L90)","v":0},{"$f":"IF($L90=\"\",0,AQ90*$L90)","v":0},{"$f":"IF($L90=\"\",0,AR90*$L90)","v":0},{"$f":"IF($L90=\"\",0,AS90*$L90)","v":0},null,{"$f":"IF($R90=\"\",0,AO90*$R90)","v":0},{"$f":"IF($R90=\"\",0,AP90*$R90)","v":0},{"$f":"IF($R90=\"\",0,AQ90*$R90)","v":0},{"$f":"IF($R90=\"\",0,AR90*$R90)","v":0},{"$f":"IF($R90=\"\",0,AS90*$R90)","v":0},null,{"$f":"IF(AND(AO90=1,NOT($AN90)),$A90,\"\")","v":""},{"$f":"IF(AND(AP90=1,NOT($AN90)),$A90,\"\")","v":""},{"$f":"IF(AND(AQ90=1,NOT($AN90)),$A90,\"\")","v":""},{"$f":"IF(AND(AR90=1,NOT($AN90)),$A90,\"\")","v":""},{"$f":"IF(AND(AS90=1,NOT($AN90)),$A90,\"\")","v":""},null,{"$f":"IFERROR(RANK(BG90,BG$25:BG$109),-1)","v":-1},{"$f":"IFERROR(RANK(BH90,BH$25:BH$109),-1)","v":-1},{"$f":"IFERROR(RANK(BI90,BI$25:BI$109),-1)","v":-1},{"$f":"IFERROR(RANK(BJ90,BJ$25:BJ$109),-1)","v":-1},null,null,{"$f":"IF(E90=Listes!$H$25,1,0)","v":0},{"$f":"IF(E90=Listes!$H$26,1,0)","v":0},0,0,{"$f":"IF($R90=\"\",0,BS90*$R90)","v":0},{"$f":"IF($R90=\"\",0,BT90*$R90)","v":0},0,null,0,0,null,{"$error":"#VALUE!"},0,{"$f":"IF($L90=\"\",0,CE90*$L90)","v":0},{"$f":"IF($R90=\"\",0,CE90*$R90)","v":0},null,null,null,"",""]
[67,"",null,{"$f":"IF(A91<=nbappomp,INDEX('Analyse Préliminaire Pompe'!$B$13:$B$47,A91),IF(A91<=nbappomp+nbapven,INDEX('Analyse Préliminaire Ventilateu'!$B$13:$B$44,A91-nbappomp),IF(A91<=nbappomp+nbapven+nbapair,301,IF(A91<=nbappomp+nbapven+nbapair+nbaautre,INDEX('Analyse Préliminaire Autres'!$B$11:$B$42,A91-nbappomp-nbapven-nbapair),IF(A91<=nbappomp+nbapven+nbapair+nbaautre+nbafroid,INDEX('AP Groupe froid'!$B$14:$B$17,A91-nbappomp-nbapven-nbapair-nbaautre),\"\")))))","v":""},{"$f":"IF(A91<=nbappomp,INDEX('Analyse Préliminaire Pompe'!$C$13:$C$47,A91),IF(A91<=nbappomp+nbapven,INDEX('Analyse Préliminaire Ventilateu'!$C$13:$C$44,A91-nbappomp),IF(A91<=nbappomp+nbapven+nbapair,$AJ$4,IF(A91<=nbappomp+nbapven+nbapair+nbaautre,INDEX('Analyse Préliminaire Autres'!$C$11:$C$42,A91-nbappomp-nbapven-nbapair),IF(A91<=nbappomp+nbapven+nbapair+nbaautre+nbafroid,INDEX('AP Groupe froid'!$C$14:$C$17,A91-nbappomp-nbapven-nbapair-nbaautre),\"\")))))","v":""},null,null,{"$f":"IF(A91<=nbappomp,INDEX('Analyse Préliminaire Pompe'!$H$13:$H$47,A91),IF(A91<=nbappomp+nbapven,INDEX('Analyse Préliminaire Ventilateu'!$H$13:$H$44,A91-nbappomp),IF(A91<=nbappomp+nbapven+nbapair,$AJ$4,IF(A91<=nbappomp+nbapven+nbapair+nbaautre,INDEX('Analyse Préliminaire Autres'!$H$11:$H$42,A91-nbappomp-nbapven-nbapair),IF(A91<=nbappomp+nbapven+nbapair+nbaautre+nbafroid,INDEX('AP Groupe froid'!$I$14:$I$17,A91-nbappomp-nbapven-nbapair-nbaautre),\"\")))))","v":""},null,null,{"$f":"IF(AH91=\"\",IF($A91<=nbappomp,INDEX('Analyse Préliminaire Pompe'!AE$13:AE$47,$A91),IF($A91<=nbappomp+nbapven,INDEX('Analyse Préliminaire Ventilateu'!AC$13:AC$44,$A91-nbappomp),IF($A91<=nbappomp+nbapven+nbapair,'Analyse Préliminaire air compr'!$AI$22,IF(A91<=nbappomp+nbapven+nbapair+nbaautre,INDEX('Analyse Préliminaire Autres'!$X$11:$X$42,A91-nbappomp-nbapven-nbapair),IF(A91<=nbappomp+nbapven+nbapair+nbaautre+nbafroid,INDEX('AP Groupe froid'!$AF$14:$AF$17,A91-nbappomp-nbapven-nbapair-nbaautre),\"\"))))),AH91)","v":""},{"$f":"IF(AG91=\"\",IF($A91<=nbappomp,INDEX('Analyse Préliminaire Pompe'!AD$13:AD$47,$A91),IF($A91<=nbappomp+nbapven,INDEX('Analyse Préliminaire Ventilateu'!AB$13:AB$44,$A91-nbappomp),IF($A91<=nbappomp+nbapven+nbapair,'Analyse Préliminaire air compr'!$AH$22,IF(A91<=nbappomp+nbapven+nbapair+nbaautre,INDEX('Analyse Préliminaire Autres'!$W$11:$W$42,A91-nbappomp-nbapven-nbapair),IF(A91<=nbappomp+nbapven+nbapair+nbaautre+nbafroid,INDEX('AP Groupe froid'!$AE$14:$AE$17,A91-nbappomp-nbapven-nbapair-nbaautre),\"\"))))),AG91)","v":""},null,"",null,"",null,{"$f":"IF(AI91=\"\",IF($A91<=nbappomp,INDEX('Analyse Préliminaire Pompe'!T$13:T$47,$A91),IF($A91<=nbappomp+nbapven,INDEX('Analyse Préliminaire Ventilateu'!R$13:R$44,$A91-nbappomp),IF($A91<=nbappomp+nbapven+nbapair,'Analyse Préliminaire air compr'!$AH$13,IF(A91<=nbappomp+nbapven+nbapair+nbaautre,INDEX('Analyse Préliminaire Autres'!$P$11:$P$42,A91-nbappomp-nbapven-nbapair),IF(A91<=nbappomp+nbapven+nbapair+nbaautre+nbafroid,INDEX('AP Groupe froid'!$AD$14:$AD$17,A91-nbappomp-nbapven-nbapair-nbaautre),\"\"))))),AI91)","v":""},null,{"$f":"IF($A91<=nbappomp,INDEX('Analyse Préliminaire Pompe'!X$13:X$47,$A91),IF($A91<=nbappomp+nbapven,INDEX('Analyse Préliminaire Ventilateu'!V$13:V$44,$A91-nbappomp),IF($A91<=nbappomp+nbapven+nbapair,'Analyse Préliminaire air compr'!$E$35,IF(A91<=nbappomp+nbapven+nbapair+nbaautre,INDEX('Analyse Préliminaire Autres'!$R$11:$R$42,A91-nbappomp-nbapven-nbapair),IF(A91<=nbappomp+nbapven+nbapair+nbaautre+nbafroid,INDEX('AP Groupe froid'!$Z$14:$Z$17,A91-nbappomp-nbapven-nbapair-nbaautre),\"\")))))","v":""},null,null,{"$f":"IF(AG91=\"\",IF($A91<=nbappomp,INDEX('Analyse Préliminaire Pompe'!AN$13:AN$47,$A91),IF($A91<=nbappomp+nbapven,INDEX('Analyse Préliminaire Ventilateu'!AL$13:AL$44,$A91-nbappomp),IF($A91<=nbappomp+nbapven+nbapair,'Analyse Préliminaire air compr'!$AM$16,IF(A91<=nbappomp+nbapven+nbapair+nbaautre,INDEX('Analyse Préliminaire Autres'!$AB$11:$AB$42,A91-nbappomp-nbapven-nbapair),IF(A91<=nbappomp+nbapven+nbapair+nbaautre+nbafroid,INDEX('AP Groupe froid'!$AM$14:$AM$17,A91-nbappomp-nbapven-nbapair-nbaautre),\"\"))))),'Economies classées'!$A$47)","v":""},{"$f":"IF($A91<=nbappomp,INDEX('Analyse Préliminaire Pompe'!E$13:E$47,$A91),IF($A91<=nbappomp+nbapven,INDEX('Analyse Préliminaire Ventilateu'!E$13:E$44,$A91-nbappomp),IF($A91<=nbappomp+nbapven+nbapair,\"voir detail\",IF(A91<=nbappomp+nbapven+nbapair+nbaautre,INDEX('Analyse Préliminaire Autres'!$E$11:$E$42,A91-nbappomp-nbapven-nbapair),IF(A91<=nbappomp+nbapven+nbapair+nbaautre+nbafroid,INDEX('AP Groupe froid'!$F$14:$F$17,A91-nbappomp-nbapven-nbapair-nbaautre),\"\")))))","v":""},{"$f":"IF($A91<=nbappomp,INDEX('Analyse Préliminaire Pompe'!K$13:K$47,$A91),IF($A91<=nbappomp+nbapven,INDEX('Analyse Préliminaire Ventilateu'!K$13:K$44,$A91-nbappomp),IF($A91<=nbappomp+nbapven+nbapair,SUM('Analyse Préliminaire air compr'!$I$26:$I$32),IF(A91<=nbappomp+nbapven+nbapair+nbaautre,INDEX('Analyse Préliminaire Autres'!$K$11:$K$42,A91-nbappomp-nbapven-nbapair),IF(A91<=nbappomp+nbapven+nbapair+nbaautre+nbafroid,INDEX('AP Groupe froid'!$O$14:$O$17,A91-nbappomp-nbapven-nbapair-nbaautre),\"\")))))","v":""},{"$f":"IF($A91<=nbappomp,INDEX('Analyse Préliminaire Pompe'!L$13:L$47,$A91),IF($A91<=nbappomp+nbapven,INDEX('Analyse Préliminaire Ventilateu'!L$13:L$44,$A91-nbappomp),IF($A91<=nbappomp+nbapven+nbapair,MIN('Analyse Préliminaire air compr'!$J$26:$J$32),IF(A91<=nbappomp+nbapven+nbapair+nbaautre,INDEX('Analyse Préliminaire Autres'!$L$11:$L$42,A91-nbappomp-nbapven-nbapair),IF($A91<=nbappomp+nbapven+nbapair,'Analyse Préliminaire air compr'!$AM$16,IF(A91<=nbappomp+nbapven+nbapair+nbaautre+nbafroid,INDEX('AP Groupe froid'!$L$14:$L$17,A91-nbappomp-nbapven-nbapair-nbaautre),\"\"))))))","v":""},{"$f":"IF($A91<=nbappomp,INDEX('Analyse Préliminaire Pompe'!M$13:M$47,$A91),IF($A91<=nbappomp+nbapven,INDEX('Analyse Préliminaire Ventilateu'!M$13:M$44,$A91-nbappomp),IF($A91<=nbappomp+nbapven+nbapair,\"\",IF(A91<=nbappomp+nbapven+nbapair+nbaautre,INDEX('Analyse Préliminaire Autres'!$M$11:$M$42,A91-nbappomp-nbapven-nbapair),IF($A91<=nbappomp+nbapven+nbapair,'Analyse Préliminaire air compr'!$AM$16,IF(A91<=nbappomp+nbapven+nbapair+nbaautre+nbafroid,INDEX('AP Groupe froid'!$M$14:$M$17,A91-nbappomp-nbapven-nbapair-nbaautre),\"\"))))))","v":""},{"$f":"IF($A91<=nbappomp,INDEX('Analyse Préliminaire Pompe'!N$13:N$47,$A91),IF($A91<=nbappomp+nbapven,INDEX('Analyse Préliminaire Ventilateu'!N$13:N$44,$A91-nbappomp),IF($A91<=nbappomp+nbapven+nbapair,\"\",IF(A91<=nbappomp+nbapven+nbapair+nbaautre,INDEX('Analyse Préliminaire Autres'!$N$11:$N$42,A91-nbappomp-nbapven-nbapair),\"\"))))","v":""},{"$f":"IF($A91<=nbappomp,INDEX('Analyse Préliminaire Pompe'!O$13:O$47,$A91),IF($A91<=nbappomp+nbapven,INDEX('Analyse Préliminaire Ventilateu'!O$13:O$44,$A91-nbappomp),IF($A91<=nbappomp+nbapven+nbapair,\"\",IF(A91<=nbappomp+nbapven+nbapair+nbaautre,INDEX('Analyse Préliminaire Autres'!$O$11:$O$42,A91-nbappomp-nbapven-nbapair),\"\"))))","v":""},{"$f":"IF($A91<=nbappomp,INDEX('Analyse Préliminaire Pompe'!P$13:P$47,$A91),IF($A91<=nbappomp+nbapven,INDEX('Analyse Préliminaire Ventilateu'!P$13:P$44,$A91-nbappomp),IF($A91<=nbappomp+nbapven+nbapair,\"\",IF(A91<=nbappomp+nbapven+nbapair+nbaautre,INDEX('Analyse Préliminaire Autres'!#REF!,A91-nbappomp-nbapven-nbapair),\"\"))))","v":""},{"$f":"IF($A91<=nbappomp,INDEX('Analyse Préliminaire Pompe'!Q$13:Q$47,$A91),IF($A91<=nbappomp+nbapven,\"\",IF($A91<=nbappomp+nbapven+nbapair,\"\",\"\")))","v":""},{"$f":"IF(AI91=\"\",IF($A91<=nbappomp,INDEX('Analyse Préliminaire Pompe'!S$13:S$47,$A91),IF($A91<=nbappomp+nbapven,INDEX('Analyse Préliminaire Ventilateu'!Q$13:Q$44,$A91-nbappomp),IF($A91<=nbappomp+nbapven+nbapair,\"\",IF(A91<=nbappomp+nbapven+nbapair+nbaautre,\"\",\"\")))),AI91)","v":""},{"$f":"IF(AN91,\"\",IF($A91<=nbappomp,INDEX('Analyse Préliminaire Pompe'!AO$13:AO$47,$A91),IF($A91<=nbappomp+nbapven,INDEX('Analyse Préliminaire Ventilateu'!AM$13:AM$44,$A91-nbappomp),IF($A91<=nbappomp+nbapven+nbapair,EcoAPkWhCP,IF(A91<=nbappomp+nbapven+nbapair+nbaautre,INDEX('Analyse Préliminaire Autres'!$E$11:$E$42,A91-nbappomp-nbapven-nbapair),IF($A91<=nbappomp+nbapven+nbapair+nbaautre+nbafroid,INDEX('AP Groupe froid'!$AN$14:$AN$17,$A91-nbappomp-nbapven-nbapair-nbaautre),\"\"))))))","v":""},{"$f":"IF(AN91,\"\",IF($A91<=nbappomp,INDEX('Analyse Préliminaire Pompe'!AP$13:AP$47,$A91),IF($A91<=nbappomp+nbapven,INDEX('Analyse Préliminaire Ventilateu'!AN$13:AN$44,$A91-nbappomp),IF($A91<=nbappomp+nbapven+nbapair,EcoAPpercCP,IF(A91<=nbappomp+nbapven+nbapair+nbaautre,INDEX('Analyse Préliminaire Autres'!$E$11:$E$42,A91-nbappomp-nbapven-nbapair),IF($A91<=nbappomp+nbapven+nbapair+nbaautre+nbafroid,INDEX('AP Groupe froid'!$AO$14:$AO$17,$A91-nbappomp-nbapven-nbapair-nbaautre),\"\"))))))","v":""},{"$f":"IF(AN91,\"\",IF($A91<=nbappomp,INDEX('Analyse Préliminaire Pompe'!AQ$13:AQ$47,$A91),IF($A91<=nbappomp+nbapven,INDEX('Analyse Préliminaire Ventilateu'!AO$13:AO$44,$A91-nbappomp),IF($A91<=nbappomp+nbapven+nbapair,consoanncp,IF(A91<=nbappomp+nbapven+nbapair+nbaautre,INDEX('Analyse Préliminaire Autres'!$E$11:$E$42,A91-nbappomp-nbapven-nbapair),IF($A91<=nbappomp+nbapven+nbapair+nbaautre+nbafroid,INDEX('AP Groupe froid'!$AP$14:$AP$17,$A91-nbappomp-nbapven-nbapair-nbaautre),\"\"))))))","v":""},{"$f":"IF(R91=\"\",-1,IF(AND($L91>'Economies classées'!$B$2,$K91>0.2,YEAR(TODAY())-$Z91>8),2,IF(AND($L91>'Economies classées'!$B$3,YEAR(TODAY())-$Z91>5),1,0)))","v":-1},null,null,{"$f":"IF(AG91=\"\",\"\",IF(AO91=1,\"APP_\",IF(AP91=1,\"APVe_\",IF(AQ91=1,\"APCP_\",IF(AR91=1,\"APPGF_\",1))))& D91)","v":""},{"$f":"IF($A91<=nbappomp,ISBLANK(INDEX('Analyse Préliminaire Pompe'!AO$13:AO$47,$A91)),IF($A91<=nbappomp+nbapven,ISBLANK(INDEX('Analyse Préliminaire Ventilateu'!AM$13:AM$44,$A91-nbappomp)),IF($A91<=nbappomp+nbapven+nbapair,ISBLANK(EcoAPkWhCP),IF(A91<=nbappomp+nbapven+nbapair+nbaautre,ISBLANK(INDEX('Analyse Préliminaire Autres'!AC$11:AC$42,A91-nbappomp-nbapven-nbapair)),IF(A91<=nbappomp+nbapven+nbapair+nbaautre+nbafroid,ISBLANK(INDEX('AP Groupe froid'!$AN$14:$AN$17,A91-nbappomp-nbapven-nbapair-nbaautre)),FALSE)))))","v":false},{"$f":"IF(E91=Listes!$H$25,1,0)","v":0},{"$f":"IF(E91=Listes!$H$26,1,0)","v":0},0,0,{"$f":"IF(E91=Listes!$H$28,1,0)","v":0},null,0,0,0,0,0,null,0,0,0,0,0,null,"","","","","",null,-1,-1,-1,-1,null,null,{"$f":"IF(E91=Listes!$H$25,1,0)","v":0},{"$f":"IF(E91=Listes!$H$26,1,0)","v":0},0,0,0,0,0,null,0,0,null,{"$error":"#VALUE!"},0,0,0,null,null,null,"",""]
[68,"",null,{"$f":"IF(A92<=nbappomp,INDEX('Analyse Préliminaire Pompe'!$B$13:$B$47,A92),IF(A92<=nbappomp+nbapven,INDEX('Analyse Préliminaire Ventilateu'!$B$13:$B$44,A92-nbappomp),IF(A92<=nbappomp+nbapven+nbapair,301,IF(A92<=nbappomp+nbapven+nbapair+nbaautre,INDEX('Analyse Préliminaire Autres'!$B$11:$B$42,A92-nbappomp-nbapven-nbapair),IF(A92<=nbappomp+nbapven+nbapair+nbaautre+nbafroid,INDEX('AP Groupe froid'!$B$14:$B$17,A92-nbappomp-nbapven-nbapair-nbaautre),\"\")))))","v":""},{"$f":"IF(A92<=nbappomp,INDEX('Analyse Préliminaire Pompe'!$C$13:$C$47,A92),IF(A92<=nbappomp+nbapven,INDEX('Analyse Préliminaire Ventilateu'!$C$13:$C$44,A92-nbappomp),IF(A92<=nbappomp+nbapven+nbapair,$AJ$4,IF(A92<=nbappomp+nbapven+nbapair+nbaautre,INDEX('Analyse Préliminaire Autres'!$C$11:$C$42,A92-nbappomp-nbapven-nbapair),IF(A92<=nbappomp+nbapven+nbapair+nbaautre+nbafroid,INDEX('AP Groupe froid'!$C$14:$C$17,A92-nbappomp-nbapven-nbapair-nbaautre),\"\")))))","v":""},null,null,{"$f":"IF(A92<=nbappomp,INDEX('Analyse Préliminaire Pompe'!$H$13:$H$47,A92),IF(A92<=nbappomp+nbapven,INDEX('Analyse Préliminaire Ventilateu'!$H$13:$H$44,A92-nbappomp),IF(A92<=nbappomp+nbapven+nbapair,$AJ$4,IF(A92<=nbappomp+nbapven+nbapair+nbaautre,INDEX('Analyse Préliminaire Autres'!$H$11:$H$42,A92-nbappomp-nbapven-nbapair),IF(A92<=nbappomp+nbapven+nbapair+nbaautre+nbafroid,INDEX('AP Groupe froid'!$I$14:$I$17,A92-nbappomp-nbapven-nbapair-nbaautre),\"\")))))","v":""},null,null,{"$f":"IF(AH92=\"\",IF($A92<=nbappomp,INDEX('Analyse Préliminaire Pompe'!AE$13:AE$47,$A92),IF($A92<=nbappomp+nbapven,INDEX('Analyse Préliminaire Ventilateu'!AC$13:AC$44,$A92-nbappomp),IF($A92<=nbappomp+nbapven+nbapair,'Analyse Préliminaire air compr'!$AI$22,IF(A92<=nbappomp+nbapven+nbapair+nbaautre,INDEX('Analyse Préliminaire Autres'!$X$11:$X$42,A92-nbappomp-nbapven-nbapair),IF(A92<=nbappomp+nbapven+nbapair+nbaautre+nbafroid,INDEX('AP Groupe froid'!$AF$14:$AF$17,A92-nbappomp-nbapven-nbapair-nbaautre),\"\"))))),AH92)","v":""},{"$f":"IF(AG92=\"\",IF($A92<=nbappomp,INDEX('Analyse Préliminaire Pompe'!AD$13:AD$47,$A92),IF($A92<=nbappomp+nbapven,INDEX('Analyse Préliminaire Ventilateu'!AB$13:AB$44,$A92-nbappomp),IF($A92<=nbappomp+nbapven+nbapair,'Analyse Préliminaire air compr'!$AH$22,IF(A92<=nbappomp+nbapven+nbapair+nbaautre,INDEX('Analyse Préliminaire Autres'!$W$11:$W$42,A92-nbappomp-nbapven-nbapair),IF(A92<=nbappomp+nbapven+nbapair+nbaautre+nbafroid,INDEX('AP Groupe froid'!$AE$14:$AE$17,A92-nbappomp-nbapven-nbapair-nbaautre),\"\"))))),AG92)","v":""},null,"",null,"",null,{"$f":"IF(AI92=\"\",IF($A92<=nbappomp,INDEX('Analyse Préliminaire Pompe'!T$13:T$47,$A92),IF($A92<=nbappomp+nbapven,INDEX('Analyse Préliminaire Ventilateu'!R$13:R$44,$A92-nbappomp),IF($A92<=nbappomp+nbapven+nbapair,'Analyse Préliminaire air compr'!$AH$13,IF(A92<=nbappomp+nbapven+nbapair+nbaautre,INDEX('Analyse Préliminaire Autres'!$P$11:$P$42,A92-nbappomp-nbapven-nbapair),IF(A92<=nbappomp+nbapven+nbapair+nbaautre+nbafroid,INDEX('AP Groupe froid'!$AD$14:$AD$17,A92-nbappomp-nbapven-nbapair-nbaautre),\"\"))))),AI92)","v":""},null,{"$f":"IF($A92<=nbappomp,INDEX('Analyse Préliminaire Pompe'!X$13:X$47,$A92),IF($A92<=nbappomp+nbapven,INDEX('Analyse Préliminaire Ventilateu'!V$13:V$44,$A92-nbappomp),IF($A92<=nbappomp+nbapven+nbapair,'Analyse Préliminaire air compr'!$E$35,IF(A92<=nbappomp+nbapven+nbapair+nbaautre,INDEX('Analyse Préliminaire Autres'!$R$11:$R$42,A92-nbappomp-nbapven-nbapair),IF(A92<=nbappomp+nbapven+nbapair+nbaautre+nbafroid,INDEX('AP Groupe froid'!$Z$14:$Z$17,A92-nbappomp-nbapven-nbapair-nbaautre),\"\")))))","v":""},null,null,{"$f":"IF(AG92=\"\",IF($A92<=nbappomp,INDEX('Analyse Préliminaire Pompe'!AN$13:AN$47,$A92),IF($A92<=nbappomp+nbapven,INDEX('Analyse Préliminaire Ventilateu'!AL$13:AL$44,$A92-nbappomp),IF($A92<=nbappomp+nbapven+nbapair,'Analyse Préliminaire air compr'!$AM$16,IF(A92<=nbappomp+nbapven+nbapair+nbaautre,INDEX('Analyse Préliminaire Autres'!$AB$11:$AB$42,A92-nbappomp-nbapven-nbapair),IF(A92<=nbappomp+nbapven+nbapair+nbaautre+nbafroid,INDEX('AP Groupe froid'!$AM$14:$AM$17,A92-nbappomp-nbapven-nbapair-nbaautre),\"\"))))),'Economies classées'!$A$47)","v":""},{"$f":"IF($A92<=nbappomp,INDEX('Analyse Préliminaire Pompe'!E$13:E$47,$A92),IF($A92<=nbappomp+nbapven,INDEX('Analyse Préliminaire Ventilateu'!E$13:E$44,$A92-nbappomp),IF($A92<=nbappomp+nbapven+nbapair,\"voir detail\",IF(A92<=nbappomp+nbapven+nbapair+nbaautre,INDEX('Analyse Préliminaire Autres'!$E$11:$E$42,A92-nbappomp-nbapven-nbapair),IF(A92<=nbappomp+nbapven+nbapair+nbaautre+nbafroid,INDEX('AP Groupe froid'!$F$14:$F$17,A92-nbappomp-nbapven-nbapair-nbaautre),\"\")))))","v":""},{"$f":"IF($A92<=nbappomp,INDEX('Analyse Préliminaire Pompe'!K$13:K$47,$A92),IF($A92<=nbappomp+nbapven,INDEX('Analyse Préliminaire Ventilateu'!K$13:K$44,$A92-nbappomp),IF($A92<=nbappomp+nbapven+nbapair,SUM('Analyse Préliminaire air compr'!$I$26:$I$32),IF(A92<=nbappomp+nbapven+nbapair+nbaautre,INDEX('Analyse Préliminaire Autres'!$K$11:$K$42,A92-nbappomp-nbapven-nbapair),IF(A92<=nbappomp+nbapven+nbapair+nbaautre+nbafroid,INDEX('AP Groupe froid'!$O$14:$O$17,A92-nbappomp-nbapven-nbapair-nbaautre),\"\")))))","v":""},{"$f":"IF($A92<=nbappomp,INDEX('Analyse Préliminaire Pompe'!L$13:L$47,$A92),IF($A92<=nbappomp+nbapven,INDEX('Analyse Préliminaire Ventilateu'!L$13:L$44,$A92-nbappomp),IF($A92<=nbappomp+nbapven+nbapair,MIN('Analyse Préliminaire air compr'!$J$26:$J$32),IF(A92<=nbappomp+nbapven+nbapair+nbaautre,INDEX('Analyse Préliminaire Autres'!$L$11:$L$42,A92-nbappomp-nbapven-nbapair),IF($A92<=nbappomp+nbapven+nbapair,'Analyse Préliminaire air compr'!$AM$16,IF(A92<=nbappomp+nbapven+nbapair+nbaautre+nbafroid,INDEX('AP Groupe froid'!$L$14:$L$17,A92-nbappomp-nbapven-nbapair-nbaautre),\"\"))))))","v":""},{"$f":"IF($A92<=nbappomp,INDEX('Analyse Préliminaire Pompe'!M$13:M$47,$A92),IF($A92<=nbappomp+nbapven,INDEX('Analyse Préliminaire Ventilateu'!M$13:M$44,$A92-nbappomp),IF($A92<=nbappomp+nbapven+nbapair,\"\",IF(A92<=nbappomp+nbapven+nbapair+nbaautre,INDEX('Analyse Préliminaire Autres'!$M$11:$M$42,A92-nbappomp-nbapven-nbapair),IF($A92<=nbappomp+nbapven+nbapair,'Analyse Préliminaire air compr'!$AM$16,IF(A92<=nbappomp+nbapven+nbapair+nbaautre+nbafroid,INDEX('AP Groupe froid'!$M$14:$M$17,A92-nbappomp-nbapven-nbapair-nbaautre),\"\"))))))","v":""},{"$f":"IF($A92<=nbappomp,INDEX('Analyse Préliminaire Pompe'!N$13:N$47,$A92),IF($A92<=nbappomp+nbapven,INDEX('Analyse Préliminaire Ventilateu'!N$13:N$44,$A92-nbappomp),IF($A92<=nbappomp+nbapven+nbapair,\"\",IF(A92<=nbappomp+nbapven+nbapair+nbaautre,INDEX('Analyse Préliminaire Autres'!$N$11:$N$42,A92-nbappomp-nbapven-nbapair),\"\"))))","v":""},{"$f":"IF($A92<=nbappomp,INDEX('Analyse Préliminaire Pompe'!O$13:O$47,$A92),IF($A92<=nbappomp+nbapven,INDEX('Analyse Préliminaire Ventilateu'!O$13:O$44,$A92-nbappomp),IF($A92<=nbappomp+nbapven+nbapair,\"\",IF(A92<=nbappomp+nbapven+nbapair+nbaautre,INDEX('Analyse Préliminaire Autres'!$O$11:$O$42,A92-nbappomp-nbapven-nbapair),\"\"))))","v":""},{"$f":"IF($A92<=nbappomp,INDEX('Analyse Préliminaire Pompe'!P$13:P$47,$A92),IF($A92<=nbappomp+nbapven,INDEX('Analyse Préliminaire Ventilateu'!P$13:P$44,$A92-nbappomp),IF($A92<=nbappomp+nbapven+nbapair,\"\",IF(A92<=nbappomp+nbapven+nbapair+nbaautre,INDEX('Analyse Préliminaire Autres'!#REF!,A92-nbappomp-nbapven-nbapair),\"\"))))","v":""},{"$f":"IF($A92<=nbappomp,INDEX('Analyse Préliminaire Pompe'!Q$13:Q$47,$A92),IF($A92<=nbappomp+nbapven,\"\",IF($A92<=nbappomp+nbapven+nbapair,\"\",\"\")))","v":""},{"$f":"IF(AI92=\"\",IF($A92<=nbappomp,INDEX('Analyse Préliminaire Pompe'!S$13:S$47,$A92),IF($A92<=nbappomp+nbapven,INDEX('Analyse Préliminaire Ventilateu'!Q$13:Q$44,$A92-nbappomp),IF($A92<=nbappomp+nbapven+nbapair,\"\",IF(A92<=nbappomp+nbapven+nbapair+nbaautre,\"\",\"\")))),AI92)","v":""},{"$f":"IF(AN92,\"\",IF($A92<=nbappomp,INDEX('Analyse Préliminaire Pompe'!AO$13:AO$47,$A92),IF($A92<=nbappomp+nbapven,INDEX('Analyse Préliminaire Ventilateu'!AM$13:AM$44,$A92-nbappomp),IF($A92<=nbappomp+nbapven+nbapair,EcoAPkWhCP,IF(A92<=nbappomp+nbapven+nbapair+nbaautre,INDEX('Analyse Préliminaire Autres'!$E$11:$E$42,A92-nbappomp-nbapven-nbapair),IF($A92<=nbappomp+nbapven+nbapair+nbaautre+nbafroid,INDEX('AP Groupe froid'!$AN$14:$AN$17,$A92-nbappomp-nbapven-nbapair-nbaautre),\"\"))))))","v":""},{"$f":"IF(AN92,\"\",IF($A92<=nbappomp,INDEX('Analyse Préliminaire Pompe'!AP$13:AP$47,$A92),IF($A92<=nbappomp+nbapven,INDEX('Analyse Préliminaire Ventilateu'!AN$13:AN$44,$A92-nbappomp),IF($A92<=nbappomp+nbapven+nbapair,EcoAPpercCP,IF(A92<=nbappomp+nbapven+nbapair+nbaautre,INDEX('Analyse Préliminaire Autres'!$E$11:$E$42,A92-nbappomp-nbapven-nbapair),IF($A92<=nbappomp+nbapven+nbapair+nbaautre+nbafroid,INDEX('AP Groupe froid'!$AO$14:$AO$17,$A92-nbappomp-nbapven-nbapair-nbaautre),\"\"))))))","v":""},{"$f":"IF(AN92,\"\",IF($A92<=nbappomp,INDEX('Analyse Préliminaire Pompe'!AQ$13:AQ$47,$A92),IF($A92<=nbappomp+nbapven,INDEX('Analyse Préliminaire Ventilateu'!AO$13:AO$44,$A92-nbappomp),IF($A92<=nbappomp+nbapven+nbapair,consoanncp,IF(A92<=nbappomp+nbapven+nbapair+nbaautre,INDEX('Analyse Préliminaire Autres'!$E$11:$E$42,A92-nbappomp-nbapven-nbapair),IF($A92<=nbappomp+nbapven+nbapair+nbaautre+nbafroid,INDEX('AP Groupe froid'!$AP$14:$AP$17,$A92-nbappomp-nbapven-nbapair-nbaautre),\"\"))))))","v":""},{"$f":"IF(R92=\"\",-1,IF(AND($L92>'Economies classées'!$B$2,$K92>0.2,YEAR(TODAY())-$Z92>8),2,IF(AND($L92>'Economies classées'!$B$3,YEAR(TODAY())-$Z92>5),1,0)))","v":-1},null,null,"",{"$f":"IF($A92<=nbappomp,ISBLANK(INDEX('Analyse Préliminaire Pompe'!AO$13:AO$47,$A92)),IF($A92<=nbappomp+nbapven,ISBLANK(INDEX('Analyse Préliminaire Ventilateu'!AM$13:AM$44,$A92-nbappomp)),IF($A92<=nbappomp+nbapven+nbapair,ISBLANK(EcoAPkWhCP),IF(A92<=nbappomp+nbapven+nbapair+nbaautre,ISBLANK(INDEX('Analyse Préliminaire Autres'!AC$11:AC$42,A92-nbappomp-nbapven-nbapair)),IF(A92<=nbappomp+nbapven+nbapair+nbaautre+nbafroid,ISBLANK(INDEX('AP Groupe froid'!$AN$14:$AN$17,A92-nbappomp-nbapven-nbapair-nbaautre)),FALSE)))))","v":false},{"$f":"IF(E92=Listes!$H$25,1,0)","v":0},{"$f":"IF(E92=Listes!$H$26,1,0)","v":0},0,0,{"$f":"IF(E92=Listes!$H$28,1,0)","v":0},null,0,0,0,0,0,null,0,0,0,0,0,null,"","","","","",null,-1,-1,-1,-1,null,null,{"$f":"IF(E92=Listes!$H$25,1,0)","v":0},{"$f":"IF(E92=Listes!$H$26,1,0)","v":0},0,0,0,0,0,null,0,0,null,{"$error":"#VALUE!"},0,0,0,null,null,null,"",""]
[69,"",null,{"$f":"IF(A93<=nbappomp,INDEX('Analyse Préliminaire Pompe'!$B$13:$B$47,A93),IF(A93<=nbappomp+nbapven,INDEX('Analyse Préliminaire Ventilateu'!$B$13:$B$44,A93-nbappomp),IF(A93<=nbappomp+nbapven+nbapair,301,IF(A93<=nbappomp+nbapven+nbapair+nbaautre,INDEX('Analyse Préliminaire Autres'!$B$11:$B$42,A93-nbappomp-nbapven-nbapair),IF(A93<=nbappomp+nbapven+nbapair+nbaautre+nbafroid,INDEX('AP Groupe froid'!$B$14:$B$17,A93-nbappomp-nbapven-nbapair-nbaautre),\"\")))))","v":""},{"$f":"IF(A93<=nbappomp,INDEX('Analyse Préliminaire Pompe'!$C$13:$C$47,A93),IF(A93<=nbappomp+nbapven,INDEX('Analyse Préliminaire Ventilateu'!$C$13:$C$44,A93-nbappomp),IF(A93<=nbappomp+nbapven+nbapair,$AJ$4,IF(A93<=nbappomp+nbapven+nbapair+nbaautre,INDEX('Analyse Préliminaire Autres'!$C$11:$C$42,A93-nbappomp-nbapven-nbapair),IF(A93<=nbappomp+nbapven+nbapair+nbaautre+nbafroid,INDEX('AP Groupe froid'!$C$14:$C$17,A93-nbappomp-nbapven-nbapair-nbaautre),\"\")))))","v":""},null,null,{"$f":"IF(A93<=nbappomp,INDEX('Analyse Préliminaire Pompe'!$H$13:$H$47,A93),IF(A93<=nbappomp+nbapven,INDEX('Analyse Préliminaire Ventilateu'!$H$13:$H$44,A93-nbappomp),IF(A93<=nbappomp+nbapven+nbapair,$AJ$4,IF(A93<=nbappomp+nbapven+nbapair+nbaautre,INDEX('Analyse Préliminaire Autres'!$H$11:$H$42,A93-nbappomp-nbapven-nbapair),IF(A93<=nbappomp+nbapven+nbapair+nbaautre+nbafroid,INDEX('AP Groupe froid'!$I$14:$I$17,A93-nbappomp-nbapven-nbapair-nbaautre),\"\")))))","v":""},null,null,{"$f":"IF(AH93=\"\",IF($A93<=nbappomp,INDEX('Analyse Préliminaire Pompe'!AE$13:AE$47,$A93),IF($A93<=nbappomp+nbapven,INDEX('Analyse Préliminaire Ventilateu'!AC$13:AC$44,$A93-nbappomp),IF($A93<=nbappomp+nbapven+nbapair,'Analyse Préliminaire air compr'!$AI$22,IF(A93<=nbappomp+nbapven+nbapair+nbaautre,INDEX('Analyse Préliminaire Autres'!$X$11:$X$42,A93-nbappomp-nbapven-nbapair),IF(A93<=nbappomp+nbapven+nbapair+nbaautre+nbafroid,INDEX('AP Groupe froid'!$AF$14:$AF$17,A93-nbappomp-nbapven-nbapair-nbaautre),\"\"))))),AH93)","v":""},{"$f":"IF(AG93=\"\",IF($A93<=nbappomp,INDEX('Analyse Préliminaire Pompe'!AD$13:AD$47,$A93),IF($A93<=nbappomp+nbapven,INDEX('Analyse Préliminaire Ventilateu'!AB$13:AB$44,$A93-nbappomp),IF($A93<=nbappomp+nbapven+nbapair,'Analyse Préliminaire air compr'!$AH$22,IF(A93<=nbappomp+nbapven+nbapair+nbaautre,INDEX('Analyse Préliminaire Autres'!$W$11:$W$42,A93-nbappomp-nbapven-nbapair),IF(A93<=nbappomp+nbapven+nbapair+nbaautre+nbafroid,INDEX('AP Groupe froid'!$AE$14:$AE$17,A93-nbappomp-nbapven-nbapair-nbaautre),\"\"))))),AG93)","v":""},null,"",null,"",null,{"$f":"IF(AI93=\"\",IF($A93<=nbappomp,INDEX('Analyse Préliminaire Pompe'!T$13:T$47,$A93),IF($A93<=nbappomp+nbapven,INDEX('Analyse Préliminaire Ventilateu'!R$13:R$44,$A93-nbappomp),IF($A93<=nbappomp+nbapven+nbapair,'Analyse Préliminaire air compr'!$AH$13,IF(A93<=nbappomp+nbapven+nbapair+nbaautre,INDEX('Analyse Préliminaire Autres'!$P$11:$P$42,A93-nbappomp-nbapven-nbapair),IF(A93<=nbappomp+nbapven+nbapair+nbaautre+nbafroid,INDEX('AP Groupe froid'!$AD$14:$AD$17,A93-nbappomp-nbapven-nbapair-nbaautre),\"\"))))),AI93)","v":""},null,{"$f":"IF($A93<=nbappomp,INDEX('Analyse Préliminaire Pompe'!X$13:X$47,$A93),IF($A93<=nbappomp+nbapven,INDEX('Analyse Préliminaire Ventilateu'!V$13:V$44,$A93-nbappomp),IF($A93<=nbappomp+nbapven+nbapair,'Analyse Préliminaire air compr'!$E$35,IF(A93<=nbappomp+nbapven+nbapair+nbaautre,INDEX('Analyse Préliminaire Autres'!$R$11:$R$42,A93-nbappomp-nbapven-nbapair),IF(A93<=nbappomp+nbapven+nbapair+nbaautre+nbafroid,INDEX('AP Groupe froid'!$Z$14:$Z$17,A93-nbappomp-nbapven-nbapair-nbaautre),\"\")))))","v":""},null,null,{"$f":"IF(AG93=\"\",IF($A93<=nbappomp,INDEX('Analyse Préliminaire Pompe'!AN$13:AN$47,$A93),IF($A93<=nbappomp+nbapven,INDEX('Analyse Préliminaire Ventilateu'!AL$13:AL$44,$A93-nbappomp),IF($A93<=nbappomp+nbapven+nbapair,'Analyse Préliminaire air compr'!$AM$16,IF(A93<=nbappomp+nbapven+nbapair+nbaautre,INDEX('Analyse Préliminaire Autres'!$AB$11:$AB$42,A93-nbappomp-nbapven-nbapair),IF(A93<=nbappomp+nbapven+nbapair+nbaautre+nbafroid,INDEX('AP Groupe froid'!$AM$14:$AM$17,A93-nbappomp-nbapven-nbapair-nbaautre),\"\"))))),'Economies classées'!$A$47)","v":""},{"$f":"IF($A93<=nbappomp,INDEX('Analyse Préliminaire Pompe'!E$13:E$47,$A93),IF($A93<=nbappomp+nbapven,INDEX('Analyse Préliminaire Ventilateu'!E$13:E$44,$A93-nbappomp),IF($A93<=nbappomp+nbapven+nbapair,\"voir detail\",IF(A93<=nbappomp+nbapven+nbapair+nbaautre,INDEX('Analyse Préliminaire Autres'!$E$11:$E$42,A93-nbappomp-nbapven-nbapair),IF(A93<=nbappomp+nbapven+nbapair+nbaautre+nbafroid,INDEX('AP Groupe froid'!$F$14:$F$17,A93-nbappomp-nbapven-nbapair-nbaautre),\"\")))))","v":""},{"$f":"IF($A93<=nbappomp,INDEX('Analyse Préliminaire Pompe'!K$13:K$47,$A93),IF($A93<=nbappomp+nbapven,INDEX('Analyse Préliminaire Ventilateu'!K$13:K$44,$A93-nbappomp),IF($A93<=nbappomp+nbapven+nbapair,SUM('Analyse Préliminaire air compr'!$I$26:$I$32),IF(A93<=nbappomp+nbapven+nbapair+nbaautre,INDEX('Analyse Préliminaire Autres'!$K$11:$K$42,A93-nbappomp-nbapven-nbapair),IF(A93<=nbappomp+nbapven+nbapair+nbaautre+nbafroid,INDEX('AP Groupe froid'!$O$14:$O$17,A93-nbappomp-nbapven-nbapair-nbaautre),\"\")))))","v":""},{"$f":"IF($A93<=nbappomp,INDEX('Analyse Préliminaire Pompe'!L$13:L$47,$A93),IF($A93<=nbappomp+nbapven,INDEX('Analyse Préliminaire Ventilateu'!L$13:L$44,$A93-nbappomp),IF($A93<=nbappomp+nbapven+nbapair,MIN('Analyse Préliminaire air compr'!$J$26:$J$32),IF(A93<=nbappomp+nbapven+nbapair+nbaautre,INDEX('Analyse Préliminaire Autres'!$L$11:$L$42,A93-nbappomp-nbapven-nbapair),IF($A93<=nbappomp+nbapven+nbapair,'Analyse Préliminaire air compr'!$AM$16,IF(A93<=nbappomp+nbapven+nbapair+nbaautre+nbafroid,INDEX('AP Groupe froid'!$L$14:$L$17,A93-nbappomp-nbapven-nbapair-nbaautre),\"\"))))))","v":""},{"$f":"IF($A93<=nbappomp,INDEX('Analyse Préliminaire Pompe'!M$13:M$47,$A93),IF($A93<=nbappomp+nbapven,INDEX('Analyse Préliminaire Ventilateu'!M$13:M$44,$A93-nbappomp),IF($A93<=nbappomp+nbapven+nbapair,\"\",IF(A93<=nbappomp+nbapven+nbapair+nbaautre,INDEX('Analyse Préliminaire Autres'!$M$11:$M$42,A93-nbappomp-nbapven-nbapair),IF($A93<=nbappomp+nbapven+nbapair,'Analyse Préliminaire air compr'!$AM$16,IF(A93<=nbappomp+nbapven+nbapair+nbaautre+nbafroid,INDEX('AP Groupe froid'!$M$14:$M$17,A93-nbappomp-nbapven-nbapair-nbaautre),\"\"))))))","v":""},{"$f":"IF($A93<=nbappomp,INDEX('Analyse Préliminaire Pompe'!N$13:N$47,$A93),IF($A93<=nbappomp+nbapven,INDEX('Analyse Préliminaire Ventilateu'!N$13:N$44,$A93-nbappomp),IF($A93<=nbappomp+nbapven+nbapair,\"\",IF(A93<=nbappomp+nbapven+nbapair+nbaautre,INDEX('Analyse Préliminaire Autres'!$N$11:$N$42,A93-nbappomp-nbapven-nbapair),\"\"))))","v":""},{"$f":"IF($A93<=nbappomp,INDEX('Analyse Préliminaire Pompe'!O$13:O$47,$A93),IF($A93<=nbappomp+nbapven,INDEX('Analyse Préliminaire Ventilateu'!O$13:O$44,$A93-nbappomp),IF($A93<=nbappomp+nbapven+nbapair,\"\",IF(A93<=nbappomp+nbapven+nbapair+nbaautre,INDEX('Analyse Préliminaire Autres'!$O$11:$O$42,A93-nbappomp-nbapven-nbapair),\"\"))))","v":""},{"$f":"IF($A93<=nbappomp,INDEX('Analyse Préliminaire Pompe'!P$13:P$47,$A93),IF($A93<=nbappomp+nbapven,INDEX('Analyse Préliminaire Ventilateu'!P$13:P$44,$A93-nbappomp),IF($A93<=nbappomp+nbapven+nbapair,\"\",IF(A93<=nbappomp+nbapven+nbapair+nbaautre,INDEX('Analyse Préliminaire Autres'!#REF!,A93-nbappomp-nbapven-nbapair),\"\"))))","v":""},{"$f":"IF($A93<=nbappomp,INDEX('Analyse Préliminaire Pompe'!Q$13:Q$47,$A93),IF($A93<=nbappomp+nbapven,\"\",IF($A93<=nbappomp+nbapven+nbapair,\"\",\"\")))","v":""},{"$f":"IF(AI93=\"\",IF($A93<=nbappomp,INDEX('Analyse Préliminaire Pompe'!S$13:S$47,$A93),IF($A93<=nbappomp+nbapven,INDEX('Analyse Préliminaire Ventilateu'!Q$13:Q$44,$A93-nbappomp),IF($A93<=nbappomp+nbapven+nbapair,\"\",IF(A93<=nbappomp+nbapven+nbapair+nbaautre,\"\",\"\")))),AI93)","v":""},{"$f":"IF(AN93,\"\",IF($A93<=nbappomp,INDEX('Analyse Préliminaire Pompe'!AO$13:AO$47,$A93),IF($A93<=nbappomp+nbapven,INDEX('Analyse Préliminaire Ventilateu'!AM$13:AM$44,$A93-nbappomp),IF($A93<=nbappomp+nbapven+nbapair,EcoAPkWhCP,IF(A93<=nbappomp+nbapven+nbapair+nbaautre,INDEX('Analyse Préliminaire Autres'!$E$11:$E$42,A93-nbappomp-nbapven-nbapair),IF($A93<=nbappomp+nbapven+nbapair+nbaautre+nbafroid,INDEX('AP Groupe froid'!$AN$14:$AN$17,$A93-nbappomp-nbapven-nbapair-nbaautre),\"\"))))))","v":""},{"$f":"IF(AN93,\"\",IF($A93<=nbappomp,INDEX('Analyse Préliminaire Pompe'!AP$13:AP$47,$A93),IF($A93<=nbappomp+nbapven,INDEX('Analyse Préliminaire Ventilateu'!AN$13:AN$44,$A93-nbappomp),IF($A93<=nbappomp+nbapven+nbapair,EcoAPpercCP,IF(A93<=nbappomp+nbapven+nbapair+nbaautre,INDEX('Analyse Préliminaire Autres'!$E$11:$E$42,A93-nbappomp-nbapven-nbapair),IF($A93<=nbappomp+nbapven+nbapair+nbaautre+nbafroid,INDEX('AP Groupe froid'!$AO$14:$AO$17,$A93-nbappomp-nbapven-nbapair-nbaautre),\"\"))))))","v":""},{"$f":"IF(AN93,\"\",IF($A93<=nbappomp,INDEX('Analyse Préliminaire Pompe'!AQ$13:AQ$47,$A93),IF($A93<=nbappomp+nbapven,INDEX('Analyse Préliminaire Ventilateu'!AO$13:AO$44,$A93-nbappomp),IF($A93<=nbappomp+nbapven+nbapair,consoanncp,IF(A93<=nbappomp+nbapven+nbapair+nbaautre,INDEX('Analyse Préliminaire Autres'!$E$11:$E$42,A93-nbappomp-nbapven-nbapair),IF($A93<=nbappomp+nbapven+nbapair+nbaautre+nbafroid,INDEX('AP Groupe froid'!$AP$14:$AP$17,$A93-nbappomp-nbapven-nbapair-nbaautre),\"\"))))))","v":""},{"$f":"IF(R93=\"\",-1,IF(AND($L93>'Economies classées'!$B$2,$K93>0.2,YEAR(TODAY())-$Z93>8),2,IF(AND($L93>'Economies classées'!$B$3,YEAR(TODAY())-$Z93>5),1,0)))","v":-1},null,null,"",{"$f":"IF($A93<=nbappomp,ISBLANK(INDEX('Analyse Préliminaire Pompe'!AO$13:AO$47,$A93)),IF($A93<=nbappomp+nbapven,ISBLANK(INDEX('Analyse Préliminaire Ventilateu'!AM$13:AM$44,$A93-nbappomp)),IF($A93<=nbappomp+nbapven+nbapair,ISBLANK(EcoAPkWhCP),IF(A93<=nbappomp+nbapven+nbapair+nbaautre,ISBLANK(INDEX('Analyse Préliminaire Autres'!AC$11:AC$42,A93-nbappomp-nbapven-nbapair)),IF(A93<=nbappomp+nbapven+nbapair+nbaautre+nbafroid,ISBLANK(INDEX('AP Groupe froid'!$AN$14:$AN$17,A93-nbappomp-nbapven-nbapair-nbaautre)),FALSE)))))","v":false},{"$f":"IF(E93=Listes!$H$25,1,0)","v":0},{"$f":"IF(E93=Listes!$H$26,1,0)","v":0},0,0,{"$f":"IF(E93=Listes!$H$28,1,0)","v":0},null,0,0,0,0,0,null,0,0,0,0,0,null,"","","","","",null,-1,-1,-1,-1,null,null,{"$f":"IF(E93=Listes!$H$25,1,0)","v":0},{"$f":"IF(E93=Listes!$H$26,1,0)","v":0},0,0,0,0,0,null,0,0,null,{"$error":"#VALUE!"},0,0,0,null,null,null,"",""]
[70,"",null,{"$f":"IF(A94<=nbappomp,INDEX('Analyse Préliminaire Pompe'!$B$13:$B$47,A94),IF(A94<=nbappomp+nbapven,INDEX('Analyse Préliminaire Ventilateu'!$B$13:$B$44,A94-nbappomp),IF(A94<=nbappomp+nbapven+nbapair,301,IF(A94<=nbappomp+nbapven+nbapair+nbaautre,INDEX('Analyse Préliminaire Autres'!$B$11:$B$42,A94-nbappomp-nbapven-nbapair),IF(A94<=nbappomp+nbapven+nbapair+nbaautre+nbafroid,INDEX('AP Groupe froid'!$B$14:$B$17,A94-nbappomp-nbapven-nbapair-nbaautre),\"\")))))","v":""},{"$f":"IF(A94<=nbappomp,INDEX('Analyse Préliminaire Pompe'!$C$13:$C$47,A94),IF(A94<=nbappomp+nbapven,INDEX('Analyse Préliminaire Ventilateu'!$C$13:$C$44,A94-nbappomp),IF(A94<=nbappomp+nbapven+nbapair,$AJ$4,IF(A94<=nbappomp+nbapven+nbapair+nbaautre,INDEX('Analyse Préliminaire Autres'!$C$11:$C$42,A94-nbappomp-nbapven-nbapair),IF(A94<=nbappomp+nbapven+nbapair+nbaautre+nbafroid,INDEX('AP Groupe froid'!$C$14:$C$17,A94-nbappomp-nbapven-nbapair-nbaautre),\"\")))))","v":""},null,null,{"$f":"IF(A94<=nbappomp,INDEX('Analyse Préliminaire Pompe'!$H$13:$H$47,A94),IF(A94<=nbappomp+nbapven,INDEX('Analyse Préliminaire Ventilateu'!$H$13:$H$44,A94-nbappomp),IF(A94<=nbappomp+nbapven+nbapair,$AJ$4,IF(A94<=nbappomp+nbapven+nbapair+nbaautre,INDEX('Analyse Préliminaire Autres'!$H$11:$H$42,A94-nbappomp-nbapven-nbapair),IF(A94<=nbappomp+nbapven+nbapair+nbaautre+nbafroid,INDEX('AP Groupe froid'!$I$14:$I$17,A94-nbappomp-nbapven-nbapair-nbaautre),\"\")))))","v":""},null,null,{"$f":"IF(AH94=\"\",IF($A94<=nbappomp,INDEX('Analyse Préliminaire Pompe'!AE$13:AE$47,$A94),IF($A94<=nbappomp+nbapven,INDEX('Analyse Préliminaire Ventilateu'!AC$13:AC$44,$A94-nbappomp),IF($A94<=nbappomp+nbapven+nbapair,'Analyse Préliminaire air compr'!$AI$22,IF(A94<=nbappomp+nbapven+nbapair+nbaautre,INDEX('Analyse Préliminaire Autres'!$X$11:$X$42,A94-nbappomp-nbapven-nbapair),IF(A94<=nbappomp+nbapven+nbapair+nbaautre+nbafroid,INDEX('AP Groupe froid'!$AF$14:$AF$17,A94-nbappomp-nbapven-nbapair-nbaautre),\"\"))))),AH94)","v":""},{"$f":"IF(AG94=\"\",IF($A94<=nbappomp,INDEX('Analyse Préliminaire Pompe'!AD$13:AD$47,$A94),IF($A94<=nbappomp+nbapven,INDEX('Analyse Préliminaire Ventilateu'!AB$13:AB$44,$A94-nbappomp),IF($A94<=nbappomp+nbapven+nbapair,'Analyse Préliminaire air compr'!$AH$22,IF(A94<=nbappomp+nbapven+nbapair+nbaautre,INDEX('Analyse Préliminaire Autres'!$W$11:$W$42,A94-nbappomp-nbapven-nbapair),IF(A94<=nbappomp+nbapven+nbapair+nbaautre+nbafroid,INDEX('AP Groupe froid'!$AE$14:$AE$17,A94-nbappomp-nbapven-nbapair-nbaautre),\"\"))))),AG94)","v":""},null,"",null,"",null,{"$f":"IF(AI94=\"\",IF($A94<=nbappomp,INDEX('Analyse Préliminaire Pompe'!T$13:T$47,$A94),IF($A94<=nbappomp+nbapven,INDEX('Analyse Préliminaire Ventilateu'!R$13:R$44,$A94-nbappomp),IF($A94<=nbappomp+nbapven+nbapair,'Analyse Préliminaire air compr'!$AH$13,IF(A94<=nbappomp+nbapven+nbapair+nbaautre,INDEX('Analyse Préliminaire Autres'!$P$11:$P$42,A94-nbappomp-nbapven-nbapair),IF(A94<=nbappomp+nbapven+nbapair+nbaautre+nbafroid,INDEX('AP Groupe froid'!$AD$14:$AD$17,A94-nbappomp-nbapven-nbapair-nbaautre),\"\"))))),AI94)","v":""},null,{"$f":"IF($A94<=nbappomp,INDEX('Analyse Préliminaire Pompe'!X$13:X$47,$A94),IF($A94<=nbappomp+nbapven,INDEX('Analyse Préliminaire Ventilateu'!V$13:V$44,$A94-nbappomp),IF($A94<=nbappomp+nbapven+nbapair,'Analyse Préliminaire air compr'!$E$35,IF(A94<=nbappomp+nbapven+nbapair+nbaautre,INDEX('Analyse Préliminaire Autres'!$R$11:$R$42,A94-nbappomp-nbapven-nbapair),IF(A94<=nbappomp+nbapven+nbapair+nbaautre+nbafroid,INDEX('AP Groupe froid'!$Z$14:$Z$17,A94-nbappomp-nbapven-nbapair-nbaautre),\"\")))))","v":""},null,null,{"$f":"IF(AG94=\"\",IF($A94<=nbappomp,INDEX('Analyse Préliminaire Pompe'!AN$13:AN$47,$A94),IF($A94<=nbappomp+nbapven,INDEX('Analyse Préliminaire Ventilateu'!AL$13:AL$44,$A94-nbappomp),IF($A94<=nbappomp+nbapven+nbapair,'Analyse Préliminaire air compr'!$AM$16,IF(A94<=nbappomp+nbapven+nbapair+nbaautre,INDEX('Analyse Préliminaire Autres'!$AB$11:$AB$42,A94-nbappomp-nbapven-nbapair),IF(A94<=nbappomp+nbapven+nbapair+nbaautre+nbafroid,INDEX('AP Groupe froid'!$AM$14:$AM$17,A94-nbappomp-nbapven-nbapair-nbaautre),\"\"))))),'Economies classées'!$A$47)","v":""},{"$f":"IF($A94<=nbappomp,INDEX('Analyse Préliminaire Pompe'!E$13:E$47,$A94),IF($A94<=nbappomp+nbapven,INDEX('Analyse Préliminaire Ventilateu'!E$13:E$44,$A94-nbappomp),IF($A94<=nbappomp+nbapven+nbapair,\"voir detail\",IF(A94<=nbappomp+nbapven+nbapair+nbaautre,INDEX('Analyse Préliminaire Autres'!$E$11:$E$42,A94-nbappomp-nbapven-nbapair),IF(A94<=nbappomp+nbapven+nbapair+nbaautre+nbafroid,INDEX('AP Groupe froid'!$F$14:$F$17,A94-nbappomp-nbapven-nbapair-nbaautre),\"\")))))","v":""},{"$f":"IF($A94<=nbappomp,INDEX('Analyse Préliminaire Pompe'!K$13:K$47,$A94),IF($A94<=nbappomp+nbapven,INDEX('Analyse Préliminaire Ventilateu'!K$13:K$44,$A94-nbappomp),IF($A94<=nbappomp+nbapven+nbapair,SUM('Analyse Préliminaire air compr'!$I$26:$I$32),IF(A94<=nbappomp+nbapven+nbapair+nbaautre,INDEX('Analyse Préliminaire Autres'!$K$11:$K$42,A94-nbappomp-nbapven-nbapair),IF(A94<=nbappomp+nbapven+nbapair+nbaautre+nbafroid,INDEX('AP Groupe froid'!$O$14:$O$17,A94-nbappomp-nbapven-nbapair-nbaautre),\"\")))))","v":""},{"$f":"IF($A94<=nbappomp,INDEX('Analyse Préliminaire Pompe'!L$13:L$47,$A94),IF($A94<=nbappomp+nbapven,INDEX('Analyse Préliminaire Ventilateu'!L$13:L$44,$A94-nbappomp),IF($A94<=nbappomp+nbapven+nbapair,MIN('Analyse Préliminaire air compr'!$J$26:$J$32),IF(A94<=nbappomp+nbapven+nbapair+nbaautre,INDEX('Analyse Préliminaire Autres'!$L$11:$L$42,A94-nbappomp-nbapven-nbapair),IF($A94<=nbappomp+nbapven+nbapair,'Analyse Préliminaire air compr'!$AM$16,IF(A94<=nbappomp+nbapven+nbapair+nbaautre+nbafroid,INDEX('AP Groupe froid'!$L$14:$L$17,A94-nbappomp-nbapven-nbapair-nbaautre),\"\"))))))","v":""},{"$f":"IF($A94<=nbappomp,INDEX('Analyse Préliminaire Pompe'!M$13:M$47,$A94),IF($A94<=nbappomp+nbapven,INDEX('Analyse Préliminaire Ventilateu'!M$13:M$44,$A94-nbappomp),IF($A94<=nbappomp+nbapven+nbapair,\"\",IF(A94<=nbappomp+nbapven+nbapair+nbaautre,INDEX('Analyse Préliminaire Autres'!$M$11:$M$42,A94-nbappomp-nbapven-nbapair),IF($A94<=nbappomp+nbapven+nbapair,'Analyse Préliminaire air compr'!$AM$16,IF(A94<=nbappomp+nbapven+nbapair+nbaautre+nbafroid,INDEX('AP Groupe froid'!$M$14:$M$17,A94-nbappomp-nbapven-nbapair-nbaautre),\"\"))))))","v":""},{"$f":"IF($A94<=nbappomp,INDEX('Analyse Préliminaire Pompe'!N$13:N$47,$A94),IF($A94<=nbappomp+nbapven,INDEX('Analyse Préliminaire Ventilateu'!N$13:N$44,$A94-nbappomp),IF($A94<=nbappomp+nbapven+nbapair,\"\",IF(A94<=nbappomp+nbapven+nbapair+nbaautre,INDEX('Analyse Préliminaire Autres'!$N$11:$N$42,A94-nbappomp-nbapven-nbapair),\"\"))))","v":""},{"$f":"IF($A94<=nbappomp,INDEX('Analyse Préliminaire Pompe'!O$13:O$47,$A94),IF($A94<=nbappomp+nbapven,INDEX('Analyse Préliminaire Ventilateu'!O$13:O$44,$A94-nbappomp),IF($A94<=nbappomp+nbapven+nbapair,\"\",IF(A94<=nbappomp+nbapven+nbapair+nbaautre,INDEX('Analyse Préliminaire Autres'!$O$11:$O$42,A94-nbappomp-nbapven-nbapair),\"\"))))","v":""},{"$f":"IF($A94<=nbappomp,INDEX('Analyse Préliminaire Pompe'!P$13:P$47,$A94),IF($A94<=nbappomp+nbapven,INDEX('Analyse Préliminaire Ventilateu'!P$13:P$44,$A94-nbappomp),IF($A94<=nbappomp+nbapven+nbapair,\"\",IF(A94<=nbappomp+nbapven+nbapair+nbaautre,INDEX('Analyse Préliminaire Autres'!#REF!,A94-nbappomp-nbapven-nbapair),\"\"))))","v":""},{"$f":"IF($A94<=nbappomp,INDEX('Analyse Préliminaire Pompe'!Q$13:Q$47,$A94),IF($A94<=nbappomp+nbapven,\"\",IF($A94<=nbappomp+nbapven+nbapair,\"\",\"\")))","v":""},{"$f":"IF(AI94=\"\",IF($A94<=nbappomp,INDEX('Analyse Préliminaire Pompe'!S$13:S$47,$A94),IF($A94<=nbappomp+nbapven,INDEX('Analyse Préliminaire Ventilateu'!Q$13:Q$44,$A94-nbappomp),IF($A94<=nbappomp+nbapven+nbapair,\"\",IF(A94<=nbappomp+nbapven+nbapair+nbaautre,\"\",\"\")))),AI94)","v":""},{"$f":"IF(AN94,\"\",IF($A94<=nbappomp,INDEX('Analyse Préliminaire Pompe'!AO$13:AO$47,$A94),IF($A94<=nbappomp+nbapven,INDEX('Analyse Préliminaire Ventilateu'!AM$13:AM$44,$A94-nbappomp),IF($A94<=nbappomp+nbapven+nbapair,EcoAPkWhCP,IF(A94<=nbappomp+nbapven+nbapair+nbaautre,INDEX('Analyse Préliminaire Autres'!$E$11:$E$42,A94-nbappomp-nbapven-nbapair),IF($A94<=nbappomp+nbapven+nbapair+nbaautre+nbafroid,INDEX('AP Groupe froid'!$AN$14:$AN$17,$A94-nbappomp-nbapven-nbapair-nbaautre),\"\"))))))","v":""},{"$f":"IF(AN94,\"\",IF($A94<=nbappomp,INDEX('Analyse Préliminaire Pompe'!AP$13:AP$47,$A94),IF($A94<=nbappomp+nbapven,INDEX('Analyse Préliminaire Ventilateu'!AN$13:AN$44,$A94-nbappomp),IF($A94<=nbappomp+nbapven+nbapair,EcoAPpercCP,IF(A94<=nbappomp+nbapven+nbapair+nbaautre,INDEX('Analyse Préliminaire Autres'!$E$11:$E$42,A94-nbappomp-nbapven-nbapair),IF($A94<=nbappomp+nbapven+nbapair+nbaautre+nbafroid,INDEX('AP Groupe froid'!$AO$14:$AO$17,$A94-nbappomp-nbapven-nbapair-nbaautre),\"\"))))))","v":""},{"$f":"IF(AN94,\"\",IF($A94<=nbappomp,INDEX('Analyse Préliminaire Pompe'!AQ$13:AQ$47,$A94),IF($A94<=nbappomp+nbapven,INDEX('Analyse Préliminaire Ventilateu'!AO$13:AO$44,$A94-nbappomp),IF($A94<=nbappomp+nbapven+nbapair,consoanncp,IF(A94<=nbappomp+nbapven+nbapair+nbaautre,INDEX('Analyse Préliminaire Autres'!$E$11:$E$42,A94-nbappomp-nbapven-nbapair),IF($A94<=nbappomp+nbapven+nbapair+nbaautre+nbafroid,INDEX('AP Groupe froid'!$AP$14:$AP$17,$A94-nbappomp-nbapven-nbapair-nbaautre),\"\"))))))","v":""},{"$f":"IF(R94=\"\",-1,IF(AND($L94>'Economies classées'!$B$2,$K94>0.2,YEAR(TODAY())-$Z94>8),2,IF(AND($L94>'Economies classées'!$B$3,YEAR(TODAY())-$Z94>5),1,0)))","v":-1},null,null,"",{"$f":"IF($A94<=nbappomp,ISBLANK(INDEX('Analyse Préliminaire Pompe'!AO$13:AO$47,$A94)),IF($A94<=nbappomp+nbapven,ISBLANK(INDEX('Analyse Préliminaire Ventilateu'!AM$13:AM$44,$A94-nbappomp)),IF($A94<=nbappomp+nbapven+nbapair,ISBLANK(EcoAPkWhCP),IF(A94<=nbappomp+nbapven+nbapair+nbaautre,ISBLANK(INDEX('Analyse Préliminaire Autres'!AC$11:AC$42,A94-nbappomp-nbapven-nbapair)),IF(A94<=nbappomp+nbapven+nbapair+nbaautre+nbafroid,ISBLANK(INDEX('AP Groupe froid'!$AN$14:$AN$17,A94-nbappomp-nbapven-nbapair-nbaautre)),FALSE)))))","v":false},{"$f":"IF(E94=Listes!$H$25,1,0)","v":0},{"$f":"IF(E94=Listes!$H$26,1,0)","v":0},0,0,{"$f":"IF(E94=Listes!$H$28,1,0)","v":0},null,0,0,0,0,0,null,0,0,0,0,0,null,"","","","","",null,-1,-1,-1,-1,null,null,{"$f":"IF(E94=Listes!$H$25,1,0)","v":0},{"$f":"IF(E94=Listes!$H$26,1,0)","v":0},0,0,0,0,0,null,0,0,null,{"$error":"#VALUE!"},0,0,0,null,null,null,"",""]
[71,"",null,{"$f":"IF(A95<=nbappomp,INDEX('Analyse Préliminaire Pompe'!$B$13:$B$47,A95),IF(A95<=nbappomp+nbapven,INDEX('Analyse Préliminaire Ventilateu'!$B$13:$B$44,A95-nbappomp),IF(A95<=nbappomp+nbapven+nbapair,301,IF(A95<=nbappomp+nbapven+nbapair+nbaautre,INDEX('Analyse Préliminaire Autres'!$B$11:$B$42,A95-nbappomp-nbapven-nbapair),IF(A95<=nbappomp+nbapven+nbapair+nbaautre+nbafroid,INDEX('AP Groupe froid'!$B$14:$B$17,A95-nbappomp-nbapven-nbapair-nbaautre),\"\")))))","v":""},{"$f":"IF(A95<=nbappomp,INDEX('Analyse Préliminaire Pompe'!$C$13:$C$47,A95),IF(A95<=nbappomp+nbapven,INDEX('Analyse Préliminaire Ventilateu'!$C$13:$C$44,A95-nbappomp),IF(A95<=nbappomp+nbapven+nbapair,$AJ$4,IF(A95<=nbappomp+nbapven+nbapair+nbaautre,INDEX('Analyse Préliminaire Autres'!$C$11:$C$42,A95-nbappomp-nbapven-nbapair),IF(A95<=nbappomp+nbapven+nbapair+nbaautre+nbafroid,INDEX('AP Groupe froid'!$C$14:$C$17,A95-nbappomp-nbapven-nbapair-nbaautre),\"\")))))","v":""},null,null,{"$f":"IF(A95<=nbappomp,INDEX('Analyse Préliminaire Pompe'!$H$13:$H$47,A95),IF(A95<=nbappomp+nbapven,INDEX('Analyse Préliminaire Ventilateu'!$H$13:$H$44,A95-nbappomp),IF(A95<=nbappomp+nbapven+nbapair,$AJ$4,IF(A95<=nbappomp+nbapven+nbapair+nbaautre,INDEX('Analyse Préliminaire Autres'!$H$11:$H$42,A95-nbappomp-nbapven-nbapair),IF(A95<=nbappomp+nbapven+nbapair+nbaautre+nbafroid,INDEX('AP Groupe froid'!$I$14:$I$17,A95-nbappomp-nbapven-nbapair-nbaautre),\"\")))))","v":""},null,null,{"$f":"IF(AH95=\"\",IF($A95<=nbappomp,INDEX('Analyse Préliminaire Pompe'!AE$13:AE$47,$A95),IF($A95<=nbappomp+nbapven,INDEX('Analyse Préliminaire Ventilateu'!AC$13:AC$44,$A95-nbappomp),IF($A95<=nbappomp+nbapven+nbapair,'Analyse Préliminaire air compr'!$AI$22,IF(A95<=nbappomp+nbapven+nbapair+nbaautre,INDEX('Analyse Préliminaire Autres'!$X$11:$X$42,A95-nbappomp-nbapven-nbapair),IF(A95<=nbappomp+nbapven+nbapair+nbaautre+nbafroid,INDEX('AP Groupe froid'!$AF$14:$AF$17,A95-nbappomp-nbapven-nbapair-nbaautre),\"\"))))),AH95)","v":""},{"$f":"IF(AG95=\"\",IF($A95<=nbappomp,INDEX('Analyse Préliminaire Pompe'!AD$13:AD$47,$A95),IF($A95<=nbappomp+nbapven,INDEX('Analyse Préliminaire Ventilateu'!AB$13:AB$44,$A95-nbappomp),IF($A95<=nbappomp+nbapven+nbapair,'Analyse Préliminaire air compr'!$AH$22,IF(A95<=nbappomp+nbapven+nbapair+nbaautre,INDEX('Analyse Préliminaire Autres'!$W$11:$W$42,A95-nbappomp-nbapven-nbapair),IF(A95<=nbappomp+nbapven+nbapair+nbaautre+nbafroid,INDEX('AP Groupe froid'!$AE$14:$AE$17,A95-nbappomp-nbapven-nbapair-nbaautre),\"\"))))),AG95)","v":""},null,"",null,"",null,{"$f":"IF(AI95=\"\",IF($A95<=nbappomp,INDEX('Analyse Préliminaire Pompe'!T$13:T$47,$A95),IF($A95<=nbappomp+nbapven,INDEX('Analyse Préliminaire Ventilateu'!R$13:R$44,$A95-nbappomp),IF($A95<=nbappomp+nbapven+nbapair,'Analyse Préliminaire air compr'!$AH$13,IF(A95<=nbappomp+nbapven+nbapair+nbaautre,INDEX('Analyse Préliminaire Autres'!$P$11:$P$42,A95-nbappomp-nbapven-nbapair),IF(A95<=nbappomp+nbapven+nbapair+nbaautre+nbafroid,INDEX('AP Groupe froid'!$AD$14:$AD$17,A95-nbappomp-nbapven-nbapair-nbaautre),\"\"))))),AI95)","v":""},null,{"$f":"IF($A95<=nbappomp,INDEX('Analyse Préliminaire Pompe'!X$13:X$47,$A95),IF($A95<=nbappomp+nbapven,INDEX('Analyse Préliminaire Ventilateu'!V$13:V$44,$A95-nbappomp),IF($A95<=nbappomp+nbapven+nbapair,'Analyse Préliminaire air compr'!$E$35,IF(A95<=nbappomp+nbapven+nbapair+nbaautre,INDEX('Analyse Préliminaire Autres'!$R$11:$R$42,A95-nbappomp-nbapven-nbapair),IF(A95<=nbappomp+nbapven+nbapair+nbaautre+nbafroid,INDEX('AP Groupe froid'!$Z$14:$Z$17,A95-nbappomp-nbapven-nbapair-nbaautre),\"\")))))","v":""},null,null,{"$f":"IF(AG95=\"\",IF($A95<=nbappomp,INDEX('Analyse Préliminaire Pompe'!AN$13:AN$47,$A95),IF($A95<=nbappomp+nbapven,INDEX('Analyse Préliminaire Ventilateu'!AL$13:AL$44,$A95-nbappomp),IF($A95<=nbappomp+nbapven+nbapair,'Analyse Préliminaire air compr'!$AM$16,IF(A95<=nbappomp+nbapven+nbapair+nbaautre,INDEX('Analyse Préliminaire Autres'!$AB$11:$AB$42,A95-nbappomp-nbapven-nbapair),IF(A95<=nbappomp+nbapven+nbapair+nbaautre+nbafroid,INDEX('AP Groupe froid'!$AM$14:$AM$17,A95-nbappomp-nbapven-nbapair-nbaautre),\"\"))))),'Economies classées'!$A$47)","v":""},{"$f":"IF($A95<=nbappomp,INDEX('Analyse Préliminaire Pompe'!E$13:E$47,$A95),IF($A95<=nbappomp+nbapven,INDEX('Analyse Préliminaire Ventilateu'!E$13:E$44,$A95-nbappomp),IF($A95<=nbappomp+nbapven+nbapair,\"voir detail\",IF(A95<=nbappomp+nbapven+nbapair+nbaautre,INDEX('Analyse Préliminaire Autres'!$E$11:$E$42,A95-nbappomp-nbapven-nbapair),IF(A95<=nbappomp+nbapven+nbapair+nbaautre+nbafroid,INDEX('AP Groupe froid'!$F$14:$F$17,A95-nbappomp-nbapven-nbapair-nbaautre),\"\")))))","v":""},{"$f":"IF($A95<=nbappomp,INDEX('Analyse Préliminaire Pompe'!K$13:K$47,$A95),IF($A95<=nbappomp+nbapven,INDEX('Analyse Préliminaire Ventilateu'!K$13:K$44,$A95-nbappomp),IF($A95<=nbappomp+nbapven+nbapair,SUM('Analyse Préliminaire air compr'!$I$26:$I$32),IF(A95<=nbappomp+nbapven+nbapair+nbaautre,INDEX('Analyse Préliminaire Autres'!$K$11:$K$42,A95-nbappomp-nbapven-nbapair),IF(A95<=nbappomp+nbapven+nbapair+nbaautre+nbafroid,INDEX('AP Groupe froid'!$O$14:$O$17,A95-nbappomp-nbapven-nbapair-nbaautre),\"\")))))","v":""},{"$f":"IF($A95<=nbappomp,INDEX('Analyse Préliminaire Pompe'!L$13:L$47,$A95),IF($A95<=nbappomp+nbapven,INDEX('Analyse Préliminaire Ventilateu'!L$13:L$44,$A95-nbappomp),IF($A95<=nbappomp+nbapven+nbapair,MIN('Analyse Préliminaire air compr'!$J$26:$J$32),IF(A95<=nbappomp+nbapven+nbapair+nbaautre,INDEX('Analyse Préliminaire Autres'!$L$11:$L$42,A95-nbappomp-nbapven-nbapair),IF($A95<=nbappomp+nbapven+nbapair,'Analyse Préliminaire air compr'!$AM$16,IF(A95<=nbappomp+nbapven+nbapair+nbaautre+nbafroid,INDEX('AP Groupe froid'!$L$14:$L$17,A95-nbappomp-nbapven-nbapair-nbaautre),\"\"))))))","v":""},{"$f":"IF($A95<=nbappomp,INDEX('Analyse Préliminaire Pompe'!M$13:M$47,$A95),IF($A95<=nbappomp+nbapven,INDEX('Analyse Préliminaire Ventilateu'!M$13:M$44,$A95-nbappomp),IF($A95<=nbappomp+nbapven+nbapair,\"\",IF(A95<=nbappomp+nbapven+nbapair+nbaautre,INDEX('Analyse Préliminaire Autres'!$M$11:$M$42,A95-nbappomp-nbapven-nbapair),IF($A95<=nbappomp+nbapven+nbapair,'Analyse Préliminaire air compr'!$AM$16,IF(A95<=nbappomp+nbapven+nbapair+nbaautre+nbafroid,INDEX('AP Groupe froid'!$M$14:$M$17,A95-nbappomp-nbapven-nbapair-nbaautre),\"\"))))))","v":""},{"$f":"IF($A95<=nbappomp,INDEX('Analyse Préliminaire Pompe'!N$13:N$47,$A95),IF($A95<=nbappomp+nbapven,INDEX('Analyse Préliminaire Ventilateu'!N$13:N$44,$A95-nbappomp),IF($A95<=nbappomp+nbapven+nbapair,\"\",IF(A95<=nbappomp+nbapven+nbapair+nbaautre,INDEX('Analyse Préliminaire Autres'!$N$11:$N$42,A95-nbappomp-nbapven-nbapair),\"\"))))","v":""},{"$f":"IF($A95<=nbappomp,INDEX('Analyse Préliminaire Pompe'!O$13:O$47,$A95),IF($A95<=nbappomp+nbapven,INDEX('Analyse Préliminaire Ventilateu'!O$13:O$44,$A95-nbappomp),IF($A95<=nbappomp+nbapven+nbapair,\"\",IF(A95<=nbappomp+nbapven+nbapair+nbaautre,INDEX('Analyse Préliminaire Autres'!$O$11:$O$42,A95-nbappomp-nbapven-nbapair),\"\"))))","v":""},{"$f":"IF($A95<=nbappomp,INDEX('Analyse Préliminaire Pompe'!P$13:P$47,$A95),IF($A95<=nbappomp+nbapven,INDEX('Analyse Préliminaire Ventilateu'!P$13:P$44,$A95-nbappomp),IF($A95<=nbappomp+nbapven+nbapair,\"\",IF(A95<=nbappomp+nbapven+nbapair+nbaautre,INDEX('Analyse Préliminaire Autres'!#REF!,A95-nbappomp-nbapven-nbapair),\"\"))))","v":""},{"$f":"IF($A95<=nbappomp,INDEX('Analyse Préliminaire Pompe'!Q$13:Q$47,$A95),IF($A95<=nbappomp+nbapven,\"\",IF($A95<=nbappomp+nbapven+nbapair,\"\",\"\")))","v":""},{"$f":"IF(AI95=\"\",IF($A95<=nbappomp,INDEX('Analyse Préliminaire Pompe'!S$13:S$47,$A95),IF($A95<=nbappomp+nbapven,INDEX('Analyse Préliminaire Ventilateu'!Q$13:Q$44,$A95-nbappomp),IF($A95<=nbappomp+nbapven+nbapair,\"\",IF(A95<=nbappomp+nbapven+nbapair+nbaautre,\"\",\"\")))),AI95)","v":""},{"$f":"IF(AN95,\"\",IF($A95<=nbappomp,INDEX('Analyse Préliminaire Pompe'!AO$13:AO$47,$A95),IF($A95<=nbappomp+nbapven,INDEX('Analyse Préliminaire Ventilateu'!AM$13:AM$44,$A95-nbappomp),IF($A95<=nbappomp+nbapven+nbapair,EcoAPkWhCP,IF(A95<=nbappomp+nbapven+nbapair+nbaautre,INDEX('Analyse Préliminaire Autres'!$E$11:$E$42,A95-nbappomp-nbapven-nbapair),IF($A95<=nbappomp+nbapven+nbapair+nbaautre+nbafroid,INDEX('AP Groupe froid'!$AN$14:$AN$17,$A95-nbappomp-nbapven-nbapair-nbaautre),\"\"))))))","v":""},{"$f":"IF(AN95,\"\",IF($A95<=nbappomp,INDEX('Analyse Préliminaire Pompe'!AP$13:AP$47,$A95),IF($A95<=nbappomp+nbapven,INDEX('Analyse Préliminaire Ventilateu'!AN$13:AN$44,$A95-nbappomp),IF($A95<=nbappomp+nbapven+nbapair,EcoAPpercCP,IF(A95<=nbappomp+nbapven+nbapair+nbaautre,INDEX('Analyse Préliminaire Autres'!$E$11:$E$42,A95-nbappomp-nbapven-nbapair),IF($A95<=nbappomp+nbapven+nbapair+nbaautre+nbafroid,INDEX('AP Groupe froid'!$AO$14:$AO$17,$A95-nbappomp-nbapven-nbapair-nbaautre),\"\"))))))","v":""},{"$f":"IF(AN95,\"\",IF($A95<=nbappomp,INDEX('Analyse Préliminaire Pompe'!AQ$13:AQ$47,$A95),IF($A95<=nbappomp+nbapven,INDEX('Analyse Préliminaire Ventilateu'!AO$13:AO$44,$A95-nbappomp),IF($A95<=nbappomp+nbapven+nbapair,consoanncp,IF(A95<=nbappomp+nbapven+nbapair+nbaautre,INDEX('Analyse Préliminaire Autres'!$E$11:$E$42,A95-nbappomp-nbapven-nbapair),IF($A95<=nbappomp+nbapven+nbapair+nbaautre+nbafroid,INDEX('AP Groupe froid'!$AP$14:$AP$17,$A95-nbappomp-nbapven-nbapair-nbaautre),\"\"))))))","v":""},{"$f":"IF(R95=\"\",-1,IF(AND($L95>'Economies classées'!$B$2,$K95>0.2,YEAR(TODAY())-$Z95>8),2,IF(AND($L95>'Economies classées'!$B$3,YEAR(TODAY())-$Z95>5),1,0)))","v":-1},null,null,"",{"$f":"IF($A95<=nbappomp,ISBLANK(INDEX('Analyse Préliminaire Pompe'!AO$13:AO$47,$A95)),IF($A95<=nbappomp+nbapven,ISBLANK(INDEX('Analyse Préliminaire Ventilateu'!AM$13:AM$44,$A95-nbappomp)),IF($A95<=nbappomp+nbapven+nbapair,ISBLANK(EcoAPkWhCP),IF(A95<=nbappomp+nbapven+nbapair+nbaautre,ISBLANK(INDEX('Analyse Préliminaire Autres'!AC$11:AC$42,A95-nbappomp-nbapven-nbapair)),IF(A95<=nbappomp+nbapven+nbapair+nbaautre+nbafroid,ISBLANK(INDEX('AP Groupe froid'!$AN$14:$AN$17,A95-nbappomp-nbapven-nbapair-nbaautre)),FALSE)))))","v":false},{"$f":"IF(E95=Listes!$H$25,1,0)","v":0},{"$f":"IF(E95=Listes!$H$26,1,0)","v":0},0,0,{"$f":"IF(E95=Listes!$H$28,1,0)","v":0},null,0,0,0,0,0,null,0,0,0,0,0,null,"","","","","",null,-1,-1,-1,-1,null,null,{"$f":"IF(E95=Listes!$H$25,1,0)","v":0},{"$f":"IF(E95=Listes!$H$26,1,0)","v":0},0,0,0,0,0,null,0,0,null,{"$error":"#VALUE!"},0,0,0,null,null,null,"",""]
[72,"",null,{"$f":"IF(A96<=nbappomp,INDEX('Analyse Préliminaire Pompe'!$B$13:$B$47,A96),IF(A96<=nbappomp+nbapven,INDEX('Analyse Préliminaire Ventilateu'!$B$13:$B$44,A96-nbappomp),IF(A96<=nbappomp+nbapven+nbapair,301,IF(A96<=nbappomp+nbapven+nbapair+nbaautre,INDEX('Analyse Préliminaire Autres'!$B$11:$B$42,A96-nbappomp-nbapven-nbapair),IF(A96<=nbappomp+nbapven+nbapair+nbaautre+nbafroid,INDEX('AP Groupe froid'!$B$14:$B$17,A96-nbappomp-nbapven-nbapair-nbaautre),\"\")))))","v":""},{"$f":"IF(A96<=nbappomp,INDEX('Analyse Préliminaire Pompe'!$C$13:$C$47,A96),IF(A96<=nbappomp+nbapven,INDEX('Analyse Préliminaire Ventilateu'!$C$13:$C$44,A96-nbappomp),IF(A96<=nbappomp+nbapven+nbapair,$AJ$4,IF(A96<=nbappomp+nbapven+nbapair+nbaautre,INDEX('Analyse Préliminaire Autres'!$C$11:$C$42,A96-nbappomp-nbapven-nbapair),IF(A96<=nbappomp+nbapven+nbapair+nbaautre+nbafroid,INDEX('AP Groupe froid'!$C$14:$C$17,A96-nbappomp-nbapven-nbapair-nbaautre),\"\")))))","v":""},null,null,{"$f":"IF(A96<=nbappomp,INDEX('Analyse Préliminaire Pompe'!$H$13:$H$47,A96),IF(A96<=nbappomp+nbapven,INDEX('Analyse Préliminaire Ventilateu'!$H$13:$H$44,A96-nbappomp),IF(A96<=nbappomp+nbapven+nbapair,$AJ$4,IF(A96<=nbappomp+nbapven+nbapair+nbaautre,INDEX('Analyse Préliminaire Autres'!$H$11:$H$42,A96-nbappomp-nbapven-nbapair),IF(A96<=nbappomp+nbapven+nbapair+nbaautre+nbafroid,INDEX('AP Groupe froid'!$I$14:$I$17,A96-nbappomp-nbapven-nbapair-nbaautre),\"\")))))","v":""},null,null,{"$f":"IF(AH96=\"\",IF($A96<=nbappomp,INDEX('Analyse Préliminaire Pompe'!AE$13:AE$47,$A96),IF($A96<=nbappomp+nbapven,INDEX('Analyse Préliminaire Ventilateu'!AC$13:AC$44,$A96-nbappomp),IF($A96<=nbappomp+nbapven+nbapair,'Analyse Préliminaire air compr'!$AI$22,IF(A96<=nbappomp+nbapven+nbapair+nbaautre,INDEX('Analyse Préliminaire Autres'!$X$11:$X$42,A96-nbappomp-nbapven-nbapair),IF(A96<=nbappomp+nbapven+nbapair+nbaautre+nbafroid,INDEX('AP Groupe froid'!$AF$14:$AF$17,A96-nbappomp-nbapven-nbapair-nbaautre),\"\"))))),AH96)","v":""},{"$f":"IF(AG96=\"\",IF($A96<=nbappomp,INDEX('Analyse Préliminaire Pompe'!AD$13:AD$47,$A96),IF($A96<=nbappomp+nbapven,INDEX('Analyse Préliminaire Ventilateu'!AB$13:AB$44,$A96-nbappomp),IF($A96<=nbappomp+nbapven+nbapair,'Analyse Préliminaire air compr'!$AH$22,IF(A96<=nbappomp+nbapven+nbapair+nbaautre,INDEX('Analyse Préliminaire Autres'!$W$11:$W$42,A96-nbappomp-nbapven-nbapair),IF(A96<=nbappomp+nbapven+nbapair+nbaautre+nbafroid,INDEX('AP Groupe froid'!$AE$14:$AE$17,A96-nbappomp-nbapven-nbapair-nbaautre),\"\"))))),AG96)","v":""},null,"",null,"",null,{"$f":"IF(AI96=\"\",IF($A96<=nbappomp,INDEX('Analyse Préliminaire Pompe'!T$13:T$47,$A96),IF($A96<=nbappomp+nbapven,INDEX('Analyse Préliminaire Ventilateu'!R$13:R$44,$A96-nbappomp),IF($A96<=nbappomp+nbapven+nbapair,'Analyse Préliminaire air compr'!$AH$13,IF(A96<=nbappomp+nbapven+nbapair+nbaautre,INDEX('Analyse Préliminaire Autres'!$P$11:$P$42,A96-nbappomp-nbapven-nbapair),IF(A96<=nbappomp+nbapven+nbapair+nbaautre+nbafroid,INDEX('AP Groupe froid'!$AD$14:$AD$17,A96-nbappomp-nbapven-nbapair-nbaautre),\"\"))))),AI96)","v":""},null,{"$f":"IF($A96<=nbappomp,INDEX('Analyse Préliminaire Pompe'!X$13:X$47,$A96),IF($A96<=nbappomp+nbapven,INDEX('Analyse Préliminaire Ventilateu'!V$13:V$44,$A96-nbappomp),IF($A96<=nbappomp+nbapven+nbapair,'Analyse Préliminaire air compr'!$E$35,IF(A96<=nbappomp+nbapven+nbapair+nbaautre,INDEX('Analyse Préliminaire Autres'!$R$11:$R$42,A96-nbappomp-nbapven-nbapair),IF(A96<=nbappomp+nbapven+nbapair+nbaautre+nbafroid,INDEX('AP Groupe froid'!$Z$14:$Z$17,A96-nbappomp-nbapven-nbapair-nbaautre),\"\")))))","v":""},null,null,{"$f":"IF(AG96=\"\",IF($A96<=nbappomp,INDEX('Analyse Préliminaire Pompe'!AN$13:AN$47,$A96),IF($A96<=nbappomp+nbapven,INDEX('Analyse Préliminaire Ventilateu'!AL$13:AL$44,$A96-nbappomp),IF($A96<=nbappomp+nbapven+nbapair,'Analyse Préliminaire air compr'!$AM$16,IF(A96<=nbappomp+nbapven+nbapair+nbaautre,INDEX('Analyse Préliminaire Autres'!$AB$11:$AB$42,A96-nbappomp-nbapven-nbapair),IF(A96<=nbappomp+nbapven+nbapair+nbaautre+nbafroid,INDEX('AP Groupe froid'!$AM$14:$AM$17,A96-nbappomp-nbapven-nbapair-nbaautre),\"\"))))),'Economies classées'!$A$47)","v":""},{"$f":"IF($A96<=nbappomp,INDEX('Analyse Préliminaire Pompe'!E$13:E$47,$A96),IF($A96<=nbappomp+nbapven,INDEX('Analyse Préliminaire Ventilateu'!E$13:E$44,$A96-nbappomp),IF($A96<=nbappomp+nbapven+nbapair,\"voir detail\",IF(A96<=nbappomp+nbapven+nbapair+nbaautre,INDEX('Analyse Préliminaire Autres'!$E$11:$E$42,A96-nbappomp-nbapven-nbapair),IF(A96<=nbappomp+nbapven+nbapair+nbaautre+nbafroid,INDEX('AP Groupe froid'!$F$14:$F$17,A96-nbappomp-nbapven-nbapair-nbaautre),\"\")))))","v":""},{"$f":"IF($A96<=nbappomp,INDEX('Analyse Préliminaire Pompe'!K$13:K$47,$A96),IF($A96<=nbappomp+nbapven,INDEX('Analyse Préliminaire Ventilateu'!K$13:K$44,$A96-nbappomp),IF($A96<=nbappomp+nbapven+nbapair,SUM('Analyse Préliminaire air compr'!$I$26:$I$32),IF(A96<=nbappomp+nbapven+nbapair+nbaautre,INDEX('Analyse Préliminaire Autres'!$K$11:$K$42,A96-nbappomp-nbapven-nbapair),IF(A96<=nbappomp+nbapven+nbapair+nbaautre+nbafroid,INDEX('AP Groupe froid'!$O$14:$O$17,A96-nbappomp-nbapven-nbapair-nbaautre),\"\")))))","v":""},{"$f":"IF($A96<=nbappomp,INDEX('Analyse Préliminaire Pompe'!L$13:L$47,$A96),IF($A96<=nbappomp+nbapven,INDEX('Analyse Préliminaire Ventilateu'!L$13:L$44,$A96-nbappomp),IF($A96<=nbappomp+nbapven+nbapair,MIN('Analyse Préliminaire air compr'!$J$26:$J$32),IF(A96<=nbappomp+nbapven+nbapair+nbaautre,INDEX('Analyse Préliminaire Autres'!$L$11:$L$42,A96-nbappomp-nbapven-nbapair),IF($A96<=nbappomp+nbapven+nbapair,'Analyse Préliminaire air compr'!$AM$16,IF(A96<=nbappomp+nbapven+nbapair+nbaautre+nbafroid,INDEX('AP Groupe froid'!$L$14:$L$17,A96-nbappomp-nbapven-nbapair-nbaautre),\"\"))))))","v":""},{"$f":"IF($A96<=nbappomp,INDEX('Analyse Préliminaire Pompe'!M$13:M$47,$A96),IF($A96<=nbappomp+nbapven,INDEX('Analyse Préliminaire Ventilateu'!M$13:M$44,$A96-nbappomp),IF($A96<=nbappomp+nbapven+nbapair,\"\",IF(A96<=nbappomp+nbapven+nbapair+nbaautre,INDEX('Analyse Préliminaire Autres'!$M$11:$M$42,A96-nbappomp-nbapven-nbapair),IF($A96<=nbappomp+nbapven+nbapair,'Analyse Préliminaire air compr'!$AM$16,IF(A96<=nbappomp+nbapven+nbapair+nbaautre+nbafroid,INDEX('AP Groupe froid'!$M$14:$M$17,A96-nbappomp-nbapven-nbapair-nbaautre),\"\"))))))","v":""},{"$f":"IF($A96<=nbappomp,INDEX('Analyse Préliminaire Pompe'!N$13:N$47,$A96),IF($A96<=nbappomp+nbapven,INDEX('Analyse Préliminaire Ventilateu'!N$13:N$44,$A96-nbappomp),IF($A96<=nbappomp+nbapven+nbapair,\"\",IF(A96<=nbappomp+nbapven+nbapair+nbaautre,INDEX('Analyse Préliminaire Autres'!$N$11:$N$42,A96-nbappomp-nbapven-nbapair),\"\"))))","v":""},{"$f":"IF($A96<=nbappomp,INDEX('Analyse Préliminaire Pompe'!O$13:O$47,$A96),IF($A96<=nbappomp+nbapven,INDEX('Analyse Préliminaire Ventilateu'!O$13:O$44,$A96-nbappomp),IF($A96<=nbappomp+nbapven+nbapair,\"\",IF(A96<=nbappomp+nbapven+nbapair+nbaautre,INDEX('Analyse Préliminaire Autres'!$O$11:$O$42,A96-nbappomp-nbapven-nbapair),\"\"))))","v":""},{"$f":"IF($A96<=nbappomp,INDEX('Analyse Préliminaire Pompe'!P$13:P$47,$A96),IF($A96<=nbappomp+nbapven,INDEX('Analyse Préliminaire Ventilateu'!P$13:P$44,$A96-nbappomp),IF($A96<=nbappomp+nbapven+nbapair,\"\",IF(A96<=nbappomp+nbapven+nbapair+nbaautre,INDEX('Analyse Préliminaire Autres'!#REF!,A96-nbappomp-nbapven-nbapair),\"\"))))","v":""},{"$f":"IF($A96<=nbappomp,INDEX('Analyse Préliminaire Pompe'!Q$13:Q$47,$A96),IF($A96<=nbappomp+nbapven,\"\",IF($A96<=nbappomp+nbapven+nbapair,\"\",\"\")))","v":""},{"$f":"IF(AI96=\"\",IF($A96<=nbappomp,INDEX('Analyse Préliminaire Pompe'!S$13:S$47,$A96),IF($A96<=nbappomp+nbapven,INDEX('Analyse Préliminaire Ventilateu'!Q$13:Q$44,$A96-nbappomp),IF($A96<=nbappomp+nbapven+nbapair,\"\",IF(A96<=nbappomp+nbapven+nbapair+nbaautre,\"\",\"\")))),AI96)","v":""},{"$f":"IF(AN96,\"\",IF($A96<=nbappomp,INDEX('Analyse Préliminaire Pompe'!AO$13:AO$47,$A96),IF($A96<=nbappomp+nbapven,INDEX('Analyse Préliminaire Ventilateu'!AM$13:AM$44,$A96-nbappomp),IF($A96<=nbappomp+nbapven+nbapair,EcoAPkWhCP,IF(A96<=nbappomp+nbapven+nbapair+nbaautre,INDEX('Analyse Préliminaire Autres'!$E$11:$E$42,A96-nbappomp-nbapven-nbapair),IF($A96<=nbappomp+nbapven+nbapair+nbaautre+nbafroid,INDEX('AP Groupe froid'!$AN$14:$AN$17,$A96-nbappomp-nbapven-nbapair-nbaautre),\"\"))))))","v":""},{"$f":"IF(AN96,\"\",IF($A96<=nbappomp,INDEX('Analyse Préliminaire Pompe'!AP$13:AP$47,$A96),IF($A96<=nbappomp+nbapven,INDEX('Analyse Préliminaire Ventilateu'!AN$13:AN$44,$A96-nbappomp),IF($A96<=nbappomp+nbapven+nbapair,EcoAPpercCP,IF(A96<=nbappomp+nbapven+nbapair+nbaautre,INDEX('Analyse Préliminaire Autres'!$E$11:$E$42,A96-nbappomp-nbapven-nbapair),IF($A96<=nbappomp+nbapven+nbapair+nbaautre+nbafroid,INDEX('AP Groupe froid'!$AO$14:$AO$17,$A96-nbappomp-nbapven-nbapair-nbaautre),\"\"))))))","v":""},{"$f":"IF(AN96,\"\",IF($A96<=nbappomp,INDEX('Analyse Préliminaire Pompe'!AQ$13:AQ$47,$A96),IF($A96<=nbappomp+nbapven,INDEX('Analyse Préliminaire Ventilateu'!AO$13:AO$44,$A96-nbappomp),IF($A96<=nbappomp+nbapven+nbapair,consoanncp,IF(A96<=nbappomp+nbapven+nbapair+nbaautre,INDEX('Analyse Préliminaire Autres'!$E$11:$E$42,A96-nbappomp-nbapven-nbapair),IF($A96<=nbappomp+nbapven+nbapair+nbaautre+nbafroid,INDEX('AP Groupe froid'!$AP$14:$AP$17,$A96-nbappomp-nbapven-nbapair-nbaautre),\"\"))))))","v":""},{"$f":"IF(R96=\"\",-1,IF(AND($L96>'Economies classées'!$B$2,$K96>0.2,YEAR(TODAY())-$Z96>8),2,IF(AND($L96>'Economies classées'!$B$3,YEAR(TODAY())-$Z96>5),1,0)))","v":-1},null,null,"",{"$f":"IF($A96<=nbappomp,ISBLANK(INDEX('Analyse Préliminaire Pompe'!AO$13:AO$47,$A96)),IF($A96<=nbappomp+nbapven,ISBLANK(INDEX('Analyse Préliminaire Ventilateu'!AM$13:AM$44,$A96-nbappomp)),IF($A96<=nbappomp+nbapven+nbapair,ISBLANK(EcoAPkWhCP),IF(A96<=nbappomp+nbapven+nbapair+nbaautre,ISBLANK(INDEX('Analyse Préliminaire Autres'!AC$11:AC$42,A96-nbappomp-nbapven-nbapair)),IF(A96<=nbappomp+nbapven+nbapair+nbaautre+nbafroid,ISBLANK(INDEX('AP Groupe froid'!$AN$14:$AN$17,A96-nbappomp-nbapven-nbapair-nbaautre)),FALSE)))))","v":false},{"$f":"IF(E96=Listes!$H$25,1,0)","v":0},{"$f":"IF(E96=Listes!$H$26,1,0)","v":0},0,0,{"$f":"IF(E96=Listes!$H$28,1,0)","v":0},null,0,0,0,0,0,null,0,0,0,0,0,null,"","","","","",null,-1,-1,-1,-1,null,null,{"$f":"IF(E96=Listes!$H$25,1,0)","v":0},{"$f":"IF(E96=Listes!$H$26,1,0)","v":0},0,0,0,0,0,null,0,0,null,{"$error":"#VALUE!"},0,0,0,null,null,null,"",""]
[73,"",null,{"$f":"IF(A97<=nbappomp,INDEX('Analyse Préliminaire Pompe'!$B$13:$B$47,A97),IF(A97<=nbappomp+nbapven,INDEX('Analyse Préliminaire Ventilateu'!$B$13:$B$44,A97-nbappomp),IF(A97<=nbappomp+nbapven+nbapair,301,IF(A97<=nbappomp+nbapven+nbapair+nbaautre,INDEX('Analyse Préliminaire Autres'!$B$11:$B$42,A97-nbappomp-nbapven-nbapair),IF(A97<=nbappomp+nbapven+nbapair+nbaautre+nbafroid,INDEX('AP Groupe froid'!$B$14:$B$17,A97-nbappomp-nbapven-nbapair-nbaautre),\"\")))))","v":""},{"$f":"IF(A97<=nbappomp,INDEX('Analyse Préliminaire Pompe'!$C$13:$C$47,A97),IF(A97<=nbappomp+nbapven,INDEX('Analyse Préliminaire Ventilateu'!$C$13:$C$44,A97-nbappomp),IF(A97<=nbappomp+nbapven+nbapair,$AJ$4,IF(A97<=nbappomp+nbapven+nbapair+nbaautre,INDEX('Analyse Préliminaire Autres'!$C$11:$C$42,A97-nbappomp-nbapven-nbapair),IF(A97<=nbappomp+nbapven+nbapair+nbaautre+nbafroid,INDEX('AP Groupe froid'!$C$14:$C$17,A97-nbappomp-nbapven-nbapair-nbaautre),\"\")))))","v":""},null,null,{"$f":"IF(A97<=nbappomp,INDEX('Analyse Préliminaire Pompe'!$H$13:$H$47,A97),IF(A97<=nbappomp+nbapven,INDEX('Analyse Préliminaire Ventilateu'!$H$13:$H$44,A97-nbappomp),IF(A97<=nbappomp+nbapven+nbapair,$AJ$4,IF(A97<=nbappomp+nbapven+nbapair+nbaautre,INDEX('Analyse Préliminaire Autres'!$H$11:$H$42,A97-nbappomp-nbapven-nbapair),IF(A97<=nbappomp+nbapven+nbapair+nbaautre+nbafroid,INDEX('AP Groupe froid'!$I$14:$I$17,A97-nbappomp-nbapven-nbapair-nbaautre),\"\")))))","v":""},null,null,{"$f":"IF(AH97=\"\",IF($A97<=nbappomp,INDEX('Analyse Préliminaire Pompe'!AE$13:AE$47,$A97),IF($A97<=nbappomp+nbapven,INDEX('Analyse Préliminaire Ventilateu'!AC$13:AC$44,$A97-nbappomp),IF($A97<=nbappomp+nbapven+nbapair,'Analyse Préliminaire air compr'!$AI$22,IF(A97<=nbappomp+nbapven+nbapair+nbaautre,INDEX('Analyse Préliminaire Autres'!$X$11:$X$42,A97-nbappomp-nbapven-nbapair),IF(A97<=nbappomp+nbapven+nbapair+nbaautre+nbafroid,INDEX('AP Groupe froid'!$AF$14:$AF$17,A97-nbappomp-nbapven-nbapair-nbaautre),\"\"))))),AH97)","v":""},{"$f":"IF(AG97=\"\",IF($A97<=nbappomp,INDEX('Analyse Préliminaire Pompe'!AD$13:AD$47,$A97),IF($A97<=nbappomp+nbapven,INDEX('Analyse Préliminaire Ventilateu'!AB$13:AB$44,$A97-nbappomp),IF($A97<=nbappomp+nbapven+nbapair,'Analyse Préliminaire air compr'!$AH$22,IF(A97<=nbappomp+nbapven+nbapair+nbaautre,INDEX('Analyse Préliminaire Autres'!$W$11:$W$42,A97-nbappomp-nbapven-nbapair),IF(A97<=nbappomp+nbapven+nbapair+nbaautre+nbafroid,INDEX('AP Groupe froid'!$AE$14:$AE$17,A97-nbappomp-nbapven-nbapair-nbaautre),\"\"))))),AG97)","v":""},null,"",null,"",null,{"$f":"IF(AI97=\"\",IF($A97<=nbappomp,INDEX('Analyse Préliminaire Pompe'!T$13:T$47,$A97),IF($A97<=nbappomp+nbapven,INDEX('Analyse Préliminaire Ventilateu'!R$13:R$44,$A97-nbappomp),IF($A97<=nbappomp+nbapven+nbapair,'Analyse Préliminaire air compr'!$AH$13,IF(A97<=nbappomp+nbapven+nbapair+nbaautre,INDEX('Analyse Préliminaire Autres'!$P$11:$P$42,A97-nbappomp-nbapven-nbapair),IF(A97<=nbappomp+nbapven+nbapair+nbaautre+nbafroid,INDEX('AP Groupe froid'!$AD$14:$AD$17,A97-nbappomp-nbapven-nbapair-nbaautre),\"\"))))),AI97)","v":""},null,{"$f":"IF($A97<=nbappomp,INDEX('Analyse Préliminaire Pompe'!X$13:X$47,$A97),IF($A97<=nbappomp+nbapven,INDEX('Analyse Préliminaire Ventilateu'!V$13:V$44,$A97-nbappomp),IF($A97<=nbappomp+nbapven+nbapair,'Analyse Préliminaire air compr'!$E$35,IF(A97<=nbappomp+nbapven+nbapair+nbaautre,INDEX('Analyse Préliminaire Autres'!$R$11:$R$42,A97-nbappomp-nbapven-nbapair),IF(A97<=nbappomp+nbapven+nbapair+nbaautre+nbafroid,INDEX('AP Groupe froid'!$Z$14:$Z$17,A97-nbappomp-nbapven-nbapair-nbaautre),\"\")))))","v":""},null,null,{"$f":"IF(AG97=\"\",IF($A97<=nbappomp,INDEX('Analyse Préliminaire Pompe'!AN$13:AN$47,$A97),IF($A97<=nbappomp+nbapven,INDEX('Analyse Préliminaire Ventilateu'!AL$13:AL$44,$A97-nbappomp),IF($A97<=nbappomp+nbapven+nbapair,'Analyse Préliminaire air compr'!$AM$16,IF(A97<=nbappomp+nbapven+nbapair+nbaautre,INDEX('Analyse Préliminaire Autres'!$AB$11:$AB$42,A97-nbappomp-nbapven-nbapair),IF(A97<=nbappomp+nbapven+nbapair+nbaautre+nbafroid,INDEX('AP Groupe froid'!$AM$14:$AM$17,A97-nbappomp-nbapven-nbapair-nbaautre),\"\"))))),'Economies classées'!$A$47)","v":""},{"$f":"IF($A97<=nbappomp,INDEX('Analyse Préliminaire Pompe'!E$13:E$47,$A97),IF($A97<=nbappomp+nbapven,INDEX('Analyse Préliminaire Ventilateu'!E$13:E$44,$A97-nbappomp),IF($A97<=nbappomp+nbapven+nbapair,\"voir detail\",IF(A97<=nbappomp+nbapven+nbapair+nbaautre,INDEX('Analyse Préliminaire Autres'!$E$11:$E$42,A97-nbappomp-nbapven-nbapair),IF(A97<=nbappomp+nbapven+nbapair+nbaautre+nbafroid,INDEX('AP Groupe froid'!$F$14:$F$17,A97-nbappomp-nbapven-nbapair-nbaautre),\"\")))))","v":""},{"$f":"IF($A97<=nbappomp,INDEX('Analyse Préliminaire Pompe'!K$13:K$47,$A97),IF($A97<=nbappomp+nbapven,INDEX('Analyse Préliminaire Ventilateu'!K$13:K$44,$A97-nbappomp),IF($A97<=nbappomp+nbapven+nbapair,SUM('Analyse Préliminaire air compr'!$I$26:$I$32),IF(A97<=nbappomp+nbapven+nbapair+nbaautre,INDEX('Analyse Préliminaire Autres'!$K$11:$K$42,A97-nbappomp-nbapven-nbapair),IF(A97<=nbappomp+nbapven+nbapair+nbaautre+nbafroid,INDEX('AP Groupe froid'!$O$14:$O$17,A97-nbappomp-nbapven-nbapair-nbaautre),\"\")))))","v":""},{"$f":"IF($A97<=nbappomp,INDEX('Analyse Préliminaire Pompe'!L$13:L$47,$A97),IF($A97<=nbappomp+nbapven,INDEX('Analyse Préliminaire Ventilateu'!L$13:L$44,$A97-nbappomp),IF($A97<=nbappomp+nbapven+nbapair,MIN('Analyse Préliminaire air compr'!$J$26:$J$32),IF(A97<=nbappomp+nbapven+nbapair+nbaautre,INDEX('Analyse Préliminaire Autres'!$L$11:$L$42,A97-nbappomp-nbapven-nbapair),IF($A97<=nbappomp+nbapven+nbapair,'Analyse Préliminaire air compr'!$AM$16,IF(A97<=nbappomp+nbapven+nbapair+nbaautre+nbafroid,INDEX('AP Groupe froid'!$L$14:$L$17,A97-nbappomp-nbapven-nbapair-nbaautre),\"\"))))))","v":""},{"$f":"IF($A97<=nbappomp,INDEX('Analyse Préliminaire Pompe'!M$13:M$47,$A97),IF($A97<=nbappomp+nbapven,INDEX('Analyse Préliminaire Ventilateu'!M$13:M$44,$A97-nbappomp),IF($A97<=nbappomp+nbapven+nbapair,\"\",IF(A97<=nbappomp+nbapven+nbapair+nbaautre,INDEX('Analyse Préliminaire Autres'!$M$11:$M$42,A97-nbappomp-nbapven-nbapair),IF($A97<=nbappomp+nbapven+nbapair,'Analyse Préliminaire air compr'!$AM$16,IF(A97<=nbappomp+nbapven+nbapair+nbaautre+nbafroid,INDEX('AP Groupe froid'!$M$14:$M$17,A97-nbappomp-nbapven-nbapair-nbaautre),\"\"))))))","v":""},{"$f":"IF($A97<=nbappomp,INDEX('Analyse Préliminaire Pompe'!N$13:N$47,$A97),IF($A97<=nbappomp+nbapven,INDEX('Analyse Préliminaire Ventilateu'!N$13:N$44,$A97-nbappomp),IF($A97<=nbappomp+nbapven+nbapair,\"\",IF(A97<=nbappomp+nbapven+nbapair+nbaautre,INDEX('Analyse Préliminaire Autres'!$N$11:$N$42,A97-nbappomp-nbapven-nbapair),\"\"))))","v":""},{"$f":"IF($A97<=nbappomp,INDEX('Analyse Préliminaire Pompe'!O$13:O$47,$A97),IF($A97<=nbappomp+nbapven,INDEX('Analyse Préliminaire Ventilateu'!O$13:O$44,$A97-nbappomp),IF($A97<=nbappomp+nbapven+nbapair,\"\",IF(A97<=nbappomp+nbapven+nbapair+nbaautre,INDEX('Analyse Préliminaire Autres'!$O$11:$O$42,A97-nbappomp-nbapven-nbapair),\"\"))))","v":""},{"$f":"IF($A97<=nbappomp,INDEX('Analyse Préliminaire Pompe'!P$13:P$47,$A97),IF($A97<=nbappomp+nbapven,INDEX('Analyse Préliminaire Ventilateu'!P$13:P$44,$A97-nbappomp),IF($A97<=nbappomp+nbapven+nbapair,\"\",IF(A97<=nbappomp+nbapven+nbapair+nbaautre,INDEX('Analyse Préliminaire Autres'!#REF!,A97-nbappomp-nbapven-nbapair),\"\"))))","v":""},{"$f":"IF($A97<=nbappomp,INDEX('Analyse Préliminaire Pompe'!Q$13:Q$47,$A97),IF($A97<=nbappomp+nbapven,\"\",IF($A97<=nbappomp+nbapven+nbapair,\"\",\"\")))","v":""},{"$f":"IF(AI97=\"\",IF($A97<=nbappomp,INDEX('Analyse Préliminaire Pompe'!S$13:S$47,$A97),IF($A97<=nbappomp+nbapven,INDEX('Analyse Préliminaire Ventilateu'!Q$13:Q$44,$A97-nbappomp),IF($A97<=nbappomp+nbapven+nbapair,\"\",IF(A97<=nbappomp+nbapven+nbapair+nbaautre,\"\",\"\")))),AI97)","v":""},{"$f":"IF(AN97,\"\",IF($A97<=nbappomp,INDEX('Analyse Préliminaire Pompe'!AO$13:AO$47,$A97),IF($A97<=nbappomp+nbapven,INDEX('Analyse Préliminaire Ventilateu'!AM$13:AM$44,$A97-nbappomp),IF($A97<=nbappomp+nbapven+nbapair,EcoAPkWhCP,IF(A97<=nbappomp+nbapven+nbapair+nbaautre,INDEX('Analyse Préliminaire Autres'!$E$11:$E$42,A97-nbappomp-nbapven-nbapair),IF($A97<=nbappomp+nbapven+nbapair+nbaautre+nbafroid,INDEX('AP Groupe froid'!$AN$14:$AN$17,$A97-nbappomp-nbapven-nbapair-nbaautre),\"\"))))))","v":""},{"$f":"IF(AN97,\"\",IF($A97<=nbappomp,INDEX('Analyse Préliminaire Pompe'!AP$13:AP$47,$A97),IF($A97<=nbappomp+nbapven,INDEX('Analyse Préliminaire Ventilateu'!AN$13:AN$44,$A97-nbappomp),IF($A97<=nbappomp+nbapven+nbapair,EcoAPpercCP,IF(A97<=nbappomp+nbapven+nbapair+nbaautre,INDEX('Analyse Préliminaire Autres'!$E$11:$E$42,A97-nbappomp-nbapven-nbapair),IF($A97<=nbappomp+nbapven+nbapair+nbaautre+nbafroid,INDEX('AP Groupe froid'!$AO$14:$AO$17,$A97-nbappomp-nbapven-nbapair-nbaautre),\"\"))))))","v":""},{"$f":"IF(AN97,\"\",IF($A97<=nbappomp,INDEX('Analyse Préliminaire Pompe'!AQ$13:AQ$47,$A97),IF($A97<=nbappomp+nbapven,INDEX('Analyse Préliminaire Ventilateu'!AO$13:AO$44,$A97-nbappomp),IF($A97<=nbappomp+nbapven+nbapair,consoanncp,IF(A97<=nbappomp+nbapven+nbapair+nbaautre,INDEX('Analyse Préliminaire Autres'!$E$11:$E$42,A97-nbappomp-nbapven-nbapair),IF($A97<=nbappomp+nbapven+nbapair+nbaautre+nbafroid,INDEX('AP Groupe froid'!$AP$14:$AP$17,$A97-nbappomp-nbapven-nbapair-nbaautre),\"\"))))))","v":""},{"$f":"IF(R97=\"\",-1,IF(AND($L97>'Economies classées'!$B$2,$K97>0.2,YEAR(TODAY())-$Z97>8),2,IF(AND($L97>'Economies classées'!$B$3,YEAR(TODAY())-$Z97>5),1,0)))","v":-1},null,null,"",{"$f":"IF($A97<=nbappomp,ISBLANK(INDEX('Analyse Préliminaire Pompe'!AO$13:AO$47,$A97)),IF($A97<=nbappomp+nbapven,ISBLANK(INDEX('Analyse Préliminaire Ventilateu'!AM$13:AM$44,$A97-nbappomp)),IF($A97<=nbappomp+nbapven+nbapair,ISBLANK(EcoAPkWhCP),IF(A97<=nbappomp+nbapven+nbapair+nbaautre,ISBLANK(INDEX('Analyse Préliminaire Autres'!AC$11:AC$42,A97-nbappomp-nbapven-nbapair)),IF(A97<=nbappomp+nbapven+nbapair+nbaautre+nbafroid,ISBLANK(INDEX('AP Groupe froid'!$AN$14:$AN$17,A97-nbappomp-nbapven-nbapair-nbaautre)),FALSE)))))","v":false},{"$f":"IF(E97=Listes!$H$25,1,0)","v":0},{"$f":"IF(E97=Listes!$H$26,1,0)","v":0},0,0,{"$f":"IF(E97=Listes!$H$28,1,0)","v":0},null,0,0,0,0,0,null,0,0,0,0,0,null,"","","","","",null,-1,-1,-1,-1,null,null,{"$f":"IF(E97=Listes!$H$25,1,0)","v":0},{"$f":"IF(E97=Listes!$H$26,1,0)","v":0},0,0,0,0,0,null,0,0,null,{"$error":"#VALUE!"},0,0,0,null,null,null,"",""]
[74,"",null,{"$f":"IF(A98<=nbappomp,INDEX('Analyse Préliminaire Pompe'!$B$13:$B$47,A98),IF(A98<=nbappomp+nbapven,INDEX('Analyse Préliminaire Ventilateu'!$B$13:$B$44,A98-nbappomp),IF(A98<=nbappomp+nbapven+nbapair,301,IF(A98<=nbappomp+nbapven+nbapair+nbaautre,INDEX('Analyse Préliminaire Autres'!$B$11:$B$42,A98-nbappomp-nbapven-nbapair),IF(A98<=nbappomp+nbapven+nbapair+nbaautre+nbafroid,INDEX('AP Groupe froid'!$B$14:$B$17,A98-nbappomp-nbapven-nbapair-nbaautre),\"\")))))","v":""},{"$f":"IF(A98<=nbappomp,INDEX('Analyse Préliminaire Pompe'!$C$13:$C$47,A98),IF(A98<=nbappomp+nbapven,INDEX('Analyse Préliminaire Ventilateu'!$C$13:$C$44,A98-nbappomp),IF(A98<=nbappomp+nbapven+nbapair,$AJ$4,IF(A98<=nbappomp+nbapven+nbapair+nbaautre,INDEX('Analyse Préliminaire Autres'!$C$11:$C$42,A98-nbappomp-nbapven-nbapair),IF(A98<=nbappomp+nbapven+nbapair+nbaautre+nbafroid,INDEX('AP Groupe froid'!$C$14:$C$17,A98-nbappomp-nbapven-nbapair-nbaautre),\"\")))))","v":""},null,null,{"$f":"IF(A98<=nbappomp,INDEX('Analyse Préliminaire Pompe'!$H$13:$H$47,A98),IF(A98<=nbappomp+nbapven,INDEX('Analyse Préliminaire Ventilateu'!$H$13:$H$44,A98-nbappomp),IF(A98<=nbappomp+nbapven+nbapair,$AJ$4,IF(A98<=nbappomp+nbapven+nbapair+nbaautre,INDEX('Analyse Préliminaire Autres'!$H$11:$H$42,A98-nbappomp-nbapven-nbapair),IF(A98<=nbappomp+nbapven+nbapair+nbaautre+nbafroid,INDEX('AP Groupe froid'!$I$14:$I$17,A98-nbappomp-nbapven-nbapair-nbaautre),\"\")))))","v":""},null,null,{"$f":"IF(AH98=\"\",IF($A98<=nbappomp,INDEX('Analyse Préliminaire Pompe'!AE$13:AE$47,$A98),IF($A98<=nbappomp+nbapven,INDEX('Analyse Préliminaire Ventilateu'!AC$13:AC$44,$A98-nbappomp),IF($A98<=nbappomp+nbapven+nbapair,'Analyse Préliminaire air compr'!$AI$22,IF(A98<=nbappomp+nbapven+nbapair+nbaautre,INDEX('Analyse Préliminaire Autres'!$X$11:$X$42,A98-nbappomp-nbapven-nbapair),IF(A98<=nbappomp+nbapven+nbapair+nbaautre+nbafroid,INDEX('AP Groupe froid'!$AF$14:$AF$17,A98-nbappomp-nbapven-nbapair-nbaautre),\"\"))))),AH98)","v":""},{"$f":"IF(AG98=\"\",IF($A98<=nbappomp,INDEX('Analyse Préliminaire Pompe'!AD$13:AD$47,$A98),IF($A98<=nbappomp+nbapven,INDEX('Analyse Préliminaire Ventilateu'!AB$13:AB$44,$A98-nbappomp),IF($A98<=nbappomp+nbapven+nbapair,'Analyse Préliminaire air compr'!$AH$22,IF(A98<=nbappomp+nbapven+nbapair+nbaautre,INDEX('Analyse Préliminaire Autres'!$W$11:$W$42,A98-nbappomp-nbapven-nbapair),IF(A98<=nbappomp+nbapven+nbapair+nbaautre+nbafroid,INDEX('AP Groupe froid'!$AE$14:$AE$17,A98-nbappomp-nbapven-nbapair-nbaautre),\"\"))))),AG98)","v":""},null,"",null,"",null,{"$f":"IF(AI98=\"\",IF($A98<=nbappomp,INDEX('Analyse Préliminaire Pompe'!T$13:T$47,$A98),IF($A98<=nbappomp+nbapven,INDEX('Analyse Préliminaire Ventilateu'!R$13:R$44,$A98-nbappomp),IF($A98<=nbappomp+nbapven+nbapair,'Analyse Préliminaire air compr'!$AH$13,IF(A98<=nbappomp+nbapven+nbapair+nbaautre,INDEX('Analyse Préliminaire Autres'!$P$11:$P$42,A98-nbappomp-nbapven-nbapair),IF(A98<=nbappomp+nbapven+nbapair+nbaautre+nbafroid,INDEX('AP Groupe froid'!$AD$14:$AD$17,A98-nbappomp-nbapven-nbapair-nbaautre),\"\"))))),AI98)","v":""},null,{"$f":"IF($A98<=nbappomp,INDEX('Analyse Préliminaire Pompe'!X$13:X$47,$A98),IF($A98<=nbappomp+nbapven,INDEX('Analyse Préliminaire Ventilateu'!V$13:V$44,$A98-nbappomp),IF($A98<=nbappomp+nbapven+nbapair,'Analyse Préliminaire air compr'!$E$35,IF(A98<=nbappomp+nbapven+nbapair+nbaautre,INDEX('Analyse Préliminaire Autres'!$R$11:$R$42,A98-nbappomp-nbapven-nbapair),IF(A98<=nbappomp+nbapven+nbapair+nbaautre+nbafroid,INDEX('AP Groupe froid'!$Z$14:$Z$17,A98-nbappomp-nbapven-nbapair-nbaautre),\"\")))))","v":""},null,null,{"$f":"IF(AG98=\"\",IF($A98<=nbappomp,INDEX('Analyse Préliminaire Pompe'!AN$13:AN$47,$A98),IF($A98<=nbappomp+nbapven,INDEX('Analyse Préliminaire Ventilateu'!AL$13:AL$44,$A98-nbappomp),IF($A98<=nbappomp+nbapven+nbapair,'Analyse Préliminaire air compr'!$AM$16,IF(A98<=nbappomp+nbapven+nbapair+nbaautre,INDEX('Analyse Préliminaire Autres'!$AB$11:$AB$42,A98-nbappomp-nbapven-nbapair),IF(A98<=nbappomp+nbapven+nbapair+nbaautre+nbafroid,INDEX('AP Groupe froid'!$AM$14:$AM$17,A98-nbappomp-nbapven-nbapair-nbaautre),\"\"))))),'Economies classées'!$A$47)","v":""},{"$f":"IF($A98<=nbappomp,INDEX('Analyse Préliminaire Pompe'!E$13:E$47,$A98),IF($A98<=nbappomp+nbapven,INDEX('Analyse Préliminaire Ventilateu'!E$13:E$44,$A98-nbappomp),IF($A98<=nbappomp+nbapven+nbapair,\"voir detail\",IF(A98<=nbappomp+nbapven+nbapair+nbaautre,INDEX('Analyse Préliminaire Autres'!$E$11:$E$42,A98-nbappomp-nbapven-nbapair),IF(A98<=nbappomp+nbapven+nbapair+nbaautre+nbafroid,INDEX('AP Groupe froid'!$F$14:$F$17,A98-nbappomp-nbapven-nbapair-nbaautre),\"\")))))","v":""},{"$f":"IF($A98<=nbappomp,INDEX('Analyse Préliminaire Pompe'!K$13:K$47,$A98),IF($A98<=nbappomp+nbapven,INDEX('Analyse Préliminaire Ventilateu'!K$13:K$44,$A98-nbappomp),IF($A98<=nbappomp+nbapven+nbapair,SUM('Analyse Préliminaire air compr'!$I$26:$I$32),IF(A98<=nbappomp+nbapven+nbapair+nbaautre,INDEX('Analyse Préliminaire Autres'!$K$11:$K$42,A98-nbappomp-nbapven-nbapair),IF(A98<=nbappomp+nbapven+nbapair+nbaautre+nbafroid,INDEX('AP Groupe froid'!$O$14:$O$17,A98-nbappomp-nbapven-nbapair-nbaautre),\"\")))))","v":""},{"$f":"IF($A98<=nbappomp,INDEX('Analyse Préliminaire Pompe'!L$13:L$47,$A98),IF($A98<=nbappomp+nbapven,INDEX('Analyse Préliminaire Ventilateu'!L$13:L$44,$A98-nbappomp),IF($A98<=nbappomp+nbapven+nbapair,MIN('Analyse Préliminaire air compr'!$J$26:$J$32),IF(A98<=nbappomp+nbapven+nbapair+nbaautre,INDEX('Analyse Préliminaire Autres'!$L$11:$L$42,A98-nbappomp-nbapven-nbapair),IF($A98<=nbappomp+nbapven+nbapair,'Analyse Préliminaire air compr'!$AM$16,IF(A98<=nbappomp+nbapven+nbapair+nbaautre+nbafroid,INDEX('AP Groupe froid'!$L$14:$L$17,A98-nbappomp-nbapven-nbapair-nbaautre),\"\"))))))","v":""},{"$f":"IF($A98<=nbappomp,INDEX('Analyse Préliminaire Pompe'!M$13:M$47,$A98),IF($A98<=nbappomp+nbapven,INDEX('Analyse Préliminaire Ventilateu'!M$13:M$44,$A98-nbappomp),IF($A98<=nbappomp+nbapven+nbapair,\"\",IF(A98<=nbappomp+nbapven+nbapair+nbaautre,INDEX('Analyse Préliminaire Autres'!$M$11:$M$42,A98-nbappomp-nbapven-nbapair),IF($A98<=nbappomp+nbapven+nbapair,'Analyse Préliminaire air compr'!$AM$16,IF(A98<=nbappomp+nbapven+nbapair+nbaautre+nbafroid,INDEX('AP Groupe froid'!$M$14:$M$17,A98-nbappomp-nbapven-nbapair-nbaautre),\"\"))))))","v":""},{"$f":"IF($A98<=nbappomp,INDEX('Analyse Préliminaire Pompe'!N$13:N$47,$A98),IF($A98<=nbappomp+nbapven,INDEX('Analyse Préliminaire Ventilateu'!N$13:N$44,$A98-nbappomp),IF($A98<=nbappomp+nbapven+nbapair,\"\",IF(A98<=nbappomp+nbapven+nbapair+nbaautre,INDEX('Analyse Préliminaire Autres'!$N$11:$N$42,A98-nbappomp-nbapven-nbapair),\"\"))))","v":""},{"$f":"IF($A98<=nbappomp,INDEX('Analyse Préliminaire Pompe'!O$13:O$47,$A98),IF($A98<=nbappomp+nbapven,INDEX('Analyse Préliminaire Ventilateu'!O$13:O$44,$A98-nbappomp),IF($A98<=nbappomp+nbapven+nbapair,\"\",IF(A98<=nbappomp+nbapven+nbapair+nbaautre,INDEX('Analyse Préliminaire Autres'!$O$11:$O$42,A98-nbappomp-nbapven-nbapair),\"\"))))","v":""},{"$f":"IF($A98<=nbappomp,INDEX('Analyse Préliminaire Pompe'!P$13:P$47,$A98),IF($A98<=nbappomp+nbapven,INDEX('Analyse Préliminaire Ventilateu'!P$13:P$44,$A98-nbappomp),IF($A98<=nbappomp+nbapven+nbapair,\"\",IF(A98<=nbappomp+nbapven+nbapair+nbaautre,INDEX('Analyse Préliminaire Autres'!#REF!,A98-nbappomp-nbapven-nbapair),\"\"))))","v":""},{"$f":"IF($A98<=nbappomp,INDEX('Analyse Préliminaire Pompe'!Q$13:Q$47,$A98),IF($A98<=nbappomp+nbapven,\"\",IF($A98<=nbappomp+nbapven+nbapair,\"\",\"\")))","v":""},{"$f":"IF(AI98=\"\",IF($A98<=nbappomp,INDEX('Analyse Préliminaire Pompe'!S$13:S$47,$A98),IF($A98<=nbappomp+nbapven,INDEX('Analyse Préliminaire Ventilateu'!Q$13:Q$44,$A98-nbappomp),IF($A98<=nbappomp+nbapven+nbapair,\"\",IF(A98<=nbappomp+nbapven+nbapair+nbaautre,\"\",\"\")))),AI98)","v":""},{"$f":"IF(AN98,\"\",IF($A98<=nbappomp,INDEX('Analyse Préliminaire Pompe'!AO$13:AO$47,$A98),IF($A98<=nbappomp+nbapven,INDEX('Analyse Préliminaire Ventilateu'!AM$13:AM$44,$A98-nbappomp),IF($A98<=nbappomp+nbapven+nbapair,EcoAPkWhCP,IF(A98<=nbappomp+nbapven+nbapair+nbaautre,INDEX('Analyse Préliminaire Autres'!$E$11:$E$42,A98-nbappomp-nbapven-nbapair),IF($A98<=nbappomp+nbapven+nbapair+nbaautre+nbafroid,INDEX('AP Groupe froid'!$AN$14:$AN$17,$A98-nbappomp-nbapven-nbapair-nbaautre),\"\"))))))","v":""},{"$f":"IF(AN98,\"\",IF($A98<=nbappomp,INDEX('Analyse Préliminaire Pompe'!AP$13:AP$47,$A98),IF($A98<=nbappomp+nbapven,INDEX('Analyse Préliminaire Ventilateu'!AN$13:AN$44,$A98-nbappomp),IF($A98<=nbappomp+nbapven+nbapair,EcoAPpercCP,IF(A98<=nbappomp+nbapven+nbapair+nbaautre,INDEX('Analyse Préliminaire Autres'!$E$11:$E$42,A98-nbappomp-nbapven-nbapair),IF($A98<=nbappomp+nbapven+nbapair+nbaautre+nbafroid,INDEX('AP Groupe froid'!$AO$14:$AO$17,$A98-nbappomp-nbapven-nbapair-nbaautre),\"\"))))))","v":""},{"$f":"IF(AN98,\"\",IF($A98<=nbappomp,INDEX('Analyse Préliminaire Pompe'!AQ$13:AQ$47,$A98),IF($A98<=nbappomp+nbapven,INDEX('Analyse Préliminaire Ventilateu'!AO$13:AO$44,$A98-nbappomp),IF($A98<=nbappomp+nbapven+nbapair,consoanncp,IF(A98<=nbappomp+nbapven+nbapair+nbaautre,INDEX('Analyse Préliminaire Autres'!$E$11:$E$42,A98-nbappomp-nbapven-nbapair),IF($A98<=nbappomp+nbapven+nbapair+nbaautre+nbafroid,INDEX('AP Groupe froid'!$AP$14:$AP$17,$A98-nbappomp-nbapven-nbapair-nbaautre),\"\"))))))","v":""},{"$f":"IF(R98=\"\",-1,IF(AND($L98>'Economies classées'!$B$2,$K98>0.2,YEAR(TODAY())-$Z98>8),2,IF(AND($L98>'Economies classées'!$B$3,YEAR(TODAY())-$Z98>5),1,0)))","v":-1},null,null,"",{"$f":"IF($A98<=nbappomp,ISBLANK(INDEX('Analyse Préliminaire Pompe'!AO$13:AO$47,$A98)),IF($A98<=nbappomp+nbapven,ISBLANK(INDEX('Analyse Préliminaire Ventilateu'!AM$13:AM$44,$A98-nbappomp)),IF($A98<=nbappomp+nbapven+nbapair,ISBLANK(EcoAPkWhCP),IF(A98<=nbappomp+nbapven+nbapair+nbaautre,ISBLANK(INDEX('Analyse Préliminaire Autres'!AC$11:AC$42,A98-nbappomp-nbapven-nbapair)),IF(A98<=nbappomp+nbapven+nbapair+nbaautre+nbafroid,ISBLANK(INDEX('AP Groupe froid'!$AN$14:$AN$17,A98-nbappomp-nbapven-nbapair-nbaautre)),FALSE)))))","v":false},{"$f":"IF(E98=Listes!$H$25,1,0)","v":0},{"$f":"IF(E98=Listes!$H$26,1,0)","v":0},0,0,{"$f":"IF(E98=Listes!$H$28,1,0)","v":0},null,0,0,0,0,0,null,0,0,0,0,0,null,"","","","","",null,-1,-1,-1,-1,null,null,{"$f":"IF(E98=Listes!$H$25,1,0)","v":0},{"$f":"IF(E98=Listes!$H$26,1,0)","v":0},0,0,0,0,0,null,0,0,null,{"$error":"#VALUE!"},0,0,0,null,null,null,"",""]
[75,"",null,{"$f":"IF(A99<=nbappomp,INDEX('Analyse Préliminaire Pompe'!$B$13:$B$47,A99),IF(A99<=nbappomp+nbapven,INDEX('Analyse Préliminaire Ventilateu'!$B$13:$B$44,A99-nbappomp),IF(A99<=nbappomp+nbapven+nbapair,301,IF(A99<=nbappomp+nbapven+nbapair+nbaautre,INDEX('Analyse Préliminaire Autres'!$B$11:$B$42,A99-nbappomp-nbapven-nbapair),IF(A99<=nbappomp+nbapven+nbapair+nbaautre+nbafroid,INDEX('AP Groupe froid'!$B$14:$B$17,A99-nbappomp-nbapven-nbapair-nbaautre),\"\")))))","v":""},{"$f":"IF(A99<=nbappomp,INDEX('Analyse Préliminaire Pompe'!$C$13:$C$47,A99),IF(A99<=nbappomp+nbapven,INDEX('Analyse Préliminaire Ventilateu'!$C$13:$C$44,A99-nbappomp),IF(A99<=nbappomp+nbapven+nbapair,$AJ$4,IF(A99<=nbappomp+nbapven+nbapair+nbaautre,INDEX('Analyse Préliminaire Autres'!$C$11:$C$42,A99-nbappomp-nbapven-nbapair),IF(A99<=nbappomp+nbapven+nbapair+nbaautre+nbafroid,INDEX('AP Groupe froid'!$C$14:$C$17,A99-nbappomp-nbapven-nbapair-nbaautre),\"\")))))","v":""},null,null,{"$f":"IF(A99<=nbappomp,INDEX('Analyse Préliminaire Pompe'!$H$13:$H$47,A99),IF(A99<=nbappomp+nbapven,INDEX('Analyse Préliminaire Ventilateu'!$H$13:$H$44,A99-nbappomp),IF(A99<=nbappomp+nbapven+nbapair,$AJ$4,IF(A99<=nbappomp+nbapven+nbapair+nbaautre,INDEX('Analyse Préliminaire Autres'!$H$11:$H$42,A99-nbappomp-nbapven-nbapair),IF(A99<=nbappomp+nbapven+nbapair+nbaautre+nbafroid,INDEX('AP Groupe froid'!$I$14:$I$17,A99-nbappomp-nbapven-nbapair-nbaautre),\"\")))))","v":""},null,null,{"$f":"IF(AH99=\"\",IF($A99<=nbappomp,INDEX('Analyse Préliminaire Pompe'!AE$13:AE$47,$A99),IF($A99<=nbappomp+nbapven,INDEX('Analyse Préliminaire Ventilateu'!AC$13:AC$44,$A99-nbappomp),IF($A99<=nbappomp+nbapven+nbapair,'Analyse Préliminaire air compr'!$AI$22,IF(A99<=nbappomp+nbapven+nbapair+nbaautre,INDEX('Analyse Préliminaire Autres'!$X$11:$X$42,A99-nbappomp-nbapven-nbapair),IF(A99<=nbappomp+nbapven+nbapair+nbaautre+nbafroid,INDEX('AP Groupe froid'!$AF$14:$AF$17,A99-nbappomp-nbapven-nbapair-nbaautre),\"\"))))),AH99)","v":""},{"$f":"IF(AG99=\"\",IF($A99<=nbappomp,INDEX('Analyse Préliminaire Pompe'!AD$13:AD$47,$A99),IF($A99<=nbappomp+nbapven,INDEX('Analyse Préliminaire Ventilateu'!AB$13:AB$44,$A99-nbappomp),IF($A99<=nbappomp+nbapven+nbapair,'Analyse Préliminaire air compr'!$AH$22,IF(A99<=nbappomp+nbapven+nbapair+nbaautre,INDEX('Analyse Préliminaire Autres'!$W$11:$W$42,A99-nbappomp-nbapven-nbapair),IF(A99<=nbappomp+nbapven+nbapair+nbaautre+nbafroid,INDEX('AP Groupe froid'!$AE$14:$AE$17,A99-nbappomp-nbapven-nbapair-nbaautre),\"\"))))),AG99)","v":""},null,"",null,"",null,{"$f":"IF(AI99=\"\",IF($A99<=nbappomp,INDEX('Analyse Préliminaire Pompe'!T$13:T$47,$A99),IF($A99<=nbappomp+nbapven,INDEX('Analyse Préliminaire Ventilateu'!R$13:R$44,$A99-nbappomp),IF($A99<=nbappomp+nbapven+nbapair,'Analyse Préliminaire air compr'!$AH$13,IF(A99<=nbappomp+nbapven+nbapair+nbaautre,INDEX('Analyse Préliminaire Autres'!$P$11:$P$42,A99-nbappomp-nbapven-nbapair),IF(A99<=nbappomp+nbapven+nbapair+nbaautre+nbafroid,INDEX('AP Groupe froid'!$AD$14:$AD$17,A99-nbappomp-nbapven-nbapair-nbaautre),\"\"))))),AI99)","v":""},null,{"$f":"IF($A99<=nbappomp,INDEX('Analyse Préliminaire Pompe'!X$13:X$47,$A99),IF($A99<=nbappomp+nbapven,INDEX('Analyse Préliminaire Ventilateu'!V$13:V$44,$A99-nbappomp),IF($A99<=nbappomp+nbapven+nbapair,'Analyse Préliminaire air compr'!$E$35,IF(A99<=nbappomp+nbapven+nbapair+nbaautre,INDEX('Analyse Préliminaire Autres'!$R$11:$R$42,A99-nbappomp-nbapven-nbapair),IF(A99<=nbappomp+nbapven+nbapair+nbaautre+nbafroid,INDEX('AP Groupe froid'!$Z$14:$Z$17,A99-nbappomp-nbapven-nbapair-nbaautre),\"\")))))","v":""},null,null,{"$f":"IF(AG99=\"\",IF($A99<=nbappomp,INDEX('Analyse Préliminaire Pompe'!AN$13:AN$47,$A99),IF($A99<=nbappomp+nbapven,INDEX('Analyse Préliminaire Ventilateu'!AL$13:AL$44,$A99-nbappomp),IF($A99<=nbappomp+nbapven+nbapair,'Analyse Préliminaire air compr'!$AM$16,IF(A99<=nbappomp+nbapven+nbapair+nbaautre,INDEX('Analyse Préliminaire Autres'!$AB$11:$AB$42,A99-nbappomp-nbapven-nbapair),IF(A99<=nbappomp+nbapven+nbapair+nbaautre+nbafroid,INDEX('AP Groupe froid'!$AM$14:$AM$17,A99-nbappomp-nbapven-nbapair-nbaautre),\"\"))))),'Economies classées'!$A$47)","v":""},{"$f":"IF($A99<=nbappomp,INDEX('Analyse Préliminaire Pompe'!E$13:E$47,$A99),IF($A99<=nbappomp+nbapven,INDEX('Analyse Préliminaire Ventilateu'!E$13:E$44,$A99-nbappomp),IF($A99<=nbappomp+nbapven+nbapair,\"voir detail\",IF(A99<=nbappomp+nbapven+nbapair+nbaautre,INDEX('Analyse Préliminaire Autres'!$E$11:$E$42,A99-nbappomp-nbapven-nbapair),IF(A99<=nbappomp+nbapven+nbapair+nbaautre+nbafroid,INDEX('AP Groupe froid'!$F$14:$F$17,A99-nbappomp-nbapven-nbapair-nbaautre),\"\")))))","v":""},{"$f":"IF($A99<=nbappomp,INDEX('Analyse Préliminaire Pompe'!K$13:K$47,$A99),IF($A99<=nbappomp+nbapven,INDEX('Analyse Préliminaire Ventilateu'!K$13:K$44,$A99-nbappomp),IF($A99<=nbappomp+nbapven+nbapair,SUM('Analyse Préliminaire air compr'!$I$26:$I$32),IF(A99<=nbappomp+nbapven+nbapair+nbaautre,INDEX('Analyse Préliminaire Autres'!$K$11:$K$42,A99-nbappomp-nbapven-nbapair),IF(A99<=nbappomp+nbapven+nbapair+nbaautre+nbafroid,INDEX('AP Groupe froid'!$O$14:$O$17,A99-nbappomp-nbapven-nbapair-nbaautre),\"\")))))","v":""},{"$f":"IF($A99<=nbappomp,INDEX('Analyse Préliminaire Pompe'!L$13:L$47,$A99),IF($A99<=nbappomp+nbapven,INDEX('Analyse Préliminaire Ventilateu'!L$13:L$44,$A99-nbappomp),IF($A99<=nbappomp+nbapven+nbapair,MIN('Analyse Préliminaire air compr'!$J$26:$J$32),IF(A99<=nbappomp+nbapven+nbapair+nbaautre,INDEX('Analyse Préliminaire Autres'!$L$11:$L$42,A99-nbappomp-nbapven-nbapair),IF($A99<=nbappomp+nbapven+nbapair,'Analyse Préliminaire air compr'!$AM$16,IF(A99<=nbappomp+nbapven+nbapair+nbaautre+nbafroid,INDEX('AP Groupe froid'!$L$14:$L$17,A99-nbappomp-nbapven-nbapair-nbaautre),\"\"))))))","v":""},{"$f":"IF($A99<=nbappomp,INDEX('Analyse Préliminaire Pompe'!M$13:M$47,$A99),IF($A99<=nbappomp+nbapven,INDEX('Analyse Préliminaire Ventilateu'!M$13:M$44,$A99-nbappomp),IF($A99<=nbappomp+nbapven+nbapair,\"\",IF(A99<=nbappomp+nbapven+nbapair+nbaautre,INDEX('Analyse Préliminaire Autres'!$M$11:$M$42,A99-nbappomp-nbapven-nbapair),IF($A99<=nbappomp+nbapven+nbapair,'Analyse Préliminaire air compr'!$AM$16,IF(A99<=nbappomp+nbapven+nbapair+nbaautre+nbafroid,INDEX('AP Groupe froid'!$M$14:$M$17,A99-nbappomp-nbapven-nbapair-nbaautre),\"\"))))))","v":""},{"$f":"IF($A99<=nbappomp,INDEX('Analyse Préliminaire Pompe'!N$13:N$47,$A99),IF($A99<=nbappomp+nbapven,INDEX('Analyse Préliminaire Ventilateu'!N$13:N$44,$A99-nbappomp),IF($A99<=nbappomp+nbapven+nbapair,\"\",IF(A99<=nbappomp+nbapven+nbapair+nbaautre,INDEX('Analyse Préliminaire Autres'!$N$11:$N$42,A99-nbappomp-nbapven-nbapair),\"\"))))","v":""},{"$f":"IF($A99<=nbappomp,INDEX('Analyse Préliminaire Pompe'!O$13:O$47,$A99),IF($A99<=nbappomp+nbapven,INDEX('Analyse Préliminaire Ventilateu'!O$13:O$44,$A99-nbappomp),IF($A99<=nbappomp+nbapven+nbapair,\"\",IF(A99<=nbappomp+nbapven+nbapair+nbaautre,INDEX('Analyse Préliminaire Autres'!$O$11:$O$42,A99-nbappomp-nbapven-nbapair),\"\"))))","v":""},{"$f":"IF($A99<=nbappomp,INDEX('Analyse Préliminaire Pompe'!P$13:P$47,$A99),IF($A99<=nbappomp+nbapven,INDEX('Analyse Préliminaire Ventilateu'!P$13:P$44,$A99-nbappomp),IF($A99<=nbappomp+nbapven+nbapair,\"\",IF(A99<=nbappomp+nbapven+nbapair+nbaautre,INDEX('Analyse Préliminaire Autres'!#REF!,A99-nbappomp-nbapven-nbapair),\"\"))))","v":""},{"$f":"IF($A99<=nbappomp,INDEX('Analyse Préliminaire Pompe'!Q$13:Q$47,$A99),IF($A99<=nbappomp+nbapven,\"\",IF($A99<=nbappomp+nbapven+nbapair,\"\",\"\")))","v":""},{"$f":"IF(AI99=\"\",IF($A99<=nbappomp,INDEX('Analyse Préliminaire Pompe'!S$13:S$47,$A99),IF($A99<=nbappomp+nbapven,INDEX('Analyse Préliminaire Ventilateu'!Q$13:Q$44,$A99-nbappomp),IF($A99<=nbappomp+nbapven+nbapair,\"\",IF(A99<=nbappomp+nbapven+nbapair+nbaautre,\"\",\"\")))),AI99)","v":""},{"$f":"IF(AN99,\"\",IF($A99<=nbappomp,INDEX('Analyse Préliminaire Pompe'!AO$13:AO$47,$A99),IF($A99<=nbappomp+nbapven,INDEX('Analyse Préliminaire Ventilateu'!AM$13:AM$44,$A99-nbappomp),IF($A99<=nbappomp+nbapven+nbapair,EcoAPkWhCP,IF(A99<=nbappomp+nbapven+nbapair+nbaautre,INDEX('Analyse Préliminaire Autres'!$E$11:$E$42,A99-nbappomp-nbapven-nbapair),IF($A99<=nbappomp+nbapven+nbapair+nbaautre+nbafroid,INDEX('AP Groupe froid'!$AN$14:$AN$17,$A99-nbappomp-nbapven-nbapair-nbaautre),\"\"))))))","v":""},{"$f":"IF(AN99,\"\",IF($A99<=nbappomp,INDEX('Analyse Préliminaire Pompe'!AP$13:AP$47,$A99),IF($A99<=nbappomp+nbapven,INDEX('Analyse Préliminaire Ventilateu'!AN$13:AN$44,$A99-nbappomp),IF($A99<=nbappomp+nbapven+nbapair,EcoAPpercCP,IF(A99<=nbappomp+nbapven+nbapair+nbaautre,INDEX('Analyse Préliminaire Autres'!$E$11:$E$42,A99-nbappomp-nbapven-nbapair),IF($A99<=nbappomp+nbapven+nbapair+nbaautre+nbafroid,INDEX('AP Groupe froid'!$AO$14:$AO$17,$A99-nbappomp-nbapven-nbapair-nbaautre),\"\"))))))","v":""},{"$f":"IF(AN99,\"\",IF($A99<=nbappomp,INDEX('Analyse Préliminaire Pompe'!AQ$13:AQ$47,$A99),IF($A99<=nbappomp+nbapven,INDEX('Analyse Préliminaire Ventilateu'!AO$13:AO$44,$A99-nbappomp),IF($A99<=nbappomp+nbapven+nbapair,consoanncp,IF(A99<=nbappomp+nbapven+nbapair+nbaautre,INDEX('Analyse Préliminaire Autres'!$E$11:$E$42,A99-nbappomp-nbapven-nbapair),IF($A99<=nbappomp+nbapven+nbapair+nbaautre+nbafroid,INDEX('AP Groupe froid'!$AP$14:$AP$17,$A99-nbappomp-nbapven-nbapair-nbaautre),\"\"))))))","v":""},{"$f":"IF(R99=\"\",-1,IF(AND($L99>'Economies classées'!$B$2,$K99>0.2,YEAR(TODAY())-$Z99>8),2,IF(AND($L99>'Economies classées'!$B$3,YEAR(TODAY())-$Z99>5),1,0)))","v":-1},null,null,"",{"$f":"IF($A99<=nbappomp,ISBLANK(INDEX('Analyse Préliminaire Pompe'!AO$13:AO$47,$A99)),IF($A99<=nbappomp+nbapven,ISBLANK(INDEX('Analyse Préliminaire Ventilateu'!AM$13:AM$44,$A99-nbappomp)),IF($A99<=nbappomp+nbapven+nbapair,ISBLANK(EcoAPkWhCP),IF(A99<=nbappomp+nbapven+nbapair+nbaautre,ISBLANK(INDEX('Analyse Préliminaire Autres'!AC$11:AC$42,A99-nbappomp-nbapven-nbapair)),IF(A99<=nbappomp+nbapven+nbapair+nbaautre+nbafroid,ISBLANK(INDEX('AP Groupe froid'!$AN$14:$AN$17,A99-nbappomp-nbapven-nbapair-nbaautre)),FALSE)))))","v":false},{"$f":"IF(E99=Listes!$H$25,1,0)","v":0},{"$f":"IF(E99=Listes!$H$26,1,0)","v":0},0,0,{"$f":"IF(E99=Listes!$H$28,1,0)","v":0},null,0,0,0,0,0,null,0,0,0,0,0,null,"","","","","",null,-1,-1,-1,-1,null,null,{"$f":"IF(E99=Listes!$H$25,1,0)","v":0},{"$f":"IF(E99=Listes!$H$26,1,0)","v":0},0,0,0,0,0,null,0,0,null,{"$error":"#VALUE!"},0,0,0,null,null,null,"",""]
[76,"",null,{"$f":"IF(A100<=nbappomp,INDEX('Analyse Préliminaire Pompe'!$B$13:$B$47,A100),IF(A100<=nbappomp+nbapven,INDEX('Analyse Préliminaire Ventilateu'!$B$13:$B$44,A100-nbappomp),IF(A100<=nbappomp+nbapven+nbapair,301,IF(A100<=nbappomp+nbapven+nbapair+nbaautre,INDEX('Analyse Préliminaire Autres'!$B$11:$B$42,A100-nbappomp-nbapven-nbapair),IF(A100<=nbappomp+nbapven+nbapair+nbaautre+nbafroid,INDEX('AP Groupe froid'!$B$14:$B$17,A100-nbappomp-nbapven-nbapair-nbaautre),\"\")))))","v":""},{"$f":"IF(A100<=nbappomp,INDEX('Analyse Préliminaire Pompe'!$C$13:$C$47,A100),IF(A100<=nbappomp+nbapven,INDEX('Analyse Préliminaire Ventilateu'!$C$13:$C$44,A100-nbappomp),IF(A100<=nbappomp+nbapven+nbapair,$AJ$4,IF(A100<=nbappomp+nbapven+nbapair+nbaautre,INDEX('Analyse Préliminaire Autres'!$C$11:$C$42,A100-nbappomp-nbapven-nbapair),IF(A100<=nbappomp+nbapven+nbapair+nbaautre+nbafroid,INDEX('AP Groupe froid'!$C$14:$C$17,A100-nbappomp-nbapven-nbapair-nbaautre),\"\")))))","v":""},null,null,{"$f":"IF(A100<=nbappomp,INDEX('Analyse Préliminaire Pompe'!$H$13:$H$47,A100),IF(A100<=nbappomp+nbapven,INDEX('Analyse Préliminaire Ventilateu'!$H$13:$H$44,A100-nbappomp),IF(A100<=nbappomp+nbapven+nbapair,$AJ$4,IF(A100<=nbappomp+nbapven+nbapair+nbaautre,INDEX('Analyse Préliminaire Autres'!$H$11:$H$42,A100-nbappomp-nbapven-nbapair),IF(A100<=nbappomp+nbapven+nbapair+nbaautre+nbafroid,INDEX('AP Groupe froid'!$I$14:$I$17,A100-nbappomp-nbapven-nbapair-nbaautre),\"\")))))","v":""},null,null,{"$f":"IF(AH100=\"\",IF($A100<=nbappomp,INDEX('Analyse Préliminaire Pompe'!AE$13:AE$47,$A100),IF($A100<=nbappomp+nbapven,INDEX('Analyse Préliminaire Ventilateu'!AC$13:AC$44,$A100-nbappomp),IF($A100<=nbappomp+nbapven+nbapair,'Analyse Préliminaire air compr'!$AI$22,IF(A100<=nbappomp+nbapven+nbapair+nbaautre,INDEX('Analyse Préliminaire Autres'!$X$11:$X$42,A100-nbappomp-nbapven-nbapair),IF(A100<=nbappomp+nbapven+nbapair+nbaautre+nbafroid,INDEX('AP Groupe froid'!$AF$14:$AF$17,A100-nbappomp-nbapven-nbapair-nbaautre),\"\"))))),AH100)","v":""},{"$f":"IF(AG100=\"\",IF($A100<=nbappomp,INDEX('Analyse Préliminaire Pompe'!AD$13:AD$47,$A100),IF($A100<=nbappomp+nbapven,INDEX('Analyse Préliminaire Ventilateu'!AB$13:AB$44,$A100-nbappomp),IF($A100<=nbappomp+nbapven+nbapair,'Analyse Préliminaire air compr'!$AH$22,IF(A100<=nbappomp+nbapven+nbapair+nbaautre,INDEX('Analyse Préliminaire Autres'!$W$11:$W$42,A100-nbappomp-nbapven-nbapair),IF(A100<=nbappomp+nbapven+nbapair+nbaautre+nbafroid,INDEX('AP Groupe froid'!$AE$14:$AE$17,A100-nbappomp-nbapven-nbapair-nbaautre),\"\"))))),AG100)","v":""},null,"",null,"",null,{"$f":"IF(AI100=\"\",IF($A100<=nbappomp,INDEX('Analyse Préliminaire Pompe'!T$13:T$47,$A100),IF($A100<=nbappomp+nbapven,INDEX('Analyse Préliminaire Ventilateu'!R$13:R$44,$A100-nbappomp),IF($A100<=nbappomp+nbapven+nbapair,'Analyse Préliminaire air compr'!$AH$13,IF(A100<=nbappomp+nbapven+nbapair+nbaautre,INDEX('Analyse Préliminaire Autres'!$P$11:$P$42,A100-nbappomp-nbapven-nbapair),IF(A100<=nbappomp+nbapven+nbapair+nbaautre+nbafroid,INDEX('AP Groupe froid'!$AD$14:$AD$17,A100-nbappomp-nbapven-nbapair-nbaautre),\"\"))))),AI100)","v":""},null,{"$f":"IF($A100<=nbappomp,INDEX('Analyse Préliminaire Pompe'!X$13:X$47,$A100),IF($A100<=nbappomp+nbapven,INDEX('Analyse Préliminaire Ventilateu'!V$13:V$44,$A100-nbappomp),IF($A100<=nbappomp+nbapven+nbapair,'Analyse Préliminaire air compr'!$E$35,IF(A100<=nbappomp+nbapven+nbapair+nbaautre,INDEX('Analyse Préliminaire Autres'!$R$11:$R$42,A100-nbappomp-nbapven-nbapair),IF(A100<=nbappomp+nbapven+nbapair+nbaautre+nbafroid,INDEX('AP Groupe froid'!$Z$14:$Z$17,A100-nbappomp-nbapven-nbapair-nbaautre),\"\")))))","v":""},null,null,{"$f":"IF(AG100=\"\",IF($A100<=nbappomp,INDEX('Analyse Préliminaire Pompe'!AN$13:AN$47,$A100),IF($A100<=nbappomp+nbapven,INDEX('Analyse Préliminaire Ventilateu'!AL$13:AL$44,$A100-nbappomp),IF($A100<=nbappomp+nbapven+nbapair,'Analyse Préliminaire air compr'!$AM$16,IF(A100<=nbappomp+nbapven+nbapair+nbaautre,INDEX('Analyse Préliminaire Autres'!$AB$11:$AB$42,A100-nbappomp-nbapven-nbapair),IF(A100<=nbappomp+nbapven+nbapair+nbaautre+nbafroid,INDEX('AP Groupe froid'!$AM$14:$AM$17,A100-nbappomp-nbapven-nbapair-nbaautre),\"\"))))),'Economies classées'!$A$47)","v":""},{"$f":"IF($A100<=nbappomp,INDEX('Analyse Préliminaire Pompe'!E$13:E$47,$A100),IF($A100<=nbappomp+nbapven,INDEX('Analyse Préliminaire Ventilateu'!E$13:E$44,$A100-nbappomp),IF($A100<=nbappomp+nbapven+nbapair,\"voir detail\",IF(A100<=nbappomp+nbapven+nbapair+nbaautre,INDEX('Analyse Préliminaire Autres'!$E$11:$E$42,A100-nbappomp-nbapven-nbapair),IF(A100<=nbappomp+nbapven+nbapair+nbaautre+nbafroid,INDEX('AP Groupe froid'!$F$14:$F$17,A100-nbappomp-nbapven-nbapair-nbaautre),\"\")))))","v":""},{"$f":"IF($A100<=nbappomp,INDEX('Analyse Préliminaire Pompe'!K$13:K$47,$A100),IF($A100<=nbappomp+nbapven,INDEX('Analyse Préliminaire Ventilateu'!K$13:K$44,$A100-nbappomp),IF($A100<=nbappomp+nbapven+nbapair,SUM('Analyse Préliminaire air compr'!$I$26:$I$32),IF(A100<=nbappomp+nbapven+nbapair+nbaautre,INDEX('Analyse Préliminaire Autres'!$K$11:$K$42,A100-nbappomp-nbapven-nbapair),IF(A100<=nbappomp+nbapven+nbapair+nbaautre+nbafroid,INDEX('AP Groupe froid'!$O$14:$O$17,A100-nbappomp-nbapven-nbapair-nbaautre),\"\")))))","v":""},{"$f":"IF($A100<=nbappomp,INDEX('Analyse Préliminaire Pompe'!L$13:L$47,$A100),IF($A100<=nbappomp+nbapven,INDEX('Analyse Préliminaire Ventilateu'!L$13:L$44,$A100-nbappomp),IF($A100<=nbappomp+nbapven+nbapair,MIN('Analyse Préliminaire air compr'!$J$26:$J$32),IF(A100<=nbappomp+nbapven+nbapair+nbaautre,INDEX('Analyse Préliminaire Autres'!$L$11:$L$42,A100-nbappomp-nbapven-nbapair),IF($A100<=nbappomp+nbapven+nbapair,'Analyse Préliminaire air compr'!$AM$16,IF(A100<=nbappomp+nbapven+nbapair+nbaautre+nbafroid,INDEX('AP Groupe froid'!$L$14:$L$17,A100-nbappomp-nbapven-nbapair-nbaautre),\"\"))))))","v":""},{"$f":"IF($A100<=nbappomp,INDEX('Analyse Préliminaire Pompe'!M$13:M$47,$A100),IF($A100<=nbappomp+nbapven,INDEX('Analyse Préliminaire Ventilateu'!M$13:M$44,$A100-nbappomp),IF($A100<=nbappomp+nbapven+nbapair,\"\",IF(A100<=nbappomp+nbapven+nbapair+nbaautre,INDEX('Analyse Préliminaire Autres'!$M$11:$M$42,A100-nbappomp-nbapven-nbapair),IF($A100<=nbappomp+nbapven+nbapair,'Analyse Préliminaire air compr'!$AM$16,IF(A100<=nbappomp+nbapven+nbapair+nbaautre+nbafroid,INDEX('AP Groupe froid'!$M$14:$M$17,A100-nbappomp-nbapven-nbapair-nbaautre),\"\"))))))","v":""},{"$f":"IF($A100<=nbappomp,INDEX('Analyse Préliminaire Pompe'!N$13:N$47,$A100),IF($A100<=nbappomp+nbapven,INDEX('Analyse Préliminaire Ventilateu'!N$13:N$44,$A100-nbappomp),IF($A100<=nbappomp+nbapven+nbapair,\"\",IF(A100<=nbappomp+nbapven+nbapair+nbaautre,INDEX('Analyse Préliminaire Autres'!$N$11:$N$42,A100-nbappomp-nbapven-nbapair),\"\"))))","v":""},{"$f":"IF($A100<=nbappomp,INDEX('Analyse Préliminaire Pompe'!O$13:O$47,$A100),IF($A100<=nbappomp+nbapven,INDEX('Analyse Préliminaire Ventilateu'!O$13:O$44,$A100-nbappomp),IF($A100<=nbappomp+nbapven+nbapair,\"\",IF(A100<=nbappomp+nbapven+nbapair+nbaautre,INDEX('Analyse Préliminaire Autres'!$O$11:$O$42,A100-nbappomp-nbapven-nbapair),\"\"))))","v":""},{"$f":"IF($A100<=nbappomp,INDEX('Analyse Préliminaire Pompe'!P$13:P$47,$A100),IF($A100<=nbappomp+nbapven,INDEX('Analyse Préliminaire Ventilateu'!P$13:P$44,$A100-nbappomp),IF($A100<=nbappomp+nbapven+nbapair,\"\",IF(A100<=nbappomp+nbapven+nbapair+nbaautre,INDEX('Analyse Préliminaire Autres'!#REF!,A100-nbappomp-nbapven-nbapair),\"\"))))","v":""},{"$f":"IF($A100<=nbappomp,INDEX('Analyse Préliminaire Pompe'!Q$13:Q$47,$A100),IF($A100<=nbappomp+nbapven,\"\",IF($A100<=nbappomp+nbapven+nbapair,\"\",\"\")))","v":""},{"$f":"IF(AI100=\"\",IF($A100<=nbappomp,INDEX('Analyse Préliminaire Pompe'!S$13:S$47,$A100),IF($A100<=nbappomp+nbapven,INDEX('Analyse Préliminaire Ventilateu'!Q$13:Q$44,$A100-nbappomp),IF($A100<=nbappomp+nbapven+nbapair,\"\",IF(A100<=nbappomp+nbapven+nbapair+nbaautre,\"\",\"\")))),AI100)","v":""},{"$f":"IF(AN100,\"\",IF($A100<=nbappomp,INDEX('Analyse Préliminaire Pompe'!AO$13:AO$47,$A100),IF($A100<=nbappomp+nbapven,INDEX('Analyse Préliminaire Ventilateu'!AM$13:AM$44,$A100-nbappomp),IF($A100<=nbappomp+nbapven+nbapair,EcoAPkWhCP,IF(A100<=nbappomp+nbapven+nbapair+nbaautre,INDEX('Analyse Préliminaire Autres'!$E$11:$E$42,A100-nbappomp-nbapven-nbapair),IF($A100<=nbappomp+nbapven+nbapair+nbaautre+nbafroid,INDEX('AP Groupe froid'!$AN$14:$AN$17,$A100-nbappomp-nbapven-nbapair-nbaautre),\"\"))))))","v":""},{"$f":"IF(AN100,\"\",IF($A100<=nbappomp,INDEX('Analyse Préliminaire Pompe'!AP$13:AP$47,$A100),IF($A100<=nbappomp+nbapven,INDEX('Analyse Préliminaire Ventilateu'!AN$13:AN$44,$A100-nbappomp),IF($A100<=nbappomp+nbapven+nbapair,EcoAPpercCP,IF(A100<=nbappomp+nbapven+nbapair+nbaautre,INDEX('Analyse Préliminaire Autres'!$E$11:$E$42,A100-nbappomp-nbapven-nbapair),IF($A100<=nbappomp+nbapven+nbapair+nbaautre+nbafroid,INDEX('AP Groupe froid'!$AO$14:$AO$17,$A100-nbappomp-nbapven-nbapair-nbaautre),\"\"))))))","v":""},{"$f":"IF(AN100,\"\",IF($A100<=nbappomp,INDEX('Analyse Préliminaire Pompe'!AQ$13:AQ$47,$A100),IF($A100<=nbappomp+nbapven,INDEX('Analyse Préliminaire Ventilateu'!AO$13:AO$44,$A100-nbappomp),IF($A100<=nbappomp+nbapven+nbapair,consoanncp,IF(A100<=nbappomp+nbapven+nbapair+nbaautre,INDEX('Analyse Préliminaire Autres'!$E$11:$E$42,A100-nbappomp-nbapven-nbapair),IF($A100<=nbappomp+nbapven+nbapair+nbaautre+nbafroid,INDEX('AP Groupe froid'!$AP$14:$AP$17,$A100-nbappomp-nbapven-nbapair-nbaautre),\"\"))))))","v":""},{"$f":"IF(R100=\"\",-1,IF(AND($L100>'Economies classées'!$B$2,$K100>0.2,YEAR(TODAY())-$Z100>8),2,IF(AND($L100>'Economies classées'!$B$3,YEAR(TODAY())-$Z100>5),1,0)))","v":-1},null,null,"",{"$f":"IF($A100<=nbappomp,ISBLANK(INDEX('Analyse Préliminaire Pompe'!AO$13:AO$47,$A100)),IF($A100<=nbappomp+nbapven,ISBLANK(INDEX('Analyse Préliminaire Ventilateu'!AM$13:AM$44,$A100-nbappomp)),IF($A100<=nbappomp+nbapven+nbapair,ISBLANK(EcoAPkWhCP),IF(A100<=nbappomp+nbapven+nbapair+nbaautre,ISBLANK(INDEX('Analyse Préliminaire Autres'!AC$11:AC$42,A100-nbappomp-nbapven-nbapair)),IF(A100<=nbappomp+nbapven+nbapair+nbaautre+nbafroid,ISBLANK(INDEX('AP Groupe froid'!$AN$14:$AN$17,A100-nbappomp-nbapven-nbapair-nbaautre)),FALSE)))))","v":false},{"$f":"IF(E100=Listes!$H$25,1,0)","v":0},{"$f":"IF(E100=Listes!$H$26,1,0)","v":0},0,0,{"$f":"IF(E100=Listes!$H$28,1,0)","v":0},null,0,0,0,0,0,null,0,0,0,0,0,null,"","","","","",null,-1,-1,-1,-1,null,null,{"$f":"IF(E100=Listes!$H$25,1,0)","v":0},{"$f":"IF(E100=Listes!$H$26,1,0)","v":0},0,0,0,0,0,null,0,0,null,{"$error":"#VALUE!"},0,0,0,null,null,null,"",""]
[77,"",null,{"$f":"IF(A101<=nbappomp,INDEX('Analyse Préliminaire Pompe'!$B$13:$B$47,A101),IF(A101<=nbappomp+nbapven,INDEX('Analyse Préliminaire Ventilateu'!$B$13:$B$44,A101-nbappomp),IF(A101<=nbappomp+nbapven+nbapair,301,IF(A101<=nbappomp+nbapven+nbapair+nbaautre,INDEX('Analyse Préliminaire Autres'!$B$11:$B$42,A101-nbappomp-nbapven-nbapair),IF(A101<=nbappomp+nbapven+nbapair+nbaautre+nbafroid,INDEX('AP Groupe froid'!$B$14:$B$17,A101-nbappomp-nbapven-nbapair-nbaautre),\"\")))))","v":""},{"$f":"IF(A101<=nbappomp,INDEX('Analyse Préliminaire Pompe'!$C$13:$C$47,A101),IF(A101<=nbappomp+nbapven,INDEX('Analyse Préliminaire Ventilateu'!$C$13:$C$44,A101-nbappomp),IF(A101<=nbappomp+nbapven+nbapair,$AJ$4,IF(A101<=nbappomp+nbapven+nbapair+nbaautre,INDEX('Analyse Préliminaire Autres'!$C$11:$C$42,A101-nbappomp-nbapven-nbapair),IF(A101<=nbappomp+nbapven+nbapair+nbaautre+nbafroid,INDEX('AP Groupe froid'!$C$14:$C$17,A101-nbappomp-nbapven-nbapair-nbaautre),\"\")))))","v":""},null,null,{"$f":"IF(A101<=nbappomp,INDEX('Analyse Préliminaire Pompe'!$H$13:$H$47,A101),IF(A101<=nbappomp+nbapven,INDEX('Analyse Préliminaire Ventilateu'!$H$13:$H$44,A101-nbappomp),IF(A101<=nbappomp+nbapven+nbapair,$AJ$4,IF(A101<=nbappomp+nbapven+nbapair+nbaautre,INDEX('Analyse Préliminaire Autres'!$H$11:$H$42,A101-nbappomp-nbapven-nbapair),IF(A101<=nbappomp+nbapven+nbapair+nbaautre+nbafroid,INDEX('AP Groupe froid'!$I$14:$I$17,A101-nbappomp-nbapven-nbapair-nbaautre),\"\")))))","v":""},null,null,{"$f":"IF(AH101=\"\",IF($A101<=nbappomp,INDEX('Analyse Préliminaire Pompe'!AE$13:AE$47,$A101),IF($A101<=nbappomp+nbapven,INDEX('Analyse Préliminaire Ventilateu'!AC$13:AC$44,$A101-nbappomp),IF($A101<=nbappomp+nbapven+nbapair,'Analyse Préliminaire air compr'!$AI$22,IF(A101<=nbappomp+nbapven+nbapair+nbaautre,INDEX('Analyse Préliminaire Autres'!$X$11:$X$42,A101-nbappomp-nbapven-nbapair),IF(A101<=nbappomp+nbapven+nbapair+nbaautre+nbafroid,INDEX('AP Groupe froid'!$AF$14:$AF$17,A101-nbappomp-nbapven-nbapair-nbaautre),\"\"))))),AH101)","v":""},{"$f":"IF(AG101=\"\",IF($A101<=nbappomp,INDEX('Analyse Préliminaire Pompe'!AD$13:AD$47,$A101),IF($A101<=nbappomp+nbapven,INDEX('Analyse Préliminaire Ventilateu'!AB$13:AB$44,$A101-nbappomp),IF($A101<=nbappomp+nbapven+nbapair,'Analyse Préliminaire air compr'!$AH$22,IF(A101<=nbappomp+nbapven+nbapair+nbaautre,INDEX('Analyse Préliminaire Autres'!$W$11:$W$42,A101-nbappomp-nbapven-nbapair),IF(A101<=nbappomp+nbapven+nbapair+nbaautre+nbafroid,INDEX('AP Groupe froid'!$AE$14:$AE$17,A101-nbappomp-nbapven-nbapair-nbaautre),\"\"))))),AG101)","v":""},null,"",null,"",null,{"$f":"IF(AI101=\"\",IF($A101<=nbappomp,INDEX('Analyse Préliminaire Pompe'!T$13:T$47,$A101),IF($A101<=nbappomp+nbapven,INDEX('Analyse Préliminaire Ventilateu'!R$13:R$44,$A101-nbappomp),IF($A101<=nbappomp+nbapven+nbapair,'Analyse Préliminaire air compr'!$AH$13,IF(A101<=nbappomp+nbapven+nbapair+nbaautre,INDEX('Analyse Préliminaire Autres'!$P$11:$P$42,A101-nbappomp-nbapven-nbapair),IF(A101<=nbappomp+nbapven+nbapair+nbaautre+nbafroid,INDEX('AP Groupe froid'!$AD$14:$AD$17,A101-nbappomp-nbapven-nbapair-nbaautre),\"\"))))),AI101)","v":""},null,{"$f":"IF($A101<=nbappomp,INDEX('Analyse Préliminaire Pompe'!X$13:X$47,$A101),IF($A101<=nbappomp+nbapven,INDEX('Analyse Préliminaire Ventilateu'!V$13:V$44,$A101-nbappomp),IF($A101<=nbappomp+nbapven+nbapair,'Analyse Préliminaire air compr'!$E$35,IF(A101<=nbappomp+nbapven+nbapair+nbaautre,INDEX('Analyse Préliminaire Autres'!$R$11:$R$42,A101-nbappomp-nbapven-nbapair),IF(A101<=nbappomp+nbapven+nbapair+nbaautre+nbafroid,INDEX('AP Groupe froid'!$Z$14:$Z$17,A101-nbappomp-nbapven-nbapair-nbaautre),\"\")))))","v":""},null,null,{"$f":"IF(AG101=\"\",IF($A101<=nbappomp,INDEX('Analyse Préliminaire Pompe'!AN$13:AN$47,$A101),IF($A101<=nbappomp+nbapven,INDEX('Analyse Préliminaire Ventilateu'!AL$13:AL$44,$A101-nbappomp),IF($A101<=nbappomp+nbapven+nbapair,'Analyse Préliminaire air compr'!$AM$16,IF(A101<=nbappomp+nbapven+nbapair+nbaautre,INDEX('Analyse Préliminaire Autres'!$AB$11:$AB$42,A101-nbappomp-nbapven-nbapair),IF(A101<=nbappomp+nbapven+nbapair+nbaautre+nbafroid,INDEX('AP Groupe froid'!$AM$14:$AM$17,A101-nbappomp-nbapven-nbapair-nbaautre),\"\"))))),'Economies classées'!$A$47)","v":""},{"$f":"IF($A101<=nbappomp,INDEX('Analyse Préliminaire Pompe'!E$13:E$47,$A101),IF($A101<=nbappomp+nbapven,INDEX('Analyse Préliminaire Ventilateu'!E$13:E$44,$A101-nbappomp),IF($A101<=nbappomp+nbapven+nbapair,\"voir detail\",IF(A101<=nbappomp+nbapven+nbapair+nbaautre,INDEX('Analyse Préliminaire Autres'!$E$11:$E$42,A101-nbappomp-nbapven-nbapair),IF(A101<=nbappomp+nbapven+nbapair+nbaautre+nbafroid,INDEX('AP Groupe froid'!$F$14:$F$17,A101-nbappomp-nbapven-nbapair-nbaautre),\"\")))))","v":""},{"$f":"IF($A101<=nbappomp,INDEX('Analyse Préliminaire Pompe'!K$13:K$47,$A101),IF($A101<=nbappomp+nbapven,INDEX('Analyse Préliminaire Ventilateu'!K$13:K$44,$A101-nbappomp),IF($A101<=nbappomp+nbapven+nbapair,SUM('Analyse Préliminaire air compr'!$I$26:$I$32),IF(A101<=nbappomp+nbapven+nbapair+nbaautre,INDEX('Analyse Préliminaire Autres'!$K$11:$K$42,A101-nbappomp-nbapven-nbapair),IF(A101<=nbappomp+nbapven+nbapair+nbaautre+nbafroid,INDEX('AP Groupe froid'!$O$14:$O$17,A101-nbappomp-nbapven-nbapair-nbaautre),\"\")))))","v":""},{"$f":"IF($A101<=nbappomp,INDEX('Analyse Préliminaire Pompe'!L$13:L$47,$A101),IF($A101<=nbappomp+nbapven,INDEX('Analyse Préliminaire Ventilateu'!L$13:L$44,$A101-nbappomp),IF($A101<=nbappomp+nbapven+nbapair,MIN('Analyse Préliminaire air compr'!$J$26:$J$32),IF(A101<=nbappomp+nbapven+nbapair+nbaautre,INDEX('Analyse Préliminaire Autres'!$L$11:$L$42,A101-nbappomp-nbapven-nbapair),IF($A101<=nbappomp+nbapven+nbapair,'Analyse Préliminaire air compr'!$AM$16,IF(A101<=nbappomp+nbapven+nbapair+nbaautre+nbafroid,INDEX('AP Groupe froid'!$L$14:$L$17,A101-nbappomp-nbapven-nbapair-nbaautre),\"\"))))))","v":""},{"$f":"IF($A101<=nbappomp,INDEX('Analyse Préliminaire Pompe'!M$13:M$47,$A101),IF($A101<=nbappomp+nbapven,INDEX('Analyse Préliminaire Ventilateu'!M$13:M$44,$A101-nbappomp),IF($A101<=nbappomp+nbapven+nbapair,\"\",IF(A101<=nbappomp+nbapven+nbapair+nbaautre,INDEX('Analyse Préliminaire Autres'!$M$11:$M$42,A101-nbappomp-nbapven-nbapair),IF($A101<=nbappomp+nbapven+nbapair,'Analyse Préliminaire air compr'!$AM$16,IF(A101<=nbappomp+nbapven+nbapair+nbaautre+nbafroid,INDEX('AP Groupe froid'!$M$14:$M$17,A101-nbappomp-nbapven-nbapair-nbaautre),\"\"))))))","v":""},{"$f":"IF($A101<=nbappomp,INDEX('Analyse Préliminaire Pompe'!N$13:N$47,$A101),IF($A101<=nbappomp+nbapven,INDEX('Analyse Préliminaire Ventilateu'!N$13:N$44,$A101-nbappomp),IF($A101<=nbappomp+nbapven+nbapair,\"\",IF(A101<=nbappomp+nbapven+nbapair+nbaautre,INDEX('Analyse Préliminaire Autres'!$N$11:$N$42,A101-nbappomp-nbapven-nbapair),\"\"))))","v":""},{"$f":"IF($A101<=nbappomp,INDEX('Analyse Préliminaire Pompe'!O$13:O$47,$A101),IF($A101<=nbappomp+nbapven,INDEX('Analyse Préliminaire Ventilateu'!O$13:O$44,$A101-nbappomp),IF($A101<=nbappomp+nbapven+nbapair,\"\",IF(A101<=nbappomp+nbapven+nbapair+nbaautre,INDEX('Analyse Préliminaire Autres'!$O$11:$O$42,A101-nbappomp-nbapven-nbapair),\"\"))))","v":""},{"$f":"IF($A101<=nbappomp,INDEX('Analyse Préliminaire Pompe'!P$13:P$47,$A101),IF($A101<=nbappomp+nbapven,INDEX('Analyse Préliminaire Ventilateu'!P$13:P$44,$A101-nbappomp),IF($A101<=nbappomp+nbapven+nbapair,\"\",IF(A101<=nbappomp+nbapven+nbapair+nbaautre,INDEX('Analyse Préliminaire Autres'!#REF!,A101-nbappomp-nbapven-nbapair),\"\"))))","v":""},{"$f":"IF($A101<=nbappomp,INDEX('Analyse Préliminaire Pompe'!Q$13:Q$47,$A101),IF($A101<=nbappomp+nbapven,\"\",IF($A101<=nbappomp+nbapven+nbapair,\"\",\"\")))","v":""},{"$f":"IF(AI101=\"\",IF($A101<=nbappomp,INDEX('Analyse Préliminaire Pompe'!S$13:S$47,$A101),IF($A101<=nbappomp+nbapven,INDEX('Analyse Préliminaire Ventilateu'!Q$13:Q$44,$A101-nbappomp),IF($A101<=nbappomp+nbapven+nbapair,\"\",IF(A101<=nbappomp+nbapven+nbapair+nbaautre,\"\",\"\")))),AI101)","v":""},{"$f":"IF(AN101,\"\",IF($A101<=nbappomp,INDEX('Analyse Préliminaire Pompe'!AO$13:AO$47,$A101),IF($A101<=nbappomp+nbapven,INDEX('Analyse Préliminaire Ventilateu'!AM$13:AM$44,$A101-nbappomp),IF($A101<=nbappomp+nbapven+nbapair,EcoAPkWhCP,IF(A101<=nbappomp+nbapven+nbapair+nbaautre,INDEX('Analyse Préliminaire Autres'!$E$11:$E$42,A101-nbappomp-nbapven-nbapair),IF($A101<=nbappomp+nbapven+nbapair+nbaautre+nbafroid,INDEX('AP Groupe froid'!$AN$14:$AN$17,$A101-nbappomp-nbapven-nbapair-nbaautre),\"\"))))))","v":""},{"$f":"IF(AN101,\"\",IF($A101<=nbappomp,INDEX('Analyse Préliminaire Pompe'!AP$13:AP$47,$A101),IF($A101<=nbappomp+nbapven,INDEX('Analyse Préliminaire Ventilateu'!AN$13:AN$44,$A101-nbappomp),IF($A101<=nbappomp+nbapven+nbapair,EcoAPpercCP,IF(A101<=nbappomp+nbapven+nbapair+nbaautre,INDEX('Analyse Préliminaire Autres'!$E$11:$E$42,A101-nbappomp-nbapven-nbapair),IF($A101<=nbappomp+nbapven+nbapair+nbaautre+nbafroid,INDEX('AP Groupe froid'!$AO$14:$AO$17,$A101-nbappomp-nbapven-nbapair-nbaautre),\"\"))))))","v":""},{"$f":"IF(AN101,\"\",IF($A101<=nbappomp,INDEX('Analyse Préliminaire Pompe'!AQ$13:AQ$47,$A101),IF($A101<=nbappomp+nbapven,INDEX('Analyse Préliminaire Ventilateu'!AO$13:AO$44,$A101-nbappomp),IF($A101<=nbappomp+nbapven+nbapair,consoanncp,IF(A101<=nbappomp+nbapven+nbapair+nbaautre,INDEX('Analyse Préliminaire Autres'!$E$11:$E$42,A101-nbappomp-nbapven-nbapair),IF($A101<=nbappomp+nbapven+nbapair+nbaautre+nbafroid,INDEX('AP Groupe froid'!$AP$14:$AP$17,$A101-nbappomp-nbapven-nbapair-nbaautre),\"\"))))))","v":""},{"$f":"IF(R101=\"\",-1,IF(AND($L101>'Economies classées'!$B$2,$K101>0.2,YEAR(TODAY())-$Z101>8),2,IF(AND($L101>'Economies classées'!$B$3,YEAR(TODAY())-$Z101>5),1,0)))","v":-1},null,null,"",{"$f":"IF($A101<=nbappomp,ISBLANK(INDEX('Analyse Préliminaire Pompe'!AO$13:AO$47,$A101)),IF($A101<=nbappomp+nbapven,ISBLANK(INDEX('Analyse Préliminaire Ventilateu'!AM$13:AM$44,$A101-nbappomp)),IF($A101<=nbappomp+nbapven+nbapair,ISBLANK(EcoAPkWhCP),IF(A101<=nbappomp+nbapven+nbapair+nbaautre,ISBLANK(INDEX('Analyse Préliminaire Autres'!AC$11:AC$42,A101-nbappomp-nbapven-nbapair)),IF(A101<=nbappomp+nbapven+nbapair+nbaautre+nbafroid,ISBLANK(INDEX('AP Groupe froid'!$AN$14:$AN$17,A101-nbappomp-nbapven-nbapair-nbaautre)),FALSE)))))","v":false},{"$f":"IF(E101=Listes!$H$25,1,0)","v":0},{"$f":"IF(E101=Listes!$H$26,1,0)","v":0},0,0,{"$f":"IF(E101=Listes!$H$28,1,0)","v":0},null,0,0,0,0,0,null,0,0,0,0,0,null,"","","","","",null,-1,-1,-1,-1,null,null,{"$f":"IF(E101=Listes!$H$25,1,0)","v":0},{"$f":"IF(E101=Listes!$H$26,1,0)","v":0},0,0,0,0,0,null,0,0,null,{"$error":"#VALUE!"},0,0,0,null,null,null,"",""]
[78,"",null,{"$f":"IF(A102<=nbappomp,INDEX('Analyse Préliminaire Pompe'!$B$13:$B$47,A102),IF(A102<=nbappomp+nbapven,INDEX('Analyse Préliminaire Ventilateu'!$B$13:$B$44,A102-nbappomp),IF(A102<=nbappomp+nbapven+nbapair,301,IF(A102<=nbappomp+nbapven+nbapair+nbaautre,INDEX('Analyse Préliminaire Autres'!$B$11:$B$42,A102-nbappomp-nbapven-nbapair),IF(A102<=nbappomp+nbapven+nbapair+nbaautre+nbafroid,INDEX('AP Groupe froid'!$B$14:$B$17,A102-nbappomp-nbapven-nbapair-nbaautre),\"\")))))","v":""},{"$f":"IF(A102<=nbappomp,INDEX('Analyse Préliminaire Pompe'!$C$13:$C$47,A102),IF(A102<=nbappomp+nbapven,INDEX('Analyse Préliminaire Ventilateu'!$C$13:$C$44,A102-nbappomp),IF(A102<=nbappomp+nbapven+nbapair,$AJ$4,IF(A102<=nbappomp+nbapven+nbapair+nbaautre,INDEX('Analyse Préliminaire Autres'!$C$11:$C$42,A102-nbappomp-nbapven-nbapair),IF(A102<=nbappomp+nbapven+nbapair+nbaautre+nbafroid,INDEX('AP Groupe froid'!$C$14:$C$17,A102-nbappomp-nbapven-nbapair-nbaautre),\"\")))))","v":""},null,null,{"$f":"IF(A102<=nbappomp,INDEX('Analyse Préliminaire Pompe'!$H$13:$H$47,A102),IF(A102<=nbappomp+nbapven,INDEX('Analyse Préliminaire Ventilateu'!$H$13:$H$44,A102-nbappomp),IF(A102<=nbappomp+nbapven+nbapair,$AJ$4,IF(A102<=nbappomp+nbapven+nbapair+nbaautre,INDEX('Analyse Préliminaire Autres'!$H$11:$H$42,A102-nbappomp-nbapven-nbapair),IF(A102<=nbappomp+nbapven+nbapair+nbaautre+nbafroid,INDEX('AP Groupe froid'!$I$14:$I$17,A102-nbappomp-nbapven-nbapair-nbaautre),\"\")))))","v":""},null,null,{"$f":"IF(AH102=\"\",IF($A102<=nbappomp,INDEX('Analyse Préliminaire Pompe'!AE$13:AE$47,$A102),IF($A102<=nbappomp+nbapven,INDEX('Analyse Préliminaire Ventilateu'!AC$13:AC$44,$A102-nbappomp),IF($A102<=nbappomp+nbapven+nbapair,'Analyse Préliminaire air compr'!$AI$22,IF(A102<=nbappomp+nbapven+nbapair+nbaautre,INDEX('Analyse Préliminaire Autres'!$X$11:$X$42,A102-nbappomp-nbapven-nbapair),IF(A102<=nbappomp+nbapven+nbapair+nbaautre+nbafroid,INDEX('AP Groupe froid'!$AF$14:$AF$17,A102-nbappomp-nbapven-nbapair-nbaautre),\"\"))))),AH102)","v":""},{"$f":"IF(AG102=\"\",IF($A102<=nbappomp,INDEX('Analyse Préliminaire Pompe'!AD$13:AD$47,$A102),IF($A102<=nbappomp+nbapven,INDEX('Analyse Préliminaire Ventilateu'!AB$13:AB$44,$A102-nbappomp),IF($A102<=nbappomp+nbapven+nbapair,'Analyse Préliminaire air compr'!$AH$22,IF(A102<=nbappomp+nbapven+nbapair+nbaautre,INDEX('Analyse Préliminaire Autres'!$W$11:$W$42,A102-nbappomp-nbapven-nbapair),IF(A102<=nbappomp+nbapven+nbapair+nbaautre+nbafroid,INDEX('AP Groupe froid'!$AE$14:$AE$17,A102-nbappomp-nbapven-nbapair-nbaautre),\"\"))))),AG102)","v":""},null,"",null,"",null,{"$f":"IF(AI102=\"\",IF($A102<=nbappomp,INDEX('Analyse Préliminaire Pompe'!T$13:T$47,$A102),IF($A102<=nbappomp+nbapven,INDEX('Analyse Préliminaire Ventilateu'!R$13:R$44,$A102-nbappomp),IF($A102<=nbappomp+nbapven+nbapair,'Analyse Préliminaire air compr'!$AH$13,IF(A102<=nbappomp+nbapven+nbapair+nbaautre,INDEX('Analyse Préliminaire Autres'!$P$11:$P$42,A102-nbappomp-nbapven-nbapair),IF(A102<=nbappomp+nbapven+nbapair+nbaautre+nbafroid,INDEX('AP Groupe froid'!$AD$14:$AD$17,A102-nbappomp-nbapven-nbapair-nbaautre),\"\"))))),AI102)","v":""},null,{"$f":"IF($A102<=nbappomp,INDEX('Analyse Préliminaire Pompe'!X$13:X$47,$A102),IF($A102<=nbappomp+nbapven,INDEX('Analyse Préliminaire Ventilateu'!V$13:V$44,$A102-nbappomp),IF($A102<=nbappomp+nbapven+nbapair,'Analyse Préliminaire air compr'!$E$35,IF(A102<=nbappomp+nbapven+nbapair+nbaautre,INDEX('Analyse Préliminaire Autres'!$R$11:$R$42,A102-nbappomp-nbapven-nbapair),IF(A102<=nbappomp+nbapven+nbapair+nbaautre+nbafroid,INDEX('AP Groupe froid'!$Z$14:$Z$17,A102-nbappomp-nbapven-nbapair-nbaautre),\"\")))))","v":""},null,null,{"$f":"IF(AG102=\"\",IF($A102<=nbappomp,INDEX('Analyse Préliminaire Pompe'!AN$13:AN$47,$A102),IF($A102<=nbappomp+nbapven,INDEX('Analyse Préliminaire Ventilateu'!AL$13:AL$44,$A102-nbappomp),IF($A102<=nbappomp+nbapven+nbapair,'Analyse Préliminaire air compr'!$AM$16,IF(A102<=nbappomp+nbapven+nbapair+nbaautre,INDEX('Analyse Préliminaire Autres'!$AB$11:$AB$42,A102-nbappomp-nbapven-nbapair),IF(A102<=nbappomp+nbapven+nbapair+nbaautre+nbafroid,INDEX('AP Groupe froid'!$AM$14:$AM$17,A102-nbappomp-nbapven-nbapair-nbaautre),\"\"))))),'Economies classées'!$A$47)","v":""},{"$f":"IF($A102<=nbappomp,INDEX('Analyse Préliminaire Pompe'!E$13:E$47,$A102),IF($A102<=nbappomp+nbapven,INDEX('Analyse Préliminaire Ventilateu'!E$13:E$44,$A102-nbappomp),IF($A102<=nbappomp+nbapven+nbapair,\"voir detail\",IF(A102<=nbappomp+nbapven+nbapair+nbaautre,INDEX('Analyse Préliminaire Autres'!$E$11:$E$42,A102-nbappomp-nbapven-nbapair),IF(A102<=nbappomp+nbapven+nbapair+nbaautre+nbafroid,INDEX('AP Groupe froid'!$F$14:$F$17,A102-nbappomp-nbapven-nbapair-nbaautre),\"\")))))","v":""},{"$f":"IF($A102<=nbappomp,INDEX('Analyse Préliminaire Pompe'!K$13:K$47,$A102),IF($A102<=nbappomp+nbapven,INDEX('Analyse Préliminaire Ventilateu'!K$13:K$44,$A102-nbappomp),IF($A102<=nbappomp+nbapven+nbapair,SUM('Analyse Préliminaire air compr'!$I$26:$I$32),IF(A102<=nbappomp+nbapven+nbapair+nbaautre,INDEX('Analyse Préliminaire Autres'!$K$11:$K$42,A102-nbappomp-nbapven-nbapair),IF(A102<=nbappomp+nbapven+nbapair+nbaautre+nbafroid,INDEX('AP Groupe froid'!$O$14:$O$17,A102-nbappomp-nbapven-nbapair-nbaautre),\"\")))))","v":""},{"$f":"IF($A102<=nbappomp,INDEX('Analyse Préliminaire Pompe'!L$13:L$47,$A102),IF($A102<=nbappomp+nbapven,INDEX('Analyse Préliminaire Ventilateu'!L$13:L$44,$A102-nbappomp),IF($A102<=nbappomp+nbapven+nbapair,MIN('Analyse Préliminaire air compr'!$J$26:$J$32),IF(A102<=nbappomp+nbapven+nbapair+nbaautre,INDEX('Analyse Préliminaire Autres'!$L$11:$L$42,A102-nbappomp-nbapven-nbapair),IF($A102<=nbappomp+nbapven+nbapair,'Analyse Préliminaire air compr'!$AM$16,IF(A102<=nbappomp+nbapven+nbapair+nbaautre+nbafroid,INDEX('AP Groupe froid'!$L$14:$L$17,A102-nbappomp-nbapven-nbapair-nbaautre),\"\"))))))","v":""},{"$f":"IF($A102<=nbappomp,INDEX('Analyse Préliminaire Pompe'!M$13:M$47,$A102),IF($A102<=nbappomp+nbapven,INDEX('Analyse Préliminaire Ventilateu'!M$13:M$44,$A102-nbappomp),IF($A102<=nbappomp+nbapven+nbapair,\"\",IF(A102<=nbappomp+nbapven+nbapair+nbaautre,INDEX('Analyse Préliminaire Autres'!$M$11:$M$42,A102-nbappomp-nbapven-nbapair),IF($A102<=nbappomp+nbapven+nbapair,'Analyse Préliminaire air compr'!$AM$16,IF(A102<=nbappomp+nbapven+nbapair+nbaautre+nbafroid,INDEX('AP Groupe froid'!$M$14:$M$17,A102-nbappomp-nbapven-nbapair-nbaautre),\"\"))))))","v":""},{"$f":"IF($A102<=nbappomp,INDEX('Analyse Préliminaire Pompe'!N$13:N$47,$A102),IF($A102<=nbappomp+nbapven,INDEX('Analyse Préliminaire Ventilateu'!N$13:N$44,$A102-nbappomp),IF($A102<=nbappomp+nbapven+nbapair,\"\",IF(A102<=nbappomp+nbapven+nbapair+nbaautre,INDEX('Analyse Préliminaire Autres'!$N$11:$N$42,A102-nbappomp-nbapven-nbapair),\"\"))))","v":""},{"$f":"IF($A102<=nbappomp,INDEX('Analyse Préliminaire Pompe'!O$13:O$47,$A102),IF($A102<=nbappomp+nbapven,INDEX('Analyse Préliminaire Ventilateu'!O$13:O$44,$A102-nbappomp),IF($A102<=nbappomp+nbapven+nbapair,\"\",IF(A102<=nbappomp+nbapven+nbapair+nbaautre,INDEX('Analyse Préliminaire Autres'!$O$11:$O$42,A102-nbappomp-nbapven-nbapair),\"\"))))","v":""},{"$f":"IF($A102<=nbappomp,INDEX('Analyse Préliminaire Pompe'!P$13:P$47,$A102),IF($A102<=nbappomp+nbapven,INDEX('Analyse Préliminaire Ventilateu'!P$13:P$44,$A102-nbappomp),IF($A102<=nbappomp+nbapven+nbapair,\"\",IF(A102<=nbappomp+nbapven+nbapair+nbaautre,INDEX('Analyse Préliminaire Autres'!#REF!,A102-nbappomp-nbapven-nbapair),\"\"))))","v":""},{"$f":"IF($A102<=nbappomp,INDEX('Analyse Préliminaire Pompe'!Q$13:Q$47,$A102),IF($A102<=nbappomp+nbapven,\"\",IF($A102<=nbappomp+nbapven+nbapair,\"\",\"\")))","v":""},{"$f":"IF(AI102=\"\",IF($A102<=nbappomp,INDEX('Analyse Préliminaire Pompe'!S$13:S$47,$A102),IF($A102<=nbappomp+nbapven,INDEX('Analyse Préliminaire Ventilateu'!Q$13:Q$44,$A102-nbappomp),IF($A102<=nbappomp+nbapven+nbapair,\"\",IF(A102<=nbappomp+nbapven+nbapair+nbaautre,\"\",\"\")))),AI102)","v":""},{"$f":"IF(AN102,\"\",IF($A102<=nbappomp,INDEX('Analyse Préliminaire Pompe'!AO$13:AO$47,$A102),IF($A102<=nbappomp+nbapven,INDEX('Analyse Préliminaire Ventilateu'!AM$13:AM$44,$A102-nbappomp),IF($A102<=nbappomp+nbapven+nbapair,EcoAPkWhCP,IF(A102<=nbappomp+nbapven+nbapair+nbaautre,INDEX('Analyse Préliminaire Autres'!$E$11:$E$42,A102-nbappomp-nbapven-nbapair),IF($A102<=nbappomp+nbapven+nbapair+nbaautre+nbafroid,INDEX('AP Groupe froid'!$AN$14:$AN$17,$A102-nbappomp-nbapven-nbapair-nbaautre),\"\"))))))","v":""},{"$f":"IF(AN102,\"\",IF($A102<=nbappomp,INDEX('Analyse Préliminaire Pompe'!AP$13:AP$47,$A102),IF($A102<=nbappomp+nbapven,INDEX('Analyse Préliminaire Ventilateu'!AN$13:AN$44,$A102-nbappomp),IF($A102<=nbappomp+nbapven+nbapair,EcoAPpercCP,IF(A102<=nbappomp+nbapven+nbapair+nbaautre,INDEX('Analyse Préliminaire Autres'!$E$11:$E$42,A102-nbappomp-nbapven-nbapair),IF($A102<=nbappomp+nbapven+nbapair+nbaautre+nbafroid,INDEX('AP Groupe froid'!$AO$14:$AO$17,$A102-nbappomp-nbapven-nbapair-nbaautre),\"\"))))))","v":""},{"$f":"IF(AN102,\"\",IF($A102<=nbappomp,INDEX('Analyse Préliminaire Pompe'!AQ$13:AQ$47,$A102),IF($A102<=nbappomp+nbapven,INDEX('Analyse Préliminaire Ventilateu'!AO$13:AO$44,$A102-nbappomp),IF($A102<=nbappomp+nbapven+nbapair,consoanncp,IF(A102<=nbappomp+nbapven+nbapair+nbaautre,INDEX('Analyse Préliminaire Autres'!$E$11:$E$42,A102-nbappomp-nbapven-nbapair),IF($A102<=nbappomp+nbapven+nbapair+nbaautre+nbafroid,INDEX('AP Groupe froid'!$AP$14:$AP$17,$A102-nbappomp-nbapven-nbapair-nbaautre),\"\"))))))","v":""},{"$f":"IF(R102=\"\",-1,IF(AND($L102>'Economies classées'!$B$2,$K102>0.2,YEAR(TODAY())-$Z102>8),2,IF(AND($L102>'Economies classées'!$B$3,YEAR(TODAY())-$Z102>5),1,0)))","v":-1},null,null,"",{"$f":"IF($A102<=nbappomp,ISBLANK(INDEX('Analyse Préliminaire Pompe'!AO$13:AO$47,$A102)),IF($A102<=nbappomp+nbapven,ISBLANK(INDEX('Analyse Préliminaire Ventilateu'!AM$13:AM$44,$A102-nbappomp)),IF($A102<=nbappomp+nbapven+nbapair,ISBLANK(EcoAPkWhCP),IF(A102<=nbappomp+nbapven+nbapair+nbaautre,ISBLANK(INDEX('Analyse Préliminaire Autres'!AC$11:AC$42,A102-nbappomp-nbapven-nbapair)),IF(A102<=nbappomp+nbapven+nbapair+nbaautre+nbafroid,ISBLANK(INDEX('AP Groupe froid'!$AN$14:$AN$17,A102-nbappomp-nbapven-nbapair-nbaautre)),FALSE)))))","v":false},{"$f":"IF(E102=Listes!$H$25,1,0)","v":0},{"$f":"IF(E102=Listes!$H$26,1,0)","v":0},0,0,{"$f":"IF(E102=Listes!$H$28,1,0)","v":0},null,0,0,0,0,0,null,0,0,0,0,0,null,"","","","","",null,-1,-1,-1,-1,null,null,{"$f":"IF(E102=Listes!$H$25,1,0)","v":0},{"$f":"IF(E102=Listes!$H$26,1,0)","v":0},0,0,0,0,0,null,0,0,null,{"$error":"#VALUE!"},0,0,0,null,null,null,"",""]
[79,"",null,{"$f":"IF(A103<=nbappomp,INDEX('Analyse Préliminaire Pompe'!$B$13:$B$47,A103),IF(A103<=nbappomp+nbapven,INDEX('Analyse Préliminaire Ventilateu'!$B$13:$B$44,A103-nbappomp),IF(A103<=nbappomp+nbapven+nbapair,301,IF(A103<=nbappomp+nbapven+nbapair+nbaautre,INDEX('Analyse Préliminaire Autres'!$B$11:$B$42,A103-nbappomp-nbapven-nbapair),IF(A103<=nbappomp+nbapven+nbapair+nbaautre+nbafroid,INDEX('AP Groupe froid'!$B$14:$B$17,A103-nbappomp-nbapven-nbapair-nbaautre),\"\")))))","v":""},{"$f":"IF(A103<=nbappomp,INDEX('Analyse Préliminaire Pompe'!$C$13:$C$47,A103),IF(A103<=nbappomp+nbapven,INDEX('Analyse Préliminaire Ventilateu'!$C$13:$C$44,A103-nbappomp),IF(A103<=nbappomp+nbapven+nbapair,$AJ$4,IF(A103<=nbappomp+nbapven+nbapair+nbaautre,INDEX('Analyse Préliminaire Autres'!$C$11:$C$42,A103-nbappomp-nbapven-nbapair),IF(A103<=nbappomp+nbapven+nbapair+nbaautre+nbafroid,INDEX('AP Groupe froid'!$C$14:$C$17,A103-nbappomp-nbapven-nbapair-nbaautre),\"\")))))","v":""},null,null,{"$f":"IF(A103<=nbappomp,INDEX('Analyse Préliminaire Pompe'!$H$13:$H$47,A103),IF(A103<=nbappomp+nbapven,INDEX('Analyse Préliminaire Ventilateu'!$H$13:$H$44,A103-nbappomp),IF(A103<=nbappomp+nbapven+nbapair,$AJ$4,IF(A103<=nbappomp+nbapven+nbapair+nbaautre,INDEX('Analyse Préliminaire Autres'!$H$11:$H$42,A103-nbappomp-nbapven-nbapair),IF(A103<=nbappomp+nbapven+nbapair+nbaautre+nbafroid,INDEX('AP Groupe froid'!$I$14:$I$17,A103-nbappomp-nbapven-nbapair-nbaautre),\"\")))))","v":""},null,null,{"$f":"IF(AH103=\"\",IF($A103<=nbappomp,INDEX('Analyse Préliminaire Pompe'!AE$13:AE$47,$A103),IF($A103<=nbappomp+nbapven,INDEX('Analyse Préliminaire Ventilateu'!AC$13:AC$44,$A103-nbappomp),IF($A103<=nbappomp+nbapven+nbapair,'Analyse Préliminaire air compr'!$AI$22,IF(A103<=nbappomp+nbapven+nbapair+nbaautre,INDEX('Analyse Préliminaire Autres'!$X$11:$X$42,A103-nbappomp-nbapven-nbapair),IF(A103<=nbappomp+nbapven+nbapair+nbaautre+nbafroid,INDEX('AP Groupe froid'!$AF$14:$AF$17,A103-nbappomp-nbapven-nbapair-nbaautre),\"\"))))),AH103)","v":""},{"$f":"IF(AG103=\"\",IF($A103<=nbappomp,INDEX('Analyse Préliminaire Pompe'!AD$13:AD$47,$A103),IF($A103<=nbappomp+nbapven,INDEX('Analyse Préliminaire Ventilateu'!AB$13:AB$44,$A103-nbappomp),IF($A103<=nbappomp+nbapven+nbapair,'Analyse Préliminaire air compr'!$AH$22,IF(A103<=nbappomp+nbapven+nbapair+nbaautre,INDEX('Analyse Préliminaire Autres'!$W$11:$W$42,A103-nbappomp-nbapven-nbapair),IF(A103<=nbappomp+nbapven+nbapair+nbaautre+nbafroid,INDEX('AP Groupe froid'!$AE$14:$AE$17,A103-nbappomp-nbapven-nbapair-nbaautre),\"\"))))),AG103)","v":""},null,"",null,"",null,{"$f":"IF(AI103=\"\",IF($A103<=nbappomp,INDEX('Analyse Préliminaire Pompe'!T$13:T$47,$A103),IF($A103<=nbappomp+nbapven,INDEX('Analyse Préliminaire Ventilateu'!R$13:R$44,$A103-nbappomp),IF($A103<=nbappomp+nbapven+nbapair,'Analyse Préliminaire air compr'!$AH$13,IF(A103<=nbappomp+nbapven+nbapair+nbaautre,INDEX('Analyse Préliminaire Autres'!$P$11:$P$42,A103-nbappomp-nbapven-nbapair),IF(A103<=nbappomp+nbapven+nbapair+nbaautre+nbafroid,INDEX('AP Groupe froid'!$AD$14:$AD$17,A103-nbappomp-nbapven-nbapair-nbaautre),\"\"))))),AI103)","v":""},null,{"$f":"IF($A103<=nbappomp,INDEX('Analyse Préliminaire Pompe'!X$13:X$47,$A103),IF($A103<=nbappomp+nbapven,INDEX('Analyse Préliminaire Ventilateu'!V$13:V$44,$A103-nbappomp),IF($A103<=nbappomp+nbapven+nbapair,'Analyse Préliminaire air compr'!$E$35,IF(A103<=nbappomp+nbapven+nbapair+nbaautre,INDEX('Analyse Préliminaire Autres'!$R$11:$R$42,A103-nbappomp-nbapven-nbapair),IF(A103<=nbappomp+nbapven+nbapair+nbaautre+nbafroid,INDEX('AP Groupe froid'!$Z$14:$Z$17,A103-nbappomp-nbapven-nbapair-nbaautre),\"\")))))","v":""},null,null,{"$f":"IF(AG103=\"\",IF($A103<=nbappomp,INDEX('Analyse Préliminaire Pompe'!AN$13:AN$47,$A103),IF($A103<=nbappomp+nbapven,INDEX('Analyse Préliminaire Ventilateu'!AL$13:AL$44,$A103-nbappomp),IF($A103<=nbappomp+nbapven+nbapair,'Analyse Préliminaire air compr'!$AM$16,IF(A103<=nbappomp+nbapven+nbapair+nbaautre,INDEX('Analyse Préliminaire Autres'!$AB$11:$AB$42,A103-nbappomp-nbapven-nbapair),IF(A103<=nbappomp+nbapven+nbapair+nbaautre+nbafroid,INDEX('AP Groupe froid'!$AM$14:$AM$17,A103-nbappomp-nbapven-nbapair-nbaautre),\"\"))))),'Economies classées'!$A$47)","v":""},{"$f":"IF($A103<=nbappomp,INDEX('Analyse Préliminaire Pompe'!E$13:E$47,$A103),IF($A103<=nbappomp+nbapven,INDEX('Analyse Préliminaire Ventilateu'!E$13:E$44,$A103-nbappomp),IF($A103<=nbappomp+nbapven+nbapair,\"voir detail\",IF(A103<=nbappomp+nbapven+nbapair+nbaautre,INDEX('Analyse Préliminaire Autres'!$E$11:$E$42,A103-nbappomp-nbapven-nbapair),IF(A103<=nbappomp+nbapven+nbapair+nbaautre+nbafroid,INDEX('AP Groupe froid'!$F$14:$F$17,A103-nbappomp-nbapven-nbapair-nbaautre),\"\")))))","v":""},{"$f":"IF($A103<=nbappomp,INDEX('Analyse Préliminaire Pompe'!K$13:K$47,$A103),IF($A103<=nbappomp+nbapven,INDEX('Analyse Préliminaire Ventilateu'!K$13:K$44,$A103-nbappomp),IF($A103<=nbappomp+nbapven+nbapair,SUM('Analyse Préliminaire air compr'!$I$26:$I$32),IF(A103<=nbappomp+nbapven+nbapair+nbaautre,INDEX('Analyse Préliminaire Autres'!$K$11:$K$42,A103-nbappomp-nbapven-nbapair),IF(A103<=nbappomp+nbapven+nbapair+nbaautre+nbafroid,INDEX('AP Groupe froid'!$O$14:$O$17,A103-nbappomp-nbapven-nbapair-nbaautre),\"\")))))","v":""},{"$f":"IF($A103<=nbappomp,INDEX('Analyse Préliminaire Pompe'!L$13:L$47,$A103),IF($A103<=nbappomp+nbapven,INDEX('Analyse Préliminaire Ventilateu'!L$13:L$44,$A103-nbappomp),IF($A103<=nbappomp+nbapven+nbapair,MIN('Analyse Préliminaire air compr'!$J$26:$J$32),IF(A103<=nbappomp+nbapven+nbapair+nbaautre,INDEX('Analyse Préliminaire Autres'!$L$11:$L$42,A103-nbappomp-nbapven-nbapair),IF($A103<=nbappomp+nbapven+nbapair,'Analyse Préliminaire air compr'!$AM$16,IF(A103<=nbappomp+nbapven+nbapair+nbaautre+nbafroid,INDEX('AP Groupe froid'!$L$14:$L$17,A103-nbappomp-nbapven-nbapair-nbaautre),\"\"))))))","v":""},{"$f":"IF($A103<=nbappomp,INDEX('Analyse Préliminaire Pompe'!M$13:M$47,$A103),IF($A103<=nbappomp+nbapven,INDEX('Analyse Préliminaire Ventilateu'!M$13:M$44,$A103-nbappomp),IF($A103<=nbappomp+nbapven+nbapair,\"\",IF(A103<=nbappomp+nbapven+nbapair+nbaautre,INDEX('Analyse Préliminaire Autres'!$M$11:$M$42,A103-nbappomp-nbapven-nbapair),IF($A103<=nbappomp+nbapven+nbapair,'Analyse Préliminaire air compr'!$AM$16,IF(A103<=nbappomp+nbapven+nbapair+nbaautre+nbafroid,INDEX('AP Groupe froid'!$M$14:$M$17,A103-nbappomp-nbapven-nbapair-nbaautre),\"\"))))))","v":""},{"$f":"IF($A103<=nbappomp,INDEX('Analyse Préliminaire Pompe'!N$13:N$47,$A103),IF($A103<=nbappomp+nbapven,INDEX('Analyse Préliminaire Ventilateu'!N$13:N$44,$A103-nbappomp),IF($A103<=nbappomp+nbapven+nbapair,\"\",IF(A103<=nbappomp+nbapven+nbapair+nbaautre,INDEX('Analyse Préliminaire Autres'!$N$11:$N$42,A103-nbappomp-nbapven-nbapair),\"\"))))","v":""},{"$f":"IF($A103<=nbappomp,INDEX('Analyse Préliminaire Pompe'!O$13:O$47,$A103),IF($A103<=nbappomp+nbapven,INDEX('Analyse Préliminaire Ventilateu'!O$13:O$44,$A103-nbappomp),IF($A103<=nbappomp+nbapven+nbapair,\"\",IF(A103<=nbappomp+nbapven+nbapair+nbaautre,INDEX('Analyse Préliminaire Autres'!$O$11:$O$42,A103-nbappomp-nbapven-nbapair),\"\"))))","v":""},{"$f":"IF($A103<=nbappomp,INDEX('Analyse Préliminaire Pompe'!P$13:P$47,$A103),IF($A103<=nbappomp+nbapven,INDEX('Analyse Préliminaire Ventilateu'!P$13:P$44,$A103-nbappomp),IF($A103<=nbappomp+nbapven+nbapair,\"\",IF(A103<=nbappomp+nbapven+nbapair+nbaautre,INDEX('Analyse Préliminaire Autres'!#REF!,A103-nbappomp-nbapven-nbapair),\"\"))))","v":""},{"$f":"IF($A103<=nbappomp,INDEX('Analyse Préliminaire Pompe'!Q$13:Q$47,$A103),IF($A103<=nbappomp+nbapven,\"\",IF($A103<=nbappomp+nbapven+nbapair,\"\",\"\")))","v":""},{"$f":"IF(AI103=\"\",IF($A103<=nbappomp,INDEX('Analyse Préliminaire Pompe'!S$13:S$47,$A103),IF($A103<=nbappomp+nbapven,INDEX('Analyse Préliminaire Ventilateu'!Q$13:Q$44,$A103-nbappomp),IF($A103<=nbappomp+nbapven+nbapair,\"\",IF(A103<=nbappomp+nbapven+nbapair+nbaautre,\"\",\"\")))),AI103)","v":""},{"$f":"IF(AN103,\"\",IF($A103<=nbappomp,INDEX('Analyse Préliminaire Pompe'!AO$13:AO$47,$A103),IF($A103<=nbappomp+nbapven,INDEX('Analyse Préliminaire Ventilateu'!AM$13:AM$44,$A103-nbappomp),IF($A103<=nbappomp+nbapven+nbapair,EcoAPkWhCP,IF(A103<=nbappomp+nbapven+nbapair+nbaautre,INDEX('Analyse Préliminaire Autres'!$E$11:$E$42,A103-nbappomp-nbapven-nbapair),IF($A103<=nbappomp+nbapven+nbapair+nbaautre+nbafroid,INDEX('AP Groupe froid'!$AN$14:$AN$17,$A103-nbappomp-nbapven-nbapair-nbaautre),\"\"))))))","v":""},{"$f":"IF(AN103,\"\",IF($A103<=nbappomp,INDEX('Analyse Préliminaire Pompe'!AP$13:AP$47,$A103),IF($A103<=nbappomp+nbapven,INDEX('Analyse Préliminaire Ventilateu'!AN$13:AN$44,$A103-nbappomp),IF($A103<=nbappomp+nbapven+nbapair,EcoAPpercCP,IF(A103<=nbappomp+nbapven+nbapair+nbaautre,INDEX('Analyse Préliminaire Autres'!$E$11:$E$42,A103-nbappomp-nbapven-nbapair),IF($A103<=nbappomp+nbapven+nbapair+nbaautre+nbafroid,INDEX('AP Groupe froid'!$AO$14:$AO$17,$A103-nbappomp-nbapven-nbapair-nbaautre),\"\"))))))","v":""},{"$f":"IF(AN103,\"\",IF($A103<=nbappomp,INDEX('Analyse Préliminaire Pompe'!AQ$13:AQ$47,$A103),IF($A103<=nbappomp+nbapven,INDEX('Analyse Préliminaire Ventilateu'!AO$13:AO$44,$A103-nbappomp),IF($A103<=nbappomp+nbapven+nbapair,consoanncp,IF(A103<=nbappomp+nbapven+nbapair+nbaautre,INDEX('Analyse Préliminaire Autres'!$E$11:$E$42,A103-nbappomp-nbapven-nbapair),IF($A103<=nbappomp+nbapven+nbapair+nbaautre+nbafroid,INDEX('AP Groupe froid'!$AP$14:$AP$17,$A103-nbappomp-nbapven-nbapair-nbaautre),\"\"))))))","v":""},{"$f":"IF(R103=\"\",-1,IF(AND($L103>'Economies classées'!$B$2,$K103>0.2,YEAR(TODAY())-$Z103>8),2,IF(AND($L103>'Economies classées'!$B$3,YEAR(TODAY())-$Z103>5),1,0)))","v":-1},null,null,"",{"$f":"IF($A103<=nbappomp,ISBLANK(INDEX('Analyse Préliminaire Pompe'!AO$13:AO$47,$A103)),IF($A103<=nbappomp+nbapven,ISBLANK(INDEX('Analyse Préliminaire Ventilateu'!AM$13:AM$44,$A103-nbappomp)),IF($A103<=nbappomp+nbapven+nbapair,ISBLANK(EcoAPkWhCP),IF(A103<=nbappomp+nbapven+nbapair+nbaautre,ISBLANK(INDEX('Analyse Préliminaire Autres'!AC$11:AC$42,A103-nbappomp-nbapven-nbapair)),IF(A103<=nbappomp+nbapven+nbapair+nbaautre+nbafroid,ISBLANK(INDEX('AP Groupe froid'!$AN$14:$AN$17,A103-nbappomp-nbapven-nbapair-nbaautre)),FALSE)))))","v":false},{"$f":"IF(E103=Listes!$H$25,1,0)","v":0},{"$f":"IF(E103=Listes!$H$26,1,0)","v":0},0,0,{"$f":"IF(E103=Listes!$H$28,1,0)","v":0},null,0,0,0,0,0,null,0,0,0,0,0,null,"","","","","",null,-1,-1,-1,-1,null,null,{"$f":"IF(E103=Listes!$H$25,1,0)","v":0},{"$f":"IF(E103=Listes!$H$26,1,0)","v":0},0,0,0,0,0,null,0,0,null,{"$error":"#VALUE!"},0,0,0,null,null,null,"",""]
[80,"",null,{"$f":"IF(A104<=nbappomp,INDEX('Analyse Préliminaire Pompe'!$B$13:$B$47,A104),IF(A104<=nbappomp+nbapven,INDEX('Analyse Préliminaire Ventilateu'!$B$13:$B$44,A104-nbappomp),IF(A104<=nbappomp+nbapven+nbapair,301,IF(A104<=nbappomp+nbapven+nbapair+nbaautre,INDEX('Analyse Préliminaire Autres'!$B$11:$B$42,A104-nbappomp-nbapven-nbapair),IF(A104<=nbappomp+nbapven+nbapair+nbaautre+nbafroid,INDEX('AP Groupe froid'!$B$14:$B$17,A104-nbappomp-nbapven-nbapair-nbaautre),\"\")))))","v":""},{"$f":"IF(A104<=nbappomp,INDEX('Analyse Préliminaire Pompe'!$C$13:$C$47,A104),IF(A104<=nbappomp+nbapven,INDEX('Analyse Préliminaire Ventilateu'!$C$13:$C$44,A104-nbappomp),IF(A104<=nbappomp+nbapven+nbapair,$AJ$4,IF(A104<=nbappomp+nbapven+nbapair+nbaautre,INDEX('Analyse Préliminaire Autres'!$C$11:$C$42,A104-nbappomp-nbapven-nbapair),IF(A104<=nbappomp+nbapven+nbapair+nbaautre+nbafroid,INDEX('AP Groupe froid'!$C$14:$C$17,A104-nbappomp-nbapven-nbapair-nbaautre),\"\")))))","v":""},null,null,{"$f":"IF(A104<=nbappomp,INDEX('Analyse Préliminaire Pompe'!$H$13:$H$47,A104),IF(A104<=nbappomp+nbapven,INDEX('Analyse Préliminaire Ventilateu'!$H$13:$H$44,A104-nbappomp),IF(A104<=nbappomp+nbapven+nbapair,$AJ$4,IF(A104<=nbappomp+nbapven+nbapair+nbaautre,INDEX('Analyse Préliminaire Autres'!$H$11:$H$42,A104-nbappomp-nbapven-nbapair),IF(A104<=nbappomp+nbapven+nbapair+nbaautre+nbafroid,INDEX('AP Groupe froid'!$I$14:$I$17,A104-nbappomp-nbapven-nbapair-nbaautre),\"\")))))","v":""},null,null,{"$f":"IF(AH104=\"\",IF($A104<=nbappomp,INDEX('Analyse Préliminaire Pompe'!AE$13:AE$47,$A104),IF($A104<=nbappomp+nbapven,INDEX('Analyse Préliminaire Ventilateu'!AC$13:AC$44,$A104-nbappomp),IF($A104<=nbappomp+nbapven+nbapair,'Analyse Préliminaire air compr'!$AI$22,IF(A104<=nbappomp+nbapven+nbapair+nbaautre,INDEX('Analyse Préliminaire Autres'!$X$11:$X$42,A104-nbappomp-nbapven-nbapair),IF(A104<=nbappomp+nbapven+nbapair+nbaautre+nbafroid,INDEX('AP Groupe froid'!$AF$14:$AF$17,A104-nbappomp-nbapven-nbapair-nbaautre),\"\"))))),AH104)","v":""},{"$f":"IF(AG104=\"\",IF($A104<=nbappomp,INDEX('Analyse Préliminaire Pompe'!AD$13:AD$47,$A104),IF($A104<=nbappomp+nbapven,INDEX('Analyse Préliminaire Ventilateu'!AB$13:AB$44,$A104-nbappomp),IF($A104<=nbappomp+nbapven+nbapair,'Analyse Préliminaire air compr'!$AH$22,IF(A104<=nbappomp+nbapven+nbapair+nbaautre,INDEX('Analyse Préliminaire Autres'!$W$11:$W$42,A104-nbappomp-nbapven-nbapair),IF(A104<=nbappomp+nbapven+nbapair+nbaautre+nbafroid,INDEX('AP Groupe froid'!$AE$14:$AE$17,A104-nbappomp-nbapven-nbapair-nbaautre),\"\"))))),AG104)","v":""},null,"",null,"",null,{"$f":"IF(AI104=\"\",IF($A104<=nbappomp,INDEX('Analyse Préliminaire Pompe'!T$13:T$47,$A104),IF($A104<=nbappomp+nbapven,INDEX('Analyse Préliminaire Ventilateu'!R$13:R$44,$A104-nbappomp),IF($A104<=nbappomp+nbapven+nbapair,'Analyse Préliminaire air compr'!$AH$13,IF(A104<=nbappomp+nbapven+nbapair+nbaautre,INDEX('Analyse Préliminaire Autres'!$P$11:$P$42,A104-nbappomp-nbapven-nbapair),IF(A104<=nbappomp+nbapven+nbapair+nbaautre+nbafroid,INDEX('AP Groupe froid'!$AD$14:$AD$17,A104-nbappomp-nbapven-nbapair-nbaautre),\"\"))))),AI104)","v":""},null,{"$f":"IF($A104<=nbappomp,INDEX('Analyse Préliminaire Pompe'!X$13:X$47,$A104),IF($A104<=nbappomp+nbapven,INDEX('Analyse Préliminaire Ventilateu'!V$13:V$44,$A104-nbappomp),IF($A104<=nbappomp+nbapven+nbapair,'Analyse Préliminaire air compr'!$E$35,IF(A104<=nbappomp+nbapven+nbapair+nbaautre,INDEX('Analyse Préliminaire Autres'!$R$11:$R$42,A104-nbappomp-nbapven-nbapair),IF(A104<=nbappomp+nbapven+nbapair+nbaautre+nbafroid,INDEX('AP Groupe froid'!$Z$14:$Z$17,A104-nbappomp-nbapven-nbapair-nbaautre),\"\")))))","v":""},null,null,{"$f":"IF(AG104=\"\",IF($A104<=nbappomp,INDEX('Analyse Préliminaire Pompe'!AN$13:AN$47,$A104),IF($A104<=nbappomp+nbapven,INDEX('Analyse Préliminaire Ventilateu'!AL$13:AL$44,$A104-nbappomp),IF($A104<=nbappomp+nbapven+nbapair,'Analyse Préliminaire air compr'!$AM$16,IF(A104<=nbappomp+nbapven+nbapair+nbaautre,INDEX('Analyse Préliminaire Autres'!$AB$11:$AB$42,A104-nbappomp-nbapven-nbapair),IF(A104<=nbappomp+nbapven+nbapair+nbaautre+nbafroid,INDEX('AP Groupe froid'!$AM$14:$AM$17,A104-nbappomp-nbapven-nbapair-nbaautre),\"\"))))),'Economies classées'!$A$47)","v":""},{"$f":"IF($A104<=nbappomp,INDEX('Analyse Préliminaire Pompe'!E$13:E$47,$A104),IF($A104<=nbappomp+nbapven,INDEX('Analyse Préliminaire Ventilateu'!E$13:E$44,$A104-nbappomp),IF($A104<=nbappomp+nbapven+nbapair,\"voir detail\",IF(A104<=nbappomp+nbapven+nbapair+nbaautre,INDEX('Analyse Préliminaire Autres'!$E$11:$E$42,A104-nbappomp-nbapven-nbapair),IF(A104<=nbappomp+nbapven+nbapair+nbaautre+nbafroid,INDEX('AP Groupe froid'!$F$14:$F$17,A104-nbappomp-nbapven-nbapair-nbaautre),\"\")))))","v":""},{"$f":"IF($A104<=nbappomp,INDEX('Analyse Préliminaire Pompe'!K$13:K$47,$A104),IF($A104<=nbappomp+nbapven,INDEX('Analyse Préliminaire Ventilateu'!K$13:K$44,$A104-nbappomp),IF($A104<=nbappomp+nbapven+nbapair,SUM('Analyse Préliminaire air compr'!$I$26:$I$32),IF(A104<=nbappomp+nbapven+nbapair+nbaautre,INDEX('Analyse Préliminaire Autres'!$K$11:$K$42,A104-nbappomp-nbapven-nbapair),IF(A104<=nbappomp+nbapven+nbapair+nbaautre+nbafroid,INDEX('AP Groupe froid'!$O$14:$O$17,A104-nbappomp-nbapven-nbapair-nbaautre),\"\")))))","v":""},{"$f":"IF($A104<=nbappomp,INDEX('Analyse Préliminaire Pompe'!L$13:L$47,$A104),IF($A104<=nbappomp+nbapven,INDEX('Analyse Préliminaire Ventilateu'!L$13:L$44,$A104-nbappomp),IF($A104<=nbappomp+nbapven+nbapair,MIN('Analyse Préliminaire air compr'!$J$26:$J$32),IF(A104<=nbappomp+nbapven+nbapair+nbaautre,INDEX('Analyse Préliminaire Autres'!$L$11:$L$42,A104-nbappomp-nbapven-nbapair),IF($A104<=nbappomp+nbapven+nbapair,'Analyse Préliminaire air compr'!$AM$16,IF(A104<=nbappomp+nbapven+nbapair+nbaautre+nbafroid,INDEX('AP Groupe froid'!$L$14:$L$17,A104-nbappomp-nbapven-nbapair-nbaautre),\"\"))))))","v":""},{"$f":"IF($A104<=nbappomp,INDEX('Analyse Préliminaire Pompe'!M$13:M$47,$A104),IF($A104<=nbappomp+nbapven,INDEX('Analyse Préliminaire Ventilateu'!M$13:M$44,$A104-nbappomp),IF($A104<=nbappomp+nbapven+nbapair,\"\",IF(A104<=nbappomp+nbapven+nbapair+nbaautre,INDEX('Analyse Préliminaire Autres'!$M$11:$M$42,A104-nbappomp-nbapven-nbapair),IF($A104<=nbappomp+nbapven+nbapair,'Analyse Préliminaire air compr'!$AM$16,IF(A104<=nbappomp+nbapven+nbapair+nbaautre+nbafroid,INDEX('AP Groupe froid'!$M$14:$M$17,A104-nbappomp-nbapven-nbapair-nbaautre),\"\"))))))","v":""},{"$f":"IF($A104<=nbappomp,INDEX('Analyse Préliminaire Pompe'!N$13:N$47,$A104),IF($A104<=nbappomp+nbapven,INDEX('Analyse Préliminaire Ventilateu'!N$13:N$44,$A104-nbappomp),IF($A104<=nbappomp+nbapven+nbapair,\"\",IF(A104<=nbappomp+nbapven+nbapair+nbaautre,INDEX('Analyse Préliminaire Autres'!$N$11:$N$42,A104-nbappomp-nbapven-nbapair),\"\"))))","v":""},{"$f":"IF($A104<=nbappomp,INDEX('Analyse Préliminaire Pompe'!O$13:O$47,$A104),IF($A104<=nbappomp+nbapven,INDEX('Analyse Préliminaire Ventilateu'!O$13:O$44,$A104-nbappomp),IF($A104<=nbappomp+nbapven+nbapair,\"\",IF(A104<=nbappomp+nbapven+nbapair+nbaautre,INDEX('Analyse Préliminaire Autres'!$O$11:$O$42,A104-nbappomp-nbapven-nbapair),\"\"))))","v":""},{"$f":"IF($A104<=nbappomp,INDEX('Analyse Préliminaire Pompe'!P$13:P$47,$A104),IF($A104<=nbappomp+nbapven,INDEX('Analyse Préliminaire Ventilateu'!P$13:P$44,$A104-nbappomp),IF($A104<=nbappomp+nbapven+nbapair,\"\",IF(A104<=nbappomp+nbapven+nbapair+nbaautre,INDEX('Analyse Préliminaire Autres'!#REF!,A104-nbappomp-nbapven-nbapair),\"\"))))","v":""},{"$f":"IF($A104<=nbappomp,INDEX('Analyse Préliminaire Pompe'!Q$13:Q$47,$A104),IF($A104<=nbappomp+nbapven,\"\",IF($A104<=nbappomp+nbapven+nbapair,\"\",\"\")))","v":""},{"$f":"IF(AI104=\"\",IF($A104<=nbappomp,INDEX('Analyse Préliminaire Pompe'!S$13:S$47,$A104),IF($A104<=nbappomp+nbapven,INDEX('Analyse Préliminaire Ventilateu'!Q$13:Q$44,$A104-nbappomp),IF($A104<=nbappomp+nbapven+nbapair,\"\",IF(A104<=nbappomp+nbapven+nbapair+nbaautre,\"\",\"\")))),AI104)","v":""},{"$f":"IF(AN104,\"\",IF($A104<=nbappomp,INDEX('Analyse Préliminaire Pompe'!AO$13:AO$47,$A104),IF($A104<=nbappomp+nbapven,INDEX('Analyse Préliminaire Ventilateu'!AM$13:AM$44,$A104-nbappomp),IF($A104<=nbappomp+nbapven+nbapair,EcoAPkWhCP,IF(A104<=nbappomp+nbapven+nbapair+nbaautre,INDEX('Analyse Préliminaire Autres'!$E$11:$E$42,A104-nbappomp-nbapven-nbapair),IF($A104<=nbappomp+nbapven+nbapair+nbaautre+nbafroid,INDEX('AP Groupe froid'!$AN$14:$AN$17,$A104-nbappomp-nbapven-nbapair-nbaautre),\"\"))))))","v":""},{"$f":"IF(AN104,\"\",IF($A104<=nbappomp,INDEX('Analyse Préliminaire Pompe'!AP$13:AP$47,$A104),IF($A104<=nbappomp+nbapven,INDEX('Analyse Préliminaire Ventilateu'!AN$13:AN$44,$A104-nbappomp),IF($A104<=nbappomp+nbapven+nbapair,EcoAPpercCP,IF(A104<=nbappomp+nbapven+nbapair+nbaautre,INDEX('Analyse Préliminaire Autres'!$E$11:$E$42,A104-nbappomp-nbapven-nbapair),IF($A104<=nbappomp+nbapven+nbapair+nbaautre+nbafroid,INDEX('AP Groupe froid'!$AO$14:$AO$17,$A104-nbappomp-nbapven-nbapair-nbaautre),\"\"))))))","v":""},{"$f":"IF(AN104,\"\",IF($A104<=nbappomp,INDEX('Analyse Préliminaire Pompe'!AQ$13:AQ$47,$A104),IF($A104<=nbappomp+nbapven,INDEX('Analyse Préliminaire Ventilateu'!AO$13:AO$44,$A104-nbappomp),IF($A104<=nbappomp+nbapven+nbapair,consoanncp,IF(A104<=nbappomp+nbapven+nbapair+nbaautre,INDEX('Analyse Préliminaire Autres'!$E$11:$E$42,A104-nbappomp-nbapven-nbapair),IF($A104<=nbappomp+nbapven+nbapair+nbaautre+nbafroid,INDEX('AP Groupe froid'!$AP$14:$AP$17,$A104-nbappomp-nbapven-nbapair-nbaautre),\"\"))))))","v":""},{"$f":"IF(R104=\"\",-1,IF(AND($L104>'Economies classées'!$B$2,$K104>0.2,YEAR(TODAY())-$Z104>8),2,IF(AND($L104>'Economies classées'!$B$3,YEAR(TODAY())-$Z104>5),1,0)))","v":-1},null,null,"",{"$f":"IF($A104<=nbappomp,ISBLANK(INDEX('Analyse Préliminaire Pompe'!AO$13:AO$47,$A104)),IF($A104<=nbappomp+nbapven,ISBLANK(INDEX('Analyse Préliminaire Ventilateu'!AM$13:AM$44,$A104-nbappomp)),IF($A104<=nbappomp+nbapven+nbapair,ISBLANK(EcoAPkWhCP),IF(A104<=nbappomp+nbapven+nbapair+nbaautre,ISBLANK(INDEX('Analyse Préliminaire Autres'!AC$11:AC$42,A104-nbappomp-nbapven-nbapair)),IF(A104<=nbappomp+nbapven+nbapair+nbaautre+nbafroid,ISBLANK(INDEX('AP Groupe froid'!$AN$14:$AN$17,A104-nbappomp-nbapven-nbapair-nbaautre)),FALSE)))))","v":false},{"$f":"IF(E104=Listes!$H$25,1,0)","v":0},{"$f":"IF(E104=Listes!$H$26,1,0)","v":0},0,0,{"$f":"IF(E104=Listes!$H$28,1,0)","v":0},null,0,0,0,0,0,null,0,0,0,0,0,null,"","","","","",null,-1,-1,-1,-1,null,null,{"$f":"IF(E104=Listes!$H$25,1,0)","v":0},{"$f":"IF(E104=Listes!$H$26,1,0)","v":0},0,0,0,0,0,null,0,0,null,{"$error":"#VALUE!"},0,0,0,null,null,null,"",""]
[81,"",null,{"$f":"IF(A105<=nbappomp,INDEX('Analyse Préliminaire Pompe'!$B$13:$B$47,A105),IF(A105<=nbappomp+nbapven,INDEX('Analyse Préliminaire Ventilateu'!$B$13:$B$44,A105-nbappomp),IF(A105<=nbappomp+nbapven+nbapair,301,IF(A105<=nbappomp+nbapven+nbapair+nbaautre,INDEX('Analyse Préliminaire Autres'!$B$11:$B$42,A105-nbappomp-nbapven-nbapair),IF(A105<=nbappomp+nbapven+nbapair+nbaautre+nbafroid,INDEX('AP Groupe froid'!$B$14:$B$17,A105-nbappomp-nbapven-nbapair-nbaautre),\"\")))))","v":""},{"$f":"IF(A105<=nbappomp,INDEX('Analyse Préliminaire Pompe'!$C$13:$C$47,A105),IF(A105<=nbappomp+nbapven,INDEX('Analyse Préliminaire Ventilateu'!$C$13:$C$44,A105-nbappomp),IF(A105<=nbappomp+nbapven+nbapair,$AJ$4,IF(A105<=nbappomp+nbapven+nbapair+nbaautre,INDEX('Analyse Préliminaire Autres'!$C$11:$C$42,A105-nbappomp-nbapven-nbapair),IF(A105<=nbappomp+nbapven+nbapair+nbaautre+nbafroid,INDEX('AP Groupe froid'!$C$14:$C$17,A105-nbappomp-nbapven-nbapair-nbaautre),\"\")))))","v":""},null,null,{"$f":"IF(A105<=nbappomp,INDEX('Analyse Préliminaire Pompe'!$H$13:$H$47,A105),IF(A105<=nbappomp+nbapven,INDEX('Analyse Préliminaire Ventilateu'!$H$13:$H$44,A105-nbappomp),IF(A105<=nbappomp+nbapven+nbapair,$AJ$4,IF(A105<=nbappomp+nbapven+nbapair+nbaautre,INDEX('Analyse Préliminaire Autres'!$H$11:$H$42,A105-nbappomp-nbapven-nbapair),IF(A105<=nbappomp+nbapven+nbapair+nbaautre+nbafroid,INDEX('AP Groupe froid'!$I$14:$I$17,A105-nbappomp-nbapven-nbapair-nbaautre),\"\")))))","v":""},null,null,{"$f":"IF(AH105=\"\",IF($A105<=nbappomp,INDEX('Analyse Préliminaire Pompe'!AE$13:AE$47,$A105),IF($A105<=nbappomp+nbapven,INDEX('Analyse Préliminaire Ventilateu'!AC$13:AC$44,$A105-nbappomp),IF($A105<=nbappomp+nbapven+nbapair,'Analyse Préliminaire air compr'!$AI$22,IF(A105<=nbappomp+nbapven+nbapair+nbaautre,INDEX('Analyse Préliminaire Autres'!$X$11:$X$42,A105-nbappomp-nbapven-nbapair),IF(A105<=nbappomp+nbapven+nbapair+nbaautre+nbafroid,INDEX('AP Groupe froid'!$AF$14:$AF$17,A105-nbappomp-nbapven-nbapair-nbaautre),\"\"))))),AH105)","v":""},{"$f":"IF(AG105=\"\",IF($A105<=nbappomp,INDEX('Analyse Préliminaire Pompe'!AD$13:AD$47,$A105),IF($A105<=nbappomp+nbapven,INDEX('Analyse Préliminaire Ventilateu'!AB$13:AB$44,$A105-nbappomp),IF($A105<=nbappomp+nbapven+nbapair,'Analyse Préliminaire air compr'!$AH$22,IF(A105<=nbappomp+nbapven+nbapair+nbaautre,INDEX('Analyse Préliminaire Autres'!$W$11:$W$42,A105-nbappomp-nbapven-nbapair),IF(A105<=nbappomp+nbapven+nbapair+nbaautre+nbafroid,INDEX('AP Groupe froid'!$AE$14:$AE$17,A105-nbappomp-nbapven-nbapair-nbaautre),\"\"))))),AG105)","v":""},null,"",null,"",null,{"$f":"IF(AI105=\"\",IF($A105<=nbappomp,INDEX('Analyse Préliminaire Pompe'!T$13:T$47,$A105),IF($A105<=nbappomp+nbapven,INDEX('Analyse Préliminaire Ventilateu'!R$13:R$44,$A105-nbappomp),IF($A105<=nbappomp+nbapven+nbapair,'Analyse Préliminaire air compr'!$AH$13,IF(A105<=nbappomp+nbapven+nbapair+nbaautre,INDEX('Analyse Préliminaire Autres'!$P$11:$P$42,A105-nbappomp-nbapven-nbapair),IF(A105<=nbappomp+nbapven+nbapair+nbaautre+nbafroid,INDEX('AP Groupe froid'!$AD$14:$AD$17,A105-nbappomp-nbapven-nbapair-nbaautre),\"\"))))),AI105)","v":""},null,{"$f":"IF($A105<=nbappomp,INDEX('Analyse Préliminaire Pompe'!X$13:X$47,$A105),IF($A105<=nbappomp+nbapven,INDEX('Analyse Préliminaire Ventilateu'!V$13:V$44,$A105-nbappomp),IF($A105<=nbappomp+nbapven+nbapair,'Analyse Préliminaire air compr'!$E$35,IF(A105<=nbappomp+nbapven+nbapair+nbaautre,INDEX('Analyse Préliminaire Autres'!$R$11:$R$42,A105-nbappomp-nbapven-nbapair),IF(A105<=nbappomp+nbapven+nbapair+nbaautre+nbafroid,INDEX('AP Groupe froid'!$Z$14:$Z$17,A105-nbappomp-nbapven-nbapair-nbaautre),\"\")))))","v":""},null,null,{"$f":"IF(AG105=\"\",IF($A105<=nbappomp,INDEX('Analyse Préliminaire Pompe'!AN$13:AN$47,$A105),IF($A105<=nbappomp+nbapven,INDEX('Analyse Préliminaire Ventilateu'!AL$13:AL$44,$A105-nbappomp),IF($A105<=nbappomp+nbapven+nbapair,'Analyse Préliminaire air compr'!$AM$16,IF(A105<=nbappomp+nbapven+nbapair+nbaautre,INDEX('Analyse Préliminaire Autres'!$AB$11:$AB$42,A105-nbappomp-nbapven-nbapair),IF(A105<=nbappomp+nbapven+nbapair+nbaautre+nbafroid,INDEX('AP Groupe froid'!$AM$14:$AM$17,A105-nbappomp-nbapven-nbapair-nbaautre),\"\"))))),'Economies classées'!$A$47)","v":""},{"$f":"IF($A105<=nbappomp,INDEX('Analyse Préliminaire Pompe'!E$13:E$47,$A105),IF($A105<=nbappomp+nbapven,INDEX('Analyse Préliminaire Ventilateu'!E$13:E$44,$A105-nbappomp),IF($A105<=nbappomp+nbapven+nbapair,\"voir detail\",IF(A105<=nbappomp+nbapven+nbapair+nbaautre,INDEX('Analyse Préliminaire Autres'!$E$11:$E$42,A105-nbappomp-nbapven-nbapair),IF(A105<=nbappomp+nbapven+nbapair+nbaautre+nbafroid,INDEX('AP Groupe froid'!$F$14:$F$17,A105-nbappomp-nbapven-nbapair-nbaautre),\"\")))))","v":""},{"$f":"IF($A105<=nbappomp,INDEX('Analyse Préliminaire Pompe'!K$13:K$47,$A105),IF($A105<=nbappomp+nbapven,INDEX('Analyse Préliminaire Ventilateu'!K$13:K$44,$A105-nbappomp),IF($A105<=nbappomp+nbapven+nbapair,SUM('Analyse Préliminaire air compr'!$I$26:$I$32),IF(A105<=nbappomp+nbapven+nbapair+nbaautre,INDEX('Analyse Préliminaire Autres'!$K$11:$K$42,A105-nbappomp-nbapven-nbapair),IF(A105<=nbappomp+nbapven+nbapair+nbaautre+nbafroid,INDEX('AP Groupe froid'!$O$14:$O$17,A105-nbappomp-nbapven-nbapair-nbaautre),\"\")))))","v":""},{"$f":"IF($A105<=nbappomp,INDEX('Analyse Préliminaire Pompe'!L$13:L$47,$A105),IF($A105<=nbappomp+nbapven,INDEX('Analyse Préliminaire Ventilateu'!L$13:L$44,$A105-nbappomp),IF($A105<=nbappomp+nbapven+nbapair,MIN('Analyse Préliminaire air compr'!$J$26:$J$32),IF(A105<=nbappomp+nbapven+nbapair+nbaautre,INDEX('Analyse Préliminaire Autres'!$L$11:$L$42,A105-nbappomp-nbapven-nbapair),IF($A105<=nbappomp+nbapven+nbapair,'Analyse Préliminaire air compr'!$AM$16,IF(A105<=nbappomp+nbapven+nbapair+nbaautre+nbafroid,INDEX('AP Groupe froid'!$L$14:$L$17,A105-nbappomp-nbapven-nbapair-nbaautre),\"\"))))))","v":""},{"$f":"IF($A105<=nbappomp,INDEX('Analyse Préliminaire Pompe'!M$13:M$47,$A105),IF($A105<=nbappomp+nbapven,INDEX('Analyse Préliminaire Ventilateu'!M$13:M$44,$A105-nbappomp),IF($A105<=nbappomp+nbapven+nbapair,\"\",IF(A105<=nbappomp+nbapven+nbapair+nbaautre,INDEX('Analyse Préliminaire Autres'!$M$11:$M$42,A105-nbappomp-nbapven-nbapair),IF($A105<=nbappomp+nbapven+nbapair,'Analyse Préliminaire air compr'!$AM$16,IF(A105<=nbappomp+nbapven+nbapair+nbaautre+nbafroid,INDEX('AP Groupe froid'!$M$14:$M$17,A105-nbappomp-nbapven-nbapair-nbaautre),\"\"))))))","v":""},{"$f":"IF($A105<=nbappomp,INDEX('Analyse Préliminaire Pompe'!N$13:N$47,$A105),IF($A105<=nbappomp+nbapven,INDEX('Analyse Préliminaire Ventilateu'!N$13:N$44,$A105-nbappomp),IF($A105<=nbappomp+nbapven+nbapair,\"\",IF(A105<=nbappomp+nbapven+nbapair+nbaautre,INDEX('Analyse Préliminaire Autres'!$N$11:$N$42,A105-nbappomp-nbapven-nbapair),\"\"))))","v":""},{"$f":"IF($A105<=nbappomp,INDEX('Analyse Préliminaire Pompe'!O$13:O$47,$A105),IF($A105<=nbappomp+nbapven,INDEX('Analyse Préliminaire Ventilateu'!O$13:O$44,$A105-nbappomp),IF($A105<=nbappomp+nbapven+nbapair,\"\",IF(A105<=nbappomp+nbapven+nbapair+nbaautre,INDEX('Analyse Préliminaire Autres'!$O$11:$O$42,A105-nbappomp-nbapven-nbapair),\"\"))))","v":""},{"$f":"IF($A105<=nbappomp,INDEX('Analyse Préliminaire Pompe'!P$13:P$47,$A105),IF($A105<=nbappomp+nbapven,INDEX('Analyse Préliminaire Ventilateu'!P$13:P$44,$A105-nbappomp),IF($A105<=nbappomp+nbapven+nbapair,\"\",IF(A105<=nbappomp+nbapven+nbapair+nbaautre,INDEX('Analyse Préliminaire Autres'!#REF!,A105-nbappomp-nbapven-nbapair),\"\"))))","v":""},{"$f":"IF($A105<=nbappomp,INDEX('Analyse Préliminaire Pompe'!Q$13:Q$47,$A105),IF($A105<=nbappomp+nbapven,\"\",IF($A105<=nbappomp+nbapven+nbapair,\"\",\"\")))","v":""},{"$f":"IF(AI105=\"\",IF($A105<=nbappomp,INDEX('Analyse Préliminaire Pompe'!S$13:S$47,$A105),IF($A105<=nbappomp+nbapven,INDEX('Analyse Préliminaire Ventilateu'!Q$13:Q$44,$A105-nbappomp),IF($A105<=nbappomp+nbapven+nbapair,\"\",IF(A105<=nbappomp+nbapven+nbapair+nbaautre,\"\",\"\")))),AI105)","v":""},{"$f":"IF(AN105,\"\",IF($A105<=nbappomp,INDEX('Analyse Préliminaire Pompe'!AO$13:AO$47,$A105),IF($A105<=nbappomp+nbapven,INDEX('Analyse Préliminaire Ventilateu'!AM$13:AM$44,$A105-nbappomp),IF($A105<=nbappomp+nbapven+nbapair,EcoAPkWhCP,IF(A105<=nbappomp+nbapven+nbapair+nbaautre,INDEX('Analyse Préliminaire Autres'!$E$11:$E$42,A105-nbappomp-nbapven-nbapair),IF($A105<=nbappomp+nbapven+nbapair+nbaautre+nbafroid,INDEX('AP Groupe froid'!$AN$14:$AN$17,$A105-nbappomp-nbapven-nbapair-nbaautre),\"\"))))))","v":""},{"$f":"IF(AN105,\"\",IF($A105<=nbappomp,INDEX('Analyse Préliminaire Pompe'!AP$13:AP$47,$A105),IF($A105<=nbappomp+nbapven,INDEX('Analyse Préliminaire Ventilateu'!AN$13:AN$44,$A105-nbappomp),IF($A105<=nbappomp+nbapven+nbapair,EcoAPpercCP,IF(A105<=nbappomp+nbapven+nbapair+nbaautre,INDEX('Analyse Préliminaire Autres'!$E$11:$E$42,A105-nbappomp-nbapven-nbapair),IF($A105<=nbappomp+nbapven+nbapair+nbaautre+nbafroid,INDEX('AP Groupe froid'!$AO$14:$AO$17,$A105-nbappomp-nbapven-nbapair-nbaautre),\"\"))))))","v":""},{"$f":"IF(AN105,\"\",IF($A105<=nbappomp,INDEX('Analyse Préliminaire Pompe'!AQ$13:AQ$47,$A105),IF($A105<=nbappomp+nbapven,INDEX('Analyse Préliminaire Ventilateu'!AO$13:AO$44,$A105-nbappomp),IF($A105<=nbappomp+nbapven+nbapair,consoanncp,IF(A105<=nbappomp+nbapven+nbapair+nbaautre,INDEX('Analyse Préliminaire Autres'!$E$11:$E$42,A105-nbappomp-nbapven-nbapair),IF($A105<=nbappomp+nbapven+nbapair+nbaautre+nbafroid,INDEX('AP Groupe froid'!$AP$14:$AP$17,$A105-nbappomp-nbapven-nbapair-nbaautre),\"\"))))))","v":""},{"$f":"IF(R105=\"\",-1,IF(AND($L105>'Economies classées'!$B$2,$K105>0.2,YEAR(TODAY())-$Z105>8),2,IF(AND($L105>'Economies classées'!$B$3,YEAR(TODAY())-$Z105>5),1,0)))","v":-1},null,null,"",{"$f":"IF($A105<=nbappomp,ISBLANK(INDEX('Analyse Préliminaire Pompe'!AO$13:AO$47,$A105)),IF($A105<=nbappomp+nbapven,ISBLANK(INDEX('Analyse Préliminaire Ventilateu'!AM$13:AM$44,$A105-nbappomp)),IF($A105<=nbappomp+nbapven+nbapair,ISBLANK(EcoAPkWhCP),IF(A105<=nbappomp+nbapven+nbapair+nbaautre,ISBLANK(INDEX('Analyse Préliminaire Autres'!AC$11:AC$42,A105-nbappomp-nbapven-nbapair)),IF(A105<=nbappomp+nbapven+nbapair+nbaautre+nbafroid,ISBLANK(INDEX('AP Groupe froid'!$AN$14:$AN$17,A105-nbappomp-nbapven-nbapair-nbaautre)),FALSE)))))","v":false},{"$f":"IF(E105=Listes!$H$25,1,0)","v":0},{"$f":"IF(E105=Listes!$H$26,1,0)","v":0},0,0,{"$f":"IF(E105=Listes!$H$28,1,0)","v":0},null,0,0,0,0,0,null,0,0,0,0,0,null,"","","","","",null,-1,-1,-1,-1,null,null,{"$f":"IF(E105=Listes!$H$25,1,0)","v":0},{"$f":"IF(E105=Listes!$H$26,1,0)","v":0},0,0,0,0,0,null,0,0,null,{"$error":"#VALUE!"},0,0,0,null,null,null,"",""]
[82,"",null,{"$f":"IF(A106<=nbappomp,INDEX('Analyse Préliminaire Pompe'!$B$13:$B$47,A106),IF(A106<=nbappomp+nbapven,INDEX('Analyse Préliminaire Ventilateu'!$B$13:$B$44,A106-nbappomp),IF(A106<=nbappomp+nbapven+nbapair,301,IF(A106<=nbappomp+nbapven+nbapair+nbaautre,INDEX('Analyse Préliminaire Autres'!$B$11:$B$42,A106-nbappomp-nbapven-nbapair),IF(A106<=nbappomp+nbapven+nbapair+nbaautre+nbafroid,INDEX('AP Groupe froid'!$B$14:$B$17,A106-nbappomp-nbapven-nbapair-nbaautre),\"\")))))","v":""},{"$f":"IF(A106<=nbappomp,INDEX('Analyse Préliminaire Pompe'!$C$13:$C$47,A106),IF(A106<=nbappomp+nbapven,INDEX('Analyse Préliminaire Ventilateu'!$C$13:$C$44,A106-nbappomp),IF(A106<=nbappomp+nbapven+nbapair,$AJ$4,IF(A106<=nbappomp+nbapven+nbapair+nbaautre,INDEX('Analyse Préliminaire Autres'!$C$11:$C$42,A106-nbappomp-nbapven-nbapair),IF(A106<=nbappomp+nbapven+nbapair+nbaautre+nbafroid,INDEX('AP Groupe froid'!$C$14:$C$17,A106-nbappomp-nbapven-nbapair-nbaautre),\"\")))))","v":""},null,null,{"$f":"IF(A106<=nbappomp,INDEX('Analyse Préliminaire Pompe'!$H$13:$H$47,A106),IF(A106<=nbappomp+nbapven,INDEX('Analyse Préliminaire Ventilateu'!$H$13:$H$44,A106-nbappomp),IF(A106<=nbappomp+nbapven+nbapair,$AJ$4,IF(A106<=nbappomp+nbapven+nbapair+nbaautre,INDEX('Analyse Préliminaire Autres'!$H$11:$H$42,A106-nbappomp-nbapven-nbapair),IF(A106<=nbappomp+nbapven+nbapair+nbaautre+nbafroid,INDEX('AP Groupe froid'!$I$14:$I$17,A106-nbappomp-nbapven-nbapair-nbaautre),\"\")))))","v":""},null,null,{"$f":"IF(AH106=\"\",IF($A106<=nbappomp,INDEX('Analyse Préliminaire Pompe'!AE$13:AE$47,$A106),IF($A106<=nbappomp+nbapven,INDEX('Analyse Préliminaire Ventilateu'!AC$13:AC$44,$A106-nbappomp),IF($A106<=nbappomp+nbapven+nbapair,'Analyse Préliminaire air compr'!$AI$22,IF(A106<=nbappomp+nbapven+nbapair+nbaautre,INDEX('Analyse Préliminaire Autres'!$X$11:$X$42,A106-nbappomp-nbapven-nbapair),IF(A106<=nbappomp+nbapven+nbapair+nbaautre+nbafroid,INDEX('AP Groupe froid'!$AF$14:$AF$17,A106-nbappomp-nbapven-nbapair-nbaautre),\"\"))))),AH106)","v":""},{"$f":"IF(AG106=\"\",IF($A106<=nbappomp,INDEX('Analyse Préliminaire Pompe'!AD$13:AD$47,$A106),IF($A106<=nbappomp+nbapven,INDEX('Analyse Préliminaire Ventilateu'!AB$13:AB$44,$A106-nbappomp),IF($A106<=nbappomp+nbapven+nbapair,'Analyse Préliminaire air compr'!$AH$22,IF(A106<=nbappomp+nbapven+nbapair+nbaautre,INDEX('Analyse Préliminaire Autres'!$W$11:$W$42,A106-nbappomp-nbapven-nbapair),IF(A106<=nbappomp+nbapven+nbapair+nbaautre+nbafroid,INDEX('AP Groupe froid'!$AE$14:$AE$17,A106-nbappomp-nbapven-nbapair-nbaautre),\"\"))))),AG106)","v":""},null,"",null,"",null,{"$f":"IF(AI106=\"\",IF($A106<=nbappomp,INDEX('Analyse Préliminaire Pompe'!T$13:T$47,$A106),IF($A106<=nbappomp+nbapven,INDEX('Analyse Préliminaire Ventilateu'!R$13:R$44,$A106-nbappomp),IF($A106<=nbappomp+nbapven+nbapair,'Analyse Préliminaire air compr'!$AH$13,IF(A106<=nbappomp+nbapven+nbapair+nbaautre,INDEX('Analyse Préliminaire Autres'!$P$11:$P$42,A106-nbappomp-nbapven-nbapair),IF(A106<=nbappomp+nbapven+nbapair+nbaautre+nbafroid,INDEX('AP Groupe froid'!$AD$14:$AD$17,A106-nbappomp-nbapven-nbapair-nbaautre),\"\"))))),AI106)","v":""},null,{"$f":"IF($A106<=nbappomp,INDEX('Analyse Préliminaire Pompe'!X$13:X$47,$A106),IF($A106<=nbappomp+nbapven,INDEX('Analyse Préliminaire Ventilateu'!V$13:V$44,$A106-nbappomp),IF($A106<=nbappomp+nbapven+nbapair,'Analyse Préliminaire air compr'!$E$35,IF(A106<=nbappomp+nbapven+nbapair+nbaautre,INDEX('Analyse Préliminaire Autres'!$R$11:$R$42,A106-nbappomp-nbapven-nbapair),IF(A106<=nbappomp+nbapven+nbapair+nbaautre+nbafroid,INDEX('AP Groupe froid'!$Z$14:$Z$17,A106-nbappomp-nbapven-nbapair-nbaautre),\"\")))))","v":""},null,null,{"$f":"IF(AG106=\"\",IF($A106<=nbappomp,INDEX('Analyse Préliminaire Pompe'!AN$13:AN$47,$A106),IF($A106<=nbappomp+nbapven,INDEX('Analyse Préliminaire Ventilateu'!AL$13:AL$44,$A106-nbappomp),IF($A106<=nbappomp+nbapven+nbapair,'Analyse Préliminaire air compr'!$AM$16,IF(A106<=nbappomp+nbapven+nbapair+nbaautre,INDEX('Analyse Préliminaire Autres'!$AB$11:$AB$42,A106-nbappomp-nbapven-nbapair),IF(A106<=nbappomp+nbapven+nbapair+nbaautre+nbafroid,INDEX('AP Groupe froid'!$AM$14:$AM$17,A106-nbappomp-nbapven-nbapair-nbaautre),\"\"))))),'Economies classées'!$A$47)","v":""},{"$f":"IF($A106<=nbappomp,INDEX('Analyse Préliminaire Pompe'!E$13:E$47,$A106),IF($A106<=nbappomp+nbapven,INDEX('Analyse Préliminaire Ventilateu'!E$13:E$44,$A106-nbappomp),IF($A106<=nbappomp+nbapven+nbapair,\"voir detail\",IF(A106<=nbappomp+nbapven+nbapair+nbaautre,INDEX('Analyse Préliminaire Autres'!$E$11:$E$42,A106-nbappomp-nbapven-nbapair),IF(A106<=nbappomp+nbapven+nbapair+nbaautre+nbafroid,INDEX('AP Groupe froid'!$F$14:$F$17,A106-nbappomp-nbapven-nbapair-nbaautre),\"\")))))","v":""},{"$f":"IF($A106<=nbappomp,INDEX('Analyse Préliminaire Pompe'!K$13:K$47,$A106),IF($A106<=nbappomp+nbapven,INDEX('Analyse Préliminaire Ventilateu'!K$13:K$44,$A106-nbappomp),IF($A106<=nbappomp+nbapven+nbapair,SUM('Analyse Préliminaire air compr'!$I$26:$I$32),IF(A106<=nbappomp+nbapven+nbapair+nbaautre,INDEX('Analyse Préliminaire Autres'!$K$11:$K$42,A106-nbappomp-nbapven-nbapair),IF(A106<=nbappomp+nbapven+nbapair+nbaautre+nbafroid,INDEX('AP Groupe froid'!$O$14:$O$17,A106-nbappomp-nbapven-nbapair-nbaautre),\"\")))))","v":""},{"$f":"IF($A106<=nbappomp,INDEX('Analyse Préliminaire Pompe'!L$13:L$47,$A106),IF($A106<=nbappomp+nbapven,INDEX('Analyse Préliminaire Ventilateu'!L$13:L$44,$A106-nbappomp),IF($A106<=nbappomp+nbapven+nbapair,MIN('Analyse Préliminaire air compr'!$J$26:$J$32),IF(A106<=nbappomp+nbapven+nbapair+nbaautre,INDEX('Analyse Préliminaire Autres'!$L$11:$L$42,A106-nbappomp-nbapven-nbapair),IF($A106<=nbappomp+nbapven+nbapair,'Analyse Préliminaire air compr'!$AM$16,IF(A106<=nbappomp+nbapven+nbapair+nbaautre+nbafroid,INDEX('AP Groupe froid'!$L$14:$L$17,A106-nbappomp-nbapven-nbapair-nbaautre),\"\"))))))","v":""},{"$f":"IF($A106<=nbappomp,INDEX('Analyse Préliminaire Pompe'!M$13:M$47,$A106),IF($A106<=nbappomp+nbapven,INDEX('Analyse Préliminaire Ventilateu'!M$13:M$44,$A106-nbappomp),IF($A106<=nbappomp+nbapven+nbapair,\"\",IF(A106<=nbappomp+nbapven+nbapair+nbaautre,INDEX('Analyse Préliminaire Autres'!$M$11:$M$42,A106-nbappomp-nbapven-nbapair),IF($A106<=nbappomp+nbapven+nbapair,'Analyse Préliminaire air compr'!$AM$16,IF(A106<=nbappomp+nbapven+nbapair+nbaautre+nbafroid,INDEX('AP Groupe froid'!$M$14:$M$17,A106-nbappomp-nbapven-nbapair-nbaautre),\"\"))))))","v":""},{"$f":"IF($A106<=nbappomp,INDEX('Analyse Préliminaire Pompe'!N$13:N$47,$A106),IF($A106<=nbappomp+nbapven,INDEX('Analyse Préliminaire Ventilateu'!N$13:N$44,$A106-nbappomp),IF($A106<=nbappomp+nbapven+nbapair,\"\",IF(A106<=nbappomp+nbapven+nbapair+nbaautre,INDEX('Analyse Préliminaire Autres'!$N$11:$N$42,A106-nbappomp-nbapven-nbapair),\"\"))))","v":""},{"$f":"IF($A106<=nbappomp,INDEX('Analyse Préliminaire Pompe'!O$13:O$47,$A106),IF($A106<=nbappomp+nbapven,INDEX('Analyse Préliminaire Ventilateu'!O$13:O$44,$A106-nbappomp),IF($A106<=nbappomp+nbapven+nbapair,\"\",IF(A106<=nbappomp+nbapven+nbapair+nbaautre,INDEX('Analyse Préliminaire Autres'!$O$11:$O$42,A106-nbappomp-nbapven-nbapair),\"\"))))","v":""},{"$f":"IF($A106<=nbappomp,INDEX('Analyse Préliminaire Pompe'!P$13:P$47,$A106),IF($A106<=nbappomp+nbapven,INDEX('Analyse Préliminaire Ventilateu'!P$13:P$44,$A106-nbappomp),IF($A106<=nbappomp+nbapven+nbapair,\"\",IF(A106<=nbappomp+nbapven+nbapair+nbaautre,INDEX('Analyse Préliminaire Autres'!#REF!,A106-nbappomp-nbapven-nbapair),\"\"))))","v":""},{"$f":"IF($A106<=nbappomp,INDEX('Analyse Préliminaire Pompe'!Q$13:Q$47,$A106),IF($A106<=nbappomp+nbapven,\"\",IF($A106<=nbappomp+nbapven+nbapair,\"\",\"\")))","v":""},{"$f":"IF(AI106=\"\",IF($A106<=nbappomp,INDEX('Analyse Préliminaire Pompe'!S$13:S$47,$A106),IF($A106<=nbappomp+nbapven,INDEX('Analyse Préliminaire Ventilateu'!Q$13:Q$44,$A106-nbappomp),IF($A106<=nbappomp+nbapven+nbapair,\"\",IF(A106<=nbappomp+nbapven+nbapair+nbaautre,\"\",\"\")))),AI106)","v":""},{"$f":"IF(AN106,\"\",IF($A106<=nbappomp,INDEX('Analyse Préliminaire Pompe'!AO$13:AO$47,$A106),IF($A106<=nbappomp+nbapven,INDEX('Analyse Préliminaire Ventilateu'!AM$13:AM$44,$A106-nbappomp),IF($A106<=nbappomp+nbapven+nbapair,EcoAPkWhCP,IF(A106<=nbappomp+nbapven+nbapair+nbaautre,INDEX('Analyse Préliminaire Autres'!$E$11:$E$42,A106-nbappomp-nbapven-nbapair),IF($A106<=nbappomp+nbapven+nbapair+nbaautre+nbafroid,INDEX('AP Groupe froid'!$AN$14:$AN$17,$A106-nbappomp-nbapven-nbapair-nbaautre),\"\"))))))","v":""},{"$f":"IF(AN106,\"\",IF($A106<=nbappomp,INDEX('Analyse Préliminaire Pompe'!AP$13:AP$47,$A106),IF($A106<=nbappomp+nbapven,INDEX('Analyse Préliminaire Ventilateu'!AN$13:AN$44,$A106-nbappomp),IF($A106<=nbappomp+nbapven+nbapair,EcoAPpercCP,IF(A106<=nbappomp+nbapven+nbapair+nbaautre,INDEX('Analyse Préliminaire Autres'!$E$11:$E$42,A106-nbappomp-nbapven-nbapair),IF($A106<=nbappomp+nbapven+nbapair+nbaautre+nbafroid,INDEX('AP Groupe froid'!$AO$14:$AO$17,$A106-nbappomp-nbapven-nbapair-nbaautre),\"\"))))))","v":""},{"$f":"IF(AN106,\"\",IF($A106<=nbappomp,INDEX('Analyse Préliminaire Pompe'!AQ$13:AQ$47,$A106),IF($A106<=nbappomp+nbapven,INDEX('Analyse Préliminaire Ventilateu'!AO$13:AO$44,$A106-nbappomp),IF($A106<=nbappomp+nbapven+nbapair,consoanncp,IF(A106<=nbappomp+nbapven+nbapair+nbaautre,INDEX('Analyse Préliminaire Autres'!$E$11:$E$42,A106-nbappomp-nbapven-nbapair),IF($A106<=nbappomp+nbapven+nbapair+nbaautre+nbafroid,INDEX('AP Groupe froid'!$AP$14:$AP$17,$A106-nbappomp-nbapven-nbapair-nbaautre),\"\"))))))","v":""},{"$f":"IF(R106=\"\",-1,IF(AND($L106>'Economies classées'!$B$2,$K106>0.2,YEAR(TODAY())-$Z106>8),2,IF(AND($L106>'Economies classées'!$B$3,YEAR(TODAY())-$Z106>5),1,0)))","v":-1},null,null,"",{"$f":"IF($A106<=nbappomp,ISBLANK(INDEX('Analyse Préliminaire Pompe'!AO$13:AO$47,$A106)),IF($A106<=nbappomp+nbapven,ISBLANK(INDEX('Analyse Préliminaire Ventilateu'!AM$13:AM$44,$A106-nbappomp)),IF($A106<=nbappomp+nbapven+nbapair,ISBLANK(EcoAPkWhCP),IF(A106<=nbappomp+nbapven+nbapair+nbaautre,ISBLANK(INDEX('Analyse Préliminaire Autres'!AC$11:AC$42,A106-nbappomp-nbapven-nbapair)),IF(A106<=nbappomp+nbapven+nbapair+nbaautre+nbafroid,ISBLANK(INDEX('AP Groupe froid'!$AN$14:$AN$17,A106-nbappomp-nbapven-nbapair-nbaautre)),FALSE)))))","v":false},{"$f":"IF(E106=Listes!$H$25,1,0)","v":0},{"$f":"IF(E106=Listes!$H$26,1,0)","v":0},0,0,{"$f":"IF(E106=Listes!$H$28,1,0)","v":0},null,0,0,0,0,0,null,0,0,0,0,0,null,"","","","","",null,-1,-1,-1,-1,null,null,{"$f":"IF(E106=Listes!$H$25,1,0)","v":0},{"$f":"IF(E106=Listes!$H$26,1,0)","v":0},0,0,0,0,0,null,0,0,null,{"$error":"#VALUE!"},0,0,0,null,null,null,"",""]
[83,"",null,{"$f":"IF(A107<=nbappomp,INDEX('Analyse Préliminaire Pompe'!$B$13:$B$47,A107),IF(A107<=nbappomp+nbapven,INDEX('Analyse Préliminaire Ventilateu'!$B$13:$B$44,A107-nbappomp),IF(A107<=nbappomp+nbapven+nbapair,301,IF(A107<=nbappomp+nbapven+nbapair+nbaautre,INDEX('Analyse Préliminaire Autres'!$B$11:$B$42,A107-nbappomp-nbapven-nbapair),IF(A107<=nbappomp+nbapven+nbapair+nbaautre+nbafroid,INDEX('AP Groupe froid'!$B$14:$B$17,A107-nbappomp-nbapven-nbapair-nbaautre),\"\")))))","v":""},{"$f":"IF(A107<=nbappomp,INDEX('Analyse Préliminaire Pompe'!$C$13:$C$47,A107),IF(A107<=nbappomp+nbapven,INDEX('Analyse Préliminaire Ventilateu'!$C$13:$C$44,A107-nbappomp),IF(A107<=nbappomp+nbapven+nbapair,$AJ$4,IF(A107<=nbappomp+nbapven+nbapair+nbaautre,INDEX('Analyse Préliminaire Autres'!$C$11:$C$42,A107-nbappomp-nbapven-nbapair),IF(A107<=nbappomp+nbapven+nbapair+nbaautre+nbafroid,INDEX('AP Groupe froid'!$C$14:$C$17,A107-nbappomp-nbapven-nbapair-nbaautre),\"\")))))","v":""},null,null,{"$f":"IF(A107<=nbappomp,INDEX('Analyse Préliminaire Pompe'!$H$13:$H$47,A107),IF(A107<=nbappomp+nbapven,INDEX('Analyse Préliminaire Ventilateu'!$H$13:$H$44,A107-nbappomp),IF(A107<=nbappomp+nbapven+nbapair,$AJ$4,IF(A107<=nbappomp+nbapven+nbapair+nbaautre,INDEX('Analyse Préliminaire Autres'!$H$11:$H$42,A107-nbappomp-nbapven-nbapair),IF(A107<=nbappomp+nbapven+nbapair+nbaautre+nbafroid,INDEX('AP Groupe froid'!$I$14:$I$17,A107-nbappomp-nbapven-nbapair-nbaautre),\"\")))))","v":""},null,null,{"$f":"IF(AH107=\"\",IF($A107<=nbappomp,INDEX('Analyse Préliminaire Pompe'!AE$13:AE$47,$A107),IF($A107<=nbappomp+nbapven,INDEX('Analyse Préliminaire Ventilateu'!AC$13:AC$44,$A107-nbappomp),IF($A107<=nbappomp+nbapven+nbapair,'Analyse Préliminaire air compr'!$AI$22,IF(A107<=nbappomp+nbapven+nbapair+nbaautre,INDEX('Analyse Préliminaire Autres'!$X$11:$X$42,A107-nbappomp-nbapven-nbapair),IF(A107<=nbappomp+nbapven+nbapair+nbaautre+nbafroid,INDEX('AP Groupe froid'!$AF$14:$AF$17,A107-nbappomp-nbapven-nbapair-nbaautre),\"\"))))),AH107)","v":""},{"$f":"IF(AG107=\"\",IF($A107<=nbappomp,INDEX('Analyse Préliminaire Pompe'!AD$13:AD$47,$A107),IF($A107<=nbappomp+nbapven,INDEX('Analyse Préliminaire Ventilateu'!AB$13:AB$44,$A107-nbappomp),IF($A107<=nbappomp+nbapven+nbapair,'Analyse Préliminaire air compr'!$AH$22,IF(A107<=nbappomp+nbapven+nbapair+nbaautre,INDEX('Analyse Préliminaire Autres'!$W$11:$W$42,A107-nbappomp-nbapven-nbapair),IF(A107<=nbappomp+nbapven+nbapair+nbaautre+nbafroid,INDEX('AP Groupe froid'!$AE$14:$AE$17,A107-nbappomp-nbapven-nbapair-nbaautre),\"\"))))),AG107)","v":""},null,"",null,"",null,{"$f":"IF(AI107=\"\",IF($A107<=nbappomp,INDEX('Analyse Préliminaire Pompe'!T$13:T$47,$A107),IF($A107<=nbappomp+nbapven,INDEX('Analyse Préliminaire Ventilateu'!R$13:R$44,$A107-nbappomp),IF($A107<=nbappomp+nbapven+nbapair,'Analyse Préliminaire air compr'!$AH$13,IF(A107<=nbappomp+nbapven+nbapair+nbaautre,INDEX('Analyse Préliminaire Autres'!$P$11:$P$42,A107-nbappomp-nbapven-nbapair),IF(A107<=nbappomp+nbapven+nbapair+nbaautre+nbafroid,INDEX('AP Groupe froid'!$AD$14:$AD$17,A107-nbappomp-nbapven-nbapair-nbaautre),\"\"))))),AI107)","v":""},null,{"$f":"IF($A107<=nbappomp,INDEX('Analyse Préliminaire Pompe'!X$13:X$47,$A107),IF($A107<=nbappomp+nbapven,INDEX('Analyse Préliminaire Ventilateu'!V$13:V$44,$A107-nbappomp),IF($A107<=nbappomp+nbapven+nbapair,'Analyse Préliminaire air compr'!$E$35,IF(A107<=nbappomp+nbapven+nbapair+nbaautre,INDEX('Analyse Préliminaire Autres'!$R$11:$R$42,A107-nbappomp-nbapven-nbapair),IF(A107<=nbappomp+nbapven+nbapair+nbaautre+nbafroid,INDEX('AP Groupe froid'!$Z$14:$Z$17,A107-nbappomp-nbapven-nbapair-nbaautre),\"\")))))","v":""},null,null,{"$f":"IF(AG107=\"\",IF($A107<=nbappomp,INDEX('Analyse Préliminaire Pompe'!AN$13:AN$47,$A107),IF($A107<=nbappomp+nbapven,INDEX('Analyse Préliminaire Ventilateu'!AL$13:AL$44,$A107-nbappomp),IF($A107<=nbappomp+nbapven+nbapair,'Analyse Préliminaire air compr'!$AM$16,IF(A107<=nbappomp+nbapven+nbapair+nbaautre,INDEX('Analyse Préliminaire Autres'!$AB$11:$AB$42,A107-nbappomp-nbapven-nbapair),IF(A107<=nbappomp+nbapven+nbapair+nbaautre+nbafroid,INDEX('AP Groupe froid'!$AM$14:$AM$17,A107-nbappomp-nbapven-nbapair-nbaautre),\"\"))))),'Economies classées'!$A$47)","v":""},{"$f":"IF($A107<=nbappomp,INDEX('Analyse Préliminaire Pompe'!E$13:E$47,$A107),IF($A107<=nbappomp+nbapven,INDEX('Analyse Préliminaire Ventilateu'!E$13:E$44,$A107-nbappomp),IF($A107<=nbappomp+nbapven+nbapair,\"voir detail\",IF(A107<=nbappomp+nbapven+nbapair+nbaautre,INDEX('Analyse Préliminaire Autres'!$E$11:$E$42,A107-nbappomp-nbapven-nbapair),IF(A107<=nbappomp+nbapven+nbapair+nbaautre+nbafroid,INDEX('AP Groupe froid'!$F$14:$F$17,A107-nbappomp-nbapven-nbapair-nbaautre),\"\")))))","v":""},{"$f":"IF($A107<=nbappomp,INDEX('Analyse Préliminaire Pompe'!K$13:K$47,$A107),IF($A107<=nbappomp+nbapven,INDEX('Analyse Préliminaire Ventilateu'!K$13:K$44,$A107-nbappomp),IF($A107<=nbappomp+nbapven+nbapair,SUM('Analyse Préliminaire air compr'!$I$26:$I$32),IF(A107<=nbappomp+nbapven+nbapair+nbaautre,INDEX('Analyse Préliminaire Autres'!$K$11:$K$42,A107-nbappomp-nbapven-nbapair),IF(A107<=nbappomp+nbapven+nbapair+nbaautre+nbafroid,INDEX('AP Groupe froid'!$O$14:$O$17,A107-nbappomp-nbapven-nbapair-nbaautre),\"\")))))","v":""},{"$f":"IF($A107<=nbappomp,INDEX('Analyse Préliminaire Pompe'!L$13:L$47,$A107),IF($A107<=nbappomp+nbapven,INDEX('Analyse Préliminaire Ventilateu'!L$13:L$44,$A107-nbappomp),IF($A107<=nbappomp+nbapven+nbapair,MIN('Analyse Préliminaire air compr'!$J$26:$J$32),IF(A107<=nbappomp+nbapven+nbapair+nbaautre,INDEX('Analyse Préliminaire Autres'!$L$11:$L$42,A107-nbappomp-nbapven-nbapair),IF($A107<=nbappomp+nbapven+nbapair,'Analyse Préliminaire air compr'!$AM$16,IF(A107<=nbappomp+nbapven+nbapair+nbaautre+nbafroid,INDEX('AP Groupe froid'!$L$14:$L$17,A107-nbappomp-nbapven-nbapair-nbaautre),\"\"))))))","v":""},{"$f":"IF($A107<=nbappomp,INDEX('Analyse Préliminaire Pompe'!M$13:M$47,$A107),IF($A107<=nbappomp+nbapven,INDEX('Analyse Préliminaire Ventilateu'!M$13:M$44,$A107-nbappomp),IF($A107<=nbappomp+nbapven+nbapair,\"\",IF(A107<=nbappomp+nbapven+nbapair+nbaautre,INDEX('Analyse Préliminaire Autres'!$M$11:$M$42,A107-nbappomp-nbapven-nbapair),IF($A107<=nbappomp+nbapven+nbapair,'Analyse Préliminaire air compr'!$AM$16,IF(A107<=nbappomp+nbapven+nbapair+nbaautre+nbafroid,INDEX('AP Groupe froid'!$M$14:$M$17,A107-nbappomp-nbapven-nbapair-nbaautre),\"\"))))))","v":""},{"$f":"IF($A107<=nbappomp,INDEX('Analyse Préliminaire Pompe'!N$13:N$47,$A107),IF($A107<=nbappomp+nbapven,INDEX('Analyse Préliminaire Ventilateu'!N$13:N$44,$A107-nbappomp),IF($A107<=nbappomp+nbapven+nbapair,\"\",IF(A107<=nbappomp+nbapven+nbapair+nbaautre,INDEX('Analyse Préliminaire Autres'!$N$11:$N$42,A107-nbappomp-nbapven-nbapair),\"\"))))","v":""},{"$f":"IF($A107<=nbappomp,INDEX('Analyse Préliminaire Pompe'!O$13:O$47,$A107),IF($A107<=nbappomp+nbapven,INDEX('Analyse Préliminaire Ventilateu'!O$13:O$44,$A107-nbappomp),IF($A107<=nbappomp+nbapven+nbapair,\"\",IF(A107<=nbappomp+nbapven+nbapair+nbaautre,INDEX('Analyse Préliminaire Autres'!$O$11:$O$42,A107-nbappomp-nbapven-nbapair),\"\"))))","v":""},{"$f":"IF($A107<=nbappomp,INDEX('Analyse Préliminaire Pompe'!P$13:P$47,$A107),IF($A107<=nbappomp+nbapven,INDEX('Analyse Préliminaire Ventilateu'!P$13:P$44,$A107-nbappomp),IF($A107<=nbappomp+nbapven+nbapair,\"\",IF(A107<=nbappomp+nbapven+nbapair+nbaautre,INDEX('Analyse Préliminaire Autres'!#REF!,A107-nbappomp-nbapven-nbapair),\"\"))))","v":""},{"$f":"IF($A107<=nbappomp,INDEX('Analyse Préliminaire Pompe'!Q$13:Q$47,$A107),IF($A107<=nbappomp+nbapven,\"\",IF($A107<=nbappomp+nbapven+nbapair,\"\",\"\")))","v":""},{"$f":"IF(AI107=\"\",IF($A107<=nbappomp,INDEX('Analyse Préliminaire Pompe'!S$13:S$47,$A107),IF($A107<=nbappomp+nbapven,INDEX('Analyse Préliminaire Ventilateu'!Q$13:Q$44,$A107-nbappomp),IF($A107<=nbappomp+nbapven+nbapair,\"\",IF(A107<=nbappomp+nbapven+nbapair+nbaautre,\"\",\"\")))),AI107)","v":""},{"$f":"IF(AN107,\"\",IF($A107<=nbappomp,INDEX('Analyse Préliminaire Pompe'!AO$13:AO$47,$A107),IF($A107<=nbappomp+nbapven,INDEX('Analyse Préliminaire Ventilateu'!AM$13:AM$44,$A107-nbappomp),IF($A107<=nbappomp+nbapven+nbapair,EcoAPkWhCP,IF(A107<=nbappomp+nbapven+nbapair+nbaautre,INDEX('Analyse Préliminaire Autres'!$E$11:$E$42,A107-nbappomp-nbapven-nbapair),IF($A107<=nbappomp+nbapven+nbapair+nbaautre+nbafroid,INDEX('AP Groupe froid'!$AN$14:$AN$17,$A107-nbappomp-nbapven-nbapair-nbaautre),\"\"))))))","v":""},{"$f":"IF(AN107,\"\",IF($A107<=nbappomp,INDEX('Analyse Préliminaire Pompe'!AP$13:AP$47,$A107),IF($A107<=nbappomp+nbapven,INDEX('Analyse Préliminaire Ventilateu'!AN$13:AN$44,$A107-nbappomp),IF($A107<=nbappomp+nbapven+nbapair,EcoAPpercCP,IF(A107<=nbappomp+nbapven+nbapair+nbaautre,INDEX('Analyse Préliminaire Autres'!$E$11:$E$42,A107-nbappomp-nbapven-nbapair),IF($A107<=nbappomp+nbapven+nbapair+nbaautre+nbafroid,INDEX('AP Groupe froid'!$AO$14:$AO$17,$A107-nbappomp-nbapven-nbapair-nbaautre),\"\"))))))","v":""},{"$f":"IF(AN107,\"\",IF($A107<=nbappomp,INDEX('Analyse Préliminaire Pompe'!AQ$13:AQ$47,$A107),IF($A107<=nbappomp+nbapven,INDEX('Analyse Préliminaire Ventilateu'!AO$13:AO$44,$A107-nbappomp),IF($A107<=nbappomp+nbapven+nbapair,consoanncp,IF(A107<=nbappomp+nbapven+nbapair+nbaautre,INDEX('Analyse Préliminaire Autres'!$E$11:$E$42,A107-nbappomp-nbapven-nbapair),IF($A107<=nbappomp+nbapven+nbapair+nbaautre+nbafroid,INDEX('AP Groupe froid'!$AP$14:$AP$17,$A107-nbappomp-nbapven-nbapair-nbaautre),\"\"))))))","v":""},{"$f":"IF(R107=\"\",-1,IF(AND($L107>'Economies classées'!$B$2,$K107>0.2,YEAR(TODAY())-$Z107>8),2,IF(AND($L107>'Economies classées'!$B$3,YEAR(TODAY())-$Z107>5),1,0)))","v":-1},null,null,"",{"$f":"IF($A107<=nbappomp,ISBLANK(INDEX('Analyse Préliminaire Pompe'!AO$13:AO$47,$A107)),IF($A107<=nbappomp+nbapven,ISBLANK(INDEX('Analyse Préliminaire Ventilateu'!AM$13:AM$44,$A107-nbappomp)),IF($A107<=nbappomp+nbapven+nbapair,ISBLANK(EcoAPkWhCP),IF(A107<=nbappomp+nbapven+nbapair+nbaautre,ISBLANK(INDEX('Analyse Préliminaire Autres'!AC$11:AC$42,A107-nbappomp-nbapven-nbapair)),IF(A107<=nbappomp+nbapven+nbapair+nbaautre+nbafroid,ISBLANK(INDEX('AP Groupe froid'!$AN$14:$AN$17,A107-nbappomp-nbapven-nbapair-nbaautre)),FALSE)))))","v":false},{"$f":"IF(E107=Listes!$H$25,1,0)","v":0},{"$f":"IF(E107=Listes!$H$26,1,0)","v":0},0,0,{"$f":"IF(E107=Listes!$H$28,1,0)","v":0},null,0,0,0,0,0,null,0,0,0,0,0,null,"","","","","",null,-1,-1,-1,-1,null,null,{"$f":"IF(E107=Listes!$H$25,1,0)","v":0},{"$f":"IF(E107=Listes!$H$26,1,0)","v":0},0,0,0,0,0,null,0,0,null,{"$error":"#VALUE!"},0,0,0,null,null,null,"",""]
[84,"",null,{"$f":"IF(A108<=nbappomp,INDEX('Analyse Préliminaire Pompe'!$B$13:$B$47,A108),IF(A108<=nbappomp+nbapven,INDEX('Analyse Préliminaire Ventilateu'!$B$13:$B$44,A108-nbappomp),IF(A108<=nbappomp+nbapven+nbapair,301,IF(A108<=nbappomp+nbapven+nbapair+nbaautre,INDEX('Analyse Préliminaire Autres'!$B$11:$B$42,A108-nbappomp-nbapven-nbapair),IF(A108<=nbappomp+nbapven+nbapair+nbaautre+nbafroid,INDEX('AP Groupe froid'!$B$14:$B$17,A108-nbappomp-nbapven-nbapair-nbaautre),\"\")))))","v":""},{"$f":"IF(A108<=nbappomp,INDEX('Analyse Préliminaire Pompe'!$C$13:$C$47,A108),IF(A108<=nbappomp+nbapven,INDEX('Analyse Préliminaire Ventilateu'!$C$13:$C$44,A108-nbappomp),IF(A108<=nbappomp+nbapven+nbapair,$AJ$4,IF(A108<=nbappomp+nbapven+nbapair+nbaautre,INDEX('Analyse Préliminaire Autres'!$C$11:$C$42,A108-nbappomp-nbapven-nbapair),IF(A108<=nbappomp+nbapven+nbapair+nbaautre+nbafroid,INDEX('AP Groupe froid'!$C$14:$C$17,A108-nbappomp-nbapven-nbapair-nbaautre),\"\")))))","v":""},null,null,{"$f":"IF(A108<=nbappomp,INDEX('Analyse Préliminaire Pompe'!$H$13:$H$47,A108),IF(A108<=nbappomp+nbapven,INDEX('Analyse Préliminaire Ventilateu'!$H$13:$H$44,A108-nbappomp),IF(A108<=nbappomp+nbapven+nbapair,$AJ$4,IF(A108<=nbappomp+nbapven+nbapair+nbaautre,INDEX('Analyse Préliminaire Autres'!$H$11:$H$42,A108-nbappomp-nbapven-nbapair),IF(A108<=nbappomp+nbapven+nbapair+nbaautre+nbafroid,INDEX('AP Groupe froid'!$I$14:$I$17,A108-nbappomp-nbapven-nbapair-nbaautre),\"\")))))","v":""},null,null,{"$f":"IF(AH108=\"\",IF($A108<=nbappomp,INDEX('Analyse Préliminaire Pompe'!AE$13:AE$47,$A108),IF($A108<=nbappomp+nbapven,INDEX('Analyse Préliminaire Ventilateu'!AC$13:AC$44,$A108-nbappomp),IF($A108<=nbappomp+nbapven+nbapair,'Analyse Préliminaire air compr'!$AI$22,IF(A108<=nbappomp+nbapven+nbapair+nbaautre,INDEX('Analyse Préliminaire Autres'!$X$11:$X$42,A108-nbappomp-nbapven-nbapair),IF(A108<=nbappomp+nbapven+nbapair+nbaautre+nbafroid,INDEX('AP Groupe froid'!$AF$14:$AF$17,A108-nbappomp-nbapven-nbapair-nbaautre),\"\"))))),AH108)","v":""},{"$f":"IF(AG108=\"\",IF($A108<=nbappomp,INDEX('Analyse Préliminaire Pompe'!AD$13:AD$47,$A108),IF($A108<=nbappomp+nbapven,INDEX('Analyse Préliminaire Ventilateu'!AB$13:AB$44,$A108-nbappomp),IF($A108<=nbappomp+nbapven+nbapair,'Analyse Préliminaire air compr'!$AH$22,IF(A108<=nbappomp+nbapven+nbapair+nbaautre,INDEX('Analyse Préliminaire Autres'!$W$11:$W$42,A108-nbappomp-nbapven-nbapair),IF(A108<=nbappomp+nbapven+nbapair+nbaautre+nbafroid,INDEX('AP Groupe froid'!$AE$14:$AE$17,A108-nbappomp-nbapven-nbapair-nbaautre),\"\"))))),AG108)","v":""},null,"",null,"",null,{"$f":"IF(AI108=\"\",IF($A108<=nbappomp,INDEX('Analyse Préliminaire Pompe'!T$13:T$47,$A108),IF($A108<=nbappomp+nbapven,INDEX('Analyse Préliminaire Ventilateu'!R$13:R$44,$A108-nbappomp),IF($A108<=nbappomp+nbapven+nbapair,'Analyse Préliminaire air compr'!$AH$13,IF(A108<=nbappomp+nbapven+nbapair+nbaautre,INDEX('Analyse Préliminaire Autres'!$P$11:$P$42,A108-nbappomp-nbapven-nbapair),IF(A108<=nbappomp+nbapven+nbapair+nbaautre+nbafroid,INDEX('AP Groupe froid'!$AD$14:$AD$17,A108-nbappomp-nbapven-nbapair-nbaautre),\"\"))))),AI108)","v":""},null,{"$f":"IF($A108<=nbappomp,INDEX('Analyse Préliminaire Pompe'!X$13:X$47,$A108),IF($A108<=nbappomp+nbapven,INDEX('Analyse Préliminaire Ventilateu'!V$13:V$44,$A108-nbappomp),IF($A108<=nbappomp+nbapven+nbapair,'Analyse Préliminaire air compr'!$E$35,IF(A108<=nbappomp+nbapven+nbapair+nbaautre,INDEX('Analyse Préliminaire Autres'!$R$11:$R$42,A108-nbappomp-nbapven-nbapair),IF(A108<=nbappomp+nbapven+nbapair+nbaautre+nbafroid,INDEX('AP Groupe froid'!$Z$14:$Z$17,A108-nbappomp-nbapven-nbapair-nbaautre),\"\")))))","v":""},null,null,{"$f":"IF(AG108=\"\",IF($A108<=nbappomp,INDEX('Analyse Préliminaire Pompe'!AN$13:AN$47,$A108),IF($A108<=nbappomp+nbapven,INDEX('Analyse Préliminaire Ventilateu'!AL$13:AL$44,$A108-nbappomp),IF($A108<=nbappomp+nbapven+nbapair,'Analyse Préliminaire air compr'!$AM$16,IF(A108<=nbappomp+nbapven+nbapair+nbaautre,INDEX('Analyse Préliminaire Autres'!$AB$11:$AB$42,A108-nbappomp-nbapven-nbapair),IF(A108<=nbappomp+nbapven+nbapair+nbaautre+nbafroid,INDEX('AP Groupe froid'!$AM$14:$AM$17,A108-nbappomp-nbapven-nbapair-nbaautre),\"\"))))),'Economies classées'!$A$47)","v":""},{"$f":"IF($A108<=nbappomp,INDEX('Analyse Préliminaire Pompe'!E$13:E$47,$A108),IF($A108<=nbappomp+nbapven,INDEX('Analyse Préliminaire Ventilateu'!E$13:E$44,$A108-nbappomp),IF($A108<=nbappomp+nbapven+nbapair,\"voir detail\",IF(A108<=nbappomp+nbapven+nbapair+nbaautre,INDEX('Analyse Préliminaire Autres'!$E$11:$E$42,A108-nbappomp-nbapven-nbapair),IF(A108<=nbappomp+nbapven+nbapair+nbaautre+nbafroid,INDEX('AP Groupe froid'!$F$14:$F$17,A108-nbappomp-nbapven-nbapair-nbaautre),\"\")))))","v":""},{"$f":"IF($A108<=nbappomp,INDEX('Analyse Préliminaire Pompe'!K$13:K$47,$A108),IF($A108<=nbappomp+nbapven,INDEX('Analyse Préliminaire Ventilateu'!K$13:K$44,$A108-nbappomp),IF($A108<=nbappomp+nbapven+nbapair,SUM('Analyse Préliminaire air compr'!$I$26:$I$32),IF(A108<=nbappomp+nbapven+nbapair+nbaautre,INDEX('Analyse Préliminaire Autres'!$K$11:$K$42,A108-nbappomp-nbapven-nbapair),IF(A108<=nbappomp+nbapven+nbapair+nbaautre+nbafroid,INDEX('AP Groupe froid'!$O$14:$O$17,A108-nbappomp-nbapven-nbapair-nbaautre),\"\")))))","v":""},{"$f":"IF($A108<=nbappomp,INDEX('Analyse Préliminaire Pompe'!L$13:L$47,$A108),IF($A108<=nbappomp+nbapven,INDEX('Analyse Préliminaire Ventilateu'!L$13:L$44,$A108-nbappomp),IF($A108<=nbappomp+nbapven+nbapair,MIN('Analyse Préliminaire air compr'!$J$26:$J$32),IF(A108<=nbappomp+nbapven+nbapair+nbaautre,INDEX('Analyse Préliminaire Autres'!$L$11:$L$42,A108-nbappomp-nbapven-nbapair),IF($A108<=nbappomp+nbapven+nbapair,'Analyse Préliminaire air compr'!$AM$16,IF(A108<=nbappomp+nbapven+nbapair+nbaautre+nbafroid,INDEX('AP Groupe froid'!$L$14:$L$17,A108-nbappomp-nbapven-nbapair-nbaautre),\"\"))))))","v":""},{"$f":"IF($A108<=nbappomp,INDEX('Analyse Préliminaire Pompe'!M$13:M$47,$A108),IF($A108<=nbappomp+nbapven,INDEX('Analyse Préliminaire Ventilateu'!M$13:M$44,$A108-nbappomp),IF($A108<=nbappomp+nbapven+nbapair,\"\",IF(A108<=nbappomp+nbapven+nbapair+nbaautre,INDEX('Analyse Préliminaire Autres'!$M$11:$M$42,A108-nbappomp-nbapven-nbapair),IF($A108<=nbappomp+nbapven+nbapair,'Analyse Préliminaire air compr'!$AM$16,IF(A108<=nbappomp+nbapven+nbapair+nbaautre+nbafroid,INDEX('AP Groupe froid'!$M$14:$M$17,A108-nbappomp-nbapven-nbapair-nbaautre),\"\"))))))","v":""},{"$f":"IF($A108<=nbappomp,INDEX('Analyse Préliminaire Pompe'!N$13:N$47,$A108),IF($A108<=nbappomp+nbapven,INDEX('Analyse Préliminaire Ventilateu'!N$13:N$44,$A108-nbappomp),IF($A108<=nbappomp+nbapven+nbapair,\"\",IF(A108<=nbappomp+nbapven+nbapair+nbaautre,INDEX('Analyse Préliminaire Autres'!$N$11:$N$42,A108-nbappomp-nbapven-nbapair),\"\"))))","v":""},{"$f":"IF($A108<=nbappomp,INDEX('Analyse Préliminaire Pompe'!O$13:O$47,$A108),IF($A108<=nbappomp+nbapven,INDEX('Analyse Préliminaire Ventilateu'!O$13:O$44,$A108-nbappomp),IF($A108<=nbappomp+nbapven+nbapair,\"\",IF(A108<=nbappomp+nbapven+nbapair+nbaautre,INDEX('Analyse Préliminaire Autres'!$O$11:$O$42,A108-nbappomp-nbapven-nbapair),\"\"))))","v":""},{"$f":"IF($A108<=nbappomp,INDEX('Analyse Préliminaire Pompe'!P$13:P$47,$A108),IF($A108<=nbappomp+nbapven,INDEX('Analyse Préliminaire Ventilateu'!P$13:P$44,$A108-nbappomp),IF($A108<=nbappomp+nbapven+nbapair,\"\",IF(A108<=nbappomp+nbapven+nbapair+nbaautre,INDEX('Analyse Préliminaire Autres'!#REF!,A108-nbappomp-nbapven-nbapair),\"\"))))","v":""},{"$f":"IF($A108<=nbappomp,INDEX('Analyse Préliminaire Pompe'!Q$13:Q$47,$A108),IF($A108<=nbappomp+nbapven,\"\",IF($A108<=nbappomp+nbapven+nbapair,\"\",\"\")))","v":""},{"$f":"IF(AI108=\"\",IF($A108<=nbappomp,INDEX('Analyse Préliminaire Pompe'!S$13:S$47,$A108),IF($A108<=nbappomp+nbapven,INDEX('Analyse Préliminaire Ventilateu'!Q$13:Q$44,$A108-nbappomp),IF($A108<=nbappomp+nbapven+nbapair,\"\",IF(A108<=nbappomp+nbapven+nbapair+nbaautre,\"\",\"\")))),AI108)","v":""},{"$f":"IF(AN108,\"\",IF($A108<=nbappomp,INDEX('Analyse Préliminaire Pompe'!AO$13:AO$47,$A108),IF($A108<=nbappomp+nbapven,INDEX('Analyse Préliminaire Ventilateu'!AM$13:AM$44,$A108-nbappomp),IF($A108<=nbappomp+nbapven+nbapair,EcoAPkWhCP,IF(A108<=nbappomp+nbapven+nbapair+nbaautre,INDEX('Analyse Préliminaire Autres'!$E$11:$E$42,A108-nbappomp-nbapven-nbapair),IF($A108<=nbappomp+nbapven+nbapair+nbaautre+nbafroid,INDEX('AP Groupe froid'!$AN$14:$AN$17,$A108-nbappomp-nbapven-nbapair-nbaautre),\"\"))))))","v":""},{"$f":"IF(AN108,\"\",IF($A108<=nbappomp,INDEX('Analyse Préliminaire Pompe'!AP$13:AP$47,$A108),IF($A108<=nbappomp+nbapven,INDEX('Analyse Préliminaire Ventilateu'!AN$13:AN$44,$A108-nbappomp),IF($A108<=nbappomp+nbapven+nbapair,EcoAPpercCP,IF(A108<=nbappomp+nbapven+nbapair+nbaautre,INDEX('Analyse Préliminaire Autres'!$E$11:$E$42,A108-nbappomp-nbapven-nbapair),IF($A108<=nbappomp+nbapven+nbapair+nbaautre+nbafroid,INDEX('AP Groupe froid'!$AO$14:$AO$17,$A108-nbappomp-nbapven-nbapair-nbaautre),\"\"))))))","v":""},{"$f":"IF(AN108,\"\",IF($A108<=nbappomp,INDEX('Analyse Préliminaire Pompe'!AQ$13:AQ$47,$A108),IF($A108<=nbappomp+nbapven,INDEX('Analyse Préliminaire Ventilateu'!AO$13:AO$44,$A108-nbappomp),IF($A108<=nbappomp+nbapven+nbapair,consoanncp,IF(A108<=nbappomp+nbapven+nbapair+nbaautre,INDEX('Analyse Préliminaire Autres'!$E$11:$E$42,A108-nbappomp-nbapven-nbapair),IF($A108<=nbappomp+nbapven+nbapair+nbaautre+nbafroid,INDEX('AP Groupe froid'!$AP$14:$AP$17,$A108-nbappomp-nbapven-nbapair-nbaautre),\"\"))))))","v":""},{"$f":"IF(R108=\"\",-1,IF(AND($L108>'Economies classées'!$B$2,$K108>0.2,YEAR(TODAY())-$Z108>8),2,IF(AND($L108>'Economies classées'!$B$3,YEAR(TODAY())-$Z108>5),1,0)))","v":-1},null,null,"",{"$f":"IF($A108<=nbappomp,ISBLANK(INDEX('Analyse Préliminaire Pompe'!AO$13:AO$47,$A108)),IF($A108<=nbappomp+nbapven,ISBLANK(INDEX('Analyse Préliminaire Ventilateu'!AM$13:AM$44,$A108-nbappomp)),IF($A108<=nbappomp+nbapven+nbapair,ISBLANK(EcoAPkWhCP),IF(A108<=nbappomp+nbapven+nbapair+nbaautre,ISBLANK(INDEX('Analyse Préliminaire Autres'!AC$11:AC$42,A108-nbappomp-nbapven-nbapair)),IF(A108<=nbappomp+nbapven+nbapair+nbaautre+nbafroid,ISBLANK(INDEX('AP Groupe froid'!$AN$14:$AN$17,A108-nbappomp-nbapven-nbapair-nbaautre)),FALSE)))))","v":false},{"$f":"IF(E108=Listes!$H$25,1,0)","v":0},{"$f":"IF(E108=Listes!$H$26,1,0)","v":0},0,0,{"$f":"IF(E108=Listes!$H$28,1,0)","v":0},null,0,0,0,0,0,null,0,0,0,0,0,null,"","","","","",null,-1,-1,-1,-1,null,null,{"$f":"IF(E108=Listes!$H$25,1,0)","v":0},{"$f":"IF(E108=Listes!$H$26,1,0)","v":0},0,0,0,0,0,null,0,0,null,{"$error":"#VALUE!"},0,0,0,null,null,null,"",""]
[85,"",null,{"$f":"IF(A109<=nbappomp,INDEX('Analyse Préliminaire Pompe'!$B$13:$B$47,A109),IF(A109<=nbappomp+nbapven,INDEX('Analyse Préliminaire Ventilateu'!$B$13:$B$44,A109-nbappomp),IF(A109<=nbappomp+nbapven+nbapair,301,IF(A109<=nbappomp+nbapven+nbapair+nbaautre,INDEX('Analyse Préliminaire Autres'!$B$11:$B$42,A109-nbappomp-nbapven-nbapair),IF(A109<=nbappomp+nbapven+nbapair+nbaautre+nbafroid,INDEX('AP Groupe froid'!$B$14:$B$17,A109-nbappomp-nbapven-nbapair-nbaautre),\"\")))))","v":""},{"$f":"IF(A109<=nbappomp,INDEX('Analyse Préliminaire Pompe'!$C$13:$C$47,A109),IF(A109<=nbappomp+nbapven,INDEX('Analyse Préliminaire Ventilateu'!$C$13:$C$44,A109-nbappomp),IF(A109<=nbappomp+nbapven+nbapair,$AJ$4,IF(A109<=nbappomp+nbapven+nbapair+nbaautre,INDEX('Analyse Préliminaire Autres'!$C$11:$C$42,A109-nbappomp-nbapven-nbapair),IF(A109<=nbappomp+nbapven+nbapair+nbaautre+nbafroid,INDEX('AP Groupe froid'!$C$14:$C$17,A109-nbappomp-nbapven-nbapair-nbaautre),\"\")))))","v":""},null,null,{"$f":"IF(A109<=nbappomp,INDEX('Analyse Préliminaire Pompe'!$H$13:$H$47,A109),IF(A109<=nbappomp+nbapven,INDEX('Analyse Préliminaire Ventilateu'!$H$13:$H$44,A109-nbappomp),IF(A109<=nbappomp+nbapven+nbapair,$AJ$4,IF(A109<=nbappomp+nbapven+nbapair+nbaautre,INDEX('Analyse Préliminaire Autres'!$H$11:$H$42,A109-nbappomp-nbapven-nbapair),IF(A109<=nbappomp+nbapven+nbapair+nbaautre+nbafroid,INDEX('AP Groupe froid'!$I$14:$I$17,A109-nbappomp-nbapven-nbapair-nbaautre),\"\")))))","v":""},null,null,{"$f":"IF(AH109=\"\",IF($A109<=nbappomp,INDEX('Analyse Préliminaire Pompe'!AE$13:AE$47,$A109),IF($A109<=nbappomp+nbapven,INDEX('Analyse Préliminaire Ventilateu'!AC$13:AC$44,$A109-nbappomp),IF($A109<=nbappomp+nbapven+nbapair,'Analyse Préliminaire air compr'!$AI$22,IF(A109<=nbappomp+nbapven+nbapair+nbaautre,INDEX('Analyse Préliminaire Autres'!$X$11:$X$42,A109-nbappomp-nbapven-nbapair),IF(A109<=nbappomp+nbapven+nbapair+nbaautre+nbafroid,INDEX('AP Groupe froid'!$AF$14:$AF$17,A109-nbappomp-nbapven-nbapair-nbaautre),\"\"))))),AH109)","v":""},{"$f":"IF(AG109=\"\",IF($A109<=nbappomp,INDEX('Analyse Préliminaire Pompe'!AD$13:AD$47,$A109),IF($A109<=nbappomp+nbapven,INDEX('Analyse Préliminaire Ventilateu'!AB$13:AB$44,$A109-nbappomp),IF($A109<=nbappomp+nbapven+nbapair,'Analyse Préliminaire air compr'!$AH$22,IF(A109<=nbappomp+nbapven+nbapair+nbaautre,INDEX('Analyse Préliminaire Autres'!$W$11:$W$42,A109-nbappomp-nbapven-nbapair),IF(A109<=nbappomp+nbapven+nbapair+nbaautre+nbafroid,INDEX('AP Groupe froid'!$AE$14:$AE$17,A109-nbappomp-nbapven-nbapair-nbaautre),\"\"))))),AG109)","v":""},null,"",null,"",null,{"$f":"IF(AI109=\"\",IF($A109<=nbappomp,INDEX('Analyse Préliminaire Pompe'!T$13:T$47,$A109),IF($A109<=nbappomp+nbapven,INDEX('Analyse Préliminaire Ventilateu'!R$13:R$44,$A109-nbappomp),IF($A109<=nbappomp+nbapven+nbapair,'Analyse Préliminaire air compr'!$AH$13,IF(A109<=nbappomp+nbapven+nbapair+nbaautre,INDEX('Analyse Préliminaire Autres'!$P$11:$P$42,A109-nbappomp-nbapven-nbapair),IF(A109<=nbappomp+nbapven+nbapair+nbaautre+nbafroid,INDEX('AP Groupe froid'!$AD$14:$AD$17,A109-nbappomp-nbapven-nbapair-nbaautre),\"\"))))),AI109)","v":""},null,{"$f":"IF($A109<=nbappomp,INDEX('Analyse Préliminaire Pompe'!X$13:X$47,$A109),IF($A109<=nbappomp+nbapven,INDEX('Analyse Préliminaire Ventilateu'!V$13:V$44,$A109-nbappomp),IF($A109<=nbappomp+nbapven+nbapair,'Analyse Préliminaire air compr'!$E$35,IF(A109<=nbappomp+nbapven+nbapair+nbaautre,INDEX('Analyse Préliminaire Autres'!$R$11:$R$42,A109-nbappomp-nbapven-nbapair),IF(A109<=nbappomp+nbapven+nbapair+nbaautre+nbafroid,INDEX('AP Groupe froid'!$Z$14:$Z$17,A109-nbappomp-nbapven-nbapair-nbaautre),\"\")))))","v":""},null,null,{"$f":"IF(AG109=\"\",IF($A109<=nbappomp,INDEX('Analyse Préliminaire Pompe'!AN$13:AN$47,$A109),IF($A109<=nbappomp+nbapven,INDEX('Analyse Préliminaire Ventilateu'!AL$13:AL$44,$A109-nbappomp),IF($A109<=nbappomp+nbapven+nbapair,'Analyse Préliminaire air compr'!$AM$16,IF(A109<=nbappomp+nbapven+nbapair+nbaautre,INDEX('Analyse Préliminaire Autres'!$AB$11:$AB$42,A109-nbappomp-nbapven-nbapair),IF(A109<=nbappomp+nbapven+nbapair+nbaautre+nbafroid,INDEX('AP Groupe froid'!$AM$14:$AM$17,A109-nbappomp-nbapven-nbapair-nbaautre),\"\"))))),'Economies classées'!$A$47)","v":""},{"$f":"IF($A109<=nbappomp,INDEX('Analyse Préliminaire Pompe'!E$13:E$47,$A109),IF($A109<=nbappomp+nbapven,INDEX('Analyse Préliminaire Ventilateu'!E$13:E$44,$A109-nbappomp),IF($A109<=nbappomp+nbapven+nbapair,\"voir detail\",IF(A109<=nbappomp+nbapven+nbapair+nbaautre,INDEX('Analyse Préliminaire Autres'!$E$11:$E$42,A109-nbappomp-nbapven-nbapair),IF(A109<=nbappomp+nbapven+nbapair+nbaautre+nbafroid,INDEX('AP Groupe froid'!$F$14:$F$17,A109-nbappomp-nbapven-nbapair-nbaautre),\"\")))))","v":""},{"$f":"IF($A109<=nbappomp,INDEX('Analyse Préliminaire Pompe'!K$13:K$47,$A109),IF($A109<=nbappomp+nbapven,INDEX('Analyse Préliminaire Ventilateu'!K$13:K$44,$A109-nbappomp),IF($A109<=nbappomp+nbapven+nbapair,SUM('Analyse Préliminaire air compr'!$I$26:$I$32),IF(A109<=nbappomp+nbapven+nbapair+nbaautre,INDEX('Analyse Préliminaire Autres'!$K$11:$K$42,A109-nbappomp-nbapven-nbapair),IF(A109<=nbappomp+nbapven+nbapair+nbaautre+nbafroid,INDEX('AP Groupe froid'!$O$14:$O$17,A109-nbappomp-nbapven-nbapair-nbaautre),\"\")))))","v":""},{"$f":"IF($A109<=nbappomp,INDEX('Analyse Préliminaire Pompe'!L$13:L$47,$A109),IF($A109<=nbappomp+nbapven,INDEX('Analyse Préliminaire Ventilateu'!L$13:L$44,$A109-nbappomp),IF($A109<=nbappomp+nbapven+nbapair,MIN('Analyse Préliminaire air compr'!$J$26:$J$32),IF(A109<=nbappomp+nbapven+nbapair+nbaautre,INDEX('Analyse Préliminaire Autres'!$L$11:$L$42,A109-nbappomp-nbapven-nbapair),IF($A109<=nbappomp+nbapven+nbapair,'Analyse Préliminaire air compr'!$AM$16,IF(A109<=nbappomp+nbapven+nbapair+nbaautre+nbafroid,INDEX('AP Groupe froid'!$L$14:$L$17,A109-nbappomp-nbapven-nbapair-nbaautre),\"\"))))))","v":""},{"$f":"IF($A109<=nbappomp,INDEX('Analyse Préliminaire Pompe'!M$13:M$47,$A109),IF($A109<=nbappomp+nbapven,INDEX('Analyse Préliminaire Ventilateu'!M$13:M$44,$A109-nbappomp),IF($A109<=nbappomp+nbapven+nbapair,\"\",IF(A109<=nbappomp+nbapven+nbapair+nbaautre,INDEX('Analyse Préliminaire Autres'!$M$11:$M$42,A109-nbappomp-nbapven-nbapair),IF($A109<=nbappomp+nbapven+nbapair,'Analyse Préliminaire air compr'!$AM$16,IF(A109<=nbappomp+nbapven+nbapair+nbaautre+nbafroid,INDEX('AP Groupe froid'!$M$14:$M$17,A109-nbappomp-nbapven-nbapair-nbaautre),\"\"))))))","v":""},{"$f":"IF($A109<=nbappomp,INDEX('Analyse Préliminaire Pompe'!N$13:N$47,$A109),IF($A109<=nbappomp+nbapven,INDEX('Analyse Préliminaire Ventilateu'!N$13:N$44,$A109-nbappomp),IF($A109<=nbappomp+nbapven+nbapair,\"\",IF(A109<=nbappomp+nbapven+nbapair+nbaautre,INDEX('Analyse Préliminaire Autres'!$N$11:$N$42,A109-nbappomp-nbapven-nbapair),\"\"))))","v":""},{"$f":"IF($A109<=nbappomp,INDEX('Analyse Préliminaire Pompe'!O$13:O$47,$A109),IF($A109<=nbappomp+nbapven,INDEX('Analyse Préliminaire Ventilateu'!O$13:O$44,$A109-nbappomp),IF($A109<=nbappomp+nbapven+nbapair,\"\",IF(A109<=nbappomp+nbapven+nbapair+nbaautre,INDEX('Analyse Préliminaire Autres'!$O$11:$O$42,A109-nbappomp-nbapven-nbapair),\"\"))))","v":""},{"$f":"IF($A109<=nbappomp,INDEX('Analyse Préliminaire Pompe'!P$13:P$47,$A109),IF($A109<=nbappomp+nbapven,INDEX('Analyse Préliminaire Ventilateu'!P$13:P$44,$A109-nbappomp),IF($A109<=nbappomp+nbapven+nbapair,\"\",IF(A109<=nbappomp+nbapven+nbapair+nbaautre,INDEX('Analyse Préliminaire Autres'!#REF!,A109-nbappomp-nbapven-nbapair),\"\"))))","v":""},{"$f":"IF($A109<=nbappomp,INDEX('Analyse Préliminaire Pompe'!Q$13:Q$47,$A109),IF($A109<=nbappomp+nbapven,\"\",IF($A109<=nbappomp+nbapven+nbapair,\"\",\"\")))","v":""},{"$f":"IF(AI109=\"\",IF($A109<=nbappomp,INDEX('Analyse Préliminaire Pompe'!S$13:S$47,$A109),IF($A109<=nbappomp+nbapven,INDEX('Analyse Préliminaire Ventilateu'!Q$13:Q$44,$A109-nbappomp),IF($A109<=nbappomp+nbapven+nbapair,\"\",IF(A109<=nbappomp+nbapven+nbapair+nbaautre,\"\",\"\")))),AI109)","v":""},{"$f":"IF(AN109,\"\",IF($A109<=nbappomp,INDEX('Analyse Préliminaire Pompe'!AO$13:AO$47,$A109),IF($A109<=nbappomp+nbapven,INDEX('Analyse Préliminaire Ventilateu'!AM$13:AM$44,$A109-nbappomp),IF($A109<=nbappomp+nbapven+nbapair,EcoAPkWhCP,IF(A109<=nbappomp+nbapven+nbapair+nbaautre,INDEX('Analyse Préliminaire Autres'!$E$11:$E$42,A109-nbappomp-nbapven-nbapair),IF($A109<=nbappomp+nbapven+nbapair+nbaautre+nbafroid,INDEX('AP Groupe froid'!$AN$14:$AN$17,$A109-nbappomp-nbapven-nbapair-nbaautre),\"\"))))))","v":""},{"$f":"IF(AN109,\"\",IF($A109<=nbappomp,INDEX('Analyse Préliminaire Pompe'!AP$13:AP$47,$A109),IF($A109<=nbappomp+nbapven,INDEX('Analyse Préliminaire Ventilateu'!AN$13:AN$44,$A109-nbappomp),IF($A109<=nbappomp+nbapven+nbapair,EcoAPpercCP,IF(A109<=nbappomp+nbapven+nbapair+nbaautre,INDEX('Analyse Préliminaire Autres'!$E$11:$E$42,A109-nbappomp-nbapven-nbapair),IF($A109<=nbappomp+nbapven+nbapair+nbaautre+nbafroid,INDEX('AP Groupe froid'!$AO$14:$AO$17,$A109-nbappomp-nbapven-nbapair-nbaautre),\"\"))))))","v":""},{"$f":"IF(AN109,\"\",IF($A109<=nbappomp,INDEX('Analyse Préliminaire Pompe'!AQ$13:AQ$47,$A109),IF($A109<=nbappomp+nbapven,INDEX('Analyse Préliminaire Ventilateu'!AO$13:AO$44,$A109-nbappomp),IF($A109<=nbappomp+nbapven+nbapair,consoanncp,IF(A109<=nbappomp+nbapven+nbapair+nbaautre,INDEX('Analyse Préliminaire Autres'!$E$11:$E$42,A109-nbappomp-nbapven-nbapair),IF($A109<=nbappomp+nbapven+nbapair+nbaautre+nbafroid,INDEX('AP Groupe froid'!$AP$14:$AP$17,$A109-nbappomp-nbapven-nbapair-nbaautre),\"\"))))))","v":""},{"$f":"IF(R109=\"\",-1,IF(AND($L109>'Economies classées'!$B$2,$K109>0.2,YEAR(TODAY())-$Z109>8),2,IF(AND($L109>'Economies classées'!$B$3,YEAR(TODAY())-$Z109>5),1,0)))","v":-1},null,null,"",{"$f":"IF($A109<=nbappomp,ISBLANK(INDEX('Analyse Préliminaire Pompe'!AO$13:AO$47,$A109)),IF($A109<=nbappomp+nbapven,ISBLANK(INDEX('Analyse Préliminaire Ventilateu'!AM$13:AM$44,$A109-nbappomp)),IF($A109<=nbappomp+nbapven+nbapair,ISBLANK(EcoAPkWhCP),IF(A109<=nbappomp+nbapven+nbapair+nbaautre,ISBLANK(INDEX('Analyse Préliminaire Autres'!AC$11:AC$42,A109-nbappomp-nbapven-nbapair)),IF(A109<=nbappomp+nbapven+nbapair+nbaautre+nbafroid,ISBLANK(INDEX('AP Groupe froid'!$AN$14:$AN$17,A109-nbappomp-nbapven-nbapair-nbaautre)),FALSE)))))","v":false},{"$f":"IF(E109=Listes!$H$25,1,0)","v":0},{"$f":"IF(E109=Listes!$H$26,1,0)","v":0},0,0,{"$f":"IF(E109=Listes!$H$28,1,0)","v":0},null,0,0,0,0,0,null,0,0,0,0,0,null,"","","","","",null,-1,-1,-1,-1,null,null,{"$f":"IF(E109=Listes!$H$25,1,0)","v":0},{"$f":"IF(E109=Listes!$H$26,1,0)","v":0},0,0,0,0,0,null,0,0,null,{"$error":"#VALUE!"},0,0,0,null,null,null,"",""]
[86,0]
[87,0]
[88,0]
[89,0]
[90,0,null,null,null,null,null,null,null,null,null,null,null,null,null,null,null,null,null,null,null,null,null,null,null,null,null,null,null,null,null,null,null,null,null,null,null,null,null,null,"Nombre",null,null,null,null,null,"Economie",null,null,null,null,null,"Consommaiton",null,null,null,null,null,"Reste"]
[91,0,null,null,null,null,null,null,null,null,null,null,null,null,null,null,null,null,null,null,null,null,null,null,null,null,null,null,null,null,null,null,null,null,null,null,"Classement","Consommation total","Economie total",null,"Pompe","Ventil","Air comp","GF","Autre",null,"Pompe","Ventil","Air comp","GF","Autre",null,"Pompe","Ventil","Air comp","GF","Autre",null,"Pompe","Ventil","Air comp","GF","Autre"]
[92,0,null,null,null,null,null,null,null,null,null,null,null,null,null,null,null,null,null,null,null,null,null,null,null,null,null,null,null,null,null,null,null,null,null,null,2,{"$f":"SUM(BA116:BE116)","v":0},{"$f":"SUM(AU116:AY116)","v":0},null,{"$f":"SUMIF($AJ$25:$AJ$109,$AK116,AO$25:AO$109)","v":0},{"$f":"SUMIF($AJ$25:$AJ$109,$AK116,AP$25:AP$109)","v":0},0,0,0,null,{"$f":"SUMIF($AJ$25:$AJ$109,$AK116,AU$25:AU$109)","v":0},{"$f":"SUMIF($AJ$25:$AJ$109,$AK116,AV$25:AV$109)","v":0},0,0,0,null,{"$f":"SUMIF($AJ$25:$AJ$109,$AK116,BA$25:BA$109)","v":0},{"$f":"SUMIF($AJ$25:$AJ$109,$AK116,BB$25:BB$109)","v":0},0,0,0,null,{"$f":"BA116-AU116","v":0},{"$f":"BB116-AV116","v":0},0,0,0]
[93,0,null,null,null,null,null,null,null,null,null,null,null,null,null,null,null,null,null,null,null,null,null,null,null,null,null,null,null,null,null,null,null,null,null,null,1,{"$f":"SUM(BA117:BE117)","v":0},{"$f":"SUM(AU117:AY117)","v":0},null,{"$f":"SUMIF($AJ$25:$AJ$109,$AK117,AO$25:AO$109)","v":0},0,0,0,0,null,{"$f":"SUMIF($AJ$25:$AJ$109,$AK117,AU$25:AU$109)","v":0},0,0,0,0,null,{"$f":"SUMIF($AJ$25:$AJ$109,$AK117,BA$25:BA$109)","v":0},0,0,0,0,null,{"$f":"BA117-AU117","v":0},{"$f":"BB117-AV117","v":0},{"$f":"BC117-AW117","v":0},{"$f":"BD117-AX117","v":0},{"$f":"BE117-AY117","v":0}]
[94,0,null,null,null,null,null,null,null,null,null,null,null,null,null,null,null,null,null,null,null,null,null,null,null,null,null,null,null,null,null,null,null,null,null,null,0,0,0,null,0,0,0,0,0,null,0,0,0,0,0,null,0,0,0,0,0,null,0,0,0,0,0]
[95,0]
[96,0,null,null,null,null,null,null,null,null,null,null,null,null,null,null,null,null,null,null,null,null,null,null,null,null,null,null,null,null,null,null,null,null,null,null,null,null,null,null,null,null,null,null,null,null,null,null,null,null,null,null,{"$f":"SUM(BA116:BA118)-SUM(AU116:AU117)","v":0},{"$f":"SUM(BB116:BB118)-SUM(AV116:AV117)","v":0},0,0,0]
[97,0]
[98,0]
[99,0]

{"sheet":"APPGF","index":12,"n_rows":8800,"n_cols":64,"rows_kept":2250,"cut":true,"hidden":false,"merged":[[16,1,16,7],[11,1,11,7],[12,1,12,7],[13,1,13,7],[14,1,14,7],[15,1,15,7],[6,1,6,14],[8,8,8,14],[9,8,9,14],[10,8,10,14],[8,1,8,7],[9,1,9,7],[10,1,10,7],[3,23,3,24],[3,25,3,26],[2,9,2,10],[3,1,3,2],[3,3,3,4],[3,5,3,6],[3,7,3,8],[3,9,3,10],[3,15,3,16],[3,17,3,18],[3,19,3,20],[3,11,3,12],[3,13,3,14],[1,11,1,12],[1,13,1,14],[1,17,1,18],[1,19,1,20],[1,1,1,2],[1,3,1,4],[1,5,1,6],[1,7,1,8],[1,9,1,10],[1,15,1,16],[11,49,11,53],[11,54,11,56],[45,8,45,14],[43,8,43,14],[46,8,46,14],[42,8,42,14],[11,8,11,14],[12,8,12,14],[18,8,18,14],[19,8,19,14],[14,8,14,14],[15,8,15,14],[16,8,16,14],[17,8,17,14],[13,8,13,14],[40,12,40,14],[40,1,41,11],[17,1,17,7],[18,1,18,7],[19,1,19,7],[33,1,34,7],[36,1,37,7],[24,1,25,7],[41,12,41,14],[24,8,25,12],[27,8,28,12],[55,1,55,7],[49,1,49,7],[50,1,50,7],[52,1,52,7],[53,1,53,7],[54,1,54,7],[51,1,51,7],[27,1,28,7],[30,1,31,7],[30,8,31,12],[33,8,34,12],[36,8,37,12],[45,1,46,7]],"bounds":{"rows_first":1000,"rows_last":250,"rows_between":1000,"halvings":1}}
[null,1,null,2,null,3,null,4,null,5,null,6,null,7,null,8,null,9,null,10,null,null,null,9,null,10]
[null,{"$f":"HYPERLINK(NomFichier&Listes!C48&\"'!A1\",Traduction!$A$13)","v":"Menu"},null,{"$f":"HYPERLINK(NomFichier&Listes!C49&\"'!A1\",Traduction!$A$11)","v":"Introduction"},null,{"$f":"HYPERLINK(NomFichier&Listes!C50&\"'!G7\",Traduction!$A$12)","v":"Entreprise"},null,{"$f":"HYPERLINK(NomFichier&Listes!C51&\"'!O16\",Traduction!$A$701)","v":"Quick-check"},null,{"$f":"HYPERLINK(NomFichier&Listes!C53&\"'!E10\",Traduction!$A$77)","v":"Pompe(s)"},null,{"$f":"HYPERLINK(NomFichier&Listes!C54&\"'!E10\",Traduction!$A$78)","v":"Ventilateur(s)"},null,{"$f":"HYPERLINK(NomFichier&Listes!C55&\"'!M12\",Traduction!$A$10)","v":"Air comprimé"},null,{"$f":"HYPERLINK(NomFichier&Listes!C57&\"'!F10\",Traduction!$A$545)","v":"Groupe froid"},null,{"$f":"HYPERLINK(NomFichier&Listes!$C$56&\"'!E10\",Traduction!$A$702)","v":"Autre"},null,{"$f":"Traduction!$A$79","v":"Résultats"}]
[]
[null,{"$f":"IFERROR(HYPERLINK(NomFichier&B62&\"'!A1\",B62),\"\")","v":""},null,{"$f":"IFERROR(HYPERLINK(NomFichier&D62&\"'!A1\",D62),\"\")","v":""},null,{"$f":"IFERROR(HYPERLINK(NomFichier&F62&\"'!A1\",F62),\"\")","v":""},null,{"$f":"IFERROR(HYPERLINK(NomFichier&H62&\"'!A1\",H62),\"\")","v":""},null,{"$f":"IFERROR(HYPERLINK(NomFichier&J62&\"'!A1\",J62),\"\")","v":""},null,{"$f":"IFERROR(HYPERLINK(NomFichier&L62&\"'!A1\",L62),\"\")","v":""},null,{"$f":"IFERROR(HYPERLINK(NomFichier&N62&\"'!A1\",N62),\"\")","v":""},null,{"$f":"IFERROR(HYPERLINK(NomFichier&P62&\"'!A1\",P62),\"\")","v":""},null,null,null,null,null,null,null,{"$f":"IFERROR(HYPERLINK(NomFichier&X62&\"'!A1\",X62),\"\")","v":""},null,{"$f":"IFERROR(HYPERLINK(NomFichier&Z62&\"'!A1\",Z62),\"\")","v":0}]
[]
[null,{"$f":"Traduction!$A$682","v":"Analyse préliminaire + :  Installation de froid"}]
[null,{"$f":"Traduction!$A$349","v":"Cette analyse préliminaire + permet à l'aide de quelques informations supplémentaires de préciser les économies potentielles. Une fois les informations introduites, les économies sont calculées et enregistrées directement dans le tableau de classement des économies (résultats)."}]
[null,{"$f":"Traduction!$A$364","v":"Information reprise de l'étape précédente"}]
[null,{"$f":"Traduction!$A$365","v":"Type d'entrainement"}]
[null,{"$f":"Traduction!$A$141","v":"Nom/code/description"}]
[null,{"$f":"Traduction!$A$140","v":"Localisation"}]
[null,{"$f":"Traduction!$A$613","v":"Commentaires"},null,null,null,null,null,null,null,null,null,null,null,null,null,null,null,null,null,null,null,null,null,null,null,null,null,null,null,"Classe d'efficacité ","Profil de fonctionnement",null,"Mode de régulation des compresseurs ","Abaissement de température",null,"Augmentation de la température de production de froid",null,null,null,null,"Consommation annuelle estimées [kWh/a]",{"$f":"Traduction!$A$154","v":"Economies [kWh/a]"},{"$f":"Traduction!$A$155","v":"Economies [%]"},"âge de l'installation ",{"$f":"Traduction!A696","v":"Gain sur l'efficacité des moteurs"},{"$f":"Traduction!A695","v":"Gain technologiques sur l'installation"},{"$f":"Traduction!A740","v":"Gains sur la régulation des compresseurs"},null,null,"HP flottante",null,null,null,null,"Baisse de la pression de condensation ",null,null,"Gains régulation",null,null,"Gains efficacité des moteurs"]
[null,{"$f":"Traduction!$A$662","v":"Année de construction de l'installation"},null,null,null,null,null,null,null,null,null,null,null,null,null,null,null,null,null,null,null,null,null,null,null,null,null,null,null,{"$f":"Listes!$G$53","v":"Eff3 "},"A",7000,{"$f":"Traduction!A666","v":"Tout ou rien par marche/arrêt"},"0°C",0,"0°C",0,{"$f":"Traduction!$A$4","v":"oui"},null,null,{"$f":"VLOOKUP($I$16,GF_heuresfonct,2)*$I$14","v":{"$error":"#N/A"}},null,null,{"$f":"YEAR(TODAY())-$I$13","v":2020},{"$f":"VLOOKUP(($I$15&IF($I$14<=20,\"p4\",IF($I$14>=100,\"p6\",\"p5\"))),GF_GainsefficaciteGAplus,2,0)","v":{"$error":"#N/A"}},{"$f":"IF(AR13<=5,Eval_eco_pom_ven!$E$80,IF(AND(AR13>5,AR13<=10),Eval_eco_pom_ven!$E$81,IF(AND(AR13>10,AR13<=15),Eval_eco_pom_ven!$E$82,IF(AND(AR13>15,AR13<=20),Eval_eco_pom_ven!$E$83,Eval_eco_pom_ven!$E$84))))","v":0.02},{"$f":"VLOOKUP($I$17,GF_gainsGArégula,2,0)","v":{"$error":"#N/A"}},null,null,{"$f":"Traduction!$A$5","v":"non"},{"$f":"Traduction!$A$5","v":"non"},"A",{"$f":"AX13&AY13&AZ13","v":"nonnonA"},0,{"$f":"Traduction!$A$4","v":"oui"},{"$f":"Traduction!$A$4","v":"oui"},{"$f":"BC13&BD13","v":"ouioui"},{"$f":"AG13","v":"Tout ou rien par marche/arrêt"},0.08,null,{"$f":"Listes!$G$53","v":"Eff3 "},"<20 kW",{"$f":"BI13 & IF(BJ13=\"<20 kW\",\"p4\",IF(BJ13=\"20-100 kW\",\"p5\",\"p6\"))","v":"Eff3 p4"},7.0000000000000007E-2]
[null,{"$f":"Traduction!$A$664","v":"Puissance électrique nonimale totale des compresseurs [kW]"},null,null,null,null,null,null,null,null,null,null,null,null,null,null,null,null,null,null,null,null,null,null,null,null,null,null,null,{"$f":"Listes!$G$54","v":"IE1"},"B",4000,{"$f":"Traduction!A667","v":"Cascade des compresseurs"},"1°C",0.03,"1°C",0.03,{"$f":"Traduction!$A$5","v":"non"},null,null,null,null,null,null,null,null,null,null,null,{"$f":"Traduction!$A$5","v":"non"},{"$f":"Traduction!$A$5","v":"non"},"B",{"$f":"AX14&AY14&AZ14","v":"nonnonB"},0,null,null,null,{"$f":"AG14","v":"Cascade des compresseurs"},0.05,null,{"$f":"Listes!$G$53","v":"Eff3 "},"20-100 kW",{"$f":"BI14 & IF(BJ14=\"<20 kW\",\"p4\",IF(BJ14=\"20-100 kW\",\"p5\",\"p6\"))","v":"Eff3 p5"},0.04]
[null,{"$f":"Traduction!$A$681","v":"Classe d'efficacité du moteur (si moteur et compresseur séparés)"},null,null,null,null,null,null,null,null,null,null,null,null,null,null,null,null,null,null,null,null,null,null,null,null,null,null,null,{"$f":"Listes!$G$55","v":"IE2"},"C",2000,{"$f":"Traduction!A668","v":"Tiroir sans variation de vitesse du moteur "},"2°C",0.06,"2°C",0.06,{"$f":"Traduction!$A$162","v":"Ne sais pas"},null,null,null,null,null,null,null,null,null,null,null,{"$f":"Traduction!$A$5","v":"non"},{"$f":"Traduction!$A$5","v":"non"},"C","nonnonC",0,null,null,null,{"$f":"AG15","v":"Tiroir sans variation de vitesse du moteur "},0.02,null,{"$f":"Listes!$G$53","v":"Eff3 "},"> 100 kW","Eff3 p6",0.03]
[null,{"$f":"Traduction!A663","v":"Profil d'heures de fonctionnement annuel de l'installation [h/an]"},null,null,null,null,null,null,null,null,null,null,null,null,null,null,null,null,null,null,null,null,null,null,null,null,null,null,null,{"$f":"Listes!$G$56","v":"IE3"},null,null,{"$f":"Traduction!A669","v":"Variation de vitesse / tête de cylindre"},"3°C",0.09,"3°C",0.09,null,null,null,null,null,null,null,null,null,null,null,null,{"$f":"Traduction!$A$4","v":"oui"},{"$f":"Traduction!$A$4","v":"oui"},"A","ouiouiA",0,null,null,null,{"$f":"AG16","v":"Variation de vitesse / tête de cylindre"},0,null,{"$f":"Listes!$G$54","v":"IE1"},"<20 kW","IE1p4",0.05]
[null,{"$f":"Traduction!A665","v":"Mode de régulation des compresseurs "},null,null,null,null,null,null,null,null,null,null,null,null,null,null,null,null,null,null,null,null,null,null,null,null,null,null,null,{"$f":"Listes!$G$57","v":"IE4"},null,null,null,"4°C",0.12,"4°C",0.12,null,null,null,null,null,null,null,null,null,null,null,null,{"$f":"Traduction!$A$4","v":"oui"},{"$f":"Traduction!$A$4","v":"oui"},"B","ouiouiB",0,null,null,null,null,null,null,{"$f":"Listes!$G$54","v":"IE1"},"20-100 kW","IE1p5",0.03]
[null,{"$f":"Traduction!A670","v":"La température de condensation est-elle constante ?"},null,null,null,null,null,null,null,null,null,null,null,null,null,null,null,null,null,null,null,null,null,null,null,null,null,null,null,null,null,null,null,"5°C",0.15,null,null,null,null,null,null,null,null,null,null,null,null,null,null,{"$f":"Traduction!$A$4","v":"oui"},{"$f":"Traduction!$A$4","v":"oui"},"C","ouiouiC",0,null,null,null,null,null,null,{"$f":"Listes!$G$54","v":"IE1"},"> 100 kW","IE1p6",0.02]
[null,{"$f":"Traduction!A673","v":"Existe-t-il un système de free-cooling ?"},null,null,null,null,null,null,null,null,null,null,null,null,null,null,null,null,null,null,null,null,null,null,null,null,null,null,null,null,null,null,null,"6°C",0.18,null,null,null,null,null,null,null,null,null,null,null,null,null,null,{"$f":"Traduction!$A$5","v":"non"},{"$f":"Traduction!$A$4","v":"oui"},"A","nonouiA",0.09,null,null,null,null,null,null,{"$f":"Listes!$G$55","v":"IE2"},"<20 kW","IE2p4",0.04]
[null,{"$f":"Traduction!$A$278","v":"Prix simplifié de l'électricité en CHF/kWh"},null,null,null,null,null,null,{"$f":"PrixElec","v":0.15010000000000001},null,null,null,null,null,null,null,null,null,null,null,null,null,null,null,null,null,null,null,null,null,null,null,null,"7°C",0.21,null,null,null,null,null,null,null,null,null,null,null,null,null,null,{"$f":"Traduction!$A$5","v":"non"},{"$f":"Traduction!$A$4","v":"oui"},"B","nonouiB",0.12,null,null,null,null,null,null,{"$f":"Listes!$G$55","v":"IE2"},"20-100 kW","IE2p5",0.02]
[null,{"$f":"Traduction!$A$138","v":"Numéro d'entrainement"},null,null,null,null,null,null,null,null,null,null,null,null,null,null,null,null,null,null,null,null,null,null,null,null,null,null,null,null,null,null,null,"8°C",0.24,null,null,null,null,null,null,null,null,null,null,null,null,null,null,"Non","Oui","C","NonOuiC",0.04,null,null,null,null,null,null,{"$f":"Listes!$G$55","v":"IE2"},"> 100 kW","IE2p6",0.01]
[null,null,null,null,null,null,null,null,null,null,null,null,null,null,null,null,null,null,null,null,null,null,null,null,null,null,null,null,null,null,null,null,null,null,null,null,null,null,null,null,null,null,null,null,null,null,null,null,null,{"$f":"Traduction!$A$5","v":"non"},{"$f":"Traduction!$A$4","v":"oui"},"A","nonouiA",0,null,null,null,null,null,null,{"$f":"Listes!$G$56","v":"IE3"},"<20 kW","IE3p4",0.02]
[null,null,null,null,null,null,null,null,null,null,null,null,null,null,null,null,null,null,null,null,null,null,"économie",null,null,null,null,null,null,null,null,null,null,null,null,null,null,null,null,null,null,null,null,null,null,null,null,null,null,{"$f":"Traduction!$A$4","v":"oui"},{"$f":"Traduction!$A$5","v":"non"},"A","ouinonA",0,null,null,null,null,null,null,{"$f":"Listes!$G$56","v":"IE3"},"20-100 kW","IE3p5",0.01]
[null,{"$f":"Traduction!$A$688","v":"Questions supplémentaires"},null,null,null,null,null,null,null,null,null,null,null,null,null,null,null,null,null,null,null,null,"Optimisation HP flottante","Optimisation baisse tempé cond","temp production de froid cste","économie diffentiel de température production","économie FC","% d'heure annuelle dont la température extérieure est inférieure à la température de production froid moins -5°C ","Température extérieure à la quelle on fait du FC","Température de production de froid","Heures annuelles pour lesquelles les compresseurs sont Off","économie FC [kWh]",null,null,null,null,null,null,null,null,null,null,null,null,null,null,null,null,null,{"$f":"Traduction!$A$4","v":"oui"},{"$f":"Traduction!$A$5","v":"non"},"B","ouinonB",0,null,null,null,null,null,null,{"$f":"Listes!$G$56","v":"IE3"},"> 100 kW","IE3p6",5.0000000000000001E-3]
[null,{"$f":"Traduction!$A$685","v":"Quelle est la température production de froid [°C] ? "},null,null,null,null,null,null,null,null,null,null,null,null,null,null,null,null,null,null,null,null,{"$f":"VLOOKUP((I34&I18&fgf_profil),BA13:BB41,2,0)","v":{"$error":"#N/A"}},{"$f":"IF(I34&I18=BE13,VLOOKUP($I$37,GF_tempbsaisse1,2,0),0)","v":0},{"$f":"VLOOKUP($I$28,GF_Gainsaugmentationtempé,2,0)","v":{"$error":"#N/A"}},{"$f":"IF(I31>3.5,0,((3.5-$I$31)*0.04))","v":0.14000000000000001},{"$f":"IF(OR($I$19=$AL$13,fgf_profil=AE15),0%,IF(fgf_freecool=AL15,(AF34/2),AF34))","v":{"$error":"#N/A"}},{"$f":"AB37/AC37","v":2.2146118721461189E-2},{"$f":"AD25-5","v":-5},{"$f":"$I$25","v":0},{"$f":"$AB$25*VLOOKUP(fgf_profil,GF_ProfilGA2,2,0)","v":{"$error":"#N/A"}},{"$f":"AE25*(fgf_Pnom-(fgf_Pnom*0.08))","v":{"$error":"#N/A"}},null,null,null,null,null,null,null,null,null,null,null,null,null,null,null,null,null,{"$f":"Traduction!$A$4","v":"oui"},{"$f":"Traduction!$A$5","v":"non"},"C","ouinonC",0,null,null,null,null,null,null,{"$f":"Listes!$G$57","v":"IE4"},"<20 kW","IE4p4",0]
[null,null,null,null,null,null,null,null,null,null,null,null,null,null,null,null,null,null,null,null,null,null,null,null,null,null,null,null,null,null,null,null,null,null,null,null,null,null,null,null,null,null,null,null,null,null,null,null,null,{"$f":"Traduction!$A$162","v":"Ne sais pas"},{"$f":"Traduction!$A$5","v":"non"},"A","Ne sais pasnonA",0,null,null,null,null,null,null,{"$f":"Listes!$G$55","v":"IE2"},"> 100 kW","IE2p6",0.01]
[]
[null,{"$f":"Traduction!$A$686","v":"De combien de degré peut-on augmenter la température de production de froid [°C] ?"},null,null,null,null,null,null,null,null,null,null,null,null,null,null,null,null,null,null,null,null,null,null,null,null,null,null,null,null,null,null,null,null,null,null,null,null,null,null,null,null,null,null,null,null,null,null,null,{"$f":"Traduction!$A$162","v":"Ne sais pas"},{"$f":"Traduction!$A$5","v":"non"},"B","Ne sais pasnonB",0]
[null,null,null,null,null,null,null,null,null,null,null,null,null,null,null,null,null,null,null,null,null,null,null,null,null,null,null,null,null,null,null,null,null,null,null,null,null,null,null,null,null,null,null,null,null,null,null,null,null,{"$f":"Traduction!$A$162","v":"Ne sais pas"},{"$f":"Traduction!$A$5","v":"non"},"C","Ne sais pasnonC",0,null,null,null,null,null,null,{"$f":"Listes!$G$57","v":"IE4"},"20-100 kW","IE4p5",0]
[null,null,null,null,null,null,null,null,null,null,null,null,null,null,null,null,null,null,null,null,null,null,null,null,null,null,null,null,null,null,null,null,null,null,null,null,null,null,null,null,null,null,null,null,null,null,null,null,null,{"$f":"Traduction!$A$162","v":"Ne sais pas"},{"$f":"Traduction!$A$4","v":"oui"},"A","Ne sais pasouiA",0]
[null,{"$f":"Traduction!$A$687","v":"Quelle est la différence de température aller-retour de la production froid [°C] ?"},null,null,null,null,null,null,null,null,null,null,null,null,null,null,null,null,null,null,null,null,null,null,null,null,null,null,null,null,null,null,null,null,null,null,null,null,null,null,null,null,null,null,null,null,null,null,null,{"$f":"Traduction!$A$162","v":"Ne sais pas"},{"$f":"Traduction!$A$4","v":"oui"},"B","Ne sais pasouiB",0]
[null,null,null,null,null,null,null,null,null,null,null,null,null,null,null,null,null,null,null,null,null,null,null,null,null,null,null,null,null,null,null,{"$f":"fgf_Pnom*VLOOKUP(fgf_profil,GF_ProfilGA2,2,0)","v":{"$error":"#N/A"}},null,null,null,null,null,null,null,null,null,null,null,null,null,null,null,null,null,{"$f":"Traduction!$A$162","v":"Ne sais pas"},{"$f":"Traduction!$A$4","v":"oui"},"C","Ne sais pasouiC",0,null,null,null,null,null,null,{"$f":"Listes!$G$57","v":"IE4"},"> 100 kW","IE4p6",0]
[null,null,null,null,null,null,null,null,null,null,null,null,null,null,null,null,null,null,null,null,null,null,null,null,null,null,null,null,null,null,null,null,null,null,null,null,null,null,null,null,null,null,null,null,null,null,null,null,null,{"$f":"Traduction!$A$4","v":"oui"},{"$f":"Traduction!$A$162","v":"Ne sais pas"},"A","ouiNe sais pasA",4.4999999999999998E-2]
[null,{"$f":"Traduction!$A$683","v":"Existe-t- il un système de valorisation des rejets thermiques aux condenseurs ?"},null,null,null,null,null,null,null,null,null,null,null,null,null,null,null,null,null,null,null,null,null,null,null,null,null,"nombre d'heure annuelle","nombre d'heure annuelle totale",null,null,{"$f":"AF25/AF32","v":{"$error":"#N/A"}},null,null,null,null,null,null,null,null,null,null,null,null,null,null,null,null,null,{"$f":"Traduction!$A$4","v":"oui"},{"$f":"Traduction!$A$162","v":"Ne sais pas"},"B","ouiNe sais pasB",0.06]
[null,null,null,null,null,null,null,null,null,null,null,null,null,null,null,null,null,null,null,null,null,null,null,null,null,null,null,null,null,null,null,null,null,null,null,null,null,null,null,null,null,null,null,null,null,null,null,null,null,{"$f":"Traduction!$A$4","v":"oui"},{"$f":"Traduction!$A$162","v":"Ne sais pas"},"C","ouiNe sais pasC",0.02]
[null,null,null,null,null,null,null,null,null,null,null,null,null,null,null,null,null,null,null,null,null,null,null,null,null,null,null,null,null,null,null,null,null,null,null,null,null,null,null,null,null,null,null,null,null,null,null,null,null,{"$f":"Traduction!$A$4","v":"oui"},{"$f":"Traduction!$A$162","v":"Ne sais pas"},"A","ouiNe sais pasA",0]
[null,{"$f":"Traduction!$A$684","v":"De combien de degré peut-on baisser la température de condensation ?"},null,null,null,null,null,null,null,null,null,null,null,null,null,null,null,null,null,null,null,null,null,null,null,null,null,{"$f":"SUM(AE40:AE8800)","v":194},{"$f":"AB8800","v":8760},null,null,null,null,null,null,null,null,null,null,null,null,null,null,null,null,null,null,null,null,{"$f":"Traduction!$A$4","v":"oui"},{"$f":"Traduction!$A$162","v":"Ne sais pas"},"B","ouiNe sais pasB",0,null,null,null,null,null,null,{"$f":"Traduction!A706","v":"Les valeurs n'ont pas pu être enregistrées"}]
[null,null,null,null,null,null,null,null,null,null,null,null,null,null,null,null,null,null,null,null,null,null,null,null,null,null,null,null,null,null,null,null,null,null,null,null,null,null,null,null,null,null,null,null,null,null,null,null,null,{"$f":"Traduction!$A$4","v":"oui"},{"$f":"Traduction!$A$162","v":"Ne sais pas"},"C","ouiNe sais pasC",0]
[null,null,null,null,null,null,null,null,null,null,null,null,null,null,null,null,null,null,null,null,null,null,null,null,null,null,null,"Heure  ","Date","Température extérieure moyenne statistique  [°C] (Tamb)","Calculs",null,null,null,null,null,null,null,null,null,null,null,null,null,null,null,null,null,null,{"$f":"Traduction!$A$162","v":"Ne sais pas"},{"$f":"Traduction!$A$162","v":"Ne sais pas"},"A","Ne sais pasNe sais pasA",2.5000000000000001E-2]
[null,{"$f":"Traduction!$A$694","v":"Potentiel d'économies"},null,null,null,null,null,null,null,null,null,null,null,null,null,null,null,null,null,null,null,null,null,null,null,null,null,0,"01.01. 00:00",-0.1,{"$f":"IF(AD40<=$AC$25,1,0)","v":0},null,null,null,null,null,null,null,null,null,null,null,null,null,null,null,null,null,null,{"$f":"Traduction!$A$162","v":"Ne sais pas"},{"$f":"Traduction!$A$162","v":"Ne sais pas"},"B","Ne sais pasNe sais pasB",0.05]
[null,{"$f":"Traduction!$A$334","v":"Ces potentiels d'économies sont des ordres de grandeurs probables. Pour un potentiel réel, une analyse allant bien au-delà de cet outil doit être effectuée."},null,null,null,null,null,null,null,null,null,null,{"$f":"HYPERLINK(Traduction!A628&\"/Calc_GF_méthodologie.htm\",Traduction!A648)","v":"Méthode de calcul AP+: pompe"},null,null,null,null,null,null,null,null,null,null,null,null,null,null,1,"01.01. 01:00",-0.3,{"$f":"IF(AD41<=$AC$25,1,0)","v":0},null,null,null,null,null,null,null,null,null,null,null,null,null,null,null,null,null,null,{"$f":"Traduction!$A$162","v":"Ne sais pas"},{"$f":"Traduction!$A$162","v":"Ne sais pas"},"C","Ne sais pasNe sais pasC",0.01]
[null,null,null,null,null,null,null,null,null,null,null,null,{"$f":"HYPERLINK(Traduction!A628&\"/Calc_GF_méthodologie.htm\",Traduction!$A$545)","v":"Groupe froid"},null,null,null,null,null,null,null,null,null,null,null,null,null,null,2,"01.01. 02:00",-0.6,0]
[null,{"$f":"Traduction!$A$151","v":"Consommation annuelle estimée [kWh/a]"},null,null,null,null,null,null,{"$f":"AO13","v":{"$error":"#N/A"}},null,null,null,null,null,null,null,null,null,null,null,null,null,null,null,null,null,null,3,"01.01. 03:00",-0.3,0]
[null,null,null,null,null,null,null,null,0,null,null,null,null,null,null,null,null,null,null,null,null,null,null,null,null,null,null,4,"01.01. 04:00",-0.5,0]
[null,null,null,null,null,null,null,null,null,null,null,null,null,null,null,null,null,null,null,null,null,null,null,null,null,null,null,5,"01.01. 05:00",-0.6,0]
[null,{"$f":"Traduction!$A$336","v":"Economie totale du système"},null,null,null,null,null,null,{"$f":"IF(I44=0,(SUM(I50:I56)*$I$43),I44*SUM(I50:I56))","v":{"$error":"#N/A"}},null,null,null,null,null,null,null,null,null,null,null,null,null,null,null,null,null,null,6,"01.01. 06:00",-0.5,0]
[null,null,null,null,null,null,null,null,{"$f":"IF(I44=0,(I46/I43),(I46/I44))","v":{"$error":"#N/A"}},null,null,null,null,null,null,null,null,null,null,null,null,null,null,null,null,null,null,7,"01.01. 07:00",-0.6,0]
[null,null,null,null,null,null,null,null,null,null,null,null,null,null,null,null,null,null,null,null,null,null,null,null,null,null,null,8,"01.01. 08:00",-0.5,0]
[null,{"$f":"Traduction!$A$337","v":"Détails des économies"},null,null,null,null,null,null,{"$f":"Traduction!$A$314","v":"Économies [kWh/a]"},null,null,null,null,null,null,null,null,null,null,null,null,null,null,null,null,null,null,9,"01.01. 09:00",-0.3,0]
[null,{"$f":"IF(I18&I34=BE13,Traduction!$A$689,Traduction!$A$690)","v":"Gain sur la pression de condensation flottante"},null,null,null,null,null,null,{"$f":"IF($B$50=Traduction!A690,$W$25,$X$25)","v":{"$error":"#N/A"}},null,null,null,null,null,null,null,null,null,null,null,null,null,null,null,null,null,null,10,"01.01. 10:00",-0.01,0]
[null,{"$f":"Traduction!A691","v":"Gain sur l'augmentation de la presson d'évaporation"},null,null,null,null,null,null,{"$f":"Y25","v":{"$error":"#N/A"}},null,null,null,null,null,null,null,null,null,null,null,null,null,null,null,null,null,null,11,"01.01. 11:00",0.4,0]
[null,{"$f":"Traduction!A692","v":"Gains optimisation de distribution de froid"},null,null,null,null,null,null,{"$f":"Z25","v":0.14000000000000001},null,null,null,null,null,null,null,null,null,null,null,null,null,null,null,null,null,null,12,"01.01. 12:00",0.7,0]
[null,{"$f":"Traduction!A693","v":"Gain sur le free-cooling"},null,null,null,null,null,null,{"$f":"AA25","v":{"$error":"#N/A"}},null,null,null,null,null,null,null,null,null,null,null,null,null,null,null,null,null,null,13,"01.01. 13:00",0.8,0]
[null,{"$f":"AS12","v":"Gain sur l'efficacité des moteurs"},null,null,null,null,null,null,{"$f":"AS13","v":{"$error":"#N/A"}},null,null,null,null,null,null,null,null,null,null,null,null,null,null,null,null,null,null,14,"01.01. 14:00",0.9,0]
[null,{"$f":"AT12","v":"Gain technologiques sur l'installation"},null,null,null,null,null,null,{"$f":"AT13","v":0.02},null,null,null,null,null,null,null,null,null,null,null,null,null,null,null,null,null,null,15,"01.01. 15:00",0.8,0]
[null,{"$f":"AU12","v":"Gains sur la régulation des compresseurs"},null,null,null,null,null,null,{"$f":"AU13","v":{"$error":"#N/A"}},null,null,null,null,null,null,null,null,null,null,null,null,null,null,null,null,null,null,16,"01.01. 16:00",0.5,0]
[null,null,null,null,null,null,null,null,null,null,null,null,null,null,null,null,null,null,null,null,null,null,null,null,null,null,null,17,"01.01. 17:00",0.2,0]
[null,null,null,null,null,null,null,null,null,null,null,null,null,null,null,null,null,null,null,null,null,null,null,null,null,null,null,18,"01.01. 18:00",-0.2,0]
[null,null,null,null,null,null,null,null,null,null,null,null,null,null,null,null,null,null,null,null,null,null,null,null,null,null,null,19,"01.01. 19:00",-0.5,0]
[null,null,null,null,null,null,null,null,null,null,null,null,null,null,null,null,null,null,null,null,null,null,null,null,null,null,null,20,"01.01. 20:00",-0.8,0]
[null,null,null,null,null,null,null,null,null,null,null,null,null,null,null,null,null,null,null,null,null,null,null,null,null,null,null,21,"01.01. 21:00",-1.2,0]
[null,{"$f":"INDEX(ClaLiGANa,MATCH(B1,ClaListeGF,0))","v":{"$error":"#N/A"}},{"$f":"INDEX(ClaLiGANa,MATCH(C1,ClaListeGF,0))","v":{"$error":"#N/A"}},{"$error":"#N/A"},{"$error":"#N/A"},{"$error":"#N/A"},{"$error":"#N/A"},{"$error":"#N/A"},{"$error":"#N/A"},{"$error":"#N/A"},{"$error":"#N/A"},{"$error":"#N/A"},{"$error":"#N/A"},{"$error":"#N/A"},{"$error":"#N/A"},{"$error":"#N/A"},{"$error":"#N/A"},{"$error":"#N/A"},{"$error":"#N/A"},{"$error":"#N/A"},{"$error":"#N/A"},{"$error":"#N/A"},{"$f":"INDEX(ClaLiGANa,MATCH(W1,ClaListeGF,0))","v":{"$error":"#N/A"}},{"$f":"INDEX(ClaLiGANa,MATCH(X1,ClaListeGF,0))","v":{"$error":"#N/A"}},{"$f":"INDEX(ClaLiGANa,MATCH(Y1,ClaListeGF,0))","v":{"$error":"#N/A"}},null,null,22,"01.01. 22:00",-1.5,0,null,{"$f":"INDEX(ClaLiGANa,MATCH(#REF!,ClaListePo,0))","v":{"$error":"#REF!"}}]
[null,null,null,null,null,null,null,null,null,null,null,null,null,null,null,null,null,null,null,null,null,null,null,null,null,null,null,23,"01.01. 23:00",-1.9,0]
[null,{"$f":"RIGHT(CELL(\"nomfichier\",A1),LEN(CELL(\"nomfichier\",A1))-FIND(\"]\",CELL(\"nomfichier\",A1)))","v":"APPGF"},null,null,null,null,null,null,null,null,null,null,null,null,null,null,null,null,null,null,null,null,null,null,null,null,null,24,"02.01. 00:00",-2.1,0]
[null,null,null,null,null,null,null,null,null,null,null,null,null,null,null,null,null,null,null,null,null,null,null,null,null,null,null,25,"02.01. 01:00",-2.4,0]
[null,null,null,null,null,null,null,null,null,null,null,null,null,null,null,null,null,null,null,null,null,null,null,null,null,null,null,26,"02.01. 02:00",-2.8,0]
[null,null,null,null,null,null,null,null,null,null,null,null,null,null,null,null,null,null,null,null,null,null,null,null,null,null,null,27,"02.01. 03:00",-2.5,0]
[null,null,null,null,null,null,null,null,null,null,null,null,null,null,null,null,null,null,null,null,null,null,null,null,null,null,null,28,"02.01. 04:00",-2.7,0]
[null,null,null,null,null,null,null,null,null,null,null,null,null,null,null,null,null,null,null,null,null,null,null,null,null,null,null,29,"02.01. 05:00",-2.9,0]
[null,null,null,null,null,null,null,null,null,null,null,null,null,null,null,null,null,null,null,null,null,null,null,null,null,null,null,30,"02.01. 06:00",-2.8,0]
[null,null,null,null,null,null,null,null,null,null,null,null,null,null,null,null,null,null,null,null,null,null,null,null,null,null,null,31,"02.01. 07:00",-2.9,0]
[null,null,null,null,null,null,null,null,null,null,null,null,null,null,null,null,null,null,null,null,null,null,null,null,null,null,null,32,"02.01. 08:00",-2.9,0]
[null,null,null,null,null,null,null,null,null,null,null,null,null,null,null,null,null,null,null,null,null,null,null,null,null,null,null,33,"02.01. 09:00",-2.9,0]
[null,null,null,null,null,null,null,null,null,null,null,null,null,null,null,null,null,null,null,null,null,null,null,null,null,null,null,34,"02.01. 10:00",-2.8,0]
[null,null,null,null,null,null,null,null,null,null,null,null,null,null,null,null,null,null,null,null,null,null,null,null,null,null,null,35,"02.01. 11:00",-2.2999999999999998,0]
[null,null,null,null,null,null,null,null,null,null,null,null,null,null,null,null,null,null,null,null,null,null,null,null,null,null,null,36,"02.01. 12:00",-1.8,0]
[null,null,null,null,null,null,null,null,null,null,null,null,null,null,null,null,null,null,null,null,null,null,null,null,null,null,null,37,"02.01. 13:00",-1.4,0]
[null,null,null,null,null,null,null,null,null,null,null,null,null,null,null,null,null,null,null,null,null,null,null,null,null,null,null,38,"02.01. 14:00",-1.3,0]
[null,null,null,null,null,null,null,null,null,null,null,null,null,null,null,null,null,null,null,null,null,null,null,null,null,null,null,39,"02.01. 15:00",-1.4,0]
[null,null,null,null,null,null,null,null,null,null,null,null,null,null,null,null,null,null,null,null,null,null,null,null,null,null,null,40,"02.01. 16:00",-1.8,0]
[null,null,null,null,null,null,null,null,null,null,null,null,null,null,null,null,null,null,null,null,null,null,null,null,null,null,null,41,"02.01. 17:00",-1.9,0]
[null,null,null,null,null,null,null,null,null,null,null,null,null,null,null,null,null,null,null,null,null,null,null,null,null,null,null,42,"02.01. 18:00",-2,0]
[null,null,null,null,null,null,null,null,null,null,null,null,null,null,null,null,null,null,null,null,null,null,null,null,null,null,null,43,"02.01. 19:00",-2,0]
[null,null,null,null,null,null,null,null,null,null,null,null,null,null,null,null,null,null,null,null,null,null,null,null,null,null,null,44,"02.01. 20:00",-2.1,0]
[null,null,null,null,null,null,null,null,null,null,null,null,null,null,null,null,null,null,null,null,null,null,null,null,null,null,null,45,"02.01. 21:00",-2.2000000000000002,0]
[null,null,null,null,null,null,null,null,null,null,null,null,null,null,null,null,null,null,null,null,null,null,null,null,null,null,null,46,"02.01. 22:00",-2.2000000000000002,0]
[null,null,null,null,null,null,null,null,null,null,null,null,null,null,null,null,null,null,null,null,null,null,null,null,null,null,null,47,"02.01. 23:00",-2.2999999999999998,0]
[null,null,null,null,null,null,null,null,null,null,null,null,null,null,null,null,null,null,null,null,null,null,null,null,null,null,null,48,"03.01. 00:00",-2.2000000000000002,0]
[null,null,null,null,null,null,null,null,null,null,null,null,null,null,null,null,null,null,null,null,null,null,null,null,null,null,null,49,"03.01. 01:00",-2,0]
[null,null,null,null,null,null,null,null,null,null,null,null,null,null,null,null,null,null,null,null,null,null,null,null,null,null,null,50,"03.01. 02:00",-1.8,0]
[null,null,null,null,null,null,null,null,null,null,null,null,null,null,null,null,null,null,null,null,null,null,null,null,null,null,null,51,"03.01. 03:00",-1.9,0]
[null,null,null,null,null,null,null,null,null,null,null,null,null,null,null,null,null,null,null,null,null,null,null,null,null,null,null,52,"03.01. 04:00",-1.7,0]
[null,null,null,null,null,null,null,null,null,null,null,null,null,null,null,null,null,null,null,null,null,null,null,null,null,null,null,53,"03.01. 05:00",-1.6,0]
[null,null,null,null,null,null,null,null,null,null,null,null,null,null,null,null,null,null,null,null,null,null,null,null,null,null,null,54,"03.01. 06:00",-1.6,0]
[null,null,null,null,null,null,null,null,null,null,null,null,null,null,null,null,null,null,null,null,null,null,null,null,null,null,null,55,"03.01. 07:00",-1.5,0]
[null,null,null,null,null,null,null,null,null,null,null,null,null,null,null,null,null,null,null,null,null,null,null,null,null,null,null,56,"03.01. 08:00",-1.4,0]
[null,null,null,null,null,null,null,null,null,null,null,null,null,null,null,null,null,null,null,null,null,null,null,null,null,null,null,57,"03.01. 09:00",-0.6,0]
[null,null,null,null,null,null,null,null,null,null,null,null,null,null,null,null,null,null,null,null,null,null,null,null,null,null,null,58,"03.01. 10:00",0.03,0]
[null,null,null,null,null,null,null,null,null,null,null,null,null,null,null,null,null,null,null,null,null,null,null,null,null,null,null,59,"03.01. 11:00",0.8,0]
[null,null,null,null,null,null,null,null,null,null,null,null,null,null,null,null,null,null,null,null,null,null,null,null,null,null,null,60,"03.01. 12:00",1.9,0]
[null,null,null,null,null,null,null,null,null,null,null,null,null,null,null,null,null,null,null,null,null,null,null,null,null,null,null,61,"03.01. 13:00",2.6,0]
[null,null,null,null,null,null,null,null,null,null,null,null,null,null,null,null,null,null,null,null,null,null,null,null,null,null,null,62,"03.01. 14:00",2.8,0]
[null,null,null,null,null,null,null,null,null,null,null,null,null,null,null,null,null,null,null,null,null,null,null,null,null,null,null,63,"03.01. 15:00",2.5,0]
[null,null,null,null,null,null,null,null,null,null,null,null,null,null,null,null,null,null,null,null,null,null,null,null,null,null,null,64,"03.01. 16:00",1.9,{"$f":"IF(AD104<=$AC$25,1,0)","v":0}]
[null,null,null,null,null,null,null,null,null,null,null,null,null,null,null,null,null,null,null,null,null,null,null,null,null,null,null,65,"03.01. 17:00",1.8,0]
[null,null,null,null,null,null,null,null,null,null,null,null,null,null,null,null,null,null,null,null,null,null,null,null,null,null,null,66,"03.01. 18:00",1.7,0]
[null,null,null,null,null,null,null,null,null,null,null,null,null,null,null,null,null,null,null,null,null,null,null,null,null,null,null,67,"03.01. 19:00",1.6,0]
[null,null,null,null,null,null,null,null,null,null,null,null,null,null,null,null,null,null,null,null,null,null,null,null,null,null,null,68,"03.01. 20:00",1.5,0]
[null,null,null,null,null,null,null,null,null,null,null,null,null,null,null,null,null,null,null,null,null,null,null,null,null,null,null,69,"03.01. 21:00",1.4,0]
[null,null,null,null,null,null,null,null,null,null,null,null,null,null,null,null,null,null,null,null,null,null,null,null,null,null,null,70,"03.01. 22:00",1.3,0]
[null,null,null,null,null,null,null,null,null,null,null,null,null,null,null,null,null,null,null,null,null,null,null,null,null,null,null,71,"03.01. 23:00",1.3,0]
[null,null,null,null,null,null,null,null,null,null,null,null,null,null,null,null,null,null,null,null,null,null,null,null,null,null,null,72,"04.01. 00:00",0.9,0]
[null,null,null,null,null,null,null,null,null,null,null,null,null,null,null,null,null,null,null,null,null,null,null,null,null,null,null,73,"04.01. 01:00",0.6,0]
[null,null,null,null,null,null,null,null,null,null,null,null,null,null,null,null,null,null,null,null,null,null,null,null,null,null,null,74,"04.01. 02:00",0.2,0]
[null,null,null,null,null,null,null,null,null,null,null,null,null,null,null,null,null,null,null,null,null,null,null,null,null,null,null,75,"04.01. 03:00",0.5,0]
[null,null,null,null,null,null,null,null,null,null,null,null,null,null,null,null,null,null,null,null,null,null,null,null,null,null,null,76,"04.01. 04:00",0.3,0]
[null,null,null,null,null,null,null,null,null,null,null,null,null,null,null,null,null,null,null,null,null,null,null,null,null,null,null,77,"04.01. 05:00",0.1,0]
[null,null,null,null,null,null,null,null,null,null,null,null,null,null,null,null,null,null,null,null,null,null,null,null,null,null,null,78,"04.01. 06:00",0.3,0]
[null,null,null,null,null,null,null,null,null,null,null,null,null,null,null,null,null,null,null,null,null,null,null,null,null,null,null,79,"04.01. 07:00",0.1,0]
[null,null,null,null,null,null,null,null,null,null,null,null,null,null,null,null,null,null,null,null,null,null,null,null,null,null,null,80,"04.01. 08:00",0.2,0]
[null,null,null,null,null,null,null,null,null,null,null,null,null,null,null,null,null,null,null,null,null,null,null,null,null,null,null,81,"04.01. 09:00",0.9,0]
[null,null,null,null,null,null,null,null,null,null,null,null,null,null,null,null,null,null,null,null,null,null,null,null,null,null,null,82,"04.01. 10:00",1.6,0]
[null,null,null,null,null,null,null,null,null,null,null,null,null,null,null,null,null,null,null,null,null,null,null,null,null,null,null,83,"04.01. 11:00",2.2000000000000002,0]
[null,null,null,null,null,null,null,null,null,null,null,null,null,null,null,null,null,null,null,null,null,null,null,null,null,null,null,84,"04.01. 12:00",2.5,0]
[null,null,null,null,null,null,null,null,null,null,null,null,null,null,null,null,null,null,null,null,null,null,null,null,null,null,null,85,"04.01. 13:00",2.1,0]
[null,null,null,null,null,null,null,null,null,null,null,null,null,null,null,null,null,null,null,null,null,null,null,null,null,null,null,86,"04.01. 14:00",1.9,0]
[null,null,null,null,null,null,null,null,null,null,null,null,null,null,null,null,null,null,null,null,null,null,null,null,null,null,null,87,"04.01. 15:00",1.6,0]
[null,null,null,null,null,null,null,null,null,null,null,null,null,null,null,null,null,null,null,null,null,null,null,null,null,null,null,88,"04.01. 16:00",1.1000000000000001,0]
[null,null,null,null,null,null,null,null,null,null,null,null,null,null,null,null,null,null,null,null,null,null,null,null,null,null,null,89,"04.01. 17:00",0.9,0]
[null,null,null,null,null,null,null,null,null,null,null,null,null,null,null,null,null,null,null,null,null,null,null,null,null,null,null,90,"04.01. 18:00",0.7,0]
[null,null,null,null,null,null,null,null,null,null,null,null,null,null,null,null,null,null,null,null,null,null,null,null,null,null,null,91,"04.01. 19:00",0.6,0]
[null,null,null,null,null,null,null,null,null,null,null,null,null,null,null,null,null,null,null,null,null,null,null,null,null,null,null,92,"04.01. 20:00",0.4,0]
[null,null,null,null,null,null,null,null,null,null,null,null,null,null,null,null,null,null,null,null,null,null,null,null,null,null,null,93,"04.01. 21:00",0.2,0]
[null,null,null,null,null,null,null,null,null,null,null,null,null,null,null,null,null,null,null,null,null,null,null,null,null,null,null,94,"04.01. 22:00",-0.02,0]
[null,null,null,null,null,null,null,null,null,null,null,null,null,null,null,null,null,null,null,null,null,null,null,null,null,null,null,95,"04.01. 23:00",-0.2,0]
[null,null,null,null,null,null,null,null,null,null,null,null,null,null,null,null,null,null,null,null,null,null,null,null,null,null,null,96,"05.01. 00:00",-0.3,0]
[null,null,null,null,null,null,null,null,null,null,null,null,null,null,null,null,null,null,null,null,null,null,null,null,null,null,null,97,"05.01. 01:00",-0.3,0]
[null,null,null,null,null,null,null,null,null,null,null,null,null,null,null,null,null,null,null,null,null,null,null,null,null,null,null,98,"05.01. 02:00",-0.3,0]
[null,null,null,null,null,null,null,null,null,null,null,null,null,null,null,null,null,null,null,null,null,null,null,null,null,null,null,99,"05.01. 03:00",-0.2,0]
[null,null,null,null,null,null,null,null,null,null,null,null,null,null,null,null,null,null,null,null,null,null,null,null,null,null,null,100,"05.01. 04:00",-0.2,0]
[null,null,null,null,null,null,null,null,null,null,null,null,null,null,null,null,null,null,null,null,null,null,null,null,null,null,null,101,"05.01. 05:00",-0.2,0]
[null,null,null,null,null,null,null,null,null,null,null,null,null,null,null,null,null,null,null,null,null,null,null,null,null,null,null,102,"05.01. 06:00",-0.1,0]
[null,null,null,null,null,null,null,null,null,null,null,null,null,null,null,null,null,null,null,null,null,null,null,null,null,null,null,103,"05.01. 07:00",-0.1,0]
[null,null,null,null,null,null,null,null,null,null,null,null,null,null,null,null,null,null,null,null,null,null,null,null,null,null,null,104,"05.01. 08:00",-0.04,0]
[null,null,null,null,null,null,null,null,null,null,null,null,null,null,null,null,null,null,null,null,null,null,null,null,null,null,null,105,"05.01. 09:00",0.3,0]
[null,null,null,null,null,null,null,null,null,null,null,null,null,null,null,null,null,null,null,null,null,null,null,null,null,null,null,106,"05.01. 10:00",2.2000000000000002,0]
[null,null,null,null,null,null,null,null,null,null,null,null,null,null,null,null,null,null,null,null,null,null,null,null,null,null,null,107,"05.01. 11:00",3.2,0]
[null,null,null,null,null,null,null,null,null,null,null,null,null,null,null,null,null,null,null,null,null,null,null,null,null,null,null,108,"05.01. 12:00",3.5,0]
[null,null,null,null,null,null,null,null,null,null,null,null,null,null,null,null,null,null,null,null,null,null,null,null,null,null,null,109,"05.01. 13:00",3.6,0]
[1,null,null,null,null,null,null,null,null,null,null,null,null,null,null,null,null,null,null,null,null,null,null,null,null,null,null,110,"05.01. 14:00",3.6,0]
[null,null,null,null,null,null,null,null,null,null,null,null,null,null,null,null,null,null,null,null,null,null,null,null,null,null,null,111,"05.01. 15:00",2.9,0]
[null,null,null,null,null,null,null,null,null,null,null,null,null,null,null,null,null,null,null,null,null,null,null,null,null,null,null,112,"05.01. 16:00",2.4,0]
[null,null,null,null,null,null,null,null,null,null,null,null,null,null,null,null,null,null,null,null,null,null,null,null,null,null,null,113,"05.01. 17:00",2.2000000000000002,0]
[null,null,null,null,null,null,null,null,null,null,null,null,null,null,null,null,null,null,null,null,null,null,null,null,null,null,null,114,"05.01. 18:00",1.9,0]
[null,null,null,null,null,null,null,null,null,null,null,null,null,null,null,null,null,null,null,null,null,null,null,null,null,null,null,115,"05.01. 19:00",1.7,0]
[null,null,null,null,null,null,null,null,null,null,null,null,null,null,null,null,null,null,null,null,null,null,null,null,null,null,null,116,"05.01. 20:00",1.5,0]
[null,null,null,null,null,null,null,null,null,null,null,null,null,null,null,null,null,null,null,null,null,null,null,null,null,null,null,117,"05.01. 21:00",1.2,0]
[null,null,null,null,null,null,null,null,null,null,null,null,null,null,null,null,null,null,null,null,null,null,null,null,null,null,null,118,"05.01. 22:00",1,0]
[null,null,null,null,null,null,null,null,null,null,null,null,null,null,null,null,null,null,null,null,null,null,null,null,null,null,null,119,"05.01. 23:00",0.8,0]
[null,null,null,null,null,null,null,null,null,null,null,null,null,null,null,null,null,null,null,null,null,null,null,null,null,null,null,120,"06.01. 00:00",0.4,0]
[null,null,null,null,null,null,null,null,null,null,null,null,null,null,null,null,null,null,null,null,null,null,null,null,null,null,null,121,"06.01. 01:00",0.02,0]
[null,null,null,null,null,null,null,null,null,null,null,null,null,null,null,null,null,null,null,null,null,null,null,null,null,null,null,122,"06.01. 02:00",-0.4,0]
[null,null,null,null,null,null,null,null,null,null,null,null,null,null,null,null,null,null,null,null,null,null,null,null,null,null,null,123,"06.01. 03:00",-0.05,0]
[null,null,null,null,null,null,null,null,null,null,null,null,null,null,null,null,null,null,null,null,null,null,null,null,null,null,null,124,"06.01. 04:00",-0.3,0]
[null,null,null,null,null,null,null,null,null,null,null,null,null,null,null,null,null,null,null,null,null,null,null,null,null,null,null,125,"06.01. 05:00",-0.5,0]
[null,null,null,null,null,null,null,null,null,null,null,null,null,null,null,null,null,null,null,null,null,null,null,null,null,null,null,126,"06.01. 06:00",-0.3,0]
[null,null,null,null,null,null,null,null,null,null,null,null,null,null,null,null,null,null,null,null,null,null,null,null,null,null,null,127,"06.01. 07:00",-0.4,0]
[null,null,null,null,null,null,null,null,null,null,null,null,null,null,null,null,null,null,null,null,null,null,null,null,null,null,null,128,"06.01. 08:00",-0.4,{"$f":"IF(AD168<=$AC$25,1,0)","v":0}]
[null,null,null,null,null,null,null,null,null,null,null,null,null,null,null,null,null,null,null,null,null,null,null,null,null,null,null,129,"06.01. 09:00",-0.4,0]
[null,null,null,null,null,null,null,null,null,null,null,null,null,null,null,null,null,null,null,null,null,null,null,null,null,null,null,130,"06.01. 10:00",-0.1,0]
[null,null,null,null,null,null,null,null,null,null,null,null,null,null,null,null,null,null,null,null,null,null,null,null,null,null,null,131,"06.01. 11:00",0.2,0]
[null,null,null,null,null,null,null,null,null,null,null,null,null,null,null,null,null,null,null,null,null,null,null,null,null,null,null,132,"06.01. 12:00",0.3,0]
[null,null,null,null,null,null,null,null,null,null,null,null,null,null,null,null,null,null,null,null,null,null,null,null,null,null,null,133,"06.01. 13:00",1.2,0]
[null,null,null,null,null,null,null,null,null,null,null,null,null,null,null,null,null,null,null,null,null,null,null,null,null,null,null,134,"06.01. 14:00",1.6,0]
[null,null,null,null,null,null,null,null,null,null,null,null,null,null,null,null,null,null,null,null,null,null,null,null,null,null,null,135,"06.01. 15:00",1.6,0]
[null,null,null,null,null,null,null,null,null,null,null,null,null,null,null,null,null,null,null,null,null,null,null,null,null,null,null,136,"06.01. 16:00",1.2,0]
[null,null,null,null,null,null,null,null,null,null,null,null,null,null,null,null,null,null,null,null,null,null,null,null,null,null,null,137,"06.01. 17:00",0.8,0]
[null,null,null,null,null,null,null,null,null,null,null,null,null,null,null,null,null,null,null,null,null,null,null,null,null,null,null,138,"06.01. 18:00",0.4,0]
[null,null,null,null,null,null,null,null,null,null,null,null,null,null,null,null,null,null,null,null,null,null,null,null,null,null,null,139,"06.01. 19:00",-1E-3,0]
[null,null,null,null,null,null,null,null,null,null,null,null,null,null,null,null,null,null,null,null,null,null,null,null,null,null,null,140,"06.01. 20:00",-0.4,0]
[null,null,null,null,null,null,null,null,null,null,null,null,null,null,null,null,null,null,null,null,null,null,null,null,null,null,null,141,"06.01. 21:00",-0.8,0]
[null,null,null,null,null,null,null,null,null,null,null,null,null,null,null,null,null,null,null,null,null,null,null,null,null,null,null,142,"06.01. 22:00",-1.2,0]
[null,null,null,null,null,null,null,null,null,null,null,null,null,null,null,null,null,null,null,null,null,null,null,null,null,null,null,143,"06.01. 23:00",-1.6,0]
[null,null,null,null,null,null,null,null,null,null,null,null,null,null,null,null,null,null,null,null,null,null,null,null,null,null,null,144,"07.01. 00:00",-1.9,0]
[null,null,null,null,null,null,null,null,null,null,null,null,null,null,null,null,null,null,null,null,null,null,null,null,null,null,null,145,"07.01. 01:00",-2.2000000000000002,0]
[null,null,null,null,null,null,null,null,null,null,null,null,null,null,null,null,null,null,null,null,null,null,null,null,null,null,null,146,"07.01. 02:00",-2.5,0]
[null,null,null,null,null,null,null,null,null,null,null,null,null,null,null,null,null,null,null,null,null,null,null,null,null,null,null,147,"07.01. 03:00",-2.2000000000000002,0]
[null,null,null,null,null,null,null,null,null,null,null,null,null,null,null,null,null,null,null,null,null,null,null,null,null,null,null,148,"07.01. 04:00",-2.4,0]
[null,null,null,null,null,null,null,null,null,null,null,null,null,null,null,null,null,null,null,null,null,null,null,null,null,null,null,149,"07.01. 05:00",-2.5,0]
[null,null,null,null,null,null,null,null,null,null,null,null,null,null,null,null,null,null,null,null,null,null,null,null,null,null,null,150,"07.01. 06:00",-2.4,0]
[null,null,null,null,null,null,null,null,null,null,null,null,null,null,null,null,null,null,null,null,null,null,null,null,null,null,null,151,"07.01. 07:00",-2.5,0]
[null,null,null,null,null,null,null,null,null,null,null,null,null,null,null,null,null,null,null,null,null,null,null,null,null,null,null,152,"07.01. 08:00",-2.2999999999999998,0]
[null,null,null,null,null,null,null,null,null,null,null,null,null,null,null,null,null,null,null,null,null,null,null,null,null,null,null,153,"07.01. 09:00",-0.7,0]
[null,null,null,null,null,null,null,null,null,null,null,null,null,null,null,null,null,null,null,null,null,null,null,null,null,null,null,154,"07.01. 10:00",0.8,0]
[null,null,null,null,null,null,null,null,null,null,null,null,null,null,null,null,null,null,null,null,null,null,null,null,null,null,null,155,"07.01. 11:00",1.8,0]
[null,null,null,null,null,null,null,null,null,null,null,null,null,null,null,null,null,null,null,null,null,null,null,null,null,null,null,156,"07.01. 12:00",2.7,0]
[null,null,null,null,null,null,null,null,null,null,null,null,null,null,null,null,null,null,null,null,null,null,null,null,null,null,null,157,"07.01. 13:00",2.7,0]
[null,null,null,null,null,null,null,null,null,null,null,null,null,null,null,null,null,null,null,null,null,null,null,null,null,null,null,158,"07.01. 14:00",2.2000000000000002,0]
[null,null,null,null,null,null,null,null,null,null,null,null,null,null,null,null,null,null,null,null,null,null,null,null,null,null,null,159,"07.01. 15:00",1.6,0]
[null,null,null,null,null,null,null,null,null,null,null,null,null,null,null,null,null,null,null,null,null,null,null,null,null,null,null,160,"07.01. 16:00",0.8,0]
[null,null,null,null,null,null,null,null,null,null,null,null,null,null,null,null,null,null,null,null,null,null,null,null,null,null,null,161,"07.01. 17:00",0.4,0]
[null,null,null,null,null,null,null,null,null,null,null,null,null,null,null,null,null,null,null,null,null,null,null,null,null,null,null,162,"07.01. 18:00",0.1,0]
[null,null,null,null,null,null,null,null,null,null,null,null,null,null,null,null,null,null,null,null,null,null,null,null,null,null,null,163,"07.01. 19:00",-0.3,0]
[null,null,null,null,null,null,null,null,null,null,null,null,null,null,null,null,null,null,null,null,null,null,null,null,null,null,null,164,"07.01. 20:00",-0.6,0]
[null,null,null,null,null,null,null,null,null,null,null,null,null,null,null,null,null,null,null,null,null,null,null,null,null,null,null,165,"07.01. 21:00",-0.9,0]
[null,null,null,null,null,null,null,null,null,null,null,null,null,null,null,null,null,null,null,null,null,null,null,null,null,null,null,166,"07.01. 22:00",-1.3,0]
[null,null,null,null,null,null,null,null,null,null,null,null,null,null,null,null,null,null,null,null,null,null,null,null,null,null,null,167,"07.01. 23:00",-1.6,0]
[null,null,null,null,null,null,null,null,null,null,null,null,null,null,null,null,null,null,null,null,null,null,null,null,null,null,null,168,"08.01. 00:00",-1.9,0]
[null,null,null,null,null,null,null,null,null,null,null,null,null,null,null,null,null,null,null,null,null,null,null,null,null,null,null,169,"08.01. 01:00",-2.2999999999999998,0]
[null,null,null,null,null,null,null,null,null,null,null,null,null,null,null,null,null,null,null,null,null,null,null,null,null,null,null,170,"08.01. 02:00",-2.6,0]
[null,null,null,null,null,null,null,null,null,null,null,null,null,null,null,null,null,null,null,null,null,null,null,null,null,null,null,171,"08.01. 03:00",-2.2999999999999998,0]
[null,null,null,null,null,null,null,null,null,null,null,null,null,null,null,null,null,null,null,null,null,null,null,null,null,null,null,172,"08.01. 04:00",-2.5,0]
[null,null,null,null,null,null,null,null,null,null,null,null,null,null,null,null,null,null,null,null,null,null,null,null,null,null,null,173,"08.01. 05:00",-2.7,0]
[null,null,null,null,null,null,null,null,null,null,null,null,null,null,null,null,null,null,null,null,null,null,null,null,null,null,null,174,"08.01. 06:00",-2.5,0]
[null,null,null,null,null,null,null,null,null,null,null,null,null,null,null,null,null,null,null,null,null,null,null,null,null,null,null,175,"08.01. 07:00",-2.6,0]
[null,null,null,null,null,null,null,null,null,null,null,null,null,null,null,null,null,null,null,null,null,null,null,null,null,null,null,176,"08.01. 08:00",-2.6,0]
[null,null,null,null,null,null,null,null,null,null,null,null,null,null,null,null,null,null,null,null,null,null,null,null,null,null,null,177,"08.01. 09:00",-2.2000000000000002,0]
[null,null,null,null,null,null,null,null,null,null,null,null,null,null,null,null,null,null,null,null,null,null,null,null,null,null,null,178,"08.01. 10:00",-1.7,0]
[null,null,null,null,null,null,null,null,null,null,null,null,null,null,null,null,null,null,null,null,null,null,null,null,null,null,null,179,"08.01. 11:00",-0.5,0]
[null,null,null,null,null,null,null,null,null,null,null,null,null,null,null,null,null,null,null,null,null,null,null,null,null,null,null,180,"08.01. 12:00",0.4,0]
[null,null,null,null,null,null,null,null,null,null,null,null,null,null,null,null,null,null,null,null,null,null,null,null,null,null,null,181,"08.01. 13:00",1.4,0]
[null,null,null,null,null,null,null,null,null,null,null,null,null,null,null,null,null,null,null,null,null,null,null,null,null,null,null,182,"08.01. 14:00",2,0]
[null,null,null,null,null,null,null,null,null,null,null,null,null,null,null,null,null,null,null,null,null,null,null,null,null,null,null,183,"08.01. 15:00",2,0]
[null,null,null,null,null,null,null,null,null,null,null,null,null,null,null,null,null,null,null,null,null,null,null,null,null,null,null,184,"08.01. 16:00",1.2,0]
[null,null,null,null,null,null,null,null,null,null,null,null,null,null,null,null,null,null,null,null,null,null,null,null,null,null,null,185,"08.01. 17:00",0.9,0]
[null,null,null,null,null,null,null,null,null,null,null,null,null,null,null,null,null,null,null,null,null,null,null,null,null,null,null,186,"08.01. 18:00",0.6,0]
[null,null,null,null,null,null,null,null,null,null,null,null,null,null,null,null,null,null,null,null,null,null,null,null,null,null,null,187,"08.01. 19:00",0.2,0]
[null,null,null,null,null,null,null,null,null,null,null,null,null,null,null,null,null,null,null,null,null,null,null,null,null,null,null,188,"08.01. 20:00",-0.1,0]
[null,null,null,null,null,null,null,null,null,null,null,null,null,null,null,null,null,null,null,null,null,null,null,null,null,null,null,189,"08.01. 21:00",-0.4,0]
[null,null,null,null,null,null,null,null,null,null,null,null,null,null,null,null,null,null,null,null,null,null,null,null,null,null,null,190,"08.01. 22:00",-0.8,0]
[null,null,null,null,null,null,null,null,null,null,null,null,null,null,null,null,null,null,null,null,null,null,null,null,null,null,null,191,"08.01. 23:00",-1.1000000000000001,0]
[null,null,null,null,null,null,null,null,null,null,null,null,null,null,null,null,null,null,null,null,null,null,null,null,null,null,null,192,"09.01. 00:00",-1.3,{"$f":"IF(AD232<=$AC$25,1,0)","v":0}]
[null,null,null,null,null,null,null,null,null,null,null,null,null,null,null,null,null,null,null,null,null,null,null,null,null,null,null,193,"09.01. 01:00",-1.6,0]
[null,null,null,null,null,null,null,null,null,null,null,null,null,null,null,null,null,null,null,null,null,null,null,null,null,null,null,194,"09.01. 02:00",-1.8,0]
[null,null,null,null,null,null,null,null,null,null,null,null,null,null,null,null,null,null,null,null,null,null,null,null,null,null,null,195,"09.01. 03:00",-1.6,0]
[null,null,null,null,null,null,null,null,null,null,null,null,null,null,null,null,null,null,null,null,null,null,null,null,null,null,null,196,"09.01. 04:00",-1.7,0]
[null,null,null,null,null,null,null,null,null,null,null,null,null,null,null,null,null,null,null,null,null,null,null,null,null,null,null,197,"09.01. 05:00",-1.9,0]
[null,null,null,null,null,null,null,null,null,null,null,null,null,null,null,null,null,null,null,null,null,null,null,null,null,null,null,198,"09.01. 06:00",-1.7,0]
[null,null,null,null,null,null,null,null,null,null,null,null,null,null,null,null,null,null,null,null,null,null,null,null,null,null,null,199,"09.01. 07:00",-1.8,0]
[null,null,null,null,null,null,null,null,null,null,null,null,null,null,null,null,null,null,null,null,null,null,null,null,null,null,null,200,"09.01. 08:00",-1.8,0]
[null,null,null,null,null,null,null,null,null,null,null,null,null,null,null,null,null,null,null,null,null,null,null,null,null,null,null,201,"09.01. 09:00",-1.6,0]
[null,null,null,null,null,null,null,null,null,null,null,null,null,null,null,null,null,null,null,null,null,null,null,null,null,null,null,202,"09.01. 10:00",-1.2,0]
[null,null,null,null,null,null,null,null,null,null,null,null,null,null,null,null,null,null,null,null,null,null,null,null,null,null,null,203,"09.01. 11:00",-0.9,0]
[null,null,null,null,null,null,null,null,null,null,null,null,null,null,null,null,null,null,null,null,null,null,null,null,null,null,null,204,"09.01. 12:00",-0.8,0]
[null,null,null,null,null,null,null,null,null,null,null,null,null,null,null,null,null,null,null,null,null,null,null,null,null,null,null,205,"09.01. 13:00",-0.8,0]
[null,null,null,null,null,null,null,null,null,null,null,null,null,null,null,null,null,null,null,null,null,null,null,null,null,null,null,206,"09.01. 14:00",-0.9,0]
[null,null,null,null,null,null,null,null,null,null,null,null,null,null,null,null,null,null,null,null,null,null,null,null,null,null,null,207,"09.01. 15:00",-1,0]
[null,null,null,null,null,null,null,null,null,null,null,null,null,null,null,null,null,null,null,null,null,null,null,null,null,null,null,208,"09.01. 16:00",-1.2,0]
[null,null,null,null,null,null,null,null,null,null,null,null,null,null,null,null,null,null,null,null,null,null,null,null,null,null,null,209,"09.01. 17:00",-1.5,0]
[null,null,null,null,null,null,null,null,null,null,null,null,null,null,null,null,null,null,null,null,null,null,null,null,null,null,null,210,"09.01. 18:00",-1.8,0]
[null,null,null,null,null,null,null,null,null,null,null,null,null,null,null,null,null,null,null,null,null,null,null,null,null,null,null,211,"09.01. 19:00",-2.1,0]
[null,null,null,null,null,null,null,null,null,null,null,null,null,null,null,null,null,null,null,null,null,null,null,null,null,null,null,212,"09.01. 20:00",-2.5,0]
[null,null,null,null,null,null,null,null,null,null,null,null,null,null,null,null,null,null,null,null,null,null,null,null,null,null,null,213,"09.01. 21:00",-2.8,0]
[null,null,null,null,null,null,null,null,null,null,null,null,null,null,null,null,null,null,null,null,null,null,null,null,null,null,null,214,"09.01. 22:00",-3.1,0]
[null,null,null,null,null,null,null,null,null,null,null,null,null,null,null,null,null,null,null,null,null,null,null,null,null,null,null,215,"09.01. 23:00",-3.4,0]
[null,null,null,null,null,null,null,null,null,null,null,null,null,null,null,null,null,null,null,null,null,null,null,null,null,null,null,216,"10.01. 00:00",-4,0]
[null,null,null,null,null,null,null,null,null,null,null,null,null,null,null,null,null,null,null,null,null,null,null,null,null,null,null,217,"10.01. 01:00",-4.7,0]
[null,null,null,null,null,null,null,null,null,null,null,null,null,null,null,null,null,null,null,null,null,null,null,null,null,null,null,218,"10.01. 02:00",-5.3,1]
[null,null,null,null,null,null,null,null,null,null,null,null,null,null,null,null,null,null,null,null,null,null,null,null,null,null,null,219,"10.01. 03:00",-4.8,0]
[null,null,null,null,null,null,null,null,null,null,null,null,null,null,null,null,null,null,null,null,null,null,null,null,null,null,null,220,"10.01. 04:00",-5.2,1]
[null,null,null,null,null,null,null,null,null,null,null,null,null,null,null,null,null,null,null,null,null,null,null,null,null,null,null,221,"10.01. 05:00",-5.6,1]
[null,null,null,null,null,null,null,null,null,null,null,null,null,null,null,null,null,null,null,null,null,null,null,null,null,null,null,222,"10.01. 06:00",-5.3,1]
[null,null,null,null,null,null,null,null,null,null,null,null,null,null,null,null,null,null,null,null,null,null,null,null,null,null,null,223,"10.01. 07:00",-5.6,1]
[null,null,null,null,null,null,null,null,null,null,null,null,null,null,null,null,null,null,null,null,null,null,null,null,null,null,null,224,"10.01. 08:00",-5.5,1]
[null,null,null,null,null,null,null,null,null,null,null,null,null,null,null,null,null,null,null,null,null,null,null,null,null,null,null,225,"10.01. 09:00",-4.0999999999999996,0]
[null,null,null,null,null,null,null,null,null,null,null,null,null,null,null,null,null,null,null,null,null,null,null,null,null,null,null,226,"10.01. 10:00",-2.8,0]
[null,null,null,null,null,null,null,null,null,null,null,null,null,null,null,null,null,null,null,null,null,null,null,null,null,null,null,227,"10.01. 11:00",-1.8,0]
[null,null,null,null,null,null,null,null,null,null,null,null,null,null,null,null,null,null,null,null,null,null,null,null,null,null,null,228,"10.01. 12:00",-1.2,0]
[null,null,null,null,null,null,null,null,null,null,null,null,null,null,null,null,null,null,null,null,null,null,null,null,null,null,null,229,"10.01. 13:00",-1,0]
[null,null,null,null,null,null,null,null,null,null,null,null,null,null,null,null,null,null,null,null,null,null,null,null,null,null,null,230,"10.01. 14:00",-1.1000000000000001,0]
[null,null,null,null,null,null,null,null,null,null,null,null,null,null,null,null,null,null,null,null,null,null,null,null,null,null,null,231,"10.01. 15:00",-1.7,0]
[null,null,null,null,null,null,null,null,null,null,null,null,null,null,null,null,null,null,null,null,null,null,null,null,null,null,null,232,"10.01. 16:00",-2.6,0]
[null,null,null,null,null,null,null,null,null,null,null,null,null,null,null,null,null,null,null,null,null,null,null,null,null,null,null,233,"10.01. 17:00",-3.1,0]
[null,null,null,null,null,null,null,null,null,null,null,null,null,null,null,null,null,null,null,null,null,null,null,null,null,null,null,234,"10.01. 18:00",-3.6,0]
[null,null,null,null,null,null,null,null,null,null,null,null,null,null,null,null,null,null,null,null,null,null,null,null,null,null,null,235,"10.01. 19:00",-4.0999999999999996,0]
[null,null,null,null,null,null,null,null,null,null,null,null,null,null,null,null,null,null,null,null,null,null,null,null,null,null,null,236,"10.01. 20:00",-4.5999999999999996,0]
[null,null,null,null,null,null,null,null,null,null,null,null,null,null,null,null,null,null,null,null,null,null,null,null,null,null,null,237,"10.01. 21:00",-5.0999999999999996,1]
[null,null,null,null,null,null,null,null,null,null,null,null,null,null,null,null,null,null,null,null,null,null,null,null,null,null,null,238,"10.01. 22:00",-5.7,1]
[null,null,null,null,null,null,null,null,null,null,null,null,null,null,null,null,null,null,null,null,null,null,null,null,null,null,null,239,"10.01. 23:00",-6.2,1]
[null,null,null,null,null,null,null,null,null,null,null,null,null,null,null,null,null,null,null,null,null,null,null,null,null,null,null,240,"11.01. 00:00",-6.3,1]
[null,null,null,null,null,null,null,null,null,null,null,null,null,null,null,null,null,null,null,null,null,null,null,null,null,null,null,241,"11.01. 01:00",-6.5,1]
[null,null,null,null,null,null,null,null,null,null,null,null,null,null,null,null,null,null,null,null,null,null,null,null,null,null,null,242,"11.01. 02:00",-6.7,1]
[null,null,null,null,null,null,null,null,null,null,null,null,null,null,null,null,null,null,null,null,null,null,null,null,null,null,null,243,"11.01. 03:00",-6.5,1]
[null,null,null,null,null,null,null,null,null,null,null,null,null,null,null,null,null,null,null,null,null,null,null,null,null,null,null,244,"11.01. 04:00",-6.6,1]
[null,null,null,null,null,null,null,null,null,null,null,null,null,null,null,null,null,null,null,null,null,null,null,null,null,null,null,245,"11.01. 05:00",-6.6,1]
[null,null,null,null,null,null,null,null,null,null,null,null,null,null,null,null,null,null,null,null,null,null,null,null,null,null,null,246,"11.01. 06:00",-6.5,1]
[null,null,null,null,null,null,null,null,null,null,null,null,null,null,null,null,null,null,null,null,null,null,null,null,null,null,null,247,"11.01. 07:00",-6.5,1]
[null,null,null,null,null,null,null,null,null,null,null,null,null,null,null,null,null,null,null,null,null,null,null,null,null,null,null,248,"11.01. 08:00",-6.3,1]
[null,null,null,null,null,null,null,null,null,null,null,null,null,null,null,null,null,null,null,null,null,null,null,null,null,null,null,249,"11.01. 09:00",-4.3,0]
[null,null,null,null,null,null,null,null,null,null,null,null,null,null,null,null,null,null,null,null,null,null,null,null,null,null,null,250,"11.01. 10:00",-2.4,0]
[null,null,null,null,null,null,null,null,null,null,null,null,null,null,null,null,null,null,null,null,null,null,null,null,null,null,null,251,"11.01. 11:00",-0.8,0]
[null,null,null,null,null,null,null,null,null,null,null,null,null,null,null,null,null,null,null,null,null,null,null,null,null,null,null,252,"11.01. 12:00",0.4,0]
[null,null,null,null,null,null,null,null,null,null,null,null,null,null,null,null,null,null,null,null,null,null,null,null,null,null,null,253,"11.01. 13:00",1,0]
[null,null,null,null,null,null,null,null,null,null,null,null,null,null,null,null,null,null,null,null,null,null,null,null,null,null,null,254,"11.01. 14:00",1.2,0]
[null,null,null,null,null,null,null,null,null,null,null,null,null,null,null,null,null,null,null,null,null,null,null,null,null,null,null,255,"11.01. 15:00",0.7,0]
[null,null,null,null,null,null,null,null,null,null,null,null,null,null,null,null,null,null,null,null,null,null,null,null,null,null,null,256,"11.01. 16:00",-0.5,{"$f":"IF(AD296<=$AC$25,1,0)","v":0}]
[null,null,null,null,null,null,null,null,null,null,null,null,null,null,null,null,null,null,null,null,null,null,null,null,null,null,null,257,"11.01. 17:00",-1,0]
[null,null,null,null,null,null,null,null,null,null,null,null,null,null,null,null,null,null,null,null,null,null,null,null,null,null,null,258,"11.01. 18:00",-1.4,0]
[null,null,null,null,null,null,null,null,null,null,null,null,null,null,null,null,null,null,null,null,null,null,null,null,null,null,null,259,"11.01. 19:00",-1.8,0]
[null,null,null,null,null,null,null,null,null,null,null,null,null,null,null,null,null,null,null,null,null,null,null,null,null,null,null,260,"11.01. 20:00",-2.2999999999999998,0]
[null,null,null,null,null,null,null,null,null,null,null,null,null,null,null,null,null,null,null,null,null,null,null,null,null,null,null,261,"11.01. 21:00",-2.7,0]
[null,null,null,null,null,null,null,null,null,null,null,null,null,null,null,null,null,null,null,null,null,null,null,null,null,null,null,262,"11.01. 22:00",-3.2,0]
[null,null,null,null,null,null,null,null,null,null,null,null,null,null,null,null,null,null,null,null,null,null,null,null,null,null,null,263,"11.01. 23:00",-3.6,0]
[null,null,null,null,null,null,null,null,null,null,null,null,null,null,null,null,null,null,null,null,null,null,null,null,null,null,null,264,"12.01. 00:00",-4.0999999999999996,0]
[null,null,null,null,null,null,null,null,null,null,null,null,null,null,null,null,null,null,null,null,null,null,null,null,null,null,null,265,"12.01. 01:00",-4.5999999999999996,0]
[null,null,null,null,null,null,null,null,null,null,null,null,null,null,null,null,null,null,null,null,null,null,null,null,null,null,null,266,"12.01. 02:00",-5.2,1]
[null,null,null,null,null,null,null,null,null,null,null,null,null,null,null,null,null,null,null,null,null,null,null,null,null,null,null,267,"12.01. 03:00",-4.7,0]
[null,null,null,null,null,null,null,null,null,null,null,null,null,null,null,null,null,null,null,null,null,null,null,null,null,null,null,268,"12.01. 04:00",-5,1]
[null,null,null,null,null,null,null,null,null,null,null,null,null,null,null,null,null,null,null,null,null,null,null,null,null,null,null,269,"12.01. 05:00",-5.3,1]
[null,null,null,null,null,null,null,null,null,null,null,null,null,null,null,null,null,null,null,null,null,null,null,null,null,null,null,270,"12.01. 06:00",-5,1]
[null,null,null,null,null,null,null,null,null,null,null,null,null,null,null,null,null,null,null,null,null,null,null,null,null,null,null,271,"12.01. 07:00",-5.2,1]
[null,null,null,null,null,null,null,null,null,null,null,null,null,null,null,null,null,null,null,null,null,null,null,null,null,null,null,272,"12.01. 08:00",-5.0999999999999996,1]
[null,null,null,null,null,null,null,null,null,null,null,null,null,null,null,null,null,null,null,null,null,null,null,null,null,null,null,273,"12.01. 09:00",-3.6,0]
[null,null,null,null,null,null,null,null,null,null,null,null,null,null,null,null,null,null,null,null,null,null,null,null,null,null,null,274,"12.01. 10:00",-2.1,0]
[null,null,null,null,null,null,null,null,null,null,null,null,null,null,null,null,null,null,null,null,null,null,null,null,null,null,null,275,"12.01. 11:00",-0.8,0]
[null,null,null,null,null,null,null,null,null,null,null,null,null,null,null,null,null,null,null,null,null,null,null,null,null,null,null,276,"12.01. 12:00",0.1,0]
[null,null,null,null,null,null,null,null,null,null,null,null,null,null,null,null,null,null,null,null,null,null,null,null,null,null,null,277,"12.01. 13:00",0.6,0]
[null,null,null,null,null,null,null,null,null,null,null,null,null,null,null,null,null,null,null,null,null,null,null,null,null,null,null,278,"12.01. 14:00",0.8,0]
[null,null,null,null,null,null,null,null,null,null,null,null,null,null,null,null,null,null,null,null,null,null,null,null,null,null,null,279,"12.01. 15:00",0.3,0]
[null,null,null,null,null,null,null,null,null,null,null,null,null,null,null,null,null,null,null,null,null,null,null,null,null,null,null,280,"12.01. 16:00",-0.7,0]
[null,null,null,null,null,null,null,null,null,null,null,null,null,null,null,null,null,null,null,null,null,null,null,null,null,null,null,281,"12.01. 17:00",-1.4,0]
[null,null,null,null,null,null,null,null,null,null,null,null,null,null,null,null,null,null,null,null,null,null,null,null,null,null,null,282,"12.01. 18:00",-2.1,0]
[null,null,null,null,null,null,null,null,null,null,null,null,null,null,null,null,null,null,null,null,null,null,null,null,null,null,null,283,"12.01. 19:00",-2.7,0]
[null,null,null,null,null,null,null,null,null,null,null,null,null,null,null,null,null,null,null,null,null,null,null,null,null,null,null,284,"12.01. 20:00",-3.4,0]
[null,null,null,null,null,null,null,null,null,null,null,null,null,null,null,null,null,null,null,null,null,null,null,null,null,null,null,285,"12.01. 21:00",-4,0]
[null,null,null,null,null,null,null,null,null,null,null,null,null,null,null,null,null,null,null,null,null,null,null,null,null,null,null,286,"12.01. 22:00",-4.7,0]
[null,null,null,null,null,null,null,null,null,null,null,null,null,null,null,null,null,null,null,null,null,null,null,null,null,null,null,287,"12.01. 23:00",-5.4,1]
[null,null,null,null,null,null,null,null,null,null,null,null,null,null,null,null,null,null,null,null,null,null,null,null,null,null,null,288,"13.01. 00:00",-5.9,1]
[null,null,null,null,null,null,null,null,null,null,null,null,null,null,null,null,null,null,null,null,null,null,null,null,null,null,null,289,"13.01. 01:00",-6.5,1]
[null,null,null,null,null,null,null,null,null,null,null,null,null,null,null,null,null,null,null,null,null,null,null,null,null,null,null,290,"13.01. 02:00",-7.1,1]
[null,null,null,null,null,null,null,null,null,null,null,null,null,null,null,null,null,null,null,null,null,null,null,null,null,null,null,291,"13.01. 03:00",-6.8,1]
[null,null,null,null,null,null,null,null,null,null,null,null,null,null,null,null,null,null,null,null,null,null,null,null,null,null,null,292,"13.01. 04:00",-7.1,1]
[null,null,null,null,null,null,null,null,null,null,null,null,null,null,null,null,null,null,null,null,null,null,null,null,null,null,null,293,"13.01. 05:00",-7.5,1]
[null,null,null,null,null,null,null,null,null,null,null,null,null,null,null,null,null,null,null,null,null,null,null,null,null,null,null,294,"13.01. 06:00",-7.3,1]
[null,null,null,null,null,null,null,null,null,null,null,null,null,null,null,null,null,null,null,null,null,null,null,null,null,null,null,295,"13.01. 07:00",-7.6,1]
[null,null,null,null,null,null,null,null,null,null,null,null,null,null,null,null,null,null,null,null,null,null,null,null,null,null,null,296,"13.01. 08:00",-7.6,1]
[null,null,null,null,null,null,null,null,null,null,null,null,null,null,null,null,null,null,null,null,null,null,null,null,null,null,null,297,"13.01. 09:00",-6.9,1]
[null,null,null,null,null,null,null,null,null,null,null,null,null,null,null,null,null,null,null,null,null,null,null,null,null,null,null,298,"13.01. 10:00",-6.6,1]
[null,null,null,null,null,null,null,null,null,null,null,null,null,null,null,null,null,null,null,null,null,null,null,null,null,null,null,299,"13.01. 11:00",-6.4,1]
[null,null,null,null,null,null,null,null,null,null,null,null,null,null,null,null,null,null,null,null,null,null,null,null,null,null,null,300,"13.01. 12:00",-6.3,1]
[null,null,null,null,null,null,null,null,null,null,null,null,null,null,null,null,null,null,null,null,null,null,null,null,null,null,null,301,"13.01. 13:00",-6.2,1]
[null,null,null,null,null,null,null,null,null,null,null,null,null,null,null,null,null,null,null,null,null,null,null,null,null,null,null,302,"13.01. 14:00",-6.2,1]
[null,null,null,null,null,null,null,null,null,null,null,null,null,null,null,null,null,null,null,null,null,null,null,null,null,null,null,303,"13.01. 15:00",-6.3,1]
[null,null,null,null,null,null,null,null,null,null,null,null,null,null,null,null,null,null,null,null,null,null,null,null,null,null,null,304,"13.01. 16:00",-6.8,1]
[null,null,null,null,null,null,null,null,null,null,null,null,null,null,null,null,null,null,null,null,null,null,null,null,null,null,null,305,"13.01. 17:00",-7.1,1]
[null,null,null,null,null,null,null,null,null,null,null,null,null,null,null,null,null,null,null,null,null,null,null,null,null,null,null,306,"13.01. 18:00",-7.4,1]
[null,null,null,null,null,null,null,null,null,null,null,null,null,null,null,null,null,null,null,null,null,null,null,null,null,null,null,307,"13.01. 19:00",-7.8,1]
[null,null,null,null,null,null,null,null,null,null,null,null,null,null,null,null,null,null,null,null,null,null,null,null,null,null,null,308,"13.01. 20:00",-8.1,1]
[null,null,null,null,null,null,null,null,null,null,null,null,null,null,null,null,null,null,null,null,null,null,null,null,null,null,null,309,"13.01. 21:00",-8.4,1]
[null,null,null,null,null,null,null,null,null,null,null,null,null,null,null,null,null,null,null,null,null,null,null,null,null,null,null,310,"13.01. 22:00",-8.6999999999999993,1]
[null,null,null,null,null,null,null,null,null,null,null,null,null,null,null,null,null,null,null,null,null,null,null,null,null,null,null,311,"13.01. 23:00",-9.1,1]
[null,null,null,null,null,null,null,null,null,null,null,null,null,null,null,null,null,null,null,null,null,null,null,null,null,null,null,312,"14.01. 00:00",-8.9,1]
[null,null,null,null,null,null,null,null,null,null,null,null,null,null,null,null,null,null,null,null,null,null,null,null,null,null,null,313,"14.01. 01:00",-8.6,1]
[null,null,null,null,null,null,null,null,null,null,null,null,null,null,null,null,null,null,null,null,null,null,null,null,null,null,null,314,"14.01. 02:00",-8.3000000000000007,1]
[null,null,null,null,null,null,null,null,null,null,null,null,null,null,null,null,null,null,null,null,null,null,null,null,null,null,null,315,"14.01. 03:00",-8.4,1]
[null,null,null,null,null,null,null,null,null,null,null,null,null,null,null,null,null,null,null,null,null,null,null,null,null,null,null,316,"14.01. 04:00",-8.1999999999999993,1]
[null,null,null,null,null,null,null,null,null,null,null,null,null,null,null,null,null,null,null,null,null,null,null,null,null,null,null,317,"14.01. 05:00",-8,1]
[null,null,null,null,null,null,null,null,null,null,null,null,null,null,null,null,null,null,null,null,null,null,null,null,null,null,null,318,"14.01. 06:00",-8.1,1]
[null,null,null,null,null,null,null,null,null,null,null,null,null,null,null,null,null,null,null,null,null,null,null,null,null,null,null,319,"14.01. 07:00",-7.9,1]
[null,null,null,null,null,null,null,null,null,null,null,null,null,null,null,null,null,null,null,null,null,null,null,null,null,null,null,320,"14.01. 08:00",-7.6,{"$f":"IF(AD360<=$AC$25,1,0)","v":1}]
[null,null,null,null,null,null,null,null,null,null,null,null,null,null,null,null,null,null,null,null,null,null,null,null,null,null,null,321,"14.01. 09:00",-5.2,1]
[null,null,null,null,null,null,null,null,null,null,null,null,null,null,null,null,null,null,null,null,null,null,null,null,null,null,null,322,"14.01. 10:00",-4.0999999999999996,0]
[null,null,null,null,null,null,null,null,null,null,null,null,null,null,null,null,null,null,null,null,null,null,null,null,null,null,null,323,"14.01. 11:00",-4.5999999999999996,0]
[null,null,null,null,null,null,null,null,null,null,null,null,null,null,null,null,null,null,null,null,null,null,null,null,null,null,null,324,"14.01. 12:00",-4.0999999999999996,0]
[null,null,null,null,null,null,null,null,null,null,null,null,null,null,null,null,null,null,null,null,null,null,null,null,null,null,null,325,"14.01. 13:00",-3.4,0]
[null,null,null,null,null,null,null,null,null,null,null,null,null,null,null,null,null,null,null,null,null,null,null,null,null,null,null,326,"14.01. 14:00",-2.2000000000000002,0]
[null,null,null,null,null,null,null,null,null,null,null,null,null,null,null,null,null,null,null,null,null,null,null,null,null,null,null,327,"14.01. 15:00",-1.6,0]
[null,null,null,null,null,null,null,null,null,null,null,null,null,null,null,null,null,null,null,null,null,null,null,null,null,null,null,328,"14.01. 16:00",-2.2999999999999998,0]
[null,null,null,null,null,null,null,null,null,null,null,null,null,null,null,null,null,null,null,null,null,null,null,null,null,null,null,329,"14.01. 17:00",-2.6,0]
[null,null,null,null,null,null,null,null,null,null,null,null,null,null,null,null,null,null,null,null,null,null,null,null,null,null,null,330,"14.01. 18:00",-2.8,0]
[null,null,null,null,null,null,null,null,null,null,null,null,null,null,null,null,null,null,null,null,null,null,null,null,null,null,null,331,"14.01. 19:00",-3.1,0]
[null,null,null,null,null,null,null,null,null,null,null,null,null,null,null,null,null,null,null,null,null,null,null,null,null,null,null,332,"14.01. 20:00",-3.4,0]
[null,null,null,null,null,null,null,null,null,null,null,null,null,null,null,null,null,null,null,null,null,null,null,null,null,null,null,333,"14.01. 21:00",-3.7,0]
[null,null,null,null,null,null,null,null,null,null,null,null,null,null,null,null,null,null,null,null,null,null,null,null,null,null,null,334,"14.01. 22:00",-4,0]
[null,null,null,null,null,null,null,null,null,null,null,null,null,null,null,null,null,null,null,null,null,null,null,null,null,null,null,335,"14.01. 23:00",-4.3,0]
[null,null,null,null,null,null,null,null,null,null,null,null,null,null,null,null,null,null,null,null,null,null,null,null,null,null,null,336,"15.01. 00:00",-4.9000000000000004,0]
[null,null,null,null,null,null,null,null,null,null,null,null,null,null,null,null,null,null,null,null,null,null,null,null,null,null,null,337,"15.01. 01:00",-5.8,1]
[null,null,null,null,null,null,null,null,null,null,null,null,null,null,null,null,null,null,null,null,null,null,null,null,null,null,null,338,"15.01. 02:00",-6.7,1]
[null,null,null,null,null,null,null,null,null,null,null,null,null,null,null,null,null,null,null,null,null,null,null,null,null,null,null,339,"15.01. 03:00",-6.4,1]
[null,null,null,null,null,null,null,null,null,null,null,null,null,null,null,null,null,null,null,null,null,null,null,null,null,null,null,340,"15.01. 04:00",-7,1]
[null,null,null,null,null,null,null,null,null,null,null,null,null,null,null,null,null,null,null,null,null,null,null,null,null,null,null,341,"15.01. 05:00",-7.6,1]
[null,null,null,null,null,null,null,null,null,null,null,null,null,null,null,null,null,null,null,null,null,null,null,null,null,null,null,342,"15.01. 06:00",-7.5,1]
[null,null,null,null,null,null,null,null,null,null,null,null,null,null,null,null,null,null,null,null,null,null,null,null,null,null,null,343,"15.01. 07:00",-8,1]
[null,null,null,null,null,null,null,null,null,null,null,null,null,null,null,null,null,null,null,null,null,null,null,null,null,null,null,344,"15.01. 08:00",-8.3000000000000007,1]
[null,null,null,null,null,null,null,null,null,null,null,null,null,null,null,null,null,null,null,null,null,null,null,null,null,null,null,345,"15.01. 09:00",-8.6,1]
[null,null,null,null,null,null,null,null,null,null,null,null,null,null,null,null,null,null,null,null,null,null,null,null,null,null,null,346,"15.01. 10:00",-9,1]
[null,null,null,null,null,null,null,null,null,null,null,null,null,null,null,null,null,null,null,null,null,null,null,null,null,null,null,347,"15.01. 11:00",-9.4,1]
[null,null,null,null,null,null,null,null,null,null,null,null,null,null,null,null,null,null,null,null,null,null,null,null,null,null,null,348,"15.01. 12:00",-9.6999999999999993,1]
[null,null,null,null,null,null,null,null,null,null,null,null,null,null,null,null,null,null,null,null,null,null,null,null,null,null,null,349,"15.01. 13:00",-10.1,1]
[null,null,null,null,null,null,null,null,null,null,null,null,null,null,null,null,null,null,null,null,null,null,null,null,null,null,null,350,"15.01. 14:00",-9.3000000000000007,1]
[null,null,null,null,null,null,null,null,null,null,null,null,null,null,null,null,null,null,null,null,null,null,null,null,null,null,null,351,"15.01. 15:00",-9.3000000000000007,1]
[null,null,null,null,null,null,null,null,null,null,null,null,null,null,null,null,null,null,null,null,null,null,null,null,null,null,null,352,"15.01. 16:00",-9.3000000000000007,1]
[null,null,null,null,null,null,null,null,null,null,null,null,null,null,null,null,null,null,null,null,null,null,null,null,null,null,null,353,"15.01. 17:00",-9.3000000000000007,1]
[null,null,null,null,null,null,null,null,null,null,null,null,null,null,null,null,null,null,null,null,null,null,null,null,null,null,null,354,"15.01. 18:00",-10.1,1]
[null,null,null,null,null,null,null,null,null,null,null,null,null,null,null,null,null,null,null,null,null,null,null,null,null,null,null,355,"15.01. 19:00",-9.8000000000000007,1]
[null,null,null,null,null,null,null,null,null,null,null,null,null,null,null,null,null,null,null,null,null,null,null,null,null,null,null,356,"15.01. 20:00",-9.5,1]
[null,null,null,null,null,null,null,null,null,null,null,null,null,null,null,null,null,null,null,null,null,null,null,null,null,null,null,357,"15.01. 21:00",-9.1999999999999993,1]
[null,null,null,null,null,null,null,null,null,null,null,null,null,null,null,null,null,null,null,null,null,null,null,null,null,null,null,358,"15.01. 22:00",-8.9,1]
[null,null,null,null,null,null,null,null,null,null,null,null,null,null,null,null,null,null,null,null,null,null,null,null,null,null,null,359,"15.01. 23:00",-8.6,1]
[null,null,null,null,null,null,null,null,null,null,null,null,null,null,null,null,null,null,null,null,null,null,null,null,null,null,null,360,"16.01. 00:00",-7.7,1]
[null,null,null,null,null,null,null,null,null,null,null,null,null,null,null,null,null,null,null,null,null,null,null,null,null,null,null,361,"16.01. 01:00",-6.7,1]
[null,null,null,null,null,null,null,null,null,null,null,null,null,null,null,null,null,null,null,null,null,null,null,null,null,null,null,362,"16.01. 02:00",-5.7,1]
[null,null,null,null,null,null,null,null,null,null,null,null,null,null,null,null,null,null,null,null,null,null,null,null,null,null,null,363,"16.01. 03:00",-6.3,1]
[null,null,null,null,null,null,null,null,null,null,null,null,null,null,null,null,null,null,null,null,null,null,null,null,null,null,null,364,"16.01. 04:00",-5.7,1]
[null,null,null,null,null,null,null,null,null,null,null,null,null,null,null,null,null,null,null,null,null,null,null,null,null,null,null,365,"16.01. 05:00",-5.0999999999999996,1]
[null,null,null,null,null,null,null,null,null,null,null,null,null,null,null,null,null,null,null,null,null,null,null,null,null,null,null,366,"16.01. 06:00",-5.5,1]
[null,null,null,null,null,null,null,null,null,null,null,null,null,null,null,null,null,null,null,null,null,null,null,null,null,null,null,367,"16.01. 07:00",-5,1]
[null,null,null,null,null,null,null,null,null,null,null,null,null,null,null,null,null,null,null,null,null,null,null,null,null,null,null,368,"16.01. 08:00",-4.5999999999999996,0]
[null,null,null,null,null,null,null,null,null,null,null,null,null,null,null,null,null,null,null,null,null,null,null,null,null,null,null,369,"16.01. 09:00",-3.1,0]
[null,null,null,null,null,null,null,null,null,null,null,null,null,null,null,null,null,null,null,null,null,null,null,null,null,null,null,370,"16.01. 10:00",-1.6,0]
[null,null,null,null,null,null,null,null,null,null,null,null,null,null,null,null,null,null,null,null,null,null,null,null,null,null,null,371,"16.01. 11:00",-0.4,0]
[null,null,null,null,null,null,null,null,null,null,null,null,null,null,null,null,null,null,null,null,null,null,null,null,null,null,null,372,"16.01. 12:00",0.5,0]
[null,null,null,null,null,null,null,null,null,null,null,null,null,null,null,null,null,null,null,null,null,null,null,null,null,null,null,373,"16.01. 13:00",1.3,0]
[null,null,null,null,null,null,null,null,null,null,null,null,null,null,null,null,null,null,null,null,null,null,null,null,null,null,null,374,"16.01. 14:00",1.6,0]
[null,null,null,null,null,null,null,null,null,null,null,null,null,null,null,null,null,null,null,null,null,null,null,null,null,null,null,375,"16.01. 15:00",1.5,0]
[null,null,null,null,null,null,null,null,null,null,null,null,null,null,null,null,null,null,null,null,null,null,null,null,null,null,null,376,"16.01. 16:00",0.9,0]
[null,null,null,null,null,null,null,null,null,null,null,null,null,null,null,null,null,null,null,null,null,null,null,null,null,null,null,377,"16.01. 17:00",1.2,0]
[null,null,null,null,null,null,null,null,null,null,null,null,null,null,null,null,null,null,null,null,null,null,null,null,null,null,null,378,"16.01. 18:00",1.5,0]
[null,null,null,null,null,null,null,null,null,null,null,null,null,null,null,null,null,null,null,null,null,null,null,null,null,null,null,379,"16.01. 19:00",1.8,0]
[null,null,null,null,null,null,null,null,null,null,null,null,null,null,null,null,null,null,null,null,null,null,null,null,null,null,null,380,"16.01. 20:00",2.1,0]
[null,null,null,null,null,null,null,null,null,null,null,null,null,null,null,null,null,null,null,null,null,null,null,null,null,null,null,381,"16.01. 21:00",2.4,0]
[null,null,null,null,null,null,null,null,null,null,null,null,null,null,null,null,null,null,null,null,null,null,null,null,null,null,null,382,"16.01. 22:00",2.7,0]
[null,null,null,null,null,null,null,null,null,null,null,null,null,null,null,null,null,null,null,null,null,null,null,null,null,null,null,383,"16.01. 23:00",3,0]
[null,null,null,null,null,null,null,null,null,null,null,null,null,null,null,null,null,null,null,null,null,null,null,null,null,null,null,384,"17.01. 00:00",2.5,{"$f":"IF(AD424<=$AC$25,1,0)","v":0}]
[null,null,null,null,null,null,null,null,null,null,null,null,null,null,null,null,null,null,null,null,null,null,null,null,null,null,null,385,"17.01. 01:00",1.8,0]
[null,null,null,null,null,null,null,null,null,null,null,null,null,null,null,null,null,null,null,null,null,null,null,null,null,null,null,386,"17.01. 02:00",1,0]
[null,null,null,null,null,null,null,null,null,null,null,null,null,null,null,null,null,null,null,null,null,null,null,null,null,null,null,387,"17.01. 03:00",1.4,0]
[null,null,null,null,null,null,null,null,null,null,null,null,null,null,null,null,null,null,null,null,null,null,null,null,null,null,null,388,"17.01. 04:00",1,0]
[null,null,null,null,null,null,null,null,null,null,null,null,null,null,null,null,null,null,null,null,null,null,null,null,null,null,null,389,"17.01. 05:00",0.6,0]
[null,null,null,null,null,null,null,null,null,null,null,null,null,null,null,null,null,null,null,null,null,null,null,null,null,null,null,390,"17.01. 06:00",0.8,0]
[null,null,null,null,null,null,null,null,null,null,null,null,null,null,null,null,null,null,null,null,null,null,null,null,null,null,null,391,"17.01. 07:00",0.4,0]
[null,null,null,null,null,null,null,null,null,null,null,null,null,null,null,null,null,null,null,null,null,null,null,null,null,null,null,392,"17.01. 08:00",0.2,0]
[null,null,null,null,null,null,null,null,null,null,null,null,null,null,null,null,null,null,null,null,null,null,null,null,null,null,null,393,"17.01. 09:00",-0.6,0]
[null,null,null,null,null,null,null,null,null,null,null,null,null,null,null,null,null,null,null,null,null,null,null,null,null,null,null,394,"17.01. 10:00",-1.3,0]
[null,null,null,null,null,null,null,null,null,null,null,null,null,null,null,null,null,null,null,null,null,null,null,null,null,null,null,395,"17.01. 11:00",-2,0]
[null,null,null,null,null,null,null,null,null,null,null,null,null,null,null,null,null,null,null,null,null,null,null,null,null,null,null,396,"17.01. 12:00",-2.5,0]
[null,null,null,null,null,null,null,null,null,null,null,null,null,null,null,null,null,null,null,null,null,null,null,null,null,null,null,397,"17.01. 13:00",-2.9,0]
[null,null,null,null,null,null,null,null,null,null,null,null,null,null,null,null,null,null,null,null,null,null,null,null,null,null,null,398,"17.01. 14:00",-3.1,0]
[null,null,null,null,null,null,null,null,null,null,null,null,null,null,null,null,null,null,null,null,null,null,null,null,null,null,null,399,"17.01. 15:00",-0.8,0]
[null,null,null,null,null,null,null,null,null,null,null,null,null,null,null,null,null,null,null,null,null,null,null,null,null,null,null,400,"17.01. 16:00",-0.5,0]
[null,null,null,null,null,null,null,null,null,null,null,null,null,null,null,null,null,null,null,null,null,null,null,null,null,null,null,401,"17.01. 17:00",-1.1000000000000001,0]
[null,null,null,null,null,null,null,null,null,null,null,null,null,null,null,null,null,null,null,null,null,null,null,null,null,null,null,402,"17.01. 18:00",-1.8,0]
[null,null,null,null,null,null,null,null,null,null,null,null,null,null,null,null,null,null,null,null,null,null,null,null,null,null,null,403,"17.01. 19:00",-2.4,0]
[null,null,null,null,null,null,null,null,null,null,null,null,null,null,null,null,null,null,null,null,null,null,null,null,null,null,null,404,"17.01. 20:00",-3.1,0]
[null,null,null,null,null,null,null,null,null,null,null,null,null,null,null,null,null,null,null,null,null,null,null,null,null,null,null,405,"17.01. 21:00",-3.7,0]
[null,null,null,null,null,null,null,null,null,null,null,null,null,null,null,null,null,null,null,null,null,null,null,null,null,null,null,406,"17.01. 22:00",-4.4000000000000004,0]
[null,null,null,null,null,null,null,null,null,null,null,null,null,null,null,null,null,null,null,null,null,null,null,null,null,null,null,407,"17.01. 23:00",-5,1]
[null,null,null,null,null,null,null,null,null,null,null,null,null,null,null,null,null,null,null,null,null,null,null,null,null,null,null,408,"18.01. 00:00",-5.0999999999999996,1]
[null,null,null,null,null,null,null,null,null,null,null,null,null,null,null,null,null,null,null,null,null,null,null,null,null,null,null,409,"18.01. 01:00",-5.0999999999999996,1]
[null,null,null,null,null,null,null,null,null,null,null,null,null,null,null,null,null,null,null,null,null,null,null,null,null,null,null,410,"18.01. 02:00",-5.0999999999999996,1]
[null,null,null,null,null,null,null,null,null,null,null,null,null,null,null,null,null,null,null,null,null,null,null,null,null,null,null,411,"18.01. 03:00",-5.0999999999999996,1]
[null,null,null,null,null,null,null,null,null,null,null,null,null,null,null,null,null,null,null,null,null,null,null,null,null,null,null,412,"18.01. 04:00",-5.0999999999999996,1]
[null,null,null,null,null,null,null,null,null,null,null,null,null,null,null,null,null,null,null,null,null,null,null,null,null,null,null,413,"18.01. 05:00",-5.0999999999999996,1]
[null,null,null,null,null,null,null,null,null,null,null,null,null,null,null,null,null,null,null,null,null,null,null,null,null,null,null,414,"18.01. 06:00",-5,1]
[null,null,null,null,null,null,null,null,null,null,null,null,null,null,null,null,null,null,null,null,null,null,null,null,null,null,null,415,"18.01. 07:00",-5,1]
[null,null,null,null,null,null,null,null,null,null,null,null,null,null,null,null,null,null,null,null,null,null,null,null,null,null,null,416,"18.01. 08:00",-4.7,0]
[null,null,null,null,null,null,null,null,null,null,null,null,null,null,null,null,null,null,null,null,null,null,null,null,null,null,null,417,"18.01. 09:00",-2.4,0]
[null,null,null,null,null,null,null,null,null,null,null,null,null,null,null,null,null,null,null,null,null,null,null,null,null,null,null,418,"18.01. 10:00",-0.7,0]
[null,null,null,null,null,null,null,null,null,null,null,null,null,null,null,null,null,null,null,null,null,null,null,null,null,null,null,419,"18.01. 11:00",0.3,0]
[null,null,null,null,null,null,null,null,null,null,null,null,null,null,null,null,null,null,null,null,null,null,null,null,null,null,null,420,"18.01. 12:00",0.9,0]
[null,null,null,null,null,null,null,null,null,null,null,null,null,null,null,null,null,null,null,null,null,null,null,null,null,null,null,421,"18.01. 13:00",1.4,0]
[null,null,null,null,null,null,null,null,null,null,null,null,null,null,null,null,null,null,null,null,null,null,null,null,null,null,null,422,"18.01. 14:00",1.5,0]
[null,null,null,null,null,null,null,null,null,null,null,null,null,null,null,null,null,null,null,null,null,null,null,null,null,null,null,423,"18.01. 15:00",0.7,0]
[null,null,null,null,null,null,null,null,null,null,null,null,null,null,null,null,null,null,null,null,null,null,null,null,null,null,null,424,"18.01. 16:00",-0.4,0]
[null,null,null,null,null,null,null,null,null,null,null,null,null,null,null,null,null,null,null,null,null,null,null,null,null,null,null,425,"18.01. 17:00",-0.4,0]
[null,null,null,null,null,null,null,null,null,null,null,null,null,null,null,null,null,null,null,null,null,null,null,null,null,null,null,426,"18.01. 18:00",-0.5,0]
[null,null,null,null,null,null,null,null,null,null,null,null,null,null,null,null,null,null,null,null,null,null,null,null,null,null,null,427,"18.01. 19:00",-0.6,0]
[null,null,null,null,null,null,null,null,null,null,null,null,null,null,null,null,null,null,null,null,null,null,null,null,null,null,null,428,"18.01. 20:00",-0.7,0]
[null,null,null,null,null,null,null,null,null,null,null,null,null,null,null,null,null,null,null,null,null,null,null,null,null,null,null,429,"18.01. 21:00",-0.7,0]
[null,null,null,null,null,null,null,null,null,null,null,null,null,null,null,null,null,null,null,null,null,null,null,null,null,null,null,430,"18.01. 22:00",-0.8,0]
[null,null,null,null,null,null,null,null,null,null,null,null,null,null,null,null,null,null,null,null,null,null,null,null,null,null,null,431,"18.01. 23:00",-0.9,0]
[null,null,null,null,null,null,null,null,null,null,null,null,null,null,null,null,null,null,null,null,null,null,null,null,null,null,null,432,"19.01. 00:00",-1,0]
[null,null,null,null,null,null,null,null,null,null,null,null,null,null,null,null,null,null,null,null,null,null,null,null,null,null,null,433,"19.01. 01:00",-1.1000000000000001,0]
[null,null,null,null,null,null,null,null,null,null,null,null,null,null,null,null,null,null,null,null,null,null,null,null,null,null,null,434,"19.01. 02:00",-1.2,0]
[null,null,null,null,null,null,null,null,null,null,null,null,null,null,null,null,null,null,null,null,null,null,null,null,null,null,null,435,"19.01. 03:00",-1.1000000000000001,0]
[null,null,null,null,null,null,null,null,null,null,null,null,null,null,null,null,null,null,null,null,null,null,null,null,null,null,null,436,"19.01. 04:00",-1.1000000000000001,0]
[null,null,null,null,null,null,null,null,null,null,null,null,null,null,null,null,null,null,null,null,null,null,null,null,null,null,null,437,"19.01. 05:00",-1.2,0]
[null,null,null,null,null,null,null,null,null,null,null,null,null,null,null,null,null,null,null,null,null,null,null,null,null,null,null,438,"19.01. 06:00",-1.1000000000000001,0]
[null,null,null,null,null,null,null,null,null,null,null,null,null,null,null,null,null,null,null,null,null,null,null,null,null,null,null,439,"19.01. 07:00",-1.1000000000000001,0]
[null,null,null,null,null,null,null,null,null,null,null,null,null,null,null,null,null,null,null,null,null,null,null,null,null,null,null,440,"19.01. 08:00",-1,0]
[null,null,null,null,null,null,null,null,null,null,null,null,null,null,null,null,null,null,null,null,null,null,null,null,null,null,null,441,"19.01. 09:00",-0.3,0]
[null,null,null,null,null,null,null,null,null,null,null,null,null,null,null,null,null,null,null,null,null,null,null,null,null,null,null,442,"19.01. 10:00",-0.3,0]
[null,null,null,null,null,null,null,null,null,null,null,null,null,null,null,null,null,null,null,null,null,null,null,null,null,null,null,443,"19.01. 11:00",-0.2,0]
[null,null,null,null,null,null,null,null,null,null,null,null,null,null,null,null,null,null,null,null,null,null,null,null,null,null,null,444,"19.01. 12:00",-0.1,0]
[null,null,null,null,null,null,null,null,null,null,null,null,null,null,null,null,null,null,null,null,null,null,null,null,null,null,null,445,"19.01. 13:00",1.6,0]
[null,null,null,null,null,null,null,null,null,null,null,null,null,null,null,null,null,null,null,null,null,null,null,null,null,null,null,446,"19.01. 14:00",2.8,0]
[null,null,null,null,null,null,null,null,null,null,null,null,null,null,null,null,null,null,null,null,null,null,null,null,null,null,null,447,"19.01. 15:00",3.3,0]
[null,null,null,null,null,null,null,null,null,null,null,null,null,null,null,null,null,null,null,null,null,null,null,null,null,null,null,448,"19.01. 16:00",3,{"$f":"IF(AD488<=$AC$25,1,0)","v":0}]
[null,null,null,null,null,null,null,null,null,null,null,null,null,null,null,null,null,null,null,null,null,null,null,null,null,null,null,449,"19.01. 17:00",2.7,0]
[null,null,null,null,null,null,null,null,null,null,null,null,null,null,null,null,null,null,null,null,null,null,null,null,null,null,null,450,"19.01. 18:00",2.4,0]
[null,null,null,null,null,null,null,null,null,null,null,null,null,null,null,null,null,null,null,null,null,null,null,null,null,null,null,451,"19.01. 19:00",2.1,0]
[null,null,null,null,null,null,null,null,null,null,null,null,null,null,null,null,null,null,null,null,null,null,null,null,null,null,null,452,"19.01. 20:00",1.9,0]
[null,null,null,null,null,null,null,null,null,null,null,null,null,null,null,null,null,null,null,null,null,null,null,null,null,null,null,453,"19.01. 21:00",1.6,0]
[null,null,null,null,null,null,null,null,null,null,null,null,null,null,null,null,null,null,null,null,null,null,null,null,null,null,null,454,"19.01. 22:00",1.3,0]
[null,null,null,null,null,null,null,null,null,null,null,null,null,null,null,null,null,null,null,null,null,null,null,null,null,null,null,455,"19.01. 23:00",1,0]
[null,null,null,null,null,null,null,null,null,null,null,null,null,null,null,null,null,null,null,null,null,null,null,null,null,null,null,456,"20.01. 00:00",0.7,0]
[null,null,null,null,null,null,null,null,null,null,null,null,null,null,null,null,null,null,null,null,null,null,null,null,null,null,null,457,"20.01. 01:00",0.2,0]
[null,null,null,null,null,null,null,null,null,null,null,null,null,null,null,null,null,null,null,null,null,null,null,null,null,null,null,458,"20.01. 02:00",-0.2,0]
[null,null,null,null,null,null,null,null,null,null,null,null,null,null,null,null,null,null,null,null,null,null,null,null,null,null,null,459,"20.01. 03:00",0.1,0]
[null,null,null,null,null,null,null,null,null,null,null,null,null,null,null,null,null,null,null,null,null,null,null,null,null,null,null,460,"20.01. 04:00",-0.1,0]
[null,null,null,null,null,null,null,null,null,null,null,null,null,null,null,null,null,null,null,null,null,null,null,null,null,null,null,461,"20.01. 05:00",-0.3,0]
[null,null,null,null,null,null,null,null,null,null,null,null,null,null,null,null,null,null,null,null,null,null,null,null,null,null,null,462,"20.01. 06:00",-0.1,0]
[null,null,null,null,null,null,null,null,null,null,null,null,null,null,null,null,null,null,null,null,null,null,null,null,null,null,null,463,"20.01. 07:00",-0.3,0]
[null,null,null,null,null,null,null,null,null,null,null,null,null,null,null,null,null,null,null,null,null,null,null,null,null,null,null,464,"20.01. 08:00",-0.1,0]
[null,null,null,null,null,null,null,null,null,null,null,null,null,null,null,null,null,null,null,null,null,null,null,null,null,null,null,465,"20.01. 09:00",2,0]
[null,null,null,null,null,null,null,null,null,null,null,null,null,null,null,null,null,null,null,null,null,null,null,null,null,null,null,466,"20.01. 10:00",2.1,0]
[null,null,null,null,null,null,null,null,null,null,null,null,null,null,null,null,null,null,null,null,null,null,null,null,null,null,null,467,"20.01. 11:00",2.6,0]
[null,null,null,null,null,null,null,null,null,null,null,null,null,null,null,null,null,null,null,null,null,null,null,null,null,null,null,468,"20.01. 12:00",2.9,0]
[null,null,null,null,null,null,null,null,null,null,null,null,null,null,null,null,null,null,null,null,null,null,null,null,null,null,null,469,"20.01. 13:00",4.0999999999999996,0]
[null,null,null,null,null,null,null,null,null,null,null,null,null,null,null,null,null,null,null,null,null,null,null,null,null,null,null,470,"20.01. 14:00",4,0]
[null,null,null,null,null,null,null,null,null,null,null,null,null,null,null,null,null,null,null,null,null,null,null,null,null,null,null,471,"20.01. 15:00",4,0]
[null,null,null,null,null,null,null,null,null,null,null,null,null,null,null,null,null,null,null,null,null,null,null,null,null,null,null,472,"20.01. 16:00",3.2,0]
[null,null,null,null,null,null,null,null,null,null,null,null,null,null,null,null,null,null,null,null,null,null,null,null,null,null,null,473,"20.01. 17:00",2.9,0]
[null,null,null,null,null,null,null,null,null,null,null,null,null,null,null,null,null,null,null,null,null,null,null,null,null,null,null,474,"20.01. 18:00",2.5,0]
[null,null,null,null,null,null,null,null,null,null,null,null,null,null,null,null,null,null,null,null,null,null,null,null,null,null,null,475,"20.01. 19:00",2.1,0]
[null,null,null,null,null,null,null,null,null,null,null,null,null,null,null,null,null,null,null,null,null,null,null,null,null,null,null,476,"20.01. 20:00",1.7,0]
[null,null,null,null,null,null,null,null,null,null,null,null,null,null,null,null,null,null,null,null,null,null,null,null,null,null,null,477,"20.01. 21:00",1.4,0]
[null,null,null,null,null,null,null,null,null,null,null,null,null,null,null,null,null,null,null,null,null,null,null,null,null,null,null,478,"20.01. 22:00",1,0]
[null,null,null,null,null,null,null,null,null,null,null,null,null,null,null,null,null,null,null,null,null,null,null,null,null,null,null,479,"20.01. 23:00",0.6,0]
[null,null,null,null,null,null,null,null,null,null,null,null,null,null,null,null,null,null,null,null,null,null,null,null,null,null,null,480,"21.01. 00:00",0.5,0]
[null,null,null,null,null,null,null,null,null,null,null,null,null,null,null,null,null,null,null,null,null,null,null,null,null,null,null,481,"21.01. 01:00",0.3,0]
[null,null,null,null,null,null,null,null,null,null,null,null,null,null,null,null,null,null,null,null,null,null,null,null,null,null,null,482,"21.01. 02:00",0.2,0]
[null,null,null,null,null,null,null,null,null,null,null,null,null,null,null,null,null,null,null,null,null,null,null,null,null,null,null,483,"21.01. 03:00",0.3,0]
[null,null,null,null,null,null,null,null,null,null,null,null,null,null,null,null,null,null,null,null,null,null,null,null,null,null,null,484,"21.01. 04:00",0.3,0]
[null,null,null,null,null,null,null,null,null,null,null,null,null,null,null,null,null,null,null,null,null,null,null,null,null,null,null,485,"21.01. 05:00",0.2,0]
[null,null,null,null,null,null,null,null,null,null,null,null,null,null,null,null,null,null,null,null,null,null,null,null,null,null,null,486,"21.01. 06:00",0.3,0]
[null,null,null,null,null,null,null,null,null,null,null,null,null,null,null,null,null,null,null,null,null,null,null,null,null,null,null,487,"21.01. 07:00",0.3,0]
[null,null,null,null,null,null,null,null,null,null,null,null,null,null,null,null,null,null,null,null,null,null,null,null,null,null,null,488,"21.01. 08:00",0.5,0]
[null,null,null,null,null,null,null,null,null,null,null,null,null,null,null,null,null,null,null,null,null,null,null,null,null,null,null,489,"21.01. 09:00",1.9,0]
[null,null,null,null,null,null,null,null,null,null,null,null,null,null,null,null,null,null,null,null,null,null,null,null,null,null,null,490,"21.01. 10:00",2.5,0]
[null,null,null,null,null,null,null,null,null,null,null,null,null,null,null,null,null,null,null,null,null,null,null,null,null,null,null,491,"21.01. 11:00",3.2,0]
[null,null,null,null,null,null,null,null,null,null,null,null,null,null,null,null,null,null,null,null,null,null,null,null,null,null,null,492,"21.01. 12:00",4.5,0]
[null,null,null,null,null,null,null,null,null,null,null,null,null,null,null,null,null,null,null,null,null,null,null,null,null,null,null,493,"21.01. 13:00",4.7,0]
[null,null,null,null,null,null,null,null,null,null,null,null,null,null,null,null,null,null,null,null,null,null,null,null,null,null,null,494,"21.01. 14:00",4.0999999999999996,0]
[null,null,null,null,null,null,null,null,null,null,null,null,null,null,null,null,null,null,null,null,null,null,null,null,null,null,null,495,"21.01. 15:00",3.8,0]
[null,null,null,null,null,null,null,null,null,null,null,null,null,null,null,null,null,null,null,null,null,null,null,null,null,null,null,496,"21.01. 16:00",3.1,0]
[null,null,null,null,null,null,null,null,null,null,null,null,null,null,null,null,null,null,null,null,null,null,null,null,null,null,null,497,"21.01. 17:00",2.9,0]
[null,null,null,null,null,null,null,null,null,null,null,null,null,null,null,null,null,null,null,null,null,null,null,null,null,null,null,498,"21.01. 18:00",2.8,0]
[null,null,null,null,null,null,null,null,null,null,null,null,null,null,null,null,null,null,null,null,null,null,null,null,null,null,null,499,"21.01. 19:00",2.6,0]
[null,null,null,null,null,null,null,null,null,null,null,null,null,null,null,null,null,null,null,null,null,null,null,null,null,null,null,500,"21.01. 20:00",2.4,0]
[null,null,null,null,null,null,null,null,null,null,null,null,null,null,null,null,null,null,null,null,null,null,null,null,null,null,null,501,"21.01. 21:00",2.2999999999999998,0]
[null,null,null,null,null,null,null,null,null,null,null,null,null,null,null,null,null,null,null,null,null,null,null,null,null,null,null,502,"21.01. 22:00",2.1,0]
[null,null,null,null,null,null,null,null,null,null,null,null,null,null,null,null,null,null,null,null,null,null,null,null,null,null,null,503,"21.01. 23:00",1.9,0]
[null,null,null,null,null,null,null,null,null,null,null,null,null,null,null,null,null,null,null,null,null,null,null,null,null,null,null,504,"22.01. 00:00",1.7,0]
[null,null,null,null,null,null,null,null,null,null,null,null,null,null,null,null,null,null,null,null,null,null,null,null,null,null,null,505,"22.01. 01:00",1.5,0]
[null,null,null,null,null,null,null,null,null,null,null,null,null,null,null,null,null,null,null,null,null,null,null,null,null,null,null,506,"22.01. 02:00",1.3,0]
[null,null,null,null,null,null,null,null,null,null,null,null,null,null,null,null,null,null,null,null,null,null,null,null,null,null,null,507,"22.01. 03:00",1.5,0]
[null,null,null,null,null,null,null,null,null,null,null,null,null,null,null,null,null,null,null,null,null,null,null,null,null,null,null,508,"22.01. 04:00",1.3,0]
[null,null,null,null,null,null,null,null,null,null,null,null,null,null,null,null,null,null,null,null,null,null,null,null,null,null,null,509,"22.01. 05:00",1.2,0]
[null,null,null,null,null,null,null,null,null,null,null,null,null,null,null,null,null,null,null,null,null,null,null,null,null,null,null,510,"22.01. 06:00",1.3,0]
[null,null,null,null,null,null,null,null,null,null,null,null,null,null,null,null,null,null,null,null,null,null,null,null,null,null,null,511,"22.01. 07:00",1.2,0]
[null,null,null,null,null,null,null,null,null,null,null,null,null,null,null,null,null,null,null,null,null,null,null,null,null,null,null,512,"22.01. 08:00",1.4,{"$f":"IF(AD552<=$AC$25,1,0)","v":0}]
[null,null,null,null,null,null,null,null,null,null,null,null,null,null,null,null,null,null,null,null,null,null,null,null,null,null,null,513,"22.01. 09:00",2.4,0]
[null,null,null,null,null,null,null,null,null,null,null,null,null,null,null,null,null,null,null,null,null,null,null,null,null,null,null,514,"22.01. 10:00",2.7,0]
[null,null,null,null,null,null,null,null,null,null,null,null,null,null,null,null,null,null,null,null,null,null,null,null,null,null,null,515,"22.01. 11:00",3.2,0]
[null,null,null,null,null,null,null,null,null,null,null,null,null,null,null,null,null,null,null,null,null,null,null,null,null,null,null,516,"22.01. 12:00",3.7,0]
[null,null,null,null,null,null,null,null,null,null,null,null,null,null,null,null,null,null,null,null,null,null,null,null,null,null,null,517,"22.01. 13:00",4.2,0]
[null,null,null,null,null,null,null,null,null,null,null,null,null,null,null,null,null,null,null,null,null,null,null,null,null,null,null,518,"22.01. 14:00",4.4000000000000004,0]
[null,null,null,null,null,null,null,null,null,null,null,null,null,null,null,null,null,null,null,null,null,null,null,null,null,null,null,519,"22.01. 15:00",4.2,0]
[null,null,null,null,null,null,null,null,null,null,null,null,null,null,null,null,null,null,null,null,null,null,null,null,null,null,null,520,"22.01. 16:00",3.6,0]
[null,null,null,null,null,null,null,null,null,null,null,null,null,null,null,null,null,null,null,null,null,null,null,null,null,null,null,521,"22.01. 17:00",3.4,0]
[null,null,null,null,null,null,null,null,null,null,null,null,null,null,null,null,null,null,null,null,null,null,null,null,null,null,null,522,"22.01. 18:00",3.1,0]
[null,null,null,null,null,null,null,null,null,null,null,null,null,null,null,null,null,null,null,null,null,null,null,null,null,null,null,523,"22.01. 19:00",2.9,0]
[null,null,null,null,null,null,null,null,null,null,null,null,null,null,null,null,null,null,null,null,null,null,null,null,null,null,null,524,"22.01. 20:00",2.7,0]
[null,null,null,null,null,null,null,null,null,null,null,null,null,null,null,null,null,null,null,null,null,null,null,null,null,null,null,525,"22.01. 21:00",2.4,0]
[null,null,null,null,null,null,null,null,null,null,null,null,null,null,null,null,null,null,null,null,null,null,null,null,null,null,null,526,"22.01. 22:00",2.2000000000000002,0]
[null,null,null,null,null,null,null,null,null,null,null,null,null,null,null,null,null,null,null,null,null,null,null,null,null,null,null,527,"22.01. 23:00",1.9,0]
[null,null,null,null,null,null,null,null,null,null,null,null,null,null,null,null,null,null,null,null,null,null,null,null,null,null,null,528,"23.01. 00:00",1.8,0]
[null,null,null,null,null,null,null,null,null,null,null,null,null,null,null,null,null,null,null,null,null,null,null,null,null,null,null,529,"23.01. 01:00",1.6,0]
[null,null,null,null,null,null,null,null,null,null,null,null,null,null,null,null,null,null,null,null,null,null,null,null,null,null,null,530,"23.01. 02:00",1.4,0]
[null,null,null,null,null,null,null,null,null,null,null,null,null,null,null,null,null,null,null,null,null,null,null,null,null,null,null,531,"23.01. 03:00",1.5,0]
[null,null,null,null,null,null,null,null,null,null,null,null,null,null,null,null,null,null,null,null,null,null,null,null,null,null,null,532,"23.01. 04:00",1.4,0]
[null,null,null,null,null,null,null,null,null,null,null,null,null,null,null,null,null,null,null,null,null,null,null,null,null,null,null,533,"23.01. 05:00",1.2,0]
[null,null,null,null,null,null,null,null,null,null,null,null,null,null,null,null,null,null,null,null,null,null,null,null,null,null,null,534,"23.01. 06:00",1.3,0]
[null,null,null,null,null,null,null,null,null,null,null,null,null,null,null,null,null,null,null,null,null,null,null,null,null,null,null,535,"23.01. 07:00",1.2,0]
[null,null,null,null,null,null,null,null,null,null,null,null,null,null,null,null,null,null,null,null,null,null,null,null,null,null,null,536,"23.01. 08:00",1.5,0]
[null,null,null,null,null,null,null,null,null,null,null,null,null,null,null,null,null,null,null,null,null,null,null,null,null,null,null,537,"23.01. 09:00",2.6,0]
[null,null,null,null,null,null,null,null,null,null,null,null,null,null,null,null,null,null,null,null,null,null,null,null,null,null,null,538,"23.01. 10:00",3.7,0]
[null,null,null,null,null,null,null,null,null,null,null,null,null,null,null,null,null,null,null,null,null,null,null,null,null,null,null,539,"23.01. 11:00",4,0]
[null,null,null,null,null,null,null,null,null,null,null,null,null,null,null,null,null,null,null,null,null,null,null,null,null,null,null,540,"23.01. 12:00",4.2,0]
[null,null,null,null,null,null,null,null,null,null,null,null,null,null,null,null,null,null,null,null,null,null,null,null,null,null,null,541,"23.01. 13:00",4.2,0]
[null,null,null,null,null,null,null,null,null,null,null,null,null,null,null,null,null,null,null,null,null,null,null,null,null,null,null,542,"23.01. 14:00",4.0999999999999996,0]
[null,null,null,null,null,null,null,null,null,null,null,null,null,null,null,null,null,null,null,null,null,null,null,null,null,null,null,543,"23.01. 15:00",3.7,0]
[null,null,null,null,null,null,null,null,null,null,null,null,null,null,null,null,null,null,null,null,null,null,null,null,null,null,null,544,"23.01. 16:00",3.2,0]
[null,null,null,null,null,null,null,null,null,null,null,null,null,null,null,null,null,null,null,null,null,null,null,null,null,null,null,545,"23.01. 17:00",3.2,0]
[null,null,null,null,null,null,null,null,null,null,null,null,null,null,null,null,null,null,null,null,null,null,null,null,null,null,null,546,"23.01. 18:00",3.3,0]
[null,null,null,null,null,null,null,null,null,null,null,null,null,null,null,null,null,null,null,null,null,null,null,null,null,null,null,547,"23.01. 19:00",3.3,0]
[null,null,null,null,null,null,null,null,null,null,null,null,null,null,null,null,null,null,null,null,null,null,null,null,null,null,null,548,"23.01. 20:00",3.3,0]
[null,null,null,null,null,null,null,null,null,null,null,null,null,null,null,null,null,null,null,null,null,null,null,null,null,null,null,549,"23.01. 21:00",3.3,0]
[null,null,null,null,null,null,null,null,null,null,null,null,null,null,null,null,null,null,null,null,null,null,null,null,null,null,null,550,"23.01. 22:00",3.4,0]
[null,null,null,null,null,null,null,null,null,null,null,null,null,null,null,null,null,null,null,null,null,null,null,null,null,null,null,551,"23.01. 23:00",3.4,0]
[null,null,null,null,null,null,null,null,null,null,null,null,null,null,null,null,null,null,null,null,null,null,null,null,null,null,null,552,"24.01. 00:00",3.5,0]
[null,null,null,null,null,null,null,null,null,null,null,null,null,null,null,null,null,null,null,null,null,null,null,null,null,null,null,553,"24.01. 01:00",3.7,0]
[null,null,null,null,null,null,null,null,null,null,null,null,null,null,null,null,null,null,null,null,null,null,null,null,null,null,null,554,"24.01. 02:00",3.8,0]
[null,null,null,null,null,null,null,null,null,null,null,null,null,null,null,null,null,null,null,null,null,null,null,null,null,null,null,555,"24.01. 03:00",3.7,0]
[null,null,null,null,null,null,null,null,null,null,null,null,null,null,null,null,null,null,null,null,null,null,null,null,null,null,null,556,"24.01. 04:00",3.8,0]
[null,null,null,null,null,null,null,null,null,null,null,null,null,null,null,null,null,null,null,null,null,null,null,null,null,null,null,557,"24.01. 05:00",3.9,0]
[null,null,null,null,null,null,null,null,null,null,null,null,null,null,null,null,null,null,null,null,null,null,null,null,null,null,null,558,"24.01. 06:00",3.9,0]
[null,null,null,null,null,null,null,null,null,null,null,null,null,null,null,null,null,null,null,null,null,null,null,null,null,null,null,559,"24.01. 07:00",4,0]
[null,null,null,null,null,null,null,null,null,null,null,null,null,null,null,null,null,null,null,null,null,null,null,null,null,null,null,560,"24.01. 08:00",4.2,0]
[null,null,null,null,null,null,null,null,null,null,null,null,null,null,null,null,null,null,null,null,null,null,null,null,null,null,null,561,"24.01. 09:00",5.3,0]
[null,null,null,null,null,null,null,null,null,null,null,null,null,null,null,null,null,null,null,null,null,null,null,null,null,null,null,562,"24.01. 10:00",6.1,0]
[null,null,null,null,null,null,null,null,null,null,null,null,null,null,null,null,null,null,null,null,null,null,null,null,null,null,null,563,"24.01. 11:00",7,0]
[null,null,null,null,null,null,null,null,null,null,null,null,null,null,null,null,null,null,null,null,null,null,null,null,null,null,null,564,"24.01. 12:00",7.5,0]
[null,null,null,null,null,null,null,null,null,null,null,null,null,null,null,null,null,null,null,null,null,null,null,null,null,null,null,565,"24.01. 13:00",7.7,0]
[null,null,null,null,null,null,null,null,null,null,null,null,null,null,null,null,null,null,null,null,null,null,null,null,null,null,null,566,"24.01. 14:00",7.8,0]
[null,null,null,null,null,null,null,null,null,null,null,null,null,null,null,null,null,null,null,null,null,null,null,null,null,null,null,567,"24.01. 15:00",7.6,0]
[null,null,null,null,null,null,null,null,null,null,null,null,null,null,null,null,null,null,null,null,null,null,null,null,null,null,null,568,"24.01. 16:00",7.2,0]
[null,null,null,null,null,null,null,null,null,null,null,null,null,null,null,null,null,null,null,null,null,null,null,null,null,null,null,569,"24.01. 17:00",7.2,0]
[null,null,null,null,null,null,null,null,null,null,null,null,null,null,null,null,null,null,null,null,null,null,null,null,null,null,null,570,"24.01. 18:00",7.1,0]
[null,null,null,null,null,null,null,null,null,null,null,null,null,null,null,null,null,null,null,null,null,null,null,null,null,null,null,571,"24.01. 19:00",7.1,0]
[null,null,null,null,null,null,null,null,null,null,null,null,null,null,null,null,null,null,null,null,null,null,null,null,null,null,null,572,"24.01. 20:00",7.1,0]
[null,null,null,null,null,null,null,null,null,null,null,null,null,null,null,null,null,null,null,null,null,null,null,null,null,null,null,573,"24.01. 21:00",7,0]
[null,null,null,null,null,null,null,null,null,null,null,null,null,null,null,null,null,null,null,null,null,null,null,null,null,null,null,574,"24.01. 22:00",7,0]
[null,null,null,null,null,null,null,null,null,null,null,null,null,null,null,null,null,null,null,null,null,null,null,null,null,null,null,575,"24.01. 23:00",6.9,0]
[null,null,null,null,null,null,null,null,null,null,null,null,null,null,null,null,null,null,null,null,null,null,null,null,null,null,null,576,"25.01. 00:00",6.8,{"$f":"IF(AD616<=$AC$25,1,0)","v":0}]
[null,null,null,null,null,null,null,null,null,null,null,null,null,null,null,null,null,null,null,null,null,null,null,null,null,null,null,577,"25.01. 01:00",6.6,0]
[null,null,null,null,null,null,null,null,null,null,null,null,null,null,null,null,null,null,null,null,null,null,null,null,null,null,null,578,"25.01. 02:00",6.4,0]
[null,null,null,null,null,null,null,null,null,null,null,null,null,null,null,null,null,null,null,null,null,null,null,null,null,null,null,579,"25.01. 03:00",6.6,0]
[null,null,null,null,null,null,null,null,null,null,null,null,null,null,null,null,null,null,null,null,null,null,null,null,null,null,null,580,"25.01. 04:00",6.5,0]
[null,null,null,null,null,null,null,null,null,null,null,null,null,null,null,null,null,null,null,null,null,null,null,null,null,null,null,581,"25.01. 05:00",6.4,0]
[null,null,null,null,null,null,null,null,null,null,null,null,null,null,null,null,null,null,null,null,null,null,null,null,null,null,null,582,"25.01. 06:00",6.5,0]
[null,null,null,null,null,null,null,null,null,null,null,null,null,null,null,null,null,null,null,null,null,null,null,null,null,null,null,583,"25.01. 07:00",6.4,0]
[null,null,null,null,null,null,null,null,null,null,null,null,null,null,null,null,null,null,null,null,null,null,null,null,null,null,null,584,"25.01. 08:00",6.5,0]
[null,null,null,null,null,null,null,null,null,null,null,null,null,null,null,null,null,null,null,null,null,null,null,null,null,null,null,585,"25.01. 09:00",7,0]
[null,null,null,null,null,null,null,null,null,null,null,null,null,null,null,null,null,null,null,null,null,null,null,null,null,null,null,586,"25.01. 10:00",7.3,0]
[null,null,null,null,null,null,null,null,null,null,null,null,null,null,null,null,null,null,null,null,null,null,null,null,null,null,null,587,"25.01. 11:00",7.6,0]
[null,null,null,null,null,null,null,null,null,null,null,null,null,null,null,null,null,null,null,null,null,null,null,null,null,null,null,588,"25.01. 12:00",7.7,0]
[null,null,null,null,null,null,null,null,null,null,null,null,null,null,null,null,null,null,null,null,null,null,null,null,null,null,null,589,"25.01. 13:00",7.9,0]
[null,null,null,null,null,null,null,null,null,null,null,null,null,null,null,null,null,null,null,null,null,null,null,null,null,null,null,590,"25.01. 14:00",7.9,0]
[null,null,null,null,null,null,null,null,null,null,null,null,null,null,null,null,null,null,null,null,null,null,null,null,null,null,null,591,"25.01. 15:00",7.8,0]
[null,null,null,null,null,null,null,null,null,null,null,null,null,null,null,null,null,null,null,null,null,null,null,null,null,null,null,592,"25.01. 16:00",7.6,0]
[null,null,null,null,null,null,null,null,null,null,null,null,null,null,null,null,null,null,null,null,null,null,null,null,null,null,null,593,"25.01. 17:00",7.3,0]
[null,null,null,null,null,null,null,null,null,null,null,null,null,null,null,null,null,null,null,null,null,null,null,null,null,null,null,594,"25.01. 18:00",7,0]
[null,null,null,null,null,null,null,null,null,null,null,null,null,null,null,null,null,null,null,null,null,null,null,null,null,null,null,595,"25.01. 19:00",6.7,0]
[null,null,null,null,null,null,null,null,null,null,null,null,null,null,null,null,null,null,null,null,null,null,null,null,null,null,null,596,"25.01. 20:00",6.3,0]
[null,null,null,null,null,null,null,null,null,null,null,null,null,null,null,null,null,null,null,null,null,null,null,null,null,null,null,597,"25.01. 21:00",6,0]
[null,null,null,null,null,null,null,null,null,null,null,null,null,null,null,null,null,null,null,null,null,null,null,null,null,null,null,598,"25.01. 22:00",5.7,0]
[null,null,null,null,null,null,null,null,null,null,null,null,null,null,null,null,null,null,null,null,null,null,null,null,null,null,null,599,"25.01. 23:00",5.3,0]
[null,null,null,null,null,null,null,null,null,null,null,null,null,null,null,null,null,null,null,null,null,null,null,null,null,null,null,600,"26.01. 00:00",5,0]
[null,null,null,null,null,null,null,null,null,null,null,null,null,null,null,null,null,null,null,null,null,null,null,null,null,null,null,601,"26.01. 01:00",4.5999999999999996,0]
[null,null,null,null,null,null,null,null,null,null,null,null,null,null,null,null,null,null,null,null,null,null,null,null,null,null,null,602,"26.01. 02:00",4.2,0]
[null,null,null,null,null,null,null,null,null,null,null,null,null,null,null,null,null,null,null,null,null,null,null,null,null,null,null,603,"26.01. 03:00",4.5,0]
[null,null,null,null,null,null,null,null,null,null,null,null,null,null,null,null,null,null,null,null,null,null,null,null,null,null,null,604,"26.01. 04:00",4.3,0]
[null,null,null,null,null,null,null,null,null,null,null,null,null,null,null,null,null,null,null,null,null,null,null,null,null,null,null,605,"26.01. 05:00",4.0999999999999996,0]
[null,null,null,null,null,null,null,null,null,null,null,null,null,null,null,null,null,null,null,null,null,null,null,null,null,null,null,606,"26.01. 06:00",4.3,0]
[null,null,null,null,null,null,null,null,null,null,null,null,null,null,null,null,null,null,null,null,null,null,null,null,null,null,null,607,"26.01. 07:00",4.2,0]
[null,null,null,null,null,null,null,null,null,null,null,null,null,null,null,null,null,null,null,null,null,null,null,null,null,null,null,608,"26.01. 08:00",4.2,0]
[null,null,null,null,null,null,null,null,null,null,null,null,null,null,null,null,null,null,null,null,null,null,null,null,null,null,null,609,"26.01. 09:00",4.3,0]
[null,null,null,null,null,null,null,null,null,null,null,null,null,null,null,null,null,null,null,null,null,null,null,null,null,null,null,610,"26.01. 10:00",4.5,0]
[null,null,null,null,null,null,null,null,null,null,null,null,null,null,null,null,null,null,null,null,null,null,null,null,null,null,null,611,"26.01. 11:00",4.5,0]
[null,null,null,null,null,null,null,null,null,null,null,null,null,null,null,null,null,null,null,null,null,null,null,null,null,null,null,612,"26.01. 12:00",4.5999999999999996,0]
[null,null,null,null,null,null,null,null,null,null,null,null,null,null,null,null,null,null,null,null,null,null,null,null,null,null,null,613,"26.01. 13:00",6.1,0]
[null,null,null,null,null,null,null,null,null,null,null,null,null,null,null,null,null,null,null,null,null,null,null,null,null,null,null,614,"26.01. 14:00",6.9,0]
[null,null,null,null,null,null,null,null,null,null,null,null,null,null,null,null,null,null,null,null,null,null,null,null,null,null,null,615,"26.01. 15:00",7.1,0]
[null,null,null,null,null,null,null,null,null,null,null,null,null,null,null,null,null,null,null,null,null,null,null,null,null,null,null,616,"26.01. 16:00",6.9,0]
[null,null,null,null,null,null,null,null,null,null,null,null,null,null,null,null,null,null,null,null,null,null,null,null,null,null,null,617,"26.01. 17:00",6.4,0]
[null,null,null,null,null,null,null,null,null,null,null,null,null,null,null,null,null,null,null,null,null,null,null,null,null,null,null,618,"26.01. 18:00",5.9,0]
[null,null,null,null,null,null,null,null,null,null,null,null,null,null,null,null,null,null,null,null,null,null,null,null,null,null,null,619,"26.01. 19:00",5.4,0]
[null,null,null,null,null,null,null,null,null,null,null,null,null,null,null,null,null,null,null,null,null,null,null,null,null,null,null,620,"26.01. 20:00",4.9000000000000004,0]
[null,null,null,null,null,null,null,null,null,null,null,null,null,null,null,null,null,null,null,null,null,null,null,null,null,null,null,621,"26.01. 21:00",4.3,0]
[null,null,null,null,null,null,null,null,null,null,null,null,null,null,null,null,null,null,null,null,null,null,null,null,null,null,null,622,"26.01. 22:00",3.8,0]
[null,null,null,null,null,null,null,null,null,null,null,null,null,null,null,null,null,null,null,null,null,null,null,null,null,null,null,623,"26.01. 23:00",3.3,0]
[null,null,null,null,null,null,null,null,null,null,null,null,null,null,null,null,null,null,null,null,null,null,null,null,null,null,null,624,"27.01. 00:00",2.9,0]
[null,null,null,null,null,null,null,null,null,null,null,null,null,null,null,null,null,null,null,null,null,null,null,null,null,null,null,625,"27.01. 01:00",2.4,0]
[null,null,null,null,null,null,null,null,null,null,null,null,null,null,null,null,null,null,null,null,null,null,null,null,null,null,null,626,"27.01. 02:00",2,0]
[null,null,null,null,null,null,null,null,null,null,null,null,null,null,null,null,null,null,null,null,null,null,null,null,null,null,null,627,"27.01. 03:00",2.4,0]
[null,null,null,null,null,null,null,null,null,null,null,null,null,null,null,null,null,null,null,null,null,null,null,null,null,null,null,628,"27.01. 04:00",2.1,0]
[null,null,null,null,null,null,null,null,null,null,null,null,null,null,null,null,null,null,null,null,null,null,null,null,null,null,null,629,"27.01. 05:00",1.9,0]
[null,null,null,null,null,null,null,null,null,null,null,null,null,null,null,null,null,null,null,null,null,null,null,null,null,null,null,630,"27.01. 06:00",2.1,0]
[null,null,null,null,null,null,null,null,null,null,null,null,null,null,null,null,null,null,null,null,null,null,null,null,null,null,null,631,"27.01. 07:00",2,0]
[null,null,null,null,null,null,null,null,null,null,null,null,null,null,null,null,null,null,null,null,null,null,null,null,null,null,null,632,"27.01. 08:00",2.2999999999999998,0]
[null,null,null,null,null,null,null,null,null,null,null,null,null,null,null,null,null,null,null,null,null,null,null,null,null,null,null,633,"27.01. 09:00",4,0]
[null,null,null,null,null,null,null,null,null,null,null,null,null,null,null,null,null,null,null,null,null,null,null,null,null,null,null,634,"27.01. 10:00",5.3,0]
[null,null,null,null,null,null,null,null,null,null,null,null,null,null,null,null,null,null,null,null,null,null,null,null,null,null,null,635,"27.01. 11:00",6.3,0]
[null,null,null,null,null,null,null,null,null,null,null,null,null,null,null,null,null,null,null,null,null,null,null,null,null,null,null,636,"27.01. 12:00",7.6,0]
[null,null,null,null,null,null,null,null,null,null,null,null,null,null,null,null,null,null,null,null,null,null,null,null,null,null,null,637,"27.01. 13:00",8,0]
[null,null,null,null,null,null,null,null,null,null,null,null,null,null,null,null,null,null,null,null,null,null,null,null,null,null,null,638,"27.01. 14:00",7.4,0]
[null,null,null,null,null,null,null,null,null,null,null,null,null,null,null,null,null,null,null,null,null,null,null,null,null,null,null,639,"27.01. 15:00",7.1,0]
[null,null,null,null,null,null,null,null,null,null,null,null,null,null,null,null,null,null,null,null,null,null,null,null,null,null,null,640,"27.01. 16:00",6.5,{"$f":"IF(AD680<=$AC$25,1,0)","v":0}]
[null,null,null,null,null,null,null,null,null,null,null,null,null,null,null,null,null,null,null,null,null,null,null,null,null,null,null,641,"27.01. 17:00",5.9,0]
[null,null,null,null,null,null,null,null,null,null,null,null,null,null,null,null,null,null,null,null,null,null,null,null,null,null,null,642,"27.01. 18:00",5.3,0]
[null,null,null,null,null,null,null,null,null,null,null,null,null,null,null,null,null,null,null,null,null,null,null,null,null,null,null,643,"27.01. 19:00",4.7,0]
[null,null,null,null,null,null,null,null,null,null,null,null,null,null,null,null,null,null,null,null,null,null,null,null,null,null,null,644,"27.01. 20:00",4.0999999999999996,0]
[null,null,null,null,null,null,null,null,null,null,null,null,null,null,null,null,null,null,null,null,null,null,null,null,null,null,null,645,"27.01. 21:00",3.5,0]
[null,null,null,null,null,null,null,null,null,null,null,null,null,null,null,null,null,null,null,null,null,null,null,null,null,null,null,646,"27.01. 22:00",2.8,0]
[null,null,null,null,null,null,null,null,null,null,null,null,null,null,null,null,null,null,null,null,null,null,null,null,null,null,null,647,"27.01. 23:00",2.2000000000000002,0]
[null,null,null,null,null,null,null,null,null,null,null,null,null,null,null,null,null,null,null,null,null,null,null,null,null,null,null,648,"28.01. 00:00",1.8,0]
[null,null,null,null,null,null,null,null,null,null,null,null,null,null,null,null,null,null,null,null,null,null,null,null,null,null,null,649,"28.01. 01:00",1.1000000000000001,0]
[null,null,null,null,null,null,null,null,null,null,null,null,null,null,null,null,null,null,null,null,null,null,null,null,null,null,null,650,"28.01. 02:00",0.5,0]
[null,null,null,null,null,null,null,null,null,null,null,null,null,null,null,null,null,null,null,null,null,null,null,null,null,null,null,651,"28.01. 03:00",0.8,0]
[null,null,null,null,null,null,null,null,null,null,null,null,null,null,null,null,null,null,null,null,null,null,null,null,null,null,null,652,"28.01. 04:00",0.5,0]
[null,null,null,null,null,null,null,null,null,null,null,null,null,null,null,null,null,null,null,null,null,null,null,null,null,null,null,653,"28.01. 05:00",0.1,0]
[null,null,null,null,null,null,null,null,null,null,null,null,null,null,null,null,null,null,null,null,null,null,null,null,null,null,null,654,"28.01. 06:00",0.3,0]
[null,null,null,null,null,null,null,null,null,null,null,null,null,null,null,null,null,null,null,null,null,null,null,null,null,null,null,655,"28.01. 07:00",-0.05,0]
[null,null,null,null,null,null,null,null,null,null,null,null,null,null,null,null,null,null,null,null,null,null,null,null,null,null,null,656,"28.01. 08:00",0.5,0]
[null,null,null,null,null,null,null,null,null,null,null,null,null,null,null,null,null,null,null,null,null,null,null,null,null,null,null,657,"28.01. 09:00",2.8,0]
[null,null,null,null,null,null,null,null,null,null,null,null,null,null,null,null,null,null,null,null,null,null,null,null,null,null,null,658,"28.01. 10:00",4.8,0]
[null,null,null,null,null,null,null,null,null,null,null,null,null,null,null,null,null,null,null,null,null,null,null,null,null,null,null,659,"28.01. 11:00",6.8,0]
[null,null,null,null,null,null,null,null,null,null,null,null,null,null,null,null,null,null,null,null,null,null,null,null,null,null,null,660,"28.01. 12:00",8,0]
[null,null,null,null,null,null,null,null,null,null,null,null,null,null,null,null,null,null,null,null,null,null,null,null,null,null,null,661,"28.01. 13:00",8.8000000000000007,0]
[null,null,null,null,null,null,null,null,null,null,null,null,null,null,null,null,null,null,null,null,null,null,null,null,null,null,null,662,"28.01. 14:00",8.6999999999999993,0]
[null,null,null,null,null,null,null,null,null,null,null,null,null,null,null,null,null,null,null,null,null,null,null,null,null,null,null,663,"28.01. 15:00",7.9,0]
[null,null,null,null,null,null,null,null,null,null,null,null,null,null,null,null,null,null,null,null,null,null,null,null,null,null,null,664,"28.01. 16:00",6.6,0]
[null,null,null,null,null,null,null,null,null,null,null,null,null,null,null,null,null,null,null,null,null,null,null,null,null,null,null,665,"28.01. 17:00",5.8,0]
[null,null,null,null,null,null,null,null,null,null,null,null,null,null,null,null,null,null,null,null,null,null,null,null,null,null,null,666,"28.01. 18:00",5.0999999999999996,0]
[null,null,null,null,null,null,null,null,null,null,null,null,null,null,null,null,null,null,null,null,null,null,null,null,null,null,null,667,"28.01. 19:00",4.3,0]
[null,null,null,null,null,null,null,null,null,null,null,null,null,null,null,null,null,null,null,null,null,null,null,null,null,null,null,668,"28.01. 20:00",3.5,0]
[null,null,null,null,null,null,null,null,null,null,null,null,null,null,null,null,null,null,null,null,null,null,null,null,null,null,null,669,"28.01. 21:00",2.7,0]
[null,null,null,null,null,null,null,null,null,null,null,null,null,null,null,null,null,null,null,null,null,null,null,null,null,null,null,670,"28.01. 22:00",1.9,0]
[null,null,null,null,null,null,null,null,null,null,null,null,null,null,null,null,null,null,null,null,null,null,null,null,null,null,null,671,"28.01. 23:00",1.2,0]
[null,null,null,null,null,null,null,null,null,null,null,null,null,null,null,null,null,null,null,null,null,null,null,null,null,null,null,672,"29.01. 00:00",0.9,0]
[null,null,null,null,null,null,null,null,null,null,null,null,null,null,null,null,null,null,null,null,null,null,null,null,null,null,null,673,"29.01. 01:00",0.7,0]
[null,null,null,null,null,null,null,null,null,null,null,null,null,null,null,null,null,null,null,null,null,null,null,null,null,null,null,674,"29.01. 02:00",0.5,0]
[null,null,null,null,null,null,null,null,null,null,null,null,null,null,null,null,null,null,null,null,null,null,null,null,null,null,null,675,"29.01. 03:00",0.7,0]
[null,null,null,null,null,null,null,null,null,null,null,null,null,null,null,null,null,null,null,null,null,null,null,null,null,null,null,676,"29.01. 04:00",0.6,0]
[null,null,null,null,null,null,null,null,null,null,null,null,null,null,null,null,null,null,null,null,null,null,null,null,null,null,null,677,"29.01. 05:00",0.5,0]
[null,null,null,null,null,null,null,null,null,null,null,null,null,null,null,null,null,null,null,null,null,null,null,null,null,null,null,678,"29.01. 06:00",0.6,0]
[null,null,null,null,null,null,null,null,null,null,null,null,null,null,null,null,null,null,null,null,null,null,null,null,null,null,null,679,"29.01. 07:00",0.6,0]
[null,null,null,null,null,null,null,null,null,null,null,null,null,null,null,null,null,null,null,null,null,null,null,null,null,null,null,680,"29.01. 08:00",0.6,0]
[null,null,null,null,null,null,null,null,null,null,null,null,null,null,null,null,null,null,null,null,null,null,null,null,null,null,null,681,"29.01. 09:00",1.1000000000000001,0]
[null,null,null,null,null,null,null,null,null,null,null,null,null,null,null,null,null,null,null,null,null,null,null,null,null,null,null,682,"29.01. 10:00",1.5,0]
[null,null,null,null,null,null,null,null,null,null,null,null,null,null,null,null,null,null,null,null,null,null,null,null,null,null,null,683,"29.01. 11:00",1.9,0]
[null,null,null,null,null,null,null,null,null,null,null,null,null,null,null,null,null,null,null,null,null,null,null,null,null,null,null,684,"29.01. 12:00",2.2999999999999998,0]
[null,null,null,null,null,null,null,null,null,null,null,null,null,null,null,null,null,null,null,null,null,null,null,null,null,null,null,685,"29.01. 13:00",4,0]
[null,null,null,null,null,null,null,null,null,null,null,null,null,null,null,null,null,null,null,null,null,null,null,null,null,null,null,686,"29.01. 14:00",4.9000000000000004,0]
[null,null,null,null,null,null,null,null,null,null,null,null,null,null,null,null,null,null,null,null,null,null,null,null,null,null,null,687,"29.01. 15:00",5.2,0]
[null,null,null,null,null,null,null,null,null,null,null,null,null,null,null,null,null,null,null,null,null,null,null,null,null,null,null,688,"29.01. 16:00",4.9000000000000004,0]
[null,null,null,null,null,null,null,null,null,null,null,null,null,null,null,null,null,null,null,null,null,null,null,null,null,null,null,689,"29.01. 17:00",4.4000000000000004,0]
[null,null,null,null,null,null,null,null,null,null,null,null,null,null,null,null,null,null,null,null,null,null,null,null,null,null,null,690,"29.01. 18:00",4,0]
[null,null,null,null,null,null,null,null,null,null,null,null,null,null,null,null,null,null,null,null,null,null,null,null,null,null,null,691,"29.01. 19:00",3.6,0]
[null,null,null,null,null,null,null,null,null,null,null,null,null,null,null,null,null,null,null,null,null,null,null,null,null,null,null,692,"29.01. 20:00",3.2,0]
[null,null,null,null,null,null,null,null,null,null,null,null,null,null,null,null,null,null,null,null,null,null,null,null,null,null,null,693,"29.01. 21:00",2.7,0]
[null,null,null,null,null,null,null,null,null,null,null,null,null,null,null,null,null,null,null,null,null,null,null,null,null,null,null,694,"29.01. 22:00",2.2999999999999998,0]
[null,null,null,null,null,null,null,null,null,null,null,null,null,null,null,null,null,null,null,null,null,null,null,null,null,null,null,695,"29.01. 23:00",1.9,0]
[null,null,null,null,null,null,null,null,null,null,null,null,null,null,null,null,null,null,null,null,null,null,null,null,null,null,null,696,"30.01. 00:00",1.5,0]
[null,null,null,null,null,null,null,null,null,null,null,null,null,null,null,null,null,null,null,null,null,null,null,null,null,null,null,697,"30.01. 01:00",1,0]
[null,null,null,null,null,null,null,null,null,null,null,null,null,null,null,null,null,null,null,null,null,null,null,null,null,null,null,698,"30.01. 02:00",0.5,0]
[null,null,null,null,null,null,null,null,null,null,null,null,null,null,null,null,null,null,null,null,null,null,null,null,null,null,null,699,"30.01. 03:00",0.9,0]
[null,null,null,null,null,null,null,null,null,null,null,null,null,null,null,null,null,null,null,null,null,null,null,null,null,null,null,700,"30.01. 04:00",0.7,0]
[null,null,null,null,null,null,null,null,null,null,null,null,null,null,null,null,null,null,null,null,null,null,null,null,null,null,null,701,"30.01. 05:00",0.4,0]
[null,null,null,null,null,null,null,null,null,null,null,null,null,null,null,null,null,null,null,null,null,null,null,null,null,null,null,702,"30.01. 06:00",0.7,0]
[null,null,null,null,null,null,null,null,null,null,null,null,null,null,null,null,null,null,null,null,null,null,null,null,null,null,null,703,"30.01. 07:00",0.5,0]
[null,null,null,null,null,null,null,null,null,null,null,null,null,null,null,null,null,null,null,null,null,null,null,null,null,null,null,704,"30.01. 08:00",0.7,{"$f":"IF(AD744<=$AC$25,1,0)","v":0}]
[null,null,null,null,null,null,null,null,null,null,null,null,null,null,null,null,null,null,null,null,null,null,null,null,null,null,null,705,"30.01. 09:00",1.7,0]
[null,null,null,null,null,null,null,null,null,null,null,null,null,null,null,null,null,null,null,null,null,null,null,null,null,null,null,706,"30.01. 10:00",2.9,0]
[null,null,null,null,null,null,null,null,null,null,null,null,null,null,null,null,null,null,null,null,null,null,null,null,null,null,null,707,"30.01. 11:00",4,0]
[null,null,null,null,null,null,null,null,null,null,null,null,null,null,null,null,null,null,null,null,null,null,null,null,null,null,null,708,"30.01. 12:00",4.7,0]
[null,null,null,null,null,null,null,null,null,null,null,null,null,null,null,null,null,null,null,null,null,null,null,null,null,null,null,709,"30.01. 13:00",4.8,0]
[null,null,null,null,null,null,null,null,null,null,null,null,null,null,null,null,null,null,null,null,null,null,null,null,null,null,null,710,"30.01. 14:00",3.9,0]
[null,null,null,null,null,null,null,null,null,null,null,null,null,null,null,null,null,null,null,null,null,null,null,null,null,null,null,711,"30.01. 15:00",3.1,0]
[null,null,null,null,null,null,null,null,null,null,null,null,null,null,null,null,null,null,null,null,null,null,null,null,null,null,null,712,"30.01. 16:00",2.6,0]
[null,null,null,null,null,null,null,null,null,null,null,null,null,null,null,null,null,null,null,null,null,null,null,null,null,null,null,713,"30.01. 17:00",2.2000000000000002,0]
[null,null,null,null,null,null,null,null,null,null,null,null,null,null,null,null,null,null,null,null,null,null,null,null,null,null,null,714,"30.01. 18:00",1.8,0]
[null,null,null,null,null,null,null,null,null,null,null,null,null,null,null,null,null,null,null,null,null,null,null,null,null,null,null,715,"30.01. 19:00",1.5,0]
[null,null,null,null,null,null,null,null,null,null,null,null,null,null,null,null,null,null,null,null,null,null,null,null,null,null,null,716,"30.01. 20:00",1.1000000000000001,0]
[null,null,null,null,null,null,null,null,null,null,null,null,null,null,null,null,null,null,null,null,null,null,null,null,null,null,null,717,"30.01. 21:00",0.8,0]
[null,null,null,null,null,null,null,null,null,null,null,null,null,null,null,null,null,null,null,null,null,null,null,null,null,null,null,718,"30.01. 22:00",0.4,0]
[null,null,null,null,null,null,null,null,null,null,null,null,null,null,null,null,null,null,null,null,null,null,null,null,null,null,null,719,"30.01. 23:00",0.02,0]
[null,null,null,null,null,null,null,null,null,null,null,null,null,null,null,null,null,null,null,null,null,null,null,null,null,null,null,720,"31.01. 00:00",-0.2,0]
[null,null,null,null,null,null,null,null,null,null,null,null,null,null,null,null,null,null,null,null,null,null,null,null,null,null,null,721,"31.01. 01:00",-0.5,0]
[null,null,null,null,null,null,null,null,null,null,null,null,null,null,null,null,null,null,null,null,null,null,null,null,null,null,null,722,"31.01. 02:00",-0.8,0]
[null,null,null,null,null,null,null,null,null,null,null,null,null,null,null,null,null,null,null,null,null,null,null,null,null,null,null,723,"31.01. 03:00",-0.5,0]
[null,null,null,null,null,null,null,null,null,null,null,null,null,null,null,null,null,null,null,null,null,null,null,null,null,null,null,724,"31.01. 04:00",-0.6,0]
[null,null,null,null,null,null,null,null,null,null,null,null,null,null,null,null,null,null,null,null,null,null,null,null,null,null,null,725,"31.01. 05:00",-0.7,0]
[null,null,null,null,null,null,null,null,null,null,null,null,null,null,null,null,null,null,null,null,null,null,null,null,null,null,null,726,"31.01. 06:00",-0.6,0]
[null,null,null,null,null,null,null,null,null,null,null,null,null,null,null,null,null,null,null,null,null,null,null,null,null,null,null,727,"31.01. 07:00",-0.6,0]
[null,null,null,null,null,null,null,null,null,null,null,null,null,null,null,null,null,null,null,null,null,null,null,null,null,null,null,728,"31.01. 08:00",-0.3,0]
[null,null,null,null,null,null,null,null,null,null,null,null,null,null,null,null,null,null,null,null,null,null,null,null,null,null,null,729,"31.01. 09:00",0.9,0]
[null,null,null,null,null,null,null,null,null,null,null,null,null,null,null,null,null,null,null,null,null,null,null,null,null,null,null,730,"31.01. 10:00",2,0]
[null,null,null,null,null,null,null,null,null,null,null,null,null,null,null,null,null,null,null,null,null,null,null,null,null,null,null,731,"31.01. 11:00",3.5,0]
[null,null,null,null,null,null,null,null,null,null,null,null,null,null,null,null,null,null,null,null,null,null,null,null,null,null,null,732,"31.01. 12:00",4,0]
[null,null,null,null,null,null,null,null,null,null,null,null,null,null,null,null,null,null,null,null,null,null,null,null,null,null,null,733,"31.01. 13:00",4.0999999999999996,0]
[null,null,null,null,null,null,null,null,null,null,null,null,null,null,null,null,null,null,null,null,null,null,null,null,null,null,null,734,"31.01. 14:00",4.3,0]
[null,null,null,null,null,null,null,null,null,null,null,null,null,null,null,null,null,null,null,null,null,null,null,null,null,null,null,735,"31.01. 15:00",3.5,0]
[null,null,null,null,null,null,null,null,null,null,null,null,null,null,null,null,null,null,null,null,null,null,null,null,null,null,null,736,"31.01. 16:00",2.8,0]
[null,null,null,null,null,null,null,null,null,null,null,null,null,null,null,null,null,null,null,null,null,null,null,null,null,null,null,737,"31.01. 17:00",2.2000000000000002,0]
[null,null,null,null,null,null,null,null,null,null,null,null,null,null,null,null,null,null,null,null,null,null,null,null,null,null,null,738,"31.01. 18:00",1.7,0]
[null,null,null,null,null,null,null,null,null,null,null,null,null,null,null,null,null,null,null,null,null,null,null,null,null,null,null,739,"31.01. 19:00",1.2,0]
[null,null,null,null,null,null,null,null,null,null,null,null,null,null,null,null,null,null,null,null,null,null,null,null,null,null,null,740,"31.01. 20:00",0.6,0]
[null,null,null,null,null,null,null,null,null,null,null,null,null,null,null,null,null,null,null,null,null,null,null,null,null,null,null,741,"31.01. 21:00",0.1,0]
[null,null,null,null,null,null,null,null,null,null,null,null,null,null,null,null,null,null,null,null,null,null,null,null,null,null,null,742,"31.01. 22:00",-0.4,0]
[null,null,null,null,null,null,null,null,null,null,null,null,null,null,null,null,null,null,null,null,null,null,null,null,null,null,null,743,"31.01. 23:00",-0.9,0]
[null,null,null,null,null,null,null,null,null,null,null,null,null,null,null,null,null,null,null,null,null,null,null,null,null,null,null,744,"01.02. 00:00",-1.5,0]
[null,null,null,null,null,null,null,null,null,null,null,null,null,null,null,null,null,null,null,null,null,null,null,null,null,null,null,745,"01.02. 01:00",-2.1,0]
[null,null,null,null,null,null,null,null,null,null,null,null,null,null,null,null,null,null,null,null,null,null,null,null,null,null,null,746,"01.02. 02:00",-2.8,0]
[null,null,null,null,null,null,null,null,null,null,null,null,null,null,null,null,null,null,null,null,null,null,null,null,null,null,null,747,"01.02. 03:00",-2.2999999999999998,0]
[null,null,null,null,null,null,null,null,null,null,null,null,null,null,null,null,null,null,null,null,null,null,null,null,null,null,null,748,"01.02. 04:00",-2.7,0]
[null,null,null,null,null,null,null,null,null,null,null,null,null,null,null,null,null,null,null,null,null,null,null,null,null,null,null,749,"01.02. 05:00",-3.1,0]
[null,null,null,null,null,null,null,null,null,null,null,null,null,null,null,null,null,null,null,null,null,null,null,null,null,null,null,750,"01.02. 06:00",-2.8,0]
[null,null,null,null,null,null,null,null,null,null,null,null,null,null,null,null,null,null,null,null,null,null,null,null,null,null,null,751,"01.02. 07:00",-3.1,0]
[null,null,null,null,null,null,null,null,null,null,null,null,null,null,null,null,null,null,null,null,null,null,null,null,null,null,null,752,"01.02. 08:00",-3.1,0]
[null,null,null,null,null,null,null,null,null,null,null,null,null,null,null,null,null,null,null,null,null,null,null,null,null,null,null,753,"01.02. 09:00",-2.7,0]
[null,null,null,null,null,null,null,null,null,null,null,null,null,null,null,null,null,null,null,null,null,null,null,null,null,null,null,754,"01.02. 10:00",-2.2999999999999998,0]
[null,null,null,null,null,null,null,null,null,null,null,null,null,null,null,null,null,null,null,null,null,null,null,null,null,null,null,755,"01.02. 11:00",-1.7,0]
[null,null,null,null,null,null,null,null,null,null,null,null,null,null,null,null,null,null,null,null,null,null,null,null,null,null,null,756,"01.02. 12:00",-1.6,0]
[null,null,null,null,null,null,null,null,null,null,null,null,null,null,null,null,null,null,null,null,null,null,null,null,null,null,null,757,"01.02. 13:00",-1.7,0]
[null,null,null,null,null,null,null,null,null,null,null,null,null,null,null,null,null,null,null,null,null,null,null,null,null,null,null,758,"01.02. 14:00",-2,0]
[null,null,null,null,null,null,null,null,null,null,null,null,null,null,null,null,null,null,null,null,null,null,null,null,null,null,null,759,"01.02. 15:00",-2.4,0]
[null,null,null,null,null,null,null,null,null,null,null,null,null,null,null,null,null,null,null,null,null,null,null,null,null,null,null,760,"01.02. 16:00",-2.8,0]
[null,null,null,null,null,null,null,null,null,null,null,null,null,null,null,null,null,null,null,null,null,null,null,null,null,null,null,761,"01.02. 17:00",-3.1,0]
[null,null,null,null,null,null,null,null,null,null,null,null,null,null,null,null,null,null,null,null,null,null,null,null,null,null,null,762,"01.02. 18:00",-3.4,0]
[null,null,null,null,null,null,null,null,null,null,null,null,null,null,null,null,null,null,null,null,null,null,null,null,null,null,null,763,"01.02. 19:00",-3.8,0]
[null,null,null,null,null,null,null,null,null,null,null,null,null,null,null,null,null,null,null,null,null,null,null,null,null,null,null,764,"01.02. 20:00",-4.0999999999999996,0]
[null,null,null,null,null,null,null,null,null,null,null,null,null,null,null,null,null,null,null,null,null,null,null,null,null,null,null,765,"01.02. 21:00",-4.4000000000000004,0]
[null,null,null,null,null,null,null,null,null,null,null,null,null,null,null,null,null,null,null,null,null,null,null,null,null,null,null,766,"01.02. 22:00",-4.8,0]
[null,null,null,null,null,null,null,null,null,null,null,null,null,null,null,null,null,null,null,null,null,null,null,null,null,null,null,767,"01.02. 23:00",-5.0999999999999996,1]
[null,null,null,null,null,null,null,null,null,null,null,null,null,null,null,null,null,null,null,null,null,null,null,null,null,null,null,768,"02.02. 00:00",-5.0999999999999996,{"$f":"IF(AD808<=$AC$25,1,0)","v":1}]
[null,null,null,null,null,null,null,null,null,null,null,null,null,null,null,null,null,null,null,null,null,null,null,null,null,null,null,769,"02.02. 01:00",-5,1]
[null,null,null,null,null,null,null,null,null,null,null,null,null,null,null,null,null,null,null,null,null,null,null,null,null,null,null,770,"02.02. 02:00",-4.9000000000000004,0]
[null,null,null,null,null,null,null,null,null,null,null,null,null,null,null,null,null,null,null,null,null,null,null,null,null,null,null,771,"02.02. 03:00",-4.9000000000000004,0]
[null,null,null,null,null,null,null,null,null,null,null,null,null,null,null,null,null,null,null,null,null,null,null,null,null,null,null,772,"02.02. 04:00",-4.8,0]
[null,null,null,null,null,null,null,null,null,null,null,null,null,null,null,null,null,null,null,null,null,null,null,null,null,null,null,773,"02.02. 05:00",-4.8,0]
[null,null,null,null,null,null,null,null,null,null,null,null,null,null,null,null,null,null,null,null,null,null,null,null,null,null,null,774,"02.02. 06:00",-4.7,0]
[null,null,null,null,null,null,null,null,null,null,null,null,null,null,null,null,null,null,null,null,null,null,null,null,null,null,null,775,"02.02. 07:00",-4.7,0]
[null,null,null,null,null,null,null,null,null,null,null,null,null,null,null,null,null,null,null,null,null,null,null,null,null,null,null,776,"02.02. 08:00",-4.0999999999999996,0]
[null,null,null,null,null,null,null,null,null,null,null,null,null,null,null,null,null,null,null,null,null,null,null,null,null,null,null,777,"02.02. 09:00",-4,0]
[null,null,null,null,null,null,null,null,null,null,null,null,null,null,null,null,null,null,null,null,null,null,null,null,null,null,null,778,"02.02. 10:00",-2.7,0]
[null,null,null,null,null,null,null,null,null,null,null,null,null,null,null,null,null,null,null,null,null,null,null,null,null,null,null,779,"02.02. 11:00",-1.8,0]
[null,null,null,null,null,null,null,null,null,null,null,null,null,null,null,null,null,null,null,null,null,null,null,null,null,null,null,780,"02.02. 12:00",-0.8,0]
[null,null,null,null,null,null,null,null,null,null,null,null,null,null,null,null,null,null,null,null,null,null,null,null,null,null,null,781,"02.02. 13:00",-0.3,0]
[null,null,null,null,null,null,null,null,null,null,null,null,null,null,null,null,null,null,null,null,null,null,null,null,null,null,null,782,"02.02. 14:00",0.4,0]
[null,null,null,null,null,null,null,null,null,null,null,null,null,null,null,null,null,null,null,null,null,null,null,null,null,null,null,783,"02.02. 15:00",0.7,0]
[null,null,null,null,null,null,null,null,null,null,null,null,null,null,null,null,null,null,null,null,null,null,null,null,null,null,null,784,"02.02. 16:00",0.4,0]
[null,null,null,null,null,null,null,null,null,null,null,null,null,null,null,null,null,null,null,null,null,null,null,null,null,null,null,785,"02.02. 17:00",-0.04,0]
[null,null,null,null,null,null,null,null,null,null,null,null,null,null,null,null,null,null,null,null,null,null,null,null,null,null,null,786,"02.02. 18:00",-0.4,0]
[null,null,null,null,null,null,null,null,null,null,null,null,null,null,null,null,null,null,null,null,null,null,null,null,null,null,null,787,"02.02. 19:00",-0.8,0]
[null,null,null,null,null,null,null,null,null,null,null,null,null,null,null,null,null,null,null,null,null,null,null,null,null,null,null,788,"02.02. 20:00",-1.2,0]
[null,null,null,null,null,null,null,null,null,null,null,null,null,null,null,null,null,null,null,null,null,null,null,null,null,null,null,789,"02.02. 21:00",-1.7,0]
[null,null,null,null,null,null,null,null,null,null,null,null,null,null,null,null,null,null,null,null,null,null,null,null,null,null,null,790,"02.02. 22:00",-2.1,0]
[null,null,null,null,null,null,null,null,null,null,null,null,null,null,null,null,null,null,null,null,null,null,null,null,null,null,null,791,"02.02. 23:00",-2.5,0]
[null,null,null,null,null,null,null,null,null,null,null,null,null,null,null,null,null,null,null,null,null,null,null,null,null,null,null,792,"03.02. 00:00",-3.1,0]
[null,null,null,null,null,null,null,null,null,null,null,null,null,null,null,null,null,null,null,null,null,null,null,null,null,null,null,793,"03.02. 01:00",-3.8,0]
[null,null,null,null,null,null,null,null,null,null,null,null,null,null,null,null,null,null,null,null,null,null,null,null,null,null,null,794,"03.02. 02:00",-4.5,0]
[null,null,null,null,null,null,null,null,null,null,null,null,null,null,null,null,null,null,null,null,null,null,null,null,null,null,null,795,"03.02. 03:00",-4,0]
[null,null,null,null,null,null,null,null,null,null,null,null,null,null,null,null,null,null,null,null,null,null,null,null,null,null,null,796,"03.02. 04:00",-4.4000000000000004,0]
[null,null,null,null,null,null,null,null,null,null,null,null,null,null,null,null,null,null,null,null,null,null,null,null,null,null,null,797,"03.02. 05:00",-4.8,0]
[null,null,null,null,null,null,null,null,null,null,null,null,null,null,null,null,null,null,null,null,null,null,null,null,null,null,null,798,"03.02. 06:00",-4.5,0]
[null,null,null,null,null,null,null,null,null,null,null,null,null,null,null,null,null,null,null,null,null,null,null,null,null,null,null,799,"03.02. 07:00",-4.8,0]
[null,null,null,null,null,null,null,null,null,null,null,null,null,null,null,null,null,null,null,null,null,null,null,null,null,null,null,800,"03.02. 08:00",-4.8,0]
[null,null,null,null,null,null,null,null,null,null,null,null,null,null,null,null,null,null,null,null,null,null,null,null,null,null,null,801,"03.02. 09:00",-4.3,0]
[null,null,null,null,null,null,null,null,null,null,null,null,null,null,null,null,null,null,null,null,null,null,null,null,null,null,null,802,"03.02. 10:00",-4,0]
[null,null,null,null,null,null,null,null,null,null,null,null,null,null,null,null,null,null,null,null,null,null,null,null,null,null,null,803,"03.02. 11:00",-3.4,0]
[null,null,null,null,null,null,null,null,null,null,null,null,null,null,null,null,null,null,null,null,null,null,null,null,null,null,null,804,"03.02. 12:00",-3,0]
[null,null,null,null,null,null,null,null,null,null,null,null,null,null,null,null,null,null,null,null,null,null,null,null,null,null,null,805,"03.02. 13:00",-2.9,0]
[null,null,null,null,null,null,null,null,null,null,null,null,null,null,null,null,null,null,null,null,null,null,null,null,null,null,null,806,"03.02. 14:00",-2.9,0]
[null,null,null,null,null,null,null,null,null,null,null,null,null,null,null,null,null,null,null,null,null,null,null,null,null,null,null,807,"03.02. 15:00",-3,0]
[null,null,null,null,null,null,null,null,null,null,null,null,null,null,null,null,null,null,null,null,null,null,null,null,null,null,null,808,"03.02. 16:00",-3.5,0]
[null,null,null,null,null,null,null,null,null,null,null,null,null,null,null,null,null,null,null,null,null,null,null,null,null,null,null,809,"03.02. 17:00",-4,0]
[null,null,null,null,null,null,null,null,null,null,null,null,null,null,null,null,null,null,null,null,null,null,null,null,null,null,null,810,"03.02. 18:00",-4.5,0]
[null,null,null,null,null,null,null,null,null,null,null,null,null,null,null,null,null,null,null,null,null,null,null,null,null,null,null,811,"03.02. 19:00",-4.9000000000000004,0]
[null,null,null,null,null,null,null,null,null,null,null,null,null,null,null,null,null,null,null,null,null,null,null,null,null,null,null,812,"03.02. 20:00",-5.4,1]
[null,null,null,null,null,null,null,null,null,null,null,null,null,null,null,null,null,null,null,null,null,null,null,null,null,null,null,813,"03.02. 21:00",-5.9,1]
[null,null,null,null,null,null,null,null,null,null,null,null,null,null,null,null,null,null,null,null,null,null,null,null,null,null,null,814,"03.02. 22:00",-6.3,1]
[null,null,null,null,null,null,null,null,null,null,null,null,null,null,null,null,null,null,null,null,null,null,null,null,null,null,null,815,"03.02. 23:00",-6.8,1]
[null,null,null,null,null,null,null,null,null,null,null,null,null,null,null,null,null,null,null,null,null,null,null,null,null,null,null,816,"04.02. 00:00",-6.9,1]
[null,null,null,null,null,null,null,null,null,null,null,null,null,null,null,null,null,null,null,null,null,null,null,null,null,null,null,817,"04.02. 01:00",-6.9,1]
[null,null,null,null,null,null,null,null,null,null,null,null,null,null,null,null,null,null,null,null,null,null,null,null,null,null,null,818,"04.02. 02:00",-6.9,1]
[null,null,null,null,null,null,null,null,null,null,null,null,null,null,null,null,null,null,null,null,null,null,null,null,null,null,null,819,"04.02. 03:00",-6.8,1]
[null,null,null,null,null,null,null,null,null,null,null,null,null,null,null,null,null,null,null,null,null,null,null,null,null,null,null,820,"04.02. 04:00",-6.9,1]
[null,null,null,null,null,null,null,null,null,null,null,null,null,null,null,null,null,null,null,null,null,null,null,null,null,null,null,821,"04.02. 05:00",-6.9,1]
[null,null,null,null,null,null,null,null,null,null,null,null,null,null,null,null,null,null,null,null,null,null,null,null,null,null,null,822,"04.02. 06:00",-6.8,1]
[null,null,null,null,null,null,null,null,null,null,null,null,null,null,null,null,null,null,null,null,null,null,null,null,null,null,null,823,"04.02. 07:00",-6.8,1]
[null,null,null,null,null,null,null,null,null,null,null,null,null,null,null,null,null,null,null,null,null,null,null,null,null,null,null,824,"04.02. 08:00",-6.1,1]
[null,null,null,null,null,null,null,null,null,null,null,null,null,null,null,null,null,null,null,null,null,null,null,null,null,null,null,825,"04.02. 09:00",-5.3,1]
[null,null,null,null,null,null,null,null,null,null,null,null,null,null,null,null,null,null,null,null,null,null,null,null,null,null,null,826,"04.02. 10:00",-4.4000000000000004,0]
[null,null,null,null,null,null,null,null,null,null,null,null,null,null,null,null,null,null,null,null,null,null,null,null,null,null,null,827,"04.02. 11:00",-3.8,0]
[null,null,null,null,null,null,null,null,null,null,null,null,null,null,null,null,null,null,null,null,null,null,null,null,null,null,null,828,"04.02. 12:00",-3.1,0]
[null,null,null,null,null,null,null,null,null,null,null,null,null,null,null,null,null,null,null,null,null,null,null,null,null,null,null,829,"04.02. 13:00",-3,0]
[null,null,null,null,null,null,null,null,null,null,null,null,null,null,null,null,null,null,null,null,null,null,null,null,null,null,null,830,"04.02. 14:00",-3.2,0]
[null,null,null,null,null,null,null,null,null,null,null,null,null,null,null,null,null,null,null,null,null,null,null,null,null,null,null,831,"04.02. 15:00",-3.3,0]
[null,null,null,null,null,null,null,null,null,null,null,null,null,null,null,null,null,null,null,null,null,null,null,null,null,null,null,832,"04.02. 16:00",-3.6,{"$f":"IF(AD872<=$AC$25,1,0)","v":0}]
[null,null,null,null,null,null,null,null,null,null,null,null,null,null,null,null,null,null,null,null,null,null,null,null,null,null,null,833,"04.02. 17:00",-4.0999999999999996,0]
[null,null,null,null,null,null,null,null,null,null,null,null,null,null,null,null,null,null,null,null,null,null,null,null,null,null,null,834,"04.02. 18:00",-4.5,0]
[null,null,null,null,null,null,null,null,null,null,null,null,null,null,null,null,null,null,null,null,null,null,null,null,null,null,null,835,"04.02. 19:00",-4.9000000000000004,0]
[null,null,null,null,null,null,null,null,null,null,null,null,null,null,null,null,null,null,null,null,null,null,null,null,null,null,null,836,"04.02. 20:00",-5.3,1]
[null,null,null,null,null,null,null,null,null,null,null,null,null,null,null,null,null,null,null,null,null,null,null,null,null,null,null,837,"04.02. 21:00",-5.7,1]
[null,null,null,null,null,null,null,null,null,null,null,null,null,null,null,null,null,null,null,null,null,null,null,null,null,null,null,838,"04.02. 22:00",-6.1,1]
[null,null,null,null,null,null,null,null,null,null,null,null,null,null,null,null,null,null,null,null,null,null,null,null,null,null,null,839,"04.02. 23:00",-6.5,1]
[null,null,null,null,null,null,null,null,null,null,null,null,null,null,null,null,null,null,null,null,null,null,null,null,null,null,null,840,"05.02. 00:00",-6.9,1]
[null,null,null,null,null,null,null,null,null,null,null,null,null,null,null,null,null,null,null,null,null,null,null,null,null,null,null,841,"05.02. 01:00",-7.4,1]
[null,null,null,null,null,null,null,null,null,null,null,null,null,null,null,null,null,null,null,null,null,null,null,null,null,null,null,842,"05.02. 02:00",-7.9,1]
[null,null,null,null,null,null,null,null,null,null,null,null,null,null,null,null,null,null,null,null,null,null,null,null,null,null,null,843,"05.02. 03:00",-7.4,1]
[null,null,null,null,null,null,null,null,null,null,null,null,null,null,null,null,null,null,null,null,null,null,null,null,null,null,null,844,"05.02. 04:00",-7.6,1]
[null,null,null,null,null,null,null,null,null,null,null,null,null,null,null,null,null,null,null,null,null,null,null,null,null,null,null,845,"05.02. 05:00",-7.9,1]
[null,null,null,null,null,null,null,null,null,null,null,null,null,null,null,null,null,null,null,null,null,null,null,null,null,null,null,846,"05.02. 06:00",-7.5,1]
[null,null,null,null,null,null,null,null,null,null,null,null,null,null,null,null,null,null,null,null,null,null,null,null,null,null,null,847,"05.02. 07:00",-7.7,1]
[null,null,null,null,null,null,null,null,null,null,null,null,null,null,null,null,null,null,null,null,null,null,null,null,null,null,null,848,"05.02. 08:00",-5.9,1]
[null,null,null,null,null,null,null,null,null,null,null,null,null,null,null,null,null,null,null,null,null,null,null,null,null,null,null,849,"05.02. 09:00",-3.8,0]
[null,null,null,null,null,null,null,null,null,null,null,null,null,null,null,null,null,null,null,null,null,null,null,null,null,null,null,850,"05.02. 10:00",-1.7,0]
[null,null,null,null,null,null,null,null,null,null,null,null,null,null,null,null,null,null,null,null,null,null,null,null,null,null,null,851,"05.02. 11:00",-0.4,0]
[null,null,null,null,null,null,null,null,null,null,null,null,null,null,null,null,null,null,null,null,null,null,null,null,null,null,null,852,"05.02. 12:00",0.7,0]
[null,null,null,null,null,null,null,null,null,null,null,null,null,null,null,null,null,null,null,null,null,null,null,null,null,null,null,853,"05.02. 13:00",1.4,0]
[null,null,null,null,null,null,null,null,null,null,null,null,null,null,null,null,null,null,null,null,null,null,null,null,null,null,null,854,"05.02. 14:00",1.5,0]
[null,null,null,null,null,null,null,null,null,null,null,null,null,null,null,null,null,null,null,null,null,null,null,null,null,null,null,855,"05.02. 15:00",1,0]
[null,null,null,null,null,null,null,null,null,null,null,null,null,null,null,null,null,null,null,null,null,null,null,null,null,null,null,856,"05.02. 16:00",0.1,0]
[null,null,null,null,null,null,null,null,null,null,null,null,null,null,null,null,null,null,null,null,null,null,null,null,null,null,null,857,"05.02. 17:00",-1.3,0]
[null,null,null,null,null,null,null,null,null,null,null,null,null,null,null,null,null,null,null,null,null,null,null,null,null,null,null,858,"05.02. 18:00",-1.6,0]
[null,null,null,null,null,null,null,null,null,null,null,null,null,null,null,null,null,null,null,null,null,null,null,null,null,null,null,859,"05.02. 19:00",-1.8,0]
[null,null,null,null,null,null,null,null,null,null,null,null,null,null,null,null,null,null,null,null,null,null,null,null,null,null,null,860,"05.02. 20:00",-2.1,0]
[null,null,null,null,null,null,null,null,null,null,null,null,null,null,null,null,null,null,null,null,null,null,null,null,null,null,null,861,"05.02. 21:00",-2.2999999999999998,0]
[null,null,null,null,null,null,null,null,null,null,null,null,null,null,null,null,null,null,null,null,null,null,null,null,null,null,null,862,"05.02. 22:00",-2.6,0]
[null,null,null,null,null,null,null,null,null,null,null,null,null,null,null,null,null,null,null,null,null,null,null,null,null,null,null,863,"05.02. 23:00",-2.8,0]
[null,null,null,null,null,null,null,null,null,null,null,null,null,null,null,null,null,null,null,null,null,null,null,null,null,null,null,864,"06.02. 00:00",-3.1,0]
[null,null,null,null,null,null,null,null,null,null,null,null,null,null,null,null,null,null,null,null,null,null,null,null,null,null,null,865,"06.02. 01:00",-3.4,0]
[null,null,null,null,null,null,null,null,null,null,null,null,null,null,null,null,null,null,null,null,null,null,null,null,null,null,null,866,"06.02. 02:00",-3.6,0]
[null,null,null,null,null,null,null,null,null,null,null,null,null,null,null,null,null,null,null,null,null,null,null,null,null,null,null,867,"06.02. 03:00",-3.4,0]
[null,null,null,null,null,null,null,null,null,null,null,null,null,null,null,null,null,null,null,null,null,null,null,null,null,null,null,868,"06.02. 04:00",-3.5,0]
[null,null,null,null,null,null,null,null,null,null,null,null,null,null,null,null,null,null,null,null,null,null,null,null,null,null,null,869,"06.02. 05:00",-3.7,0]
[null,null,null,null,null,null,null,null,null,null,null,null,null,null,null,null,null,null,null,null,null,null,null,null,null,null,null,870,"06.02. 06:00",-3.5,0]
[null,null,null,null,null,null,null,null,null,null,null,null,null,null,null,null,null,null,null,null,null,null,null,null,null,null,null,871,"06.02. 07:00",-3.6,0]
[null,null,null,null,null,null,null,null,null,null,null,null,null,null,null,null,null,null,null,null,null,null,null,null,null,null,null,872,"06.02. 08:00",-3.5,0]
[null,null,null,null,null,null,null,null,null,null,null,null,null,null,null,null,null,null,null,null,null,null,null,null,null,null,null,873,"06.02. 09:00",-2.9,0]
[null,null,null,null,null,null,null,null,null,null,null,null,null,null,null,null,null,null,null,null,null,null,null,null,null,null,null,874,"06.02. 10:00",-2.5,0]
[null,null,null,null,null,null,null,null,null,null,null,null,null,null,null,null,null,null,null,null,null,null,null,null,null,null,null,875,"06.02. 11:00",-2,0]
[null,null,null,null,null,null,null,null,null,null,null,null,null,null,null,null,null,null,null,null,null,null,null,null,null,null,null,876,"06.02. 12:00",-1.8,0]
[null,null,null,null,null,null,null,null,null,null,null,null,null,null,null,null,null,null,null,null,null,null,null,null,null,null,null,877,"06.02. 13:00",-0.3,0]
[null,null,null,null,null,null,null,null,null,null,null,null,null,null,null,null,null,null,null,null,null,null,null,null,null,null,null,878,"06.02. 14:00",0.5,0]
[null,null,null,null,null,null,null,null,null,null,null,null,null,null,null,null,null,null,null,null,null,null,null,null,null,null,null,879,"06.02. 15:00",0.8,0]
[null,null,null,null,null,null,null,null,null,null,null,null,null,null,null,null,null,null,null,null,null,null,null,null,null,null,null,880,"06.02. 16:00",0.5,0]
[null,null,null,null,null,null,null,null,null,null,null,null,null,null,null,null,null,null,null,null,null,null,null,null,null,null,null,881,"06.02. 17:00",-0.3,0]
[null,null,null,null,null,null,null,null,null,null,null,null,null,null,null,null,null,null,null,null,null,null,null,null,null,null,null,882,"06.02. 18:00",-0.6,0]
[null,null,null,null,null,null,null,null,null,null,null,null,null,null,null,null,null,null,null,null,null,null,null,null,null,null,null,883,"06.02. 19:00",-1,0]
[null,null,null,null,null,null,null,null,null,null,null,null,null,null,null,null,null,null,null,null,null,null,null,null,null,null,null,884,"06.02. 20:00",-1.3,0]
[null,null,null,null,null,null,null,null,null,null,null,null,null,null,null,null,null,null,null,null,null,null,null,null,null,null,null,885,"06.02. 21:00",-1.7,0]
[null,null,null,null,null,null,null,null,null,null,null,null,null,null,null,null,null,null,null,null,null,null,null,null,null,null,null,886,"06.02. 22:00",-2,0]
[null,null,null,null,null,null,null,null,null,null,null,null,null,null,null,null,null,null,null,null,null,null,null,null,null,null,null,887,"06.02. 23:00",-2.4,0]
[null,null,null,null,null,null,null,null,null,null,null,null,null,null,null,null,null,null,null,null,null,null,null,null,null,null,null,888,"07.02. 00:00",-2.7,0]
[null,null,null,null,null,null,null,null,null,null,null,null,null,null,null,null,null,null,null,null,null,null,null,null,null,null,null,889,"07.02. 01:00",-3,0]
[null,null,null,null,null,null,null,null,null,null,null,null,null,null,null,null,null,null,null,null,null,null,null,null,null,null,null,890,"07.02. 02:00",-3.3,0]
[null,null,null,null,null,null,null,null,null,null,null,null,null,null,null,null,null,null,null,null,null,null,null,null,null,null,null,891,"07.02. 03:00",-3,0]
[null,null,null,null,null,null,null,null,null,null,null,null,null,null,null,null,null,null,null,null,null,null,null,null,null,null,null,892,"07.02. 04:00",-3.2,0]
[null,null,null,null,null,null,null,null,null,null,null,null,null,null,null,null,null,null,null,null,null,null,null,null,null,null,null,893,"07.02. 05:00",-3.3,0]
[null,null,null,null,null,null,null,null,null,null,null,null,null,null,null,null,null,null,null,null,null,null,null,null,null,null,null,894,"07.02. 06:00",-3.1,0]
[null,null,null,null,null,null,null,null,null,null,null,null,null,null,null,null,null,null,null,null,null,null,null,null,null,null,null,895,"07.02. 07:00",-3.3,0]
[null,null,null,null,null,null,null,null,null,null,null,null,null,null,null,null,null,null,null,null,null,null,null,null,null,null,null,896,"07.02. 08:00",-2,{"$f":"IF(AD936<=$AC$25,1,0)","v":0}]
[null,null,null,null,null,null,null,null,null,null,null,null,null,null,null,null,null,null,null,null,null,null,null,null,null,null,null,897,"07.02. 09:00",-0.3,0]
[null,null,null,null,null,null,null,null,null,null,null,null,null,null,null,null,null,null,null,null,null,null,null,null,null,null,null,898,"07.02. 10:00",1.6,0]
[null,null,null,null,null,null,null,null,null,null,null,null,null,null,null,null,null,null,null,null,null,null,null,null,null,null,null,899,"07.02. 11:00",2.5,0]
[null,null,null,null,null,null,null,null,null,null,null,null,null,null,null,null,null,null,null,null,null,null,null,null,null,null,null,900,"07.02. 12:00",3.5,0]
[null,null,null,null,null,null,null,null,null,null,null,null,null,null,null,null,null,null,null,null,null,null,null,null,null,null,null,901,"07.02. 13:00",3.8,0]
[null,null,null,null,null,null,null,null,null,null,null,null,null,null,null,null,null,null,null,null,null,null,null,null,null,null,null,902,"07.02. 14:00",3.6,0]
[null,null,null,null,null,null,null,null,null,null,null,null,null,null,null,null,null,null,null,null,null,null,null,null,null,null,null,903,"07.02. 15:00",2.8,0]
[null,null,null,null,null,null,null,null,null,null,null,null,null,null,null,null,null,null,null,null,null,null,null,null,null,null,null,904,"07.02. 16:00",1.6,0]
[null,null,null,null,null,null,null,null,null,null,null,null,null,null,null,null,null,null,null,null,null,null,null,null,null,null,null,905,"07.02. 17:00",0.6,0]
[null,null,null,null,null,null,null,null,null,null,null,null,null,null,null,null,null,null,null,null,null,null,null,null,null,null,null,906,"07.02. 18:00",0.3,0]
[null,null,null,null,null,null,null,null,null,null,null,null,null,null,null,null,null,null,null,null,null,null,null,null,null,null,null,907,"07.02. 19:00",0.03,0]
[null,null,null,null,null,null,null,null,null,null,null,null,null,null,null,null,null,null,null,null,null,null,null,null,null,null,null,908,"07.02. 20:00",-0.3,0]
[null,null,null,null,null,null,null,null,null,null,null,null,null,null,null,null,null,null,null,null,null,null,null,null,null,null,null,909,"07.02. 21:00",-0.5,0]
[null,null,null,null,null,null,null,null,null,null,null,null,null,null,null,null,null,null,null,null,null,null,null,null,null,null,null,910,"07.02. 22:00",-0.8,0]
[null,null,null,null,null,null,null,null,null,null,null,null,null,null,null,null,null,null,null,null,null,null,null,null,null,null,null,911,"07.02. 23:00",-1.1000000000000001,0]
[null,null,null,null,null,null,null,null,null,null,null,null,null,null,null,null,null,null,null,null,null,null,null,null,null,null,null,912,"08.02. 00:00",-1.3,0]
[null,null,null,null,null,null,null,null,null,null,null,null,null,null,null,null,null,null,null,null,null,null,null,null,null,null,null,913,"08.02. 01:00",-1.6,0]
[null,null,null,null,null,null,null,null,null,null,null,null,null,null,null,null,null,null,null,null,null,null,null,null,null,null,null,914,"08.02. 02:00",-1.9,0]
[null,null,null,null,null,null,null,null,null,null,null,null,null,null,null,null,null,null,null,null,null,null,null,null,null,null,null,915,"08.02. 03:00",-1.7,0]
[null,null,null,null,null,null,null,null,null,null,null,null,null,null,null,null,null,null,null,null,null,null,null,null,null,null,null,916,"08.02. 04:00",-1.8,0]
[null,null,null,null,null,null,null,null,null,null,null,null,null,null,null,null,null,null,null,null,null,null,null,null,null,null,null,917,"08.02. 05:00",-2,0]
[null,null,null,null,null,null,null,null,null,null,null,null,null,null,null,null,null,null,null,null,null,null,null,null,null,null,null,918,"08.02. 06:00",-1.9,0]
[null,null,null,null,null,null,null,null,null,null,null,null,null,null,null,null,null,null,null,null,null,null,null,null,null,null,null,919,"08.02. 07:00",-2,0]
[null,null,null,null,null,null,null,null,null,null,null,null,null,null,null,null,null,null,null,null,null,null,null,null,null,null,null,920,"08.02. 08:00",-1.7,0]
[null,null,null,null,null,null,null,null,null,null,null,null,null,null,null,null,null,null,null,null,null,null,null,null,null,null,null,921,"08.02. 09:00",-1.4,0]
[null,null,null,null,null,null,null,null,null,null,null,null,null,null,null,null,null,null,null,null,null,null,null,null,null,null,null,922,"08.02. 10:00",-1.1000000000000001,0]
[null,null,null,null,null,null,null,null,null,null,null,null,null,null,null,null,null,null,null,null,null,null,null,null,null,null,null,923,"08.02. 11:00",-0.8,0]
[null,null,null,null,null,null,null,null,null,null,null,null,null,null,null,null,null,null,null,null,null,null,null,null,null,null,null,924,"08.02. 12:00",-0.7,0]
[null,null,null,null,null,null,null,null,null,null,null,null,null,null,null,null,null,null,null,null,null,null,null,null,null,null,null,925,"08.02. 13:00",-0.7,0]
[null,null,null,null,null,null,null,null,null,null,null,null,null,null,null,null,null,null,null,null,null,null,null,null,null,null,null,926,"08.02. 14:00",-0.8,0]
[null,null,null,null,null,null,null,null,null,null,null,null,null,null,null,null,null,null,null,null,null,null,null,null,null,null,null,927,"08.02. 15:00",-0.9,0]
[null,null,null,null,null,null,null,null,null,null,null,null,null,null,null,null,null,null,null,null,null,null,null,null,null,null,null,928,"08.02. 16:00",-1.1000000000000001,0]
[null,null,null,null,null,null,null,null,null,null,null,null,null,null,null,null,null,null,null,null,null,null,null,null,null,null,null,929,"08.02. 17:00",-1.4,0]
[null,null,null,null,null,null,null,null,null,null,null,null,null,null,null,null,null,null,null,null,null,null,null,null,null,null,null,930,"08.02. 18:00",-1.6,0]
[null,null,null,null,null,null,null,null,null,null,null,null,null,null,null,null,null,null,null,null,null,null,null,null,null,null,null,931,"08.02. 19:00",-1.9,0]
[null,null,null,null,null,null,null,null,null,null,null,null,null,null,null,null,null,null,null,null,null,null,null,null,null,null,null,932,"08.02. 20:00",-2.1,0]
[null,null,null,null,null,null,null,null,null,null,null,null,null,null,null,null,null,null,null,null,null,null,null,null,null,null,null,933,"08.02. 21:00",-2.2999999999999998,0]
[null,null,null,null,null,null,null,null,null,null,null,null,null,null,null,null,null,null,null,null,null,null,null,null,null,null,null,934,"08.02. 22:00",-2.6,0]
[null,null,null,null,null,null,null,null,null,null,null,null,null,null,null,null,null,null,null,null,null,null,null,null,null,null,null,935,"08.02. 23:00",-2.8,0]
[null,null,null,null,null,null,null,null,null,null,null,null,null,null,null,null,null,null,null,null,null,null,null,null,null,null,null,936,"09.02. 00:00",-2.9,0]
[null,null,null,null,null,null,null,null,null,null,null,null,null,null,null,null,null,null,null,null,null,null,null,null,null,null,null,937,"09.02. 01:00",-3,0]
[null,null,null,null,null,null,null,null,null,null,null,null,null,null,null,null,null,null,null,null,null,null,null,null,null,null,null,938,"09.02. 02:00",-3,0]
[null,null,null,null,null,null,null,null,null,null,null,null,null,null,null,null,null,null,null,null,null,null,null,null,null,null,null,939,"09.02. 03:00",-2.9,0]
[null,null,null,null,null,null,null,null,null,null,null,null,null,null,null,null,null,null,null,null,null,null,null,null,null,null,null,940,"09.02. 04:00",-2.9,0]
[null,null,null,null,null,null,null,null,null,null,null,null,null,null,null,null,null,null,null,null,null,null,null,null,null,null,null,941,"09.02. 05:00",-2.9,0]
[null,null,null,null,null,null,null,null,null,null,null,null,null,null,null,null,null,null,null,null,null,null,null,null,null,null,null,942,"09.02. 06:00",-2.8,0]
[null,null,null,null,null,null,null,null,null,null,null,null,null,null,null,null,null,null,null,null,null,null,null,null,null,null,null,943,"09.02. 07:00",-2.8,0]
[null,null,null,null,null,null,null,null,null,null,null,null,null,null,null,null,null,null,null,null,null,null,null,null,null,null,null,944,"09.02. 08:00",-0.6,0]
[null,null,null,null,null,null,null,null,null,null,null,null,null,null,null,null,null,null,null,null,null,null,null,null,null,null,null,945,"09.02. 09:00",0.7,0]
[null,null,null,null,null,null,null,null,null,null,null,null,null,null,null,null,null,null,null,null,null,null,null,null,null,null,null,946,"09.02. 10:00",1.1000000000000001,0]
[null,null,null,null,null,null,null,null,null,null,null,null,null,null,null,null,null,null,null,null,null,null,null,null,null,null,null,947,"09.02. 11:00",2.4,0]
[null,null,null,null,null,null,null,null,null,null,null,null,null,null,null,null,null,null,null,null,null,null,null,null,null,null,null,948,"09.02. 12:00",3.4,0]
[null,null,null,null,null,null,null,null,null,null,null,null,null,null,null,null,null,null,null,null,null,null,null,null,null,null,null,949,"09.02. 13:00",4.5999999999999996,0]
[null,null,null,null,null,null,null,null,null,null,null,null,null,null,null,null,null,null,null,null,null,null,null,null,null,null,null,950,"09.02. 14:00",4.9000000000000004,0]
[null,null,null,null,null,null,null,null,null,null,null,null,null,null,null,null,null,null,null,null,null,null,null,null,null,null,null,951,"09.02. 15:00",4.2,0]
[null,null,null,null,null,null,null,null,null,null,null,null,null,null,null,null,null,null,null,null,null,null,null,null,null,null,null,952,"09.02. 16:00",3.2,0]
[null,null,null,null,null,null,null,null,null,null,null,null,null,null,null,null,null,null,null,null,null,null,null,null,null,null,null,953,"09.02. 17:00",2.2000000000000002,0]
[null,null,null,null,null,null,null,null,null,null,null,null,null,null,null,null,null,null,null,null,null,null,null,null,null,null,null,954,"09.02. 18:00",1.8,0]
[null,null,null,null,null,null,null,null,null,null,null,null,null,null,null,null,null,null,null,null,null,null,null,null,null,null,null,955,"09.02. 19:00",1.5,0]
[null,null,null,null,null,null,null,null,null,null,null,null,null,null,null,null,null,null,null,null,null,null,null,null,null,null,null,956,"09.02. 20:00",1.2,0]
[null,null,null,null,null,null,null,null,null,null,null,null,null,null,null,null,null,null,null,null,null,null,null,null,null,null,null,957,"09.02. 21:00",0.9,0]
[null,null,null,null,null,null,null,null,null,null,null,null,null,null,null,null,null,null,null,null,null,null,null,null,null,null,null,958,"09.02. 22:00",0.5,0]
[null,null,null,null,null,null,null,null,null,null,null,null,null,null,null,null,null,null,null,null,null,null,null,null,null,null,null,959,"09.02. 23:00",0.2,0]
[null,null,null,null,null,null,null,null,null,null,null,null,null,null,null,null,null,null,null,null,null,null,null,null,null,null,null,960,"10.02. 00:00",-0.3,{"$f":"IF(AD1000<=$AC$25,1,0)","v":0}]
[null,null,null,null,null,null,null,null,null,null,null,null,null,null,null,null,null,null,null,null,null,null,null,null,null,null,null,965,"10.02. 05:00",-1.5,0]
[null,null,null,null,null,null,null,null,null,null,null,null,null,null,null,null,null,null,null,null,null,null,null,null,null,null,null,970,"10.02. 10:00",0.5,0]
[null,null,null,null,null,null,null,null,null,null,null,null,null,null,null,null,null,null,null,null,null,null,null,null,null,null,null,979,"10.02. 19:00",-2E-3,0]
[null,null,null,null,null,null,null,null,null,null,null,null,null,null,null,null,null,null,null,null,null,null,null,null,null,null,null,987,"11.02. 03:00",-0.1,0]
[null,null,null,null,null,null,null,null,null,null,null,null,null,null,null,null,null,null,null,null,null,null,null,null,null,null,null,993,"11.02. 09:00",3.6,0]
[null,null,null,null,null,null,null,null,null,null,null,null,null,null,null,null,null,null,null,null,null,null,null,null,null,null,null,1004,"11.02. 20:00",4.4000000000000004,0]
[null,null,null,null,null,null,null,null,null,null,null,null,null,null,null,null,null,null,null,null,null,null,null,null,null,null,null,1007,"11.02. 23:00",5.0999999999999996,0]
[null,null,null,null,null,null,null,null,null,null,null,null,null,null,null,null,null,null,null,null,null,null,null,null,null,null,null,1013,"12.02. 05:00",4.3,0]
[null,null,null,null,null,null,null,null,null,null,null,null,null,null,null,null,null,null,null,null,null,null,null,null,null,null,null,1021,"12.02. 13:00",9.9,0]
[null,null,null,null,null,null,null,null,null,null,null,null,null,null,null,null,null,null,null,null,null,null,null,null,null,null,null,1030,"12.02. 22:00",6.3,0]
[null,null,null,null,null,null,null,null,null,null,null,null,null,null,null,null,null,null,null,null,null,null,null,null,null,null,null,1039,"13.02. 07:00",6.1,0]
[null,null,null,null,null,null,null,null,null,null,null,null,null,null,null,null,null,null,null,null,null,null,null,null,null,null,null,1044,"13.02. 12:00",9.6,0]
[null,null,null,null,null,null,null,null,null,null,null,null,null,null,null,null,null,null,null,null,null,null,null,null,null,null,null,1056,"14.02. 00:00",5.2,0]
[null,null,null,null,null,null,null,null,null,null,null,null,null,null,null,null,null,null,null,null,null,null,null,null,null,null,null,1061,"14.02. 05:00",2.7,0]
[null,null,null,null,null,null,null,null,null,null,null,null,null,null,null,null,null,null,null,null,null,null,null,null,null,null,null,1073,"14.02. 17:00",3.1,0]
[null,null,null,null,null,null,null,null,null,null,null,null,null,null,null,null,null,null,null,null,null,null,null,null,null,null,null,1075,"14.02. 19:00",1.6,0]
[null,null,null,null,null,null,null,null,null,null,null,null,null,null,null,null,null,null,null,null,null,null,null,null,null,null,null,1082,"15.02. 02:00",-1.7,0]
[null,null,null,null,null,null,null,null,null,null,null,null,null,null,null,null,null,null,null,null,null,null,null,null,null,null,null,1089,"15.02. 09:00",-0.8,0]
[null,null,null,null,null,null,null,null,null,null,null,null,null,null,null,null,null,null,null,null,null,null,null,null,null,null,null,1099,"15.02. 19:00",-0.6,0]
[null,null,null,null,null,null,null,null,null,null,null,null,null,null,null,null,null,null,null,null,null,null,null,null,null,null,null,1108,"16.02. 04:00",-2.2999999999999998,0]
[null,null,null,null,null,null,null,null,null,null,null,null,null,null,null,null,null,null,null,null,null,null,null,null,null,null,null,1112,"16.02. 08:00",-0.1,0]
[null,null,null,null,null,null,null,null,null,null,null,null,null,null,null,null,null,null,null,null,null,null,null,null,null,null,null,1125,"16.02. 21:00",1.7,0]
[null,null,null,null,null,null,null,null,null,null,null,null,null,null,null,null,null,null,null,null,null,null,null,null,null,null,null,1133,"17.02. 05:00",-0.8,0]
[null,null,null,null,null,null,null,null,null,null,null,null,null,null,null,null,null,null,null,null,null,null,null,null,null,null,null,1134,"17.02. 06:00",-0.6,0]
[null,null,null,null,null,null,null,null,null,null,null,null,null,null,null,null,null,null,null,null,null,null,null,null,null,null,null,1147,"17.02. 19:00",4.2,0]
[null,null,null,null,null,null,null,null,null,null,null,null,null,null,null,null,null,null,null,null,null,null,null,null,null,null,null,1151,"17.02. 23:00",2.1,0]
[null,null,null,null,null,null,null,null,null,null,null,null,null,null,null,null,null,null,null,null,null,null,null,null,null,null,null,1157,"18.02. 05:00",1.5,0]
[null,null,null,null,null,null,null,null,null,null,null,null,null,null,null,null,null,null,null,null,null,null,null,null,null,null,null,1168,"18.02. 16:00",7.4,0]
[null,null,null,null,null,null,null,null,null,null,null,null,null,null,null,null,null,null,null,null,null,null,null,null,null,null,null,1178,"19.02. 02:00",1.4,0]
[null,null,null,null,null,null,null,null,null,null,null,null,null,null,null,null,null,null,null,null,null,null,null,null,null,null,null,1185,"19.02. 09:00",2.5,0]
[null,null,null,null,null,null,null,null,null,null,null,null,null,null,null,null,null,null,null,null,null,null,null,null,null,null,null,1194,"19.02. 18:00",2.2000000000000002,0]
[null,null,null,null,null,null,null,null,null,null,null,null,null,null,null,null,null,null,null,null,null,null,null,null,null,null,null,1201,"20.02. 01:00",-0.2,0]
[null,null,null,null,null,null,null,null,null,null,null,null,null,null,null,null,null,null,null,null,null,null,null,null,null,null,null,1203,"20.02. 03:00",-0.2,0]
[null,null,null,null,null,null,null,null,null,null,null,null,null,null,null,null,null,null,null,null,null,null,null,null,null,null,null,1215,"20.02. 15:00",9.1999999999999993,0]
[null,null,null,null,null,null,null,null,null,null,null,null,null,null,null,null,null,null,null,null,null,null,null,null,null,null,null,1220,"20.02. 20:00",5.5,0]
[null,null,null,null,null,null,null,null,null,null,null,null,null,null,null,null,null,null,null,null,null,null,null,null,null,null,null,1229,"21.02. 05:00",1.4,0]
[null,null,null,null,null,null,null,null,null,null,null,null,null,null,null,null,null,null,null,null,null,null,null,null,null,null,null,1237,"21.02. 13:00",10.8,0]
[null,null,null,null,null,null,null,null,null,null,null,null,null,null,null,null,null,null,null,null,null,null,null,null,null,null,null,1243,"21.02. 19:00",6.4,0]
[null,null,null,null,null,null,null,null,null,null,null,null,null,null,null,null,null,null,null,null,null,null,null,null,null,null,null,1254,"22.02. 06:00",3.2,0]
[null,null,null,null,null,null,null,null,null,null,null,null,null,null,null,null,null,null,null,null,null,null,null,null,null,null,null,1255,"22.02. 07:00",3.3,0]
[null,null,null,null,null,null,null,null,null,null,null,null,null,null,null,null,null,null,null,null,null,null,null,null,null,null,null,1266,"22.02. 18:00",9.9,0]
[null,null,null,null,null,null,null,null,null,null,null,null,null,null,null,null,null,null,null,null,null,null,null,null,null,null,null,1272,"23.02. 00:00",3.1,0]
[null,null,null,null,null,null,null,null,null,null,null,null,null,null,null,null,null,null,null,null,null,null,null,null,null,null,null,1280,"23.02. 08:00",0.7,{"$f":"IF(AD1320<=$AC$25,1,0)","v":0}]
[null,null,null,null,null,null,null,null,null,null,null,null,null,null,null,null,null,null,null,null,null,null,null,null,null,null,null,1289,"23.02. 17:00",2.4,0]
[null,null,null,null,null,null,null,null,null,null,null,null,null,null,null,null,null,null,null,null,null,null,null,null,null,null,null,1297,"24.02. 01:00",-3,0]
[null,null,null,null,null,null,null,null,null,null,null,null,null,null,null,null,null,null,null,null,null,null,null,null,null,null,null,1306,"24.02. 10:00",1.1000000000000001,0]
[null,null,null,null,null,null,null,null,null,null,null,null,null,null,null,null,null,null,null,null,null,null,null,null,null,null,null,1311,"24.02. 15:00",4,0]
[null,null,null,null,null,null,null,null,null,null,null,null,null,null,null,null,null,null,null,null,null,null,null,null,null,null,null,1315,"24.02. 19:00",2.8,0]
[null,null,null,null,null,null,null,null,null,null,null,null,null,null,null,null,null,null,null,null,null,null,null,null,null,null,null,1325,"25.02. 05:00",2.2000000000000002,0]
[null,null,null,null,null,null,null,null,null,null,null,null,null,null,null,null,null,null,null,null,null,null,null,null,null,null,null,1332,"25.02. 12:00",6.6,0]
[null,null,null,null,null,null,null,null,null,null,null,null,null,null,null,null,null,null,null,null,null,null,null,null,null,null,null,1341,"25.02. 21:00",6.1,0]
[null,null,null,null,null,null,null,null,null,null,null,null,null,null,null,null,null,null,null,null,null,null,null,null,null,null,null,1348,"26.02. 04:00",3.4,0]
[null,null,null,null,null,null,null,null,null,null,null,null,null,null,null,null,null,null,null,null,null,null,null,null,null,null,null,1358,"26.02. 14:00",6.7,0]
[null,null,null,null,null,null,null,null,null,null,null,null,null,null,null,null,null,null,null,null,null,null,null,null,null,null,null,1362,"26.02. 18:00",6.4,0]
[null,null,null,null,null,null,null,null,null,null,null,null,null,null,null,null,null,null,null,null,null,null,null,null,null,null,null,1375,"27.02. 07:00",0.4,0]
[null,null,null,null,null,null,null,null,null,null,null,null,null,null,null,null,null,null,null,null,null,null,null,null,null,null,null,1376,"27.02. 08:00",2,0]
[null,null,null,null,null,null,null,null,null,null,null,null,null,null,null,null,null,null,null,null,null,null,null,null,null,null,null,1384,"27.02. 16:00",4.4000000000000004,0]
[null,null,null,null,null,null,null,null,null,null,null,null,null,null,null,null,null,null,null,null,null,null,null,null,null,null,null,1393,"28.02. 01:00",-3.3,0]
[null,null,null,null,null,null,null,null,null,null,null,null,null,null,null,null,null,null,null,null,null,null,null,null,null,null,null,1401,"28.02. 09:00",-0.8,0]
[null,null,null,null,null,null,null,null,null,null,null,null,null,null,null,null,null,null,null,null,null,null,null,null,null,null,null,1410,"28.02. 18:00",0.7,0]
[null,null,null,null,null,null,null,null,null,null,null,null,null,null,null,null,null,null,null,null,null,null,null,null,null,null,null,1416,"01.03. 00:00",-3.3,0]
[null,null,null,null,null,null,null,null,null,null,null,null,null,null,null,null,null,null,null,null,null,null,null,null,null,null,null,1427,"01.03. 11:00",-2.8,0]
[null,null,null,null,null,null,null,null,null,null,null,null,null,null,null,null,null,null,null,null,null,null,null,null,null,null,null,1430,"01.03. 14:00",0.6,0]
[null,null,null,null,null,null,null,null,null,null,null,null,null,null,null,null,null,null,null,null,null,null,null,null,null,null,null,1436,"01.03. 20:00",-0.02,0]
[null,null,null,null,null,null,null,null,null,null,null,null,null,null,null,null,null,null,null,null,null,null,null,null,null,null,null,1444,"02.03. 04:00",-2.5,0]
[null,null,null,null,null,null,null,null,null,null,null,null,null,null,null,null,null,null,null,null,null,null,null,null,null,null,null,1453,"02.03. 13:00",4.7,0]
[null,null,null,null,null,null,null,null,null,null,null,null,null,null,null,null,null,null,null,null,null,null,null,null,null,null,null,1465,"03.03. 01:00",-2.4,0]
[null,null,null,null,null,null,null,null,null,null,null,null,null,null,null,null,null,null,null,null,null,null,null,null,null,null,null,1470,"03.03. 06:00",-2.7,0]
[null,null,null,null,null,null,null,null,null,null,null,null,null,null,null,null,null,null,null,null,null,null,null,null,null,null,null,1475,"03.03. 11:00",1.7,0]
[null,null,null,null,null,null,null,null,null,null,null,null,null,null,null,null,null,null,null,null,null,null,null,null,null,null,null,1487,"03.03. 23:00",-2.6,0]
[null,null,null,null,null,null,null,null,null,null,null,null,null,null,null,null,null,null,null,null,null,null,null,null,null,null,null,1496,"04.03. 08:00",-1.4,0]
[null,null,null,null,null,null,null,null,null,null,null,null,null,null,null,null,null,null,null,null,null,null,null,null,null,null,null,1502,"04.03. 14:00",6.8,0]
[null,null,null,null,null,null,null,null,null,null,null,null,null,null,null,null,null,null,null,null,null,null,null,null,null,null,null,1505,"04.03. 17:00",4.4000000000000004,0]
[null,null,null,null,null,null,null,null,null,null,null,null,null,null,null,null,null,null,null,null,null,null,null,null,null,null,null,1512,"05.03. 00:00",-0.3,0]
[null,null,null,null,null,null,null,null,null,null,null,null,null,null,null,null,null,null,null,null,null,null,null,null,null,null,null,1522,"05.03. 10:00",2.6,0]
[null,null,null,null,null,null,null,null,null,null,null,null,null,null,null,null,null,null,null,null,null,null,null,null,null,null,null,1533,"05.03. 21:00",1.8,0]
[null,null,null,null,null,null,null,null,null,null,null,null,null,null,null,null,null,null,null,null,null,null,null,null,null,null,null,1539,"06.03. 03:00",0.8,0]
[null,null,null,null,null,null,null,null,null,null,null,null,null,null,null,null,null,null,null,null,null,null,null,null,null,null,null,1547,"06.03. 11:00",4.4000000000000004,0]
[null,null,null,null,null,null,null,null,null,null,null,null,null,null,null,null,null,null,null,null,null,null,null,null,null,null,null,1556,"06.03. 20:00",4.3,0]
[null,null,null,null,null,null,null,null,null,null,null,null,null,null,null,null,null,null,null,null,null,null,null,null,null,null,null,1557,"06.03. 21:00",3.6,0]
[null,null,null,null,null,null,null,null,null,null,null,null,null,null,null,null,null,null,null,null,null,null,null,null,null,null,null,1570,"07.03. 10:00",4,0]
[null,null,null,null,null,null,null,null,null,null,null,null,null,null,null,null,null,null,null,null,null,null,null,null,null,null,null,1574,"07.03. 14:00",6.1,0]
[null,null,null,null,null,null,null,null,null,null,null,null,null,null,null,null,null,null,null,null,null,null,null,null,null,null,null,1584,"08.03. 00:00",-0.3,0]
[null,null,null,null,null,null,null,null,null,null,null,null,null,null,null,null,null,null,null,null,null,null,null,null,null,null,null,1591,"08.03. 07:00",-0.01,0]
[null,null,null,null,null,null,null,null,null,null,null,null,null,null,null,null,null,null,null,null,null,null,null,null,null,null,null,1598,"08.03. 14:00",10.3,0]
[null,null,null,null,null,null,null,null,null,null,null,null,null,null,null,null,null,null,null,null,null,null,null,null,null,null,null,1608,"09.03. 00:00",6.7,0]
[null,null,null,null,null,null,null,null,null,null,null,null,null,null,null,null,null,null,null,null,null,null,null,null,null,null,null,1615,"09.03. 07:00",7.4,0]
[null,null,null,null,null,null,null,null,null,null,null,null,null,null,null,null,null,null,null,null,null,null,null,null,null,null,null,1617,"09.03. 09:00",12.6,0]
[null,null,null,null,null,null,null,null,null,null,null,null,null,null,null,null,null,null,null,null,null,null,null,null,null,null,null,1629,"09.03. 21:00",13.3,0]
[null,null,null,null,null,null,null,null,null,null,null,null,null,null,null,null,null,null,null,null,null,null,null,null,null,null,null,1634,"10.03. 02:00",9.5,0]
[null,null,null,null,null,null,null,null,null,null,null,null,null,null,null,null,null,null,null,null,null,null,null,null,null,null,null,1643,"10.03. 11:00",8.5,0]
[null,null,null,null,null,null,null,null,null,null,null,null,null,null,null,null,null,null,null,null,null,null,null,null,null,null,null,1652,"10.03. 20:00",6.2,0]
[null,null,null,null,null,null,null,null,null,null,null,null,null,null,null,null,null,null,null,null,null,null,null,null,null,null,null,1660,"11.03. 04:00",3.4,0]
[null,null,null,null,null,null,null,null,null,null,null,null,null,null,null,null,null,null,null,null,null,null,null,null,null,null,null,1666,"11.03. 10:00",6.4,0]
[null,null,null,null,null,null,null,null,null,null,null,null,null,null,null,null,null,null,null,null,null,null,null,null,null,null,null,1677,"11.03. 21:00",7.7,0]
[null,null,null,null,null,null,null,null,null,null,null,null,null,null,null,null,null,null,null,null,null,null,null,null,null,null,null,1680,"12.03. 00:00",6.4,0]
[null,null,null,null,null,null,null,null,null,null,null,null,null,null,null,null,null,null,null,null,null,null,null,null,null,null,null,1686,"12.03. 06:00",5.5,0]
[null,null,null,null,null,null,null,null,null,null,null,null,null,null,null,null,null,null,null,null,null,null,null,null,null,null,null,1694,"12.03. 14:00",16.3,0]
[null,null,null,null,null,null,null,null,null,null,null,null,null,null,null,null,null,null,null,null,null,null,null,null,null,null,null,1703,"12.03. 23:00",8.1999999999999993,0]
[null,null,null,null,null,null,null,null,null,null,null,null,null,null,null,null,null,null,null,null,null,null,null,null,null,null,null,1712,"13.03. 08:00",6.9,0]
[null,null,null,null,null,null,null,null,null,null,null,null,null,null,null,null,null,null,null,null,null,null,null,null,null,null,null,1717,"13.03. 13:00",9.1999999999999993,0]
[null,null,null,null,null,null,null,null,null,null,null,null,null,null,null,null,null,null,null,null,null,null,null,null,null,null,null,1729,"14.03. 01:00",6.4,0]
[null,null,null,null,null,null,null,null,null,null,null,null,null,null,null,null,null,null,null,null,null,null,null,null,null,null,null,1734,"14.03. 06:00",6.7,0]
[null,null,null,null,null,null,null,null,null,null,null,null,null,null,null,null,null,null,null,null,null,null,null,null,null,null,null,1738,"14.03. 10:00",10.4,0]
[null,null,null,null,null,null,null,null,null,null,null,null,null,null,null,null,null,null,null,null,null,null,null,null,null,null,null,1748,"14.03. 20:00",13.7,0]
[null,null,null,null,null,null,null,null,null,null,null,null,null,null,null,null,null,null,null,null,null,null,null,null,null,null,null,1755,"15.03. 03:00",10.4,0]
[null,null,null,null,null,null,null,null,null,null,null,null,null,null,null,null,null,null,null,null,null,null,null,null,null,null,null,1762,"15.03. 10:00",13.3,0]
[null,null,null,null,null,null,null,null,null,null,null,null,null,null,null,null,null,null,null,null,null,null,null,null,null,null,null,1772,"15.03. 20:00",10.3,0]
[null,null,null,null,null,null,null,null,null,null,null,null,null,null,null,null,null,null,null,null,null,null,null,null,null,null,null,1776,"16.03. 00:00",6.8,0]
[null,null,null,null,null,null,null,null,null,null,null,null,null,null,null,null,null,null,null,null,null,null,null,null,null,null,null,1789,"16.03. 13:00",11,0]
[null,null,null,null,null,null,null,null,null,null,null,null,null,null,null,null,null,null,null,null,null,null,null,null,null,null,null,1798,"16.03. 22:00",5.9,0]
[null,null,null,null,null,null,null,null,null,null,null,null,null,null,null,null,null,null,null,null,null,null,null,null,null,null,null,1799,"16.03. 23:00",5.2,0]
[null,null,null,null,null,null,null,null,null,null,null,null,null,null,null,null,null,null,null,null,null,null,null,null,null,null,null,1807,"17.03. 07:00",4.9000000000000004,0]
[null,null,null,null,null,null,null,null,null,null,null,null,null,null,null,null,null,null,null,null,null,null,null,null,null,null,null,1820,"17.03. 20:00",5.8,0]
[null,null,null,null,null,null,null,null,null,null,null,null,null,null,null,null,null,null,null,null,null,null,null,null,null,null,null,1824,"18.03. 00:00",3.1,0]
[null,null,null,null,null,null,null,null,null,null,null,null,null,null,null,null,null,null,null,null,null,null,null,null,null,null,null,1830,"18.03. 06:00",1.8,0]
[null,null,null,null,null,null,null,null,null,null,null,null,null,null,null,null,null,null,null,null,null,null,null,null,null,null,null,1841,"18.03. 17:00",11.6,0]
[null,null,null,null,null,null,null,null,null,null,null,null,null,null,null,null,null,null,null,null,null,null,null,null,null,null,null,1844,"18.03. 20:00",7.8,0]
[null,null,null,null,null,null,null,null,null,null,null,null,null,null,null,null,null,null,null,null,null,null,null,null,null,null,null,1858,"19.03. 10:00",6.8,0]
[null,null,null,null,null,null,null,null,null,null,null,null,null,null,null,null,null,null,null,null,null,null,null,null,null,null,null,1859,"19.03. 11:00",7.9,0]
[null,null,null,null,null,null,null,null,null,null,null,null,null,null,null,null,null,null,null,null,null,null,null,null,null,null,null,1867,"19.03. 19:00",7.8,0]
[null,null,null,null,null,null,null,null,null,null,null,null,null,null,null,null,null,null,null,null,null,null,null,null,null,null,null,1876,"20.03. 04:00",2.8,0]
[null,null,null,null,null,null,null,null,null,null,null,null,null,null,null,null,null,null,null,null,null,null,null,null,null,null,null,1888,"20.03. 16:00",7.3,0]
[null,null,null,null,null,null,null,null,null,null,null,null,null,null,null,null,null,null,null,null,null,null,null,null,null,null,null,1893,"20.03. 21:00",6.2,0]
[null,null,null,null,null,null,null,null,null,null,null,null,null,null,null,null,null,null,null,null,null,null,null,null,null,null,null,1902,"21.03. 06:00",7.2,0]
[null,null,null,null,null,null,null,null,null,null,null,null,null,null,null,null,null,null,null,null,null,null,null,null,null,null,null,1910,"21.03. 14:00",12.8,0]
[null,null,null,null,null,null,null,null,null,null,null,null,null,null,null,null,null,null,null,null,null,null,null,null,null,null,null,1916,"21.03. 20:00",10.4,0]
[null,null,null,null,null,null,null,null,null,null,null,null,null,null,null,null,null,null,null,null,null,null,null,null,null,null,null,1919,"21.03. 23:00",9.4,0]
[null,null,null,null,null,null,null,null,null,null,null,null,null,null,null,null,null,null,null,null,null,null,null,null,null,null,null,1933,"22.03. 13:00",6,0]
[null,null,null,null,null,null,null,null,null,null,null,null,null,null,null,null,null,null,null,null,null,null,null,null,null,null,null,1936,"22.03. 16:00",5.6,0]
[null,null,null,null,null,null,null,null,null,null,null,null,null,null,null,null,null,null,null,null,null,null,null,null,null,null,null,1945,"23.03. 01:00",-0.5,0]
[null,null,null,null,null,null,null,null,null,null,null,null,null,null,null,null,null,null,null,null,null,null,null,null,null,null,null,1953,"23.03. 09:00",4.5999999999999996,0]
[null,null,null,null,null,null,null,null,null,null,null,null,null,null,null,null,null,null,null,null,null,null,null,null,null,null,null,1962,"23.03. 18:00",1.2,0]
[null,null,null,null,null,null,null,null,null,null,null,null,null,null,null,null,null,null,null,null,null,null,null,null,null,null,null,1970,"24.03. 02:00",0.3,0]
[null,null,null,null,null,null,null,null,null,null,null,null,null,null,null,null,null,null,null,null,null,null,null,null,null,null,null,1979,"24.03. 11:00",3.9,0]
[null,null,null,null,null,null,null,null,null,null,null,null,null,null,null,null,null,null,null,null,null,null,null,null,null,null,null,1984,"24.03. 16:00",5.0999999999999996,{"$f":"IF(AD2024<=$AC$25,1,0)","v":0}]
[null,null,null,null,null,null,null,null,null,null,null,null,null,null,null,null,null,null,null,null,null,null,null,null,null,null,null,1988,"24.03. 20:00",3.5,0]
[null,null,null,null,null,null,null,null,null,null,null,null,null,null,null,null,null,null,null,null,null,null,null,null,null,null,null,1998,"25.03. 06:00",2.1,0]
[null,null,null,null,null,null,null,null,null,null,null,null,null,null,null,null,null,null,null,null,null,null,null,null,null,null,null,2005,"25.03. 13:00",9.5,0]
[null,null,null,null,null,null,null,null,null,null,null,null,null,null,null,null,null,null,null,null,null,null,null,null,null,null,null,2014,"25.03. 22:00",5.2,0]
[null,null,null,null,null,null,null,null,null,null,null,null,null,null,null,null,null,null,null,null,null,null,null,null,null,null,null,2021,"26.03. 05:00",3.4,0]
[null,null,null,null,null,null,null,null,null,null,null,null,null,null,null,null,null,null,null,null,null,null,null,null,null,null,null,2031,"26.03. 15:00",14.7,0]
[null,null,null,null,null,null,null,null,null,null,null,null,null,null,null,null,null,null,null,null,null,null,null,null,null,null,null,2035,"26.03. 19:00",11.5,0]
[null,null,null,null,null,null,null,null,null,null,null,null,null,null,null,null,null,null,null,null,null,null,null,null,null,null,null,2040,"27.03. 00:00",7.8,0]
[null,null,null,null,null,null,null,null,null,null,null,null,null,null,null,null,null,null,null,null,null,null,null,null,null,null,null,2049,"27.03. 09:00",8.9,0]
[null,null,null,null,null,null,null,null,null,null,null,null,null,null,null,null,null,null,null,null,null,null,null,null,null,null,null,2057,"27.03. 17:00",11.8,0]
[null,null,null,null,null,null,null,null,null,null,null,null,null,null,null,null,null,null,null,null,null,null,null,null,null,null,null,2066,"28.03. 02:00",3,0]
[null,null,null,null,null,null,null,null,null,null,null,null,null,null,null,null,null,null,null,null,null,null,null,null,null,null,null,2074,"28.03. 10:00",12.3,0]
[null,null,null,null,null,null,null,null,null,null,null,null,null,null,null,null,null,null,null,null,null,null,null,null,null,null,null,2080,"28.03. 16:00",16.100000000000001,0]
[null,null,null,null,null,null,null,null,null,null,null,null,null,null,null,null,null,null,null,null,null,null,null,null,null,null,null,2091,"29.03. 04:00",0.9,0]
[null,null,null,null,null,null,null,null,null,null,null,null,null,null,null,null,null,null,null,null,null,null,null,null,null,null,null,2100,"29.03. 13:00",8,0]
[null,null,null,null,null,null,null,null,null,null,null,null,null,null,null,null,null,null,null,null,null,null,null,null,null,null,null,2103,"29.03. 16:00",9,0]
[null,null,null,null,null,null,null,null,null,null,null,null,null,null,null,null,null,null,null,null,null,null,null,null,null,null,null,2109,"29.03. 22:00",1.9,0]
[null,null,null,null,null,null,null,null,null,null,null,null,null,null,null,null,null,null,null,null,null,null,null,null,null,null,null,2117,"30.03. 06:00",-2.2000000000000002,0]
[null,null,null,null,null,null,null,null,null,null,null,null,null,null,null,null,null,null,null,null,null,null,null,null,null,null,null,2126,"30.03. 15:00",9.5,0]
[null,null,null,null,null,null,null,null,null,null,null,null,null,null,null,null,null,null,null,null,null,null,null,null,null,null,null,2131,"30.03. 20:00",4.7,0]
[null,null,null,null,null,null,null,null,null,null,null,null,null,null,null,null,null,null,null,null,null,null,null,null,null,null,null,2143,"31.03. 08:00",2.1,0]
[null,null,null,null,null,null,null,null,null,null,null,null,null,null,null,null,null,null,null,null,null,null,null,null,null,null,null,2148,"31.03. 13:00",6.7,0]
[null,null,null,null,null,null,null,null,null,null,null,null,null,null,null,null,null,null,null,null,null,null,null,null,null,null,null,2160,"01.04. 01:00",1,0]
[null,null,null,null,null,null,null,null,null,null,null,null,null,null,null,null,null,null,null,null,null,null,null,null,null,null,null,2161,"01.04. 02:00",-0.03,0]
[null,null,null,null,null,null,null,null,null,null,null,null,null,null,null,null,null,null,null,null,null,null,null,null,null,null,null,2175,"01.04. 16:00",6.1,0]
[null,null,null,null,null,null,null,null,null,null,null,null,null,null,null,null,null,null,null,null,null,null,null,null,null,null,null,2178,"01.04. 19:00",3.6,0]
[null,null,null,null,null,null,null,null,null,null,null,null,null,null,null,null,null,null,null,null,null,null,null,null,null,null,null,2185,"02.04. 02:00",0.2,0]
[null,null,null,null,null,null,null,null,null,null,null,null,null,null,null,null,null,null,null,null,null,null,null,null,null,null,null,2195,"02.04. 12:00",1.8,0]
[null,null,null,null,null,null,null,null,null,null,null,null,null,null,null,null,null,null,null,null,null,null,null,null,null,null,null,2199,"02.04. 16:00",2.2999999999999998,0]
[null,null,null,null,null,null,null,null,null,null,null,null,null,null,null,null,null,null,null,null,null,null,null,null,null,null,null,2212,"03.04. 05:00",-0.6,0]
[null,null,null,null,null,null,null,null,null,null,null,null,null,null,null,null,null,null,null,null,null,null,null,null,null,null,null,2220,"03.04. 13:00",7.9,0]
[null,null,null,null,null,null,null,null,null,null,null,null,null,null,null,null,null,null,null,null,null,null,null,null,null,null,null,2221,"03.04. 14:00",8.6,0]
[null,null,null,null,null,null,null,null,null,null,null,null,null,null,null,null,null,null,null,null,null,null,null,null,null,null,null,2234,"04.04. 03:00",2.1,0]
[null,null,null,null,null,null,null,null,null,null,null,null,null,null,null,null,null,null,null,null,null,null,null,null,null,null,null,2238,"04.04. 07:00",2.2000000000000002,0]
[null,null,null,null,null,null,null,null,null,null,null,null,null,null,null,null,null,null,null,null,null,null,null,null,null,null,null,2247,"04.04. 16:00",10.5,0]
[null,null,null,null,null,null,null,null,null,null,null,null,null,null,null,null,null,null,null,null,null,null,null,null,null,null,null,2257,"05.04. 02:00",7.2,0]
[null,null,null,null,null,null,null,null,null,null,null,null,null,null,null,null,null,null,null,null,null,null,null,null,null,null,null,2264,"05.04. 09:00",8.1999999999999993,0]
[null,null,null,null,null,null,null,null,null,null,null,null,null,null,null,null,null,null,null,null,null,null,null,null,null,null,null,2271,"05.04. 16:00",9.5,0]
[null,null,null,null,null,null,null,null,null,null,null,null,null,null,null,null,null,null,null,null,null,null,null,null,null,null,null,2281,"06.04. 02:00",6.6,0]
[null,null,null,null,null,null,null,null,null,null,null,null,null,null,null,null,null,null,null,null,null,null,null,null,null,null,null,2288,"06.04. 09:00",10.8,0]
[null,null,null,null,null,null,null,null,null,null,null,null,null,null,null,null,null,null,null,null,null,null,null,null,null,null,null,2290,"06.04. 11:00",14.5,0]
[null,null,null,null,null,null,null,null,null,null,null,null,null,null,null,null,null,null,null,null,null,null,null,null,null,null,null,2302,"06.04. 23:00",11.5,0]
[null,null,null,null,null,null,null,null,null,null,null,null,null,null,null,null,null,null,null,null,null,null,null,null,null,null,null,2307,"07.04. 04:00",9.9,0]
[null,null,null,null,null,null,null,null,null,null,null,null,null,null,null,null,null,null,null,null,null,null,null,null,null,null,null,2316,"07.04. 13:00",19.7,0]
[null,null,null,null,null,null,null,null,null,null,null,null,null,null,null,null,null,null,null,null,null,null,null,null,null,null,null,2325,"07.04. 22:00",14.3,0]
[null,null,null,null,null,null,null,null,null,null,null,null,null,null,null,null,null,null,null,null,null,null,null,null,null,null,null,2333,"08.04. 06:00",9.4,0]
[null,null,null,null,null,null,null,null,null,null,null,null,null,null,null,null,null,null,null,null,null,null,null,null,null,null,null,2339,"08.04. 12:00",12.5,0]
[null,null,null,null,null,null,null,null,null,null,null,null,null,null,null,null,null,null,null,null,null,null,null,null,null,null,null,2342,"08.04. 15:00",11.2,0]
[null,null,null,null,null,null,null,null,null,null,null,null,null,null,null,null,null,null,null,null,null,null,null,null,null,null,null,2353,"09.04. 02:00",6,0]
[null,null,null,null,null,null,null,null,null,null,null,null,null,null,null,null,null,null,null,null,null,null,null,null,null,null,null,2359,"09.04. 08:00",9.5,0]
[null,null,null,null,null,null,null,null,null,null,null,null,null,null,null,null,null,null,null,null,null,null,null,null,null,null,null,2367,"09.04. 16:00",20.6,0]
[null,null,null,null,null,null,null,null,null,null,null,null,null,null,null,null,null,null,null,null,null,null,null,null,null,null,null,2376,"10.04. 01:00",9.8000000000000007,0]
[null,null,null,null,null,null,null,null,null,null,null,null,null,null,null,null,null,null,null,null,null,null,null,null,null,null,null,2384,"10.04. 09:00",11.2,0]
[null,null,null,null,null,null,null,null,null,null,null,null,null,null,null,null,null,null,null,null,null,null,null,null,null,null,null,2393,"10.04. 18:00",14.3,0]
[null,null,null,null,null,null,null,null,null,null,null,null,null,null,null,null,null,null,null,null,null,null,null,null,null,null,null,2402,"11.04. 03:00",4.4000000000000004,0]
[null,null,null,null,null,null,null,null,null,null,null,null,null,null,null,null,null,null,null,null,null,null,null,null,null,null,null,2407,"11.04. 08:00",8.1,0]
[null,null,null,null,null,null,null,null,null,null,null,null,null,null,null,null,null,null,null,null,null,null,null,null,null,null,null,2411,"11.04. 12:00",13.7,0]
[null,null,null,null,null,null,null,null,null,null,null,null,null,null,null,null,null,null,null,null,null,null,null,null,null,null,null,2421,"11.04. 22:00",8.5,0]
[null,null,null,null,null,null,null,null,null,null,null,null,null,null,null,null,null,null,null,null,null,null,null,null,null,null,null,2428,"12.04. 05:00",7.3,0]
[null,null,null,null,null,null,null,null,null,null,null,null,null,null,null,null,null,null,null,null,null,null,null,null,null,null,null,2435,"12.04. 12:00",11.6,0]
[null,null,null,null,null,null,null,null,null,null,null,null,null,null,null,null,null,null,null,null,null,null,null,null,null,null,null,2445,"12.04. 22:00",10,0]
[null,null,null,null,null,null,null,null,null,null,null,null,null,null,null,null,null,null,null,null,null,null,null,null,null,null,null,2449,"13.04. 02:00",9.6,0]
[null,null,null,null,null,null,null,null,null,null,null,null,null,null,null,null,null,null,null,null,null,null,null,null,null,null,null,2462,"13.04. 15:00",16.5,0]
[null,null,null,null,null,null,null,null,null,null,null,null,null,null,null,null,null,null,null,null,null,null,null,null,null,null,null,2463,"13.04. 16:00",15.7,0]
[null,null,null,null,null,null,null,null,null,null,null,null,null,null,null,null,null,null,null,null,null,null,null,null,null,null,null,2472,"14.04. 01:00",10.3,0]
[null,null,null,null,null,null,null,null,null,null,null,null,null,null,null,null,null,null,null,null,null,null,null,null,null,null,null,2480,"14.04. 09:00",12.6,0]
[null,null,null,null,null,null,null,null,null,null,null,null,null,null,null,null,null,null,null,null,null,null,null,null,null,null,null,2486,"14.04. 15:00",17,0]
[null,null,null,null,null,null,null,null,null,null,null,null,null,null,null,null,null,null,null,null,null,null,null,null,null,null,null,2497,"15.04. 02:00",8.3000000000000007,0]
[null,null,null,null,null,null,null,null,null,null,null,null,null,null,null,null,null,null,null,null,null,null,null,null,null,null,null,2503,"15.04. 08:00",11.4,0]
[null,null,null,null,null,null,null,null,null,null,null,null,null,null,null,null,null,null,null,null,null,null,null,null,null,null,null,2514,"15.04. 19:00",17.100000000000001,0]
[null,null,null,null,null,null,null,null,null,null,null,null,null,null,null,null,null,null,null,null,null,null,null,null,null,null,null,2517,"15.04. 22:00",14.1,0]
[null,null,null,null,null,null,null,null,null,null,null,null,null,null,null,null,null,null,null,null,null,null,null,null,null,null,null,2523,"16.04. 04:00",10.199999999999999,0]
[null,null,null,null,null,null,null,null,null,null,null,null,null,null,null,null,null,null,null,null,null,null,null,null,null,null,null,2531,"16.04. 12:00",9.1999999999999993,0]
[null,null,null,null,null,null,null,null,null,null,null,null,null,null,null,null,null,null,null,null,null,null,null,null,null,null,null,2540,"16.04. 21:00",7.3,0]
[null,null,null,null,null,null,null,null,null,null,null,null,null,null,null,null,null,null,null,null,null,null,null,null,null,null,null,2549,"17.04. 06:00",4.2,0]
[null,null,null,null,null,null,null,null,null,null,null,null,null,null,null,null,null,null,null,null,null,null,null,null,null,null,null,2554,"17.04. 11:00",9.8000000000000007,0]
[null,null,null,null,null,null,null,null,null,null,null,null,null,null,null,null,null,null,null,null,null,null,null,null,null,null,null,2566,"17.04. 23:00",7,0]
[null,null,null,null,null,null,null,null,null,null,null,null,null,null,null,null,null,null,null,null,null,null,null,null,null,null,null,2575,"18.04. 08:00",7.9,0]
[null,null,null,null,null,null,null,null,null,null,null,null,null,null,null,null,null,null,null,null,null,null,null,null,null,null,null,2583,"18.04. 16:00",11.8,0]
[null,null,null,null,null,null,null,null,null,null,null,null,null,null,null,null,null,null,null,null,null,null,null,null,null,null,null,2589,"18.04. 22:00",7.6,0]
[null,null,null,null,null,null,null,null,null,null,null,null,null,null,null,null,null,null,null,null,null,null,null,null,null,null,null,2592,"19.04. 01:00",5.4,0]
[null,null,null,null,null,null,null,null,null,null,null,null,null,null,null,null,null,null,null,null,null,null,null,null,null,null,null,2599,"19.04. 08:00",5.2,0]
[null,null,null,null,null,null,null,null,null,null,null,null,null,null,null,null,null,null,null,null,null,null,null,null,null,null,null,2609,"19.04. 18:00",5.4,0]
[null,null,null,null,null,null,null,null,null,null,null,null,null,null,null,null,null,null,null,null,null,null,null,null,null,null,null,2618,"20.04. 03:00",4.0999999999999996,0]
[null,null,null,null,null,null,null,null,null,null,null,null,null,null,null,null,null,null,null,null,null,null,null,null,null,null,null,2626,"20.04. 11:00",10.9,0]
[null,null,null,null,null,null,null,null,null,null,null,null,null,null,null,null,null,null,null,null,null,null,null,null,null,null,null,2635,"20.04. 20:00",9.6,0]
[null,null,null,null,null,null,null,null,null,null,null,null,null,null,null,null,null,null,null,null,null,null,null,null,null,null,null,2643,"21.04. 04:00",7.9,0]
[null,null,null,null,null,null,null,null,null,null,null,null,null,null,null,null,null,null,null,null,null,null,null,null,null,null,null,2644,"21.04. 05:00",7.7,0]
[null,null,null,null,null,null,null,null,null,null,null,null,null,null,null,null,null,null,null,null,null,null,null,null,null,null,null,2657,"21.04. 18:00",12.6,0]
[null,null,null,null,null,null,null,null,null,null,null,null,null,null,null,null,null,null,null,null,null,null,null,null,null,null,null,2661,"21.04. 22:00",9.1999999999999993,0]
[null,null,null,null,null,null,null,null,null,null,null,null,null,null,null,null,null,null,null,null,null,null,null,null,null,null,null,2671,"22.04. 08:00",9.6,0]
[null,null,null,null,null,null,null,null,null,null,null,null,null,null,null,null,null,null,null,null,null,null,null,null,null,null,null,2678,"22.04. 15:00",18,0]
[null,null,null,null,null,null,null,null,null,null,null,null,null,null,null,null,null,null,null,null,null,null,null,null,null,null,null,2685,"22.04. 22:00",10,0]
[null,null,null,null,null,null,null,null,null,null,null,null,null,null,null,null,null,null,null,null,null,null,null,null,null,null,null,2695,"23.04. 08:00",6.9,0]
[null,null,null,null,null,null,null,null,null,null,null,null,null,null,null,null,null,null,null,null,null,null,null,null,null,null,null,2704,"23.04. 17:00",13,0]
[null,null,null,null,null,null,null,null,null,null,null,null,null,null,null,null,null,null,null,null,null,null,null,null,null,null,null,2708,"23.04. 21:00",7.4,0]
[null,null,null,null,null,null,null,null,null,null,null,null,null,null,null,null,null,null,null,null,null,null,null,null,null,null,null,2713,"24.04. 02:00",1.2,0]
[null,null,null,null,null,null,null,null,null,null,null,null,null,null,null,null,null,null,null,null,null,null,null,null,null,null,null,2725,"24.04. 14:00",12.9,0]
[null,null,null,null,null,null,null,null,null,null,null,null,null,null,null,null,null,null,null,null,null,null,null,null,null,null,null,2730,"24.04. 19:00",9.5,0]
[null,null,null,null,null,null,null,null,null,null,null,null,null,null,null,null,null,null,null,null,null,null,null,null,null,null,null,2739,"25.04. 04:00",4.5999999999999996,0]
[null,null,null,null,null,null,null,null,null,null,null,null,null,null,null,null,null,null,null,null,null,null,null,null,null,null,null,2747,"25.04. 12:00",6.2,0]
[null,null,null,null,null,null,null,null,null,null,null,null,null,null,null,null,null,null,null,null,null,null,null,null,null,null,null,2753,"25.04. 18:00",6.2,0]
[null,null,null,null,null,null,null,null,null,null,null,null,null,null,null,null,null,null,null,null,null,null,null,null,null,null,null,2764,"26.04. 05:00",4.5999999999999996,0]
[null,null,null,null,null,null,null,null,null,null,null,null,null,null,null,null,null,null,null,null,null,null,null,null,null,null,null,2765,"26.04. 06:00",4.5999999999999996,0]
[null,null,null,null,null,null,null,null,null,null,null,null,null,null,null,null,null,null,null,null,null,null,null,null,null,null,null,2776,"26.04. 17:00",10.4,0]
[null,null,null,null,null,null,null,null,null,null,null,null,null,null,null,null,null,null,null,null,null,null,null,null,null,null,null,2782,"26.04. 23:00",5.4,0]
[null,null,null,null,null,null,null,null,null,null,null,null,null,null,null,null,null,null,null,null,null,null,null,null,null,null,null,2790,"27.04. 07:00",2.6,0]
[null,null,null,null,null,null,null,null,null,null,null,null,null,null,null,null,null,null,null,null,null,null,null,null,null,null,null,2799,"27.04. 16:00",11.6,0]
[null,null,null,null,null,null,null,null,null,null,null,null,null,null,null,null,null,null,null,null,null,null,null,null,null,null,null,2804,"27.04. 21:00",6.5,0]
[null,null,null,null,null,null,null,null,null,null,null,null,null,null,null,null,null,null,null,null,null,null,null,null,null,null,null,2816,"28.04. 09:00",5.9,{"$f":"IF(AD2856<=$AC$25,1,0)","v":0}]
[null,null,null,null,null,null,null,null,null,null,null,null,null,null,null,null,null,null,null,null,null,null,null,null,null,null,null,2821,"28.04. 14:00",11.1,0]
[null,null,null,null,null,null,null,null,null,null,null,null,null,null,null,null,null,null,null,null,null,null,null,null,null,null,null,2825,"28.04. 18:00",10.199999999999999,0]
[null,null,null,null,null,null,null,null,null,null,null,null,null,null,null,null,null,null,null,null,null,null,null,null,null,null,null,2835,"29.04. 04:00",0.7,0]
[null,null,null,null,null,null,null,null,null,null,null,null,null,null,null,null,null,null,null,null,null,null,null,null,null,null,null,2842,"29.04. 11:00",5.6,0]
[null,null,null,null,null,null,null,null,null,null,null,null,null,null,null,null,null,null,null,null,null,null,null,null,null,null,null,2851,"29.04. 20:00",6.6,0]
[null,null,null,null,null,null,null,null,null,null,null,null,null,null,null,null,null,null,null,null,null,null,null,null,null,null,null,2858,"30.04. 03:00",1,0]
[null,null,null,null,null,null,null,null,null,null,null,null,null,null,null,null,null,null,null,null,null,null,null,null,null,null,null,2868,"30.04. 13:00",4.4000000000000004,0]
[null,null,null,null,null,null,null,null,null,null,null,null,null,null,null,null,null,null,null,null,null,null,null,null,null,null,null,2872,"30.04. 17:00",6,0]
[null,null,null,null,null,null,null,null,null,null,null,null,null,null,null,null,null,null,null,null,null,null,null,null,null,null,null,2885,"01.05. 06:00",4.9000000000000004,0]
[null,null,null,null,null,null,null,null,null,null,null,null,null,null,null,null,null,null,null,null,null,null,null,null,null,null,null,2886,"01.05. 07:00",5.0999999999999996,0]
[null,null,null,null,null,null,null,null,null,null,null,null,null,null,null,null,null,null,null,null,null,null,null,null,null,null,null,2894,"01.05. 15:00",15,0]
[null,null,null,null,null,null,null,null,null,null,null,null,null,null,null,null,null,null,null,null,null,null,null,null,null,null,null,2907,"02.05. 04:00",7.2,0]
[null,null,null,null,null,null,null,null,null,null,null,null,null,null,null,null,null,null,null,null,null,null,null,null,null,null,null,2911,"02.05. 08:00",7.9,0]
[null,null,null,null,null,null,null,null,null,null,null,null,null,null,null,null,null,null,null,null,null,null,null,null,null,null,null,2920,"02.05. 17:00",9,0]
[null,null,null,null,null,null,null,null,null,null,null,null,null,null,null,null,null,null,null,null,null,null,null,null,null,null,null,2930,"03.05. 03:00",4.5999999999999996,0]
[null,null,null,null,null,null,null,null,null,null,null,null,null,null,null,null,null,null,null,null,null,null,null,null,null,null,null,2937,"03.05. 10:00",11.2,0]
[null,null,null,null,null,null,null,null,null,null,null,null,null,null,null,null,null,null,null,null,null,null,null,null,null,null,null,2944,"03.05. 17:00",11.7,{"$f":"IF(AD2984<=$AC$25,1,0)","v":0}]
[null,null,null,null,null,null,null,null,null,null,null,null,null,null,null,null,null,null,null,null,null,null,null,null,null,null,null,2946,"03.05. 19:00",10,0]
[null,null,null,null,null,null,null,null,null,null,null,null,null,null,null,null,null,null,null,null,null,null,null,null,null,null,null,2954,"04.05. 03:00",5.3,0]
[null,null,null,null,null,null,null,null,null,null,null,null,null,null,null,null,null,null,null,null,null,null,null,null,null,null,null,2963,"04.05. 12:00",9.9,0]
[null,null,null,null,null,null,null,null,null,null,null,null,null,null,null,null,null,null,null,null,null,null,null,null,null,null,null,2975,"05.05. 00:00",5.5,0]
[null,null,null,null,null,null,null,null,null,null,null,null,null,null,null,null,null,null,null,null,null,null,null,null,null,null,null,2980,"05.05. 05:00",6,0]
[null,null,null,null,null,null,null,null,null,null,null,null,null,null,null,null,null,null,null,null,null,null,null,null,null,null,null,2989,"05.05. 14:00",13.9,0]
[null,null,null,null,null,null,null,null,null,null,null,null,null,null,null,null,null,null,null,null,null,null,null,null,null,null,null,2997,"05.05. 22:00",12.9,0]
[null,null,null,null,null,null,null,null,null,null,null,null,null,null,null,null,null,null,null,null,null,null,null,null,null,null,null,3006,"06.05. 07:00",12,0]
[null,null,null,null,null,null,null,null,null,null,null,null,null,null,null,null,null,null,null,null,null,null,null,null,null,null,null,3012,"06.05. 13:00",20.5,0]
[null,null,null,null,null,null,null,null,null,null,null,null,null,null,null,null,null,null,null,null,null,null,null,null,null,null,null,3015,"06.05. 16:00",21.6,0]
[null,null,null,null,null,null,null,null,null,null,null,null,null,null,null,null,null,null,null,null,null,null,null,null,null,null,null,3026,"07.05. 03:00",9.9,0]
[null,null,null,null,null,null,null,null,null,null,null,null,null,null,null,null,null,null,null,null,null,null,null,null,null,null,null,3032,"07.05. 09:00",11.6,0]
[null,null,null,null,null,null,null,null,null,null,null,null,null,null,null,null,null,null,null,null,null,null,null,null,null,null,null,3040,"07.05. 17:00",14.2,0]
[null,null,null,null,null,null,null,null,null,null,null,null,null,null,null,null,null,null,null,null,null,null,null,null,null,null,null,3049,"08.05. 02:00",7.6,0]
[null,null,null,null,null,null,null,null,null,null,null,null,null,null,null,null,null,null,null,null,null,null,null,null,null,null,null,3057,"08.05. 10:00",13.8,0]
[null,null,null,null,null,null,null,null,null,null,null,null,null,null,null,null,null,null,null,null,null,null,null,null,null,null,null,3066,"08.05. 19:00",16.899999999999999,0]
[null,null,null,null,null,null,null,null,null,null,null,null,null,null,null,null,null,null,null,null,null,null,null,null,null,null,null,3067,"08.05. 20:00",15.7,0]
[null,null,null,null,null,null,null,null,null,null,null,null,null,null,null,null,null,null,null,null,null,null,null,null,null,null,null,3080,"09.05. 09:00",9.4,0]
[null,null,null,null,null,null,null,null,null,null,null,null,null,null,null,null,null,null,null,null,null,null,null,null,null,null,null,3084,"09.05. 13:00",11,0]
[null,null,null,null,null,null,null,null,null,null,null,null,null,null,null,null,null,null,null,null,null,null,null,null,null,null,null,3094,"09.05. 23:00",7,0]
[null,null,null,null,null,null,null,null,null,null,null,null,null,null,null,null,null,null,null,null,null,null,null,null,null,null,null,3101,"10.05. 06:00",6.1,0]
[null,null,null,null,null,null,null,null,null,null,null,null,null,null,null,null,null,null,null,null,null,null,null,null,null,null,null,3108,"10.05. 13:00",17.899999999999999,0]
[null,null,null,null,null,null,null,null,null,null,null,null,null,null,null,null,null,null,null,null,null,null,null,null,null,null,null,3118,"10.05. 23:00",11.6,0]
[null,null,null,null,null,null,null,null,null,null,null,null,null,null,null,null,null,null,null,null,null,null,null,null,null,null,null,3122,"11.05. 03:00",8.1999999999999993,0]
[null,null,null,null,null,null,null,null,null,null,null,null,null,null,null,null,null,null,null,null,null,null,null,null,null,null,null,3127,"11.05. 08:00",10.8,0]
[null,null,null,null,null,null,null,null,null,null,null,null,null,null,null,null,null,null,null,null,null,null,null,null,null,null,null,3136,"11.05. 17:00",17.399999999999999,{"$f":"IF(AD3176<=$AC$25,1,0)","v":0}]
[null,null,null,null,null,null,null,null,null,null,null,null,null,null,null,null,null,null,null,null,null,null,null,null,null,null,null,3144,"12.05. 01:00",6.7,0]
[null,null,null,null,null,null,null,null,null,null,null,null,null,null,null,null,null,null,null,null,null,null,null,null,null,null,null,3153,"12.05. 10:00",12.3,0]
[null,null,null,null,null,null,null,null,null,null,null,null,null,null,null,null,null,null,null,null,null,null,null,null,null,null,null,3159,"12.05. 16:00",17,0]
[null,null,null,null,null,null,null,null,null,null,null,null,null,null,null,null,null,null,null,null,null,null,null,null,null,null,null,3170,"13.05. 03:00",7.4,0]
[null,null,null,null,null,null,null,null,null,null,null,null,null,null,null,null,null,null,null,null,null,null,null,null,null,null,null,3176,"13.05. 09:00",8.8000000000000007,0]
[null,null,null,null,null,null,null,null,null,null,null,null,null,null,null,null,null,null,null,null,null,null,null,null,null,null,null,3187,"13.05. 20:00",13,0]
[null,null,null,null,null,null,null,null,null,null,null,null,null,null,null,null,null,null,null,null,null,null,null,null,null,null,null,3190,"13.05. 23:00",8.9,0]
[null,null,null,null,null,null,null,null,null,null,null,null,null,null,null,null,null,null,null,null,null,null,null,null,null,null,null,3196,"14.05. 05:00",4.7,0]
[null,null,null,null,null,null,null,null,null,null,null,null,null,null,null,null,null,null,null,null,null,null,null,null,null,null,null,3204,"14.05. 13:00",14.4,0]
[null,null,null,null,null,null,null,null,null,null,null,null,null,null,null,null,null,null,null,null,null,null,null,null,null,null,null,3213,"14.05. 22:00",8.5,0]
[null,null,null,null,null,null,null,null,null,null,null,null,null,null,null,null,null,null,null,null,null,null,null,null,null,null,null,3222,"15.05. 07:00",7.3,0]
[null,null,null,null,null,null,null,null,null,null,null,null,null,null,null,null,null,null,null,null,null,null,null,null,null,null,null,3227,"15.05. 12:00",16.100000000000001,0]
[null,null,null,null,null,null,null,null,null,null,null,null,null,null,null,null,null,null,null,null,null,null,null,null,null,null,null,3239,"16.05. 00:00",10.7,0]
[null,null,null,null,null,null,null,null,null,null,null,null,null,null,null,null,null,null,null,null,null,null,null,null,null,null,null,3241,"16.05. 02:00",9.8000000000000007,0]
[null,null,null,null,null,null,null,null,null,null,null,null,null,null,null,null,null,null,null,null,null,null,null,null,null,null,null,3248,"16.05. 09:00",15.7,0]
[null,null,null,null,null,null,null,null,null,null,null,null,null,null,null,null,null,null,null,null,null,null,null,null,null,null,null,3262,"16.05. 23:00",13.9,0]
[null,null,null,null,null,null,null,null,null,null,null,null,null,null,null,null,null,null,null,null,null,null,null,null,null,null,null,3265,"17.05. 02:00",9.6999999999999993,0]
[null,null,null,null,null,null,null,null,null,null,null,null,null,null,null,null,null,null,null,null,null,null,null,null,null,null,null,3272,"17.05. 09:00",13.5,0]
[null,null,null,null,null,null,null,null,null,null,null,null,null,null,null,null,null,null,null,null,null,null,null,null,null,null,null,3282,"17.05. 19:00",16.100000000000001,0]
[null,null,null,null,null,null,null,null,null,null,null,null,null,null,null,null,null,null,null,null,null,null,null,null,null,null,null,3286,"17.05. 23:00",10.9,0]
[null,null,null,null,null,null,null,null,null,null,null,null,null,null,null,null,null,null,null,null,null,null,null,null,null,null,null,3299,"18.05. 12:00",20,0]
[null,null,null,null,null,null,null,null,null,null,null,null,null,null,null,null,null,null,null,null,null,null,null,null,null,null,null,3308,"18.05. 21:00",16.5,0]
[null,null,null,null,null,null,null,null,null,null,null,null,null,null,null,null,null,null,null,null,null,null,null,null,null,null,null,3309,"18.05. 22:00",15.1,0]
[null,null,null,null,null,null,null,null,null,null,null,null,null,null,null,null,null,null,null,null,null,null,null,null,null,null,null,3317,"19.05. 06:00",10.9,0]
[null,null,null,null,null,null,null,null,null,null,null,null,null,null,null,null,null,null,null,null,null,null,null,null,null,null,null,3330,"19.05. 19:00",17.100000000000001,0]
[null,null,null,null,null,null,null,null,null,null,null,null,null,null,null,null,null,null,null,null,null,null,null,null,null,null,null,3334,"19.05. 23:00",13.2,0]
[null,null,null,null,null,null,null,null,null,null,null,null,null,null,null,null,null,null,null,null,null,null,null,null,null,null,null,3344,"20.05. 09:00",14.6,0]
[null,null,null,null,null,null,null,null,null,null,null,null,null,null,null,null,null,null,null,null,null,null,null,null,null,null,null,3351,"20.05. 16:00",18.3,0]
[null,null,null,null,null,null,null,null,null,null,null,null,null,null,null,null,null,null,null,null,null,null,null,null,null,null,null,3358,"20.05. 23:00",13.9,0]
[null,null,null,null,null,null,null,null,null,null,null,null,null,null,null,null,null,null,null,null,null,null,null,null,null,null,null,3368,"21.05. 09:00",14.5,0]
[null,null,null,null,null,null,null,null,null,null,null,null,null,null,null,null,null,null,null,null,null,null,null,null,null,null,null,3369,"21.05. 10:00",15.7,0]
[null,null,null,null,null,null,null,null,null,null,null,null,null,null,null,null,null,null,null,null,null,null,null,null,null,null,null,3381,"21.05. 22:00",12.3,0]
[null,null,null,null,null,null,null,null,null,null,null,null,null,null,null,null,null,null,null,null,null,null,null,null,null,null,null,3386,"22.05. 03:00",10.4,0]
[null,null,null,null,null,null,null,null,null,null,null,null,null,null,null,null,null,null,null,null,null,null,null,null,null,null,null,3398,"22.05. 15:00",17.7,0]
[null,null,null,null,null,null,null,null,null,null,null,null,null,null,null,null,null,null,null,null,null,null,null,null,null,null,null,3403,"22.05. 20:00",17.8,0]
[null,null,null,null,null,null,null,null,null,null,null,null,null,null,null,null,null,null,null,null,null,null,null,null,null,null,null,3412,"23.05. 05:00",13.4,0]
[null,null,null,null,null,null,null,null,null,null,null,null,null,null,null,null,null,null,null,null,null,null,null,null,null,null,null,3420,"23.05. 13:00",15.8,0]
[null,null,null,null,null,null,null,null,null,null,null,null,null,null,null,null,null,null,null,null,null,null,null,null,null,null,null,3426,"23.05. 19:00",14.1,0]
[null,null,null,null,null,null,null,null,null,null,null,null,null,null,null,null,null,null,null,null,null,null,null,null,null,null,null,3429,"23.05. 22:00",12.9,0]
[null,null,null,null,null,null,null,null,null,null,null,null,null,null,null,null,null,null,null,null,null,null,null,null,null,null,null,3440,"24.05. 09:00",14.4,0]
[null,null,null,null,null,null,null,null,null,null,null,null,null,null,null,null,null,null,null,null,null,null,null,null,null,null,null,3446,"24.05. 15:00",21,0]
[null,null,null,null,null,null,null,null,null,null,null,null,null,null,null,null,null,null,null,null,null,null,null,null,null,null,null,3455,"25.05. 00:00",17.8,0]
[null,null,null,null,null,null,null,null,null,null,null,null,null,null,null,null,null,null,null,null,null,null,null,null,null,null,null,3463,"25.05. 08:00",18.2,0]
[null,null,null,null,null,null,null,null,null,null,null,null,null,null,null,null,null,null,null,null,null,null,null,null,null,null,null,3472,"25.05. 17:00",21.6,0]
[null,null,null,null,null,null,null,null,null,null,null,null,null,null,null,null,null,null,null,null,null,null,null,null,null,null,null,3477,"25.05. 22:00",17.899999999999999,0]
[null,null,null,null,null,null,null,null,null,null,null,null,null,null,null,null,null,null,null,null,null,null,null,null,null,null,null,3489,"26.05. 10:00",21.2,0]
[null,null,null,null,null,null,null,null,null,null,null,null,null,null,null,null,null,null,null,null,null,null,null,null,null,null,null,3494,"26.05. 15:00",25.8,0]
[null,null,null,null,null,null,null,null,null,null,null,null,null,null,null,null,null,null,null,null,null,null,null,null,null,null,null,3498,"26.05. 19:00",24.9,0]
[null,null,null,null,null,null,null,null,null,null,null,null,null,null,null,null,null,null,null,null,null,null,null,null,null,null,null,3508,"27.05. 05:00",15.7,0]
[null,null,null,null,null,null,null,null,null,null,null,null,null,null,null,null,null,null,null,null,null,null,null,null,null,null,null,3515,"27.05. 12:00",23,0]
[null,null,null,null,null,null,null,null,null,null,null,null,null,null,null,null,null,null,null,null,null,null,null,null,null,null,null,3524,"27.05. 21:00",20.2,0]
[null,null,null,null,null,null,null,null,null,null,null,null,null,null,null,null,null,null,null,null,null,null,null,null,null,null,null,3531,"28.05. 04:00",15.5,0]
[null,null,null,null,null,null,null,null,null,null,null,null,null,null,null,null,null,null,null,null,null,null,null,null,null,null,null,3541,"28.05. 14:00",19.3,0]
[null,null,null,null,null,null,null,null,null,null,null,null,null,null,null,null,null,null,null,null,null,null,null,null,null,null,null,3545,"28.05. 18:00",18.100000000000001,0]
[null,null,null,null,null,null,null,null,null,null,null,null,null,null,null,null,null,null,null,null,null,null,null,null,null,null,null,3550,"28.05. 23:00",15.2,0]
[null,null,null,null,null,null,null,null,null,null,null,null,null,null,null,null,null,null,null,null,null,null,null,null,null,null,null,3559,"29.05. 08:00",16.2,0]
[null,null,null,null,null,null,null,null,null,null,null,null,null,null,null,null,null,null,null,null,null,null,null,null,null,null,null,3567,"29.05. 16:00",18.3,0]
[null,null,null,null,null,null,null,null,null,null,null,null,null,null,null,null,null,null,null,null,null,null,null,null,null,null,null,3573,"29.05. 22:00",16.5,0]
[null,null,null,null,null,null,null,null,null,null,null,null,null,null,null,null,null,null,null,null,null,null,null,null,null,null,null,3584,"30.05. 09:00",17.8,{"$f":"IF(AD3624<=$AC$25,1,0)","v":0}]
[null,null,null,null,null,null,null,null,null,null,null,null,null,null,null,null,null,null,null,null,null,null,null,null,null,null,null,3590,"30.05. 15:00",21.1,0]
[null,null,null,null,null,null,null,null,null,null,null,null,null,null,null,null,null,null,null,null,null,null,null,null,null,null,null,3601,"31.05. 02:00",16.3,0]
[null,null,null,null,null,null,null,null,null,null,null,null,null,null,null,null,null,null,null,null,null,null,null,null,null,null,null,3610,"31.05. 11:00",18.5,0]
[null,null,null,null,null,null,null,null,null,null,null,null,null,null,null,null,null,null,null,null,null,null,null,null,null,null,null,3617,"31.05. 18:00",19.600000000000001,0]
[null,null,null,null,null,null,null,null,null,null,null,null,null,null,null,null,null,null,null,null,null,null,null,null,null,null,null,3619,"31.05. 20:00",18.7,0]
[null,null,null,null,null,null,null,null,null,null,null,null,null,null,null,null,null,null,null,null,null,null,null,null,null,null,null,3627,"01.06. 04:00",11.7,0]
[null,null,null,null,null,null,null,null,null,null,null,null,null,null,null,null,null,null,null,null,null,null,null,null,null,null,null,3636,"01.06. 13:00",19.600000000000001,0]
[null,null,null,null,null,null,null,null,null,null,null,null,null,null,null,null,null,null,null,null,null,null,null,null,null,null,null,3641,"01.06. 18:00",17,0]
[null,null,null,null,null,null,null,null,null,null,null,null,null,null,null,null,null,null,null,null,null,null,null,null,null,null,null,3653,"02.06. 06:00",10.5,0]
[null,null,null,null,null,null,null,null,null,null,null,null,null,null,null,null,null,null,null,null,null,null,null,null,null,null,null,3662,"02.06. 15:00",22.5,0]
[null,null,null,null,null,null,null,null,null,null,null,null,null,null,null,null,null,null,null,null,null,null,null,null,null,null,null,3670,"02.06. 23:00",16,0]
[null,null,null,null,null,null,null,null,null,null,null,null,null,null,null,null,null,null,null,null,null,null,null,null,null,null,null,3671,"03.06. 00:00",15.1,0]
[null,null,null,null,null,null,null,null,null,null,null,null,null,null,null,null,null,null,null,null,null,null,null,null,null,null,null,3685,"03.06. 14:00",18.7,0]
[null,null,null,null,null,null,null,null,null,null,null,null,null,null,null,null,null,null,null,null,null,null,null,null,null,null,null,3688,"03.06. 17:00",18.3,0]
[null,null,null,null,null,null,null,null,null,null,null,null,null,null,null,null,null,null,null,null,null,null,null,null,null,null,null,3699,"04.06. 04:00",11.6,0]
[null,null,null,null,null,null,null,null,null,null,null,null,null,null,null,null,null,null,null,null,null,null,null,null,null,null,null,3705,"04.06. 10:00",14,0]
[null,null,null,null,null,null,null,null,null,null,null,null,null,null,null,null,null,null,null,null,null,null,null,null,null,null,null,3713,"04.06. 18:00",14.2,0]
[null,null,null,null,null,null,null,null,null,null,null,null,null,null,null,null,null,null,null,null,null,null,null,null,null,null,null,3722,"05.06. 03:00",8.8000000000000007,0]
[null,null,null,null,null,null,null,null,null,null,null,null,null,null,null,null,null,null,null,null,null,null,null,null,null,null,null,3730,"05.06. 11:00",15.1,0]
[null,null,null,null,null,null,null,null,null,null,null,null,null,null,null,null,null,null,null,null,null,null,null,null,null,null,null,3731,"05.06. 12:00",16.5,0]
[null,null,null,null,null,null,null,null,null,null,null,null,null,null,null,null,null,null,null,null,null,null,null,null,null,null,null,3744,"06.06. 01:00",12.4,0]
[null,null,null,null,null,null,null,null,null,null,null,null,null,null,null,null,null,null,null,null,null,null,null,null,null,null,null,3748,"06.06. 05:00",11.7,0]
[null,null,null,null,null,null,null,null,null,null,null,null,null,null,null,null,null,null,null,null,null,null,null,null,null,null,null,3757,"06.06. 14:00",16.399999999999999,0]
[null,null,null,null,null,null,null,null,null,null,null,null,null,null,null,null,null,null,null,null,null,null,null,null,null,null,null,3767,"07.06. 00:00",11.7,0]
[null,null,null,null,null,null,null,null,null,null,null,null,null,null,null,null,null,null,null,null,null,null,null,null,null,null,null,3774,"07.06. 07:00",11.4,0]
[null,null,null,null,null,null,null,null,null,null,null,null,null,null,null,null,null,null,null,null,null,null,null,null,null,null,null,3781,"07.06. 14:00",17.399999999999999,0]
[null,null,null,null,null,null,null,null,null,null,null,null,null,null,null,null,null,null,null,null,null,null,null,null,null,null,null,3791,"08.06. 00:00",11.8,0]
[null,null,null,null,null,null,null,null,null,null,null,null,null,null,null,null,null,null,null,null,null,null,null,null,null,null,null,3795,"08.06. 04:00",12,0]
[null,null,null,null,null,null,null,null,null,null,null,null,null,null,null,null,null,null,null,null,null,null,null,null,null,null,null,3800,"08.06. 09:00",14.1,0]
[null,null,null,null,null,null,null,null,null,null,null,null,null,null,null,null,null,null,null,null,null,null,null,null,null,null,null,3809,"08.06. 18:00",17.3,0]
[null,null,null,null,null,null,null,null,null,null,null,null,null,null,null,null,null,null,null,null,null,null,null,null,null,null,null,3817,"09.06. 02:00",13.5,0]
[null,null,null,null,null,null,null,null,null,null,null,null,null,null,null,null,null,null,null,null,null,null,null,null,null,null,null,3826,"09.06. 11:00",16.2,0]
[null,null,null,null,null,null,null,null,null,null,null,null,null,null,null,null,null,null,null,null,null,null,null,null,null,null,null,3832,"09.06. 17:00",19,0]
[null,null,null,null,null,null,null,null,null,null,null,null,null,null,null,null,null,null,null,null,null,null,null,null,null,null,null,3843,"10.06. 04:00",8.6,0]
[null,null,null,null,null,null,null,null,null,null,null,null,null,null,null,null,null,null,null,null,null,null,null,null,null,null,null,3849,"10.06. 10:00",14.6,0]
[null,null,null,null,null,null,null,null,null,null,null,null,null,null,null,null,null,null,null,null,null,null,null,null,null,null,null,3852,"10.06. 13:00",15.1,0]
[null,null,null,null,null,null,null,null,null,null,null,null,null,null,null,null,null,null,null,null,null,null,null,null,null,null,null,3863,"11.06. 00:00",5.4,0]
[null,null,null,null,null,null,null,null,null,null,null,null,null,null,null,null,null,null,null,null,null,null,null,null,null,null,null,3869,"11.06. 06:00",6,0]
[null,null,null,null,null,null,null,null,null,null,null,null,null,null,null,null,null,null,null,null,null,null,null,null,null,null,null,3877,"11.06. 14:00",16.600000000000001,0]
[null,null,null,null,null,null,null,null,null,null,null,null,null,null,null,null,null,null,null,null,null,null,null,null,null,null,null,3886,"11.06. 23:00",8.4,0]
[null,null,null,null,null,null,null,null,null,null,null,null,null,null,null,null,null,null,null,null,null,null,null,null,null,null,null,3891,"12.06. 04:00",5.5,0]
[null,null,null,null,null,null,null,null,null,null,null,null,null,null,null,null,null,null,null,null,null,null,null,null,null,null,null,3903,"12.06. 16:00",18.399999999999999,0]
[null,null,null,null,null,null,null,null,null,null,null,null,null,null,null,null,null,null,null,null,null,null,null,null,null,null,null,3912,"13.06. 01:00",8.1999999999999993,0]
[null,null,null,null,null,null,null,null,null,null,null,null,null,null,null,null,null,null,null,null,null,null,null,null,null,null,null,3914,"13.06. 03:00",7.6,0]
[null,null,null,null,null,null,null,null,null,null,null,null,null,null,null,null,null,null,null,null,null,null,null,null,null,null,null,3921,"13.06. 10:00",13.9,0]
[null,null,null,null,null,null,null,null,null,null,null,null,null,null,null,null,null,null,null,null,null,null,null,null,null,null,null,3928,"13.06. 17:00",17.100000000000001,0]
[null,null,null,null,null,null,null,null,null,null,null,null,null,null,null,null,null,null,null,null,null,null,null,null,null,null,null,3938,"14.06. 03:00",8.9,0]
[null,null,null,null,null,null,null,null,null,null,null,null,null,null,null,null,null,null,null,null,null,null,null,null,null,null,null,3945,"14.06. 10:00",17.3,0]
[null,null,null,null,null,null,null,null,null,null,null,null,null,null,null,null,null,null,null,null,null,null,null,null,null,null,null,3955,"14.06. 20:00",14,0]
[null,null,null,null,null,null,null,null,null,null,null,null,null,null,null,null,null,null,null,null,null,null,null,null,null,null,null,3959,"15.06. 00:00",11.2,0]
[null,null,null,null,null,null,null,null,null,null,null,null,null,null,null,null,null,null,null,null,null,null,null,null,null,null,null,3972,"15.06. 13:00",22.7,0]
[null,null,null,null,null,null,null,null,null,null,null,null,null,null,null,null,null,null,null,null,null,null,null,null,null,null,null,3973,"15.06. 14:00",22.6,0]
[null,null,null,null,null,null,null,null,null,null,null,null,null,null,null,null,null,null,null,null,null,null,null,null,null,null,null,3982,"15.06. 23:00",14.5,0]
[null,null,null,null,null,null,null,null,null,null,null,null,null,null,null,null,null,null,null,null,null,null,null,null,null,null,null,3990,"16.06. 07:00",14,0]
[null,null,null,null,null,null,null,null,null,null,null,null,null,null,null,null,null,null,null,null,null,null,null,null,null,null,null,3996,"16.06. 13:00",21.1,0]
[null,null,null,null,null,null,null,null,null,null,null,null,null,null,null,null,null,null,null,null,null,null,null,null,null,null,null,4007,"17.06. 00:00",15.9,0]
[null,null,null,null,null,null,null,null,null,null,null,null,null,null,null,null,null,null,null,null,null,null,null,null,null,null,null,4017,"17.06. 10:00",26.4,0]
[null,null,null,null,null,null,null,null,null,null,null,null,null,null,null,null,null,null,null,null,null,null,null,null,null,null,null,4024,"17.06. 17:00",26.1,0]
[null,null,null,null,null,null,null,null,null,null,null,null,null,null,null,null,null,null,null,null,null,null,null,null,null,null,null,4031,"18.06. 00:00",19.5,0]
[null,null,null,null,null,null,null,null,null,null,null,null,null,null,null,null,null,null,null,null,null,null,null,null,null,null,null,4033,"18.06. 02:00",16.7,0]
[null,null,null,null,null,null,null,null,null,null,null,null,null,null,null,null,null,null,null,null,null,null,null,null,null,null,null,4041,"18.06. 10:00",17.5,0]
[null,null,null,null,null,null,null,null,null,null,null,null,null,null,null,null,null,null,null,null,null,null,null,null,null,null,null,4050,"18.06. 19:00",19.2,0]
[null,null,null,null,null,null,null,null,null,null,null,null,null,null,null,null,null,null,null,null,null,null,null,null,null,null,null,4059,"19.06. 04:00",12,0]
[null,null,null,null,null,null,null,null,null,null,null,null,null,null,null,null,null,null,null,null,null,null,null,null,null,null,null,4064,"19.06. 09:00",18.899999999999999,0]
[null,null,null,null,null,null,null,null,null,null,null,null,null,null,null,null,null,null,null,null,null,null,null,null,null,null,null,4076,"19.06. 21:00",17,0]
[null,null,null,null,null,null,null,null,null,null,null,null,null,null,null,null,null,null,null,null,null,null,null,null,null,null,null,4085,"20.06. 06:00",15.6,0]
[null,null,null,null,null,null,null,null,null,null,null,null,null,null,null,null,null,null,null,null,null,null,null,null,null,null,null,4093,"20.06. 14:00",25.2,0]
[null,null,null,null,null,null,null,null,null,null,null,null,null,null,null,null,null,null,null,null,null,null,null,null,null,null,null,4099,"20.06. 20:00",20.9,0]
[null,null,null,null,null,null,null,null,null,null,null,null,null,null,null,null,null,null,null,null,null,null,null,null,null,null,null,4102,"20.06. 23:00",18,0]
[null,null,null,null,null,null,null,null,null,null,null,null,null,null,null,null,null,null,null,null,null,null,null,null,null,null,null,4113,"21.06. 10:00",23.6,0]
[null,null,null,null,null,null,null,null,null,null,null,null,null,null,null,null,null,null,null,null,null,null,null,null,null,null,null,4119,"21.06. 16:00",28.1,0]
[null,null,null,null,null,null,null,null,null,null,null,null,null,null,null,null,null,null,null,null,null,null,null,null,null,null,null,4128,"22.06. 01:00",21.8,0]
[null,null,null,null,null,null,null,null,null,null,null,null,null,null,null,null,null,null,null,null,null,null,null,null,null,null,null,4136,"22.06. 09:00",24.4,0]
[null,null,null,null,null,null,null,null,null,null,null,null,null,null,null,null,null,null,null,null,null,null,null,null,null,null,null,4145,"22.06. 18:00",26.9,0]
[null,null,null,null,null,null,null,null,null,null,null,null,null,null,null,null,null,null,null,null,null,null,null,null,null,null,null,4150,"22.06. 23:00",22.8,0]
[null,null,null,null,null,null,null,null,null,null,null,null,null,null,null,null,null,null,null,null,null,null,null,null,null,null,null,4154,"23.06. 03:00",20.399999999999999,0]
[null,null,null,null,null,null,null,null,null,null,null,null,null,null,null,null,null,null,null,null,null,null,null,null,null,null,null,4167,"23.06. 16:00",26.8,0]
[null,null,null,null,null,null,null,null,null,null,null,null,null,null,null,null,null,null,null,null,null,null,null,null,null,null,null,4171,"23.06. 20:00",24,0]
[null,null,null,null,null,null,null,null,null,null,null,null,null,null,null,null,null,null,null,null,null,null,null,null,null,null,null,4181,"24.06. 06:00",16.600000000000001,0]
[null,null,null,null,null,null,null,null,null,null,null,null,null,null,null,null,null,null,null,null,null,null,null,null,null,null,null,4188,"24.06. 13:00",26.1,0]
[null,null,null,null,null,null,null,null,null,null,null,null,null,null,null,null,null,null,null,null,null,null,null,null,null,null,null,4195,"24.06. 20:00",23.1,0]
[null,null,null,null,null,null,null,null,null,null,null,null,null,null,null,null,null,null,null,null,null,null,null,null,null,null,null,4205,"25.06. 06:00",17.5,0]
[null,null,null,null,null,null,null,null,null,null,null,null,null,null,null,null,null,null,null,null,null,null,null,null,null,null,null,4214,"25.06. 15:00",21.7,0]
[null,null,null,null,null,null,null,null,null,null,null,null,null,null,null,null,null,null,null,null,null,null,null,null,null,null,null,4218,"25.06. 19:00",20.399999999999999,0]
[null,null,null,null,null,null,null,null,null,null,null,null,null,null,null,null,null,null,null,null,null,null,null,null,null,null,null,4223,"26.06. 00:00",17.7,0]
[null,null,null,null,null,null,null,null,null,null,null,null,null,null,null,null,null,null,null,null,null,null,null,null,null,null,null,4232,"26.06. 09:00",19.100000000000001,0]
[null,null,null,null,null,null,null,null,null,null,null,null,null,null,null,null,null,null,null,null,null,null,null,null,null,null,null,4240,"26.06. 17:00",20.3,0]
[null,null,null,null,null,null,null,null,null,null,null,null,null,null,null,null,null,null,null,null,null,null,null,null,null,null,null,4246,"26.06. 23:00",16.8,0]
[null,null,null,null,null,null,null,null,null,null,null,null,null,null,null,null,null,null,null,null,null,null,null,null,null,null,null,4257,"27.06. 10:00",21.9,0]
[null,null,null,null,null,null,null,null,null,null,null,null,null,null,null,null,null,null,null,null,null,null,null,null,null,null,null,4263,"27.06. 16:00",26.3,0]
[null,null,null,null,null,null,null,null,null,null,null,null,null,null,null,null,null,null,null,null,null,null,null,null,null,null,null,4274,"28.06. 03:00",18.399999999999999,0]
[null,null,null,null,null,null,null,null,null,null,null,null,null,null,null,null,null,null,null,null,null,null,null,null,null,null,null,4275,"28.06. 04:00",18.5,0]
[null,null,null,null,null,null,null,null,null,null,null,null,null,null,null,null,null,null,null,null,null,null,null,null,null,null,null,4283,"28.06. 12:00",26.3,0]
[null,null,null,null,null,null,null,null,null,null,null,null,null,null,null,null,null,null,null,null,null,null,null,null,null,null,null,4292,"28.06. 21:00",21.2,0]
[null,null,null,null,null,null,null,null,null,null,null,null,null,null,null,null,null,null,null,null,null,null,null,null,null,null,null,4300,"29.06. 05:00",16.5,0]
[null,null,null,null,null,null,null,null,null,null,null,null,null,null,null,null,null,null,null,null,null,null,null,null,null,null,null,4309,"29.06. 14:00",20.9,0]
[null,null,null,null,null,null,null,null,null,null,null,null,null,null,null,null,null,null,null,null,null,null,null,null,null,null,null,4314,"29.06. 19:00",19.8,0]
[null,null,null,null,null,null,null,null,null,null,null,null,null,null,null,null,null,null,null,null,null,null,null,null,null,null,null,4326,"30.06. 07:00",13.1,0]
[null,null,null,null,null,null,null,null,null,null,null,null,null,null,null,null,null,null,null,null,null,null,null,null,null,null,null,4328,"30.06. 09:00",15.8,0]
[null,null,null,null,null,null,null,null,null,null,null,null,null,null,null,null,null,null,null,null,null,null,null,null,null,null,null,4335,"30.06. 16:00",20.9,0]
[null,null,null,null,null,null,null,null,null,null,null,null,null,null,null,null,null,null,null,null,null,null,null,null,null,null,null,4349,"01.07. 06:00",19,0]
[null,null,null,null,null,null,null,null,null,null,null,null,null,null,null,null,null,null,null,null,null,null,null,null,null,null,null,4352,"01.07. 09:00",22.3,{"$f":"IF(AD4392<=$AC$25,1,0)","v":0}]
[null,null,null,null,null,null,null,null,null,null,null,null,null,null,null,null,null,null,null,null,null,null,null,null,null,null,null,4361,"01.07. 18:00",30.3,0]
[null,null,null,null,null,null,null,null,null,null,null,null,null,null,null,null,null,null,null,null,null,null,null,null,null,null,null,4372,"02.07. 05:00",20,0]
[null,null,null,null,null,null,null,null,null,null,null,null,null,null,null,null,null,null,null,null,null,null,null,null,null,null,null,4378,"02.07. 11:00",24.6,0]
[null,null,null,null,null,null,null,null,null,null,null,null,null,null,null,null,null,null,null,null,null,null,null,null,null,null,null,4386,"02.07. 19:00",24.4,0]
[null,null,null,null,null,null,null,null,null,null,null,null,null,null,null,null,null,null,null,null,null,null,null,null,null,null,null,4395,"03.07. 04:00",18.3,0]
[null,null,null,null,null,null,null,null,null,null,null,null,null,null,null,null,null,null,null,null,null,null,null,null,null,null,null,4396,"03.07. 05:00",18.3,0]
[null,null,null,null,null,null,null,null,null,null,null,null,null,null,null,null,null,null,null,null,null,null,null,null,null,null,null,4404,"03.07. 13:00",26.1,0]
[null,null,null,null,null,null,null,null,null,null,null,null,null,null,null,null,null,null,null,null,null,null,null,null,null,null,null,4417,"04.07. 02:00",18.8,0]
[null,null,null,null,null,null,null,null,null,null,null,null,null,null,null,null,null,null,null,null,null,null,null,null,null,null,null,4421,"04.07. 06:00",19,0]
[null,null,null,null,null,null,null,null,null,null,null,null,null,null,null,null,null,null,null,null,null,null,null,null,null,null,null,4430,"04.07. 15:00",23.6,0]
[null,null,null,null,null,null,null,null,null,null,null,null,null,null,null,null,null,null,null,null,null,null,null,null,null,null,null,4440,"05.07. 01:00",15.6,0]
[null,null,null,null,null,null,null,null,null,null,null,null,null,null,null,null,null,null,null,null,null,null,null,null,null,null,null,4447,"05.07. 08:00",19.399999999999999,0]
[null,null,null,null,null,null,null,null,null,null,null,null,null,null,null,null,null,null,null,null,null,null,null,null,null,null,null,4454,"05.07. 15:00",27.5,0]
[null,null,null,null,null,null,null,null,null,null,null,null,null,null,null,null,null,null,null,null,null,null,null,null,null,null,null,4456,"05.07. 17:00",27.2,0]
[null,null,null,null,null,null,null,null,null,null,null,null,null,null,null,null,null,null,null,null,null,null,null,null,null,null,null,4468,"06.07. 05:00",19.2,0]
[null,null,null,null,null,null,null,null,null,null,null,null,null,null,null,null,null,null,null,null,null,null,null,null,null,null,null,4473,"06.07. 10:00",23.7,0]
[null,null,null,null,null,null,null,null,null,null,null,null,null,null,null,null,null,null,null,null,null,null,null,null,null,null,null,4485,"06.07. 22:00",21.2,0]
[null,null,null,null,null,null,null,null,null,null,null,null,null,null,null,null,null,null,null,null,null,null,null,null,null,null,null,4490,"07.07. 03:00",18.8,0]
[null,null,null,null,null,null,null,null,null,null,null,null,null,null,null,null,null,null,null,null,null,null,null,null,null,null,null,4499,"07.07. 12:00",21.4,0]
[null,null,null,null,null,null,null,null,null,null,null,null,null,null,null,null,null,null,null,null,null,null,null,null,null,null,null,4507,"07.07. 20:00",20.3,0]
[null,null,null,null,null,null,null,null,null,null,null,null,null,null,null,null,null,null,null,null,null,null,null,null,null,null,null,4516,"08.07. 05:00",12.2,0]
[null,null,null,null,null,null,null,null,null,null,null,null,null,null,null,null,null,null,null,null,null,null,null,null,null,null,null,4522,"08.07. 11:00",18.8,0]
[null,null,null,null,null,null,null,null,null,null,null,null,null,null,null,null,null,null,null,null,null,null,null,null,null,null,null,4525,"08.07. 14:00",20.6,0]
[null,null,null,null,null,null,null,null,null,null,null,null,null,null,null,null,null,null,null,null,null,null,null,null,null,null,null,4536,"09.07. 01:00",11.4,0]
[null,null,null,null,null,null,null,null,null,null,null,null,null,null,null,null,null,null,null,null,null,null,null,null,null,null,null,4542,"09.07. 07:00",14.6,0]
[null,null,null,null,null,null,null,null,null,null,null,null,null,null,null,null,null,null,null,null,null,null,null,null,null,null,null,4550,"09.07. 15:00",26.8,0]
[null,null,null,null,null,null,null,null,null,null,null,null,null,null,null,null,null,null,null,null,null,null,null,null,null,null,null,4559,"10.07. 00:00",18.100000000000001,0]
[null,null,null,null,null,null,null,null,null,null,null,null,null,null,null,null,null,null,null,null,null,null,null,null,null,null,null,4564,"10.07. 05:00",16.100000000000001,0]
[null,null,null,null,null,null,null,null,null,null,null,null,null,null,null,null,null,null,null,null,null,null,null,null,null,null,null,4576,"10.07. 17:00",21.6,0]
[null,null,null,null,null,null,null,null,null,null,null,null,null,null,null,null,null,null,null,null,null,null,null,null,null,null,null,4577,"10.07. 18:00",20.8,0]
[null,null,null,null,null,null,null,null,null,null,null,null,null,null,null,null,null,null,null,null,null,null,null,null,null,null,null,4587,"11.07. 04:00",15.7,0]
[null,null,null,null,null,null,null,null,null,null,null,null,null,null,null,null,null,null,null,null,null,null,null,null,null,null,null,4594,"11.07. 11:00",20.9,0]
[null,null,null,null,null,null,null,null,null,null,null,null,null,null,null,null,null,null,null,null,null,null,null,null,null,null,null,4601,"11.07. 18:00",21.2,0]
[null,null,null,null,null,null,null,null,null,null,null,null,null,null,null,null,null,null,null,null,null,null,null,null,null,null,null,4611,"12.07. 04:00",12.3,0]
[null,null,null,null,null,null,null,null,null,null,null,null,null,null,null,null,null,null,null,null,null,null,null,null,null,null,null,4618,"12.07. 11:00",14,0]
[null,null,null,null,null,null,null,null,null,null,null,null,null,null,null,null,null,null,null,null,null,null,null,null,null,null,null,4628,"12.07. 21:00",12,0]
[null,null,null,null,null,null,null,null,null,null,null,null,null,null,null,null,null,null,null,null,null,null,null,null,null,null,null,4632,"13.07. 01:00",11.8,0]
[null,null,null,null,null,null,null,null,null,null,null,null,null,null,null,null,null,null,null,null,null,null,null,null,null,null,null,4637,"13.07. 06:00",13.2,0]
[null,null,null,null,null,null,null,null,null,null,null,null,null,null,null,null,null,null,null,null,null,null,null,null,null,null,null,4646,"13.07. 15:00",21.5,0]
[null,null,null,null,null,null,null,null,null,null,null,null,null,null,null,null,null,null,null,null,null,null,null,null,null,null,null,4654,"13.07. 23:00",17.2,0]
[null,null,null,null,null,null,null,null,null,null,null,null,null,null,null,null,null,null,null,null,null,null,null,null,null,null,null,4663,"14.07. 08:00",14.4,0]
[null,null,null,null,null,null,null,null,null,null,null,null,null,null,null,null,null,null,null,null,null,null,null,null,null,null,null,4669,"14.07. 14:00",18.100000000000001,0]
[null,null,null,null,null,null,null,null,null,null,null,null,null,null,null,null,null,null,null,null,null,null,null,null,null,null,null,4680,"15.07. 01:00",7.5,0]
[null,null,null,null,null,null,null,null,null,null,null,null,null,null,null,null,null,null,null,null,null,null,null,null,null,null,null,4683,"15.07. 04:00",6.5,0]
[null,null,null,null,null,null,null,null,null,null,null,null,null,null,null,null,null,null,null,null,null,null,null,null,null,null,null,4697,"15.07. 18:00",15.4,0]
[null,null,null,null,null,null,null,null,null,null,null,null,null,null,null,null,null,null,null,null,null,null,null,null,null,null,null,4704,"16.07. 01:00",9.6999999999999993,0]
[null,null,null,null,null,null,null,null,null,null,null,null,null,null,null,null,null,null,null,null,null,null,null,null,null,null,null,4706,"16.07. 03:00",9.9,0]
[null,null,null,null,null,null,null,null,null,null,null,null,null,null,null,null,null,null,null,null,null,null,null,null,null,null,null,4714,"16.07. 11:00",20.399999999999999,0]
[null,null,null,null,null,null,null,null,null,null,null,null,null,null,null,null,null,null,null,null,null,null,null,null,null,null,null,4723,"16.07. 20:00",21.6,0]
[null,null,null,null,null,null,null,null,null,null,null,null,null,null,null,null,null,null,null,null,null,null,null,null,null,null,null,4732,"17.07. 05:00",15,0]
[null,null,null,null,null,null,null,null,null,null,null,null,null,null,null,null,null,null,null,null,null,null,null,null,null,null,null,4737,"17.07. 10:00",21.9,0]
[null,null,null,null,null,null,null,null,null,null,null,null,null,null,null,null,null,null,null,null,null,null,null,null,null,null,null,4749,"17.07. 22:00",19.100000000000001,0]
[null,null,null,null,null,null,null,null,null,null,null,null,null,null,null,null,null,null,null,null,null,null,null,null,null,null,null,4751,"18.07. 00:00",15.4,0]
[null,null,null,null,null,null,null,null,null,null,null,null,null,null,null,null,null,null,null,null,null,null,null,null,null,null,null,4758,"18.07. 07:00",15.3,0]
[null,null,null,null,null,null,null,null,null,null,null,null,null,null,null,null,null,null,null,null,null,null,null,null,null,null,null,4772,"18.07. 21:00",18.7,0]
[null,null,null,null,null,null,null,null,null,null,null,null,null,null,null,null,null,null,null,null,null,null,null,null,null,null,null,4775,"19.07. 00:00",12.8,0]
[null,null,null,null,null,null,null,null,null,null,null,null,null,null,null,null,null,null,null,null,null,null,null,null,null,null,null,4786,"19.07. 11:00",13.9,0]
[null,null,null,null,null,null,null,null,null,null,null,null,null,null,null,null,null,null,null,null,null,null,null,null,null,null,null,4792,"19.07. 17:00",14.7,0]
[null,null,null,null,null,null,null,null,null,null,null,null,null,null,null,null,null,null,null,null,null,null,null,null,null,null,null,4800,"20.07. 01:00",9.8000000000000007,{"$f":"IF(AD4840<=$AC$25,1,0)","v":0}]
[null,null,null,null,null,null,null,null,null,null,null,null,null,null,null,null,null,null,null,null,null,null,null,null,null,null,null,4809,"20.07. 10:00",17.5,0]
[null,null,null,null,null,null,null,null,null,null,null,null,null,null,null,null,null,null,null,null,null,null,null,null,null,null,null,4818,"20.07. 19:00",16.600000000000001,0]
[null,null,null,null,null,null,null,null,null,null,null,null,null,null,null,null,null,null,null,null,null,null,null,null,null,null,null,4823,"21.07. 00:00",15.1,0]
[null,null,null,null,null,null,null,null,null,null,null,null,null,null,null,null,null,null,null,null,null,null,null,null,null,null,null,4827,"21.07. 04:00",13.8,0]
[null,null,null,null,null,null,null,null,null,null,null,null,null,null,null,null,null,null,null,null,null,null,null,null,null,null,null,4840,"21.07. 17:00",20.2,0]
[null,null,null,null,null,null,null,null,null,null,null,null,null,null,null,null,null,null,null,null,null,null,null,null,null,null,null,4844,"21.07. 21:00",17.899999999999999,0]
[null,null,null,null,null,null,null,null,null,null,null,null,null,null,null,null,null,null,null,null,null,null,null,null,null,null,null,4854,"22.07. 07:00",11.4,0]
[null,null,null,null,null,null,null,null,null,null,null,null,null,null,null,null,null,null,null,null,null,null,null,null,null,null,null,4861,"22.07. 14:00",17.7,0]
[null,null,null,null,null,null,null,null,null,null,null,null,null,null,null,null,null,null,null,null,null,null,null,null,null,null,null,4868,"22.07. 21:00",13.7,0]
[null,null,null,null,null,null,null,null,null,null,null,null,null,null,null,null,null,null,null,null,null,null,null,null,null,null,null,4878,"23.07. 07:00",14.5,0]
[null,null,null,null,null,null,null,null,null,null,null,null,null,null,null,null,null,null,null,null,null,null,null,null,null,null,null,4879,"23.07. 08:00",16.3,0]
[null,null,null,null,null,null,null,null,null,null,null,null,null,null,null,null,null,null,null,null,null,null,null,null,null,null,null,4891,"23.07. 20:00",24,0]
[null,null,null,null,null,null,null,null,null,null,null,null,null,null,null,null,null,null,null,null,null,null,null,null,null,null,null,4896,"24.07. 01:00",20.8,0]
[null,null,null,null,null,null,null,null,null,null,null,null,null,null,null,null,null,null,null,null,null,null,null,null,null,null,null,4905,"24.07. 10:00",19.8,0]
[null,null,null,null,null,null,null,null,null,null,null,null,null,null,null,null,null,null,null,null,null,null,null,null,null,null,null,4913,"24.07. 18:00",19.3,0]
[null,null,null,null,null,null,null,null,null,null,null,null,null,null,null,null,null,null,null,null,null,null,null,null,null,null,null,4919,"25.07. 00:00",16.600000000000001,0]
[null,null,null,null,null,null,null,null,null,null,null,null,null,null,null,null,null,null,null,null,null,null,null,null,null,null,null,4930,"25.07. 11:00",18.7,0]
[null,null,null,null,null,null,null,null,null,null,null,null,null,null,null,null,null,null,null,null,null,null,null,null,null,null,null,4936,"25.07. 17:00",20.2,0]
[null,null,null,null,null,null,null,null,null,null,null,null,null,null,null,null,null,null,null,null,null,null,null,null,null,null,null,4939,"25.07. 20:00",17.3,0]
[null,null,null,null,null,null,null,null,null,null,null,null,null,null,null,null,null,null,null,null,null,null,null,null,null,null,null,4950,"26.07. 07:00",13.4,0]
[null,null,null,null,null,null,null,null,null,null,null,null,null,null,null,null,null,null,null,null,null,null,null,null,null,null,null,4956,"26.07. 13:00",18.899999999999999,0]
[null,null,null,null,null,null,null,null,null,null,null,null,null,null,null,null,null,null,null,null,null,null,null,null,null,null,null,4965,"26.07. 22:00",19.600000000000001,0]
[null,null,null,null,null,null,null,null,null,null,null,null,null,null,null,null,null,null,null,null,null,null,null,null,null,null,null,4973,"27.07. 06:00",15.7,0]
[null,null,null,null,null,null,null,null,null,null,null,null,null,null,null,null,null,null,null,null,null,null,null,null,null,null,null,4982,"27.07. 15:00",19.2,0]
[null,null,null,null,null,null,null,null,null,null,null,null,null,null,null,null,null,null,null,null,null,null,null,null,null,null,null,4987,"27.07. 20:00",16.5,0]
[null,null,null,null,null,null,null,null,null,null,null,null,null,null,null,null,null,null,null,null,null,null,null,null,null,null,null,4999,"28.07. 08:00",12.6,0]
[null,null,null,null,null,null,null,null,null,null,null,null,null,null,null,null,null,null,null,null,null,null,null,null,null,null,null,5001,"28.07. 10:00",12.9,0]
[null,null,null,null,null,null,null,null,null,null,null,null,null,null,null,null,null,null,null,null,null,null,null,null,null,null,null,5008,"28.07. 17:00",19.899999999999999,0]
[null,null,null,null,null,null,null,null,null,null,null,null,null,null,null,null,null,null,null,null,null,null,null,null,null,null,null,5015,"29.07. 00:00",15.7,0]
[null,null,null,null,null,null,null,null,null,null,null,null,null,null,null,null,null,null,null,null,null,null,null,null,null,null,null,5025,"29.07. 10:00",17.399999999999999,0]
[null,null,null,null,null,null,null,null,null,null,null,null,null,null,null,null,null,null,null,null,null,null,null,null,null,null,null,5034,"29.07. 19:00",16.100000000000001,0]
[null,null,null,null,null,null,null,null,null,null,null,null,null,null,null,null,null,null,null,null,null,null,null,null,null,null,null,5038,"29.07. 23:00",14.5,0]
[null,null,null,null,null,null,null,null,null,null,null,null,null,null,null,null,null,null,null,null,null,null,null,null,null,null,null,5051,"30.07. 12:00",23.6,0]
[null,null,null,null,null,null,null,null,null,null,null,null,null,null,null,null,null,null,null,null,null,null,null,null,null,null,null,5059,"30.07. 20:00",19.5,0]
[null,null,null,null,null,null,null,null,null,null,null,null,null,null,null,null,null,null,null,null,null,null,null,null,null,null,null,5060,"30.07. 21:00",19.2,0]
[null,null,null,null,null,null,null,null,null,null,null,null,null,null,null,null,null,null,null,null,null,null,null,null,null,null,null,5069,"31.07. 06:00",17.8,0]
[null,null,null,null,null,null,null,null,null,null,null,null,null,null,null,null,null,null,null,null,null,null,null,null,null,null,null,5077,"31.07. 14:00",24.2,0]
[null,null,null,null,null,null,null,null,null,null,null,null,null,null,null,null,null,null,null,null,null,null,null,null,null,null,null,5083,"31.07. 20:00",22,0]
[null,null,null,null,null,null,null,null,null,null,null,null,null,null,null,null,null,null,null,null,null,null,null,null,null,null,null,5094,"01.08. 07:00",19.899999999999999,0]
[null,null,null,null,null,null,null,null,null,null,null,null,null,null,null,null,null,null,null,null,null,null,null,null,null,null,null,5104,"01.08. 17:00",24,0]
[null,null,null,null,null,null,null,null,null,null,null,null,null,null,null,null,null,null,null,null,null,null,null,null,null,null,null,5111,"02.08. 00:00",19.100000000000001,0]
[null,null,null,null,null,null,null,null,null,null,null,null,null,null,null,null,null,null,null,null,null,null,null,null,null,null,null,5120,"02.08. 09:00",23.2,{"$f":"IF(AD5160<=$AC$25,1,0)","v":0}]
[null,null,null,null,null,null,null,null,null,null,null,null,null,null,null,null,null,null,null,null,null,null,null,null,null,null,null,5127,"02.08. 16:00",28.8,0]
[null,null,null,null,null,null,null,null,null,null,null,null,null,null,null,null,null,null,null,null,null,null,null,null,null,null,null,5129,"02.08. 18:00",28.2,0]
[null,null,null,null,null,null,null,null,null,null,null,null,null,null,null,null,null,null,null,null,null,null,null,null,null,null,null,5141,"03.08. 06:00",18.100000000000001,0]
[null,null,null,null,null,null,null,null,null,null,null,null,null,null,null,null,null,null,null,null,null,null,null,null,null,null,null,5146,"03.08. 11:00",24.4,0]
[null,null,null,null,null,null,null,null,null,null,null,null,null,null,null,null,null,null,null,null,null,null,null,null,null,null,null,5151,"03.08. 16:00",26.2,0]
[null,null,null,null,null,null,null,null,null,null,null,null,null,null,null,null,null,null,null,null,null,null,null,null,null,null,null,5163,"04.08. 04:00",13.4,0]
[null,null,null,null,null,null,null,null,null,null,null,null,null,null,null,null,null,null,null,null,null,null,null,null,null,null,null,5172,"04.08. 13:00",22,0]
[null,null,null,null,null,null,null,null,null,null,null,null,null,null,null,null,null,null,null,null,null,null,null,null,null,null,null,5180,"04.08. 21:00",16,0]
[null,null,null,null,null,null,null,null,null,null,null,null,null,null,null,null,null,null,null,null,null,null,null,null,null,null,null,5181,"04.08. 22:00",14.9,0]
[null,null,null,null,null,null,null,null,null,null,null,null,null,null,null,null,null,null,null,null,null,null,null,null,null,null,null,5195,"05.08. 12:00",22.4,0]
[null,null,null,null,null,null,null,null,null,null,null,null,null,null,null,null,null,null,null,null,null,null,null,null,null,null,null,5198,"05.08. 15:00",25.1,0]
[null,null,null,null,null,null,null,null,null,null,null,null,null,null,null,null,null,null,null,null,null,null,null,null,null,null,null,5209,"06.08. 02:00",15.8,0]
[null,null,null,null,null,null,null,null,null,null,null,null,null,null,null,null,null,null,null,null,null,null,null,null,null,null,null,5215,"06.08. 08:00",16.899999999999999,0]
[null,null,null,null,null,null,null,null,null,null,null,null,null,null,null,null,null,null,null,null,null,null,null,null,null,null,null,5223,"06.08. 16:00",22,0]
[null,null,null,null,null,null,null,null,null,null,null,null,null,null,null,null,null,null,null,null,null,null,null,null,null,null,null,5232,"07.08. 01:00",16.399999999999999,0]
[null,null,null,null,null,null,null,null,null,null,null,null,null,null,null,null,null,null,null,null,null,null,null,null,null,null,null,5237,"07.08. 06:00",15.6,0]
[null,null,null,null,null,null,null,null,null,null,null,null,null,null,null,null,null,null,null,null,null,null,null,null,null,null,null,5241,"07.08. 10:00",21.2,0]
[null,null,null,null,null,null,null,null,null,null,null,null,null,null,null,null,null,null,null,null,null,null,null,null,null,null,null,5254,"07.08. 23:00",17.399999999999999,0]
[null,null,null,null,null,null,null,null,null,null,null,null,null,null,null,null,null,null,null,null,null,null,null,null,null,null,null,5258,"08.08. 03:00",14.6,0]
[null,null,null,null,null,null,null,null,null,null,null,null,null,null,null,null,null,null,null,null,null,null,null,null,null,null,null,5267,"08.08. 12:00",23.5,0]
[null,null,null,null,null,null,null,null,null,null,null,null,null,null,null,null,null,null,null,null,null,null,null,null,null,null,null,5274,"08.08. 19:00",22.9,0]
[null,null,null,null,null,null,null,null,null,null,null,null,null,null,null,null,null,null,null,null,null,null,null,null,null,null,null,5284,"09.08. 05:00",13.7,0]
[null,null,null,null,null,null,null,null,null,null,null,null,null,null,null,null,null,null,null,null,null,null,null,null,null,null,null,5291,"09.08. 12:00",24.2,0]
[null,null,null,null,null,null,null,null,null,null,null,null,null,null,null,null,null,null,null,null,null,null,null,null,null,null,null,5301,"09.08. 22:00",19.8,0]
[null,null,null,null,null,null,null,null,null,null,null,null,null,null,null,null,null,null,null,null,null,null,null,null,null,null,null,5305,"10.08. 02:00",15.1,0]
[null,null,null,null,null,null,null,null,null,null,null,null,null,null,null,null,null,null,null,null,null,null,null,null,null,null,null,5310,"10.08. 07:00",16.399999999999999,0]
[null,null,null,null,null,null,null,null,null,null,null,null,null,null,null,null,null,null,null,null,null,null,null,null,null,null,null,5319,"10.08. 16:00",27.1,0]
[null,null,null,null,null,null,null,null,null,null,null,null,null,null,null,null,null,null,null,null,null,null,null,null,null,null,null,5327,"11.08. 00:00",18.5,0]
[null,null,null,null,null,null,null,null,null,null,null,null,null,null,null,null,null,null,null,null,null,null,null,null,null,null,null,5336,"11.08. 09:00",23.1,0]
[null,null,null,null,null,null,null,null,null,null,null,null,null,null,null,null,null,null,null,null,null,null,null,null,null,null,null,5342,"11.08. 15:00",26.3,0]
[null,null,null,null,null,null,null,null,null,null,null,null,null,null,null,null,null,null,null,null,null,null,null,null,null,null,null,5353,"12.08. 02:00",20.3,0]
[null,null,null,null,null,null,null,null,null,null,null,null,null,null,null,null,null,null,null,null,null,null,null,null,null,null,null,5356,"12.08. 05:00",20.399999999999999,0]
[null,null,null,null,null,null,null,null,null,null,null,null,null,null,null,null,null,null,null,null,null,null,null,null,null,null,null,5362,"12.08. 11:00",28.5,0]
[null,null,null,null,null,null,null,null,null,null,null,null,null,null,null,null,null,null,null,null,null,null,null,null,null,null,null,5370,"12.08. 19:00",29.3,0]
[null,null,null,null,null,null,null,null,null,null,null,null,null,null,null,null,null,null,null,null,null,null,null,null,null,null,null,5379,"13.08. 04:00",18.399999999999999,0]
[null,null,null,null,null,null,null,null,null,null,null,null,null,null,null,null,null,null,null,null,null,null,null,null,null,null,null,5387,"13.08. 12:00",25.5,0]
[null,null,null,null,null,null,null,null,null,null,null,null,null,null,null,null,null,null,null,null,null,null,null,null,null,null,null,5396,"13.08. 21:00",22.4,0]
[null,null,null,null,null,null,null,null,null,null,null,null,null,null,null,null,null,null,null,null,null,null,null,null,null,null,null,5401,"14.08. 02:00",16.100000000000001,0]
[null,null,null,null,null,null,null,null,null,null,null,null,null,null,null,null,null,null,null,null,null,null,null,null,null,null,null,5413,"14.08. 14:00",25.4,0]
[null,null,null,null,null,null,null,null,null,null,null,null,null,null,null,null,null,null,null,null,null,null,null,null,null,null,null,5422,"14.08. 23:00",19.3,0]
[null,null,null,null,null,null,null,null,null,null,null,null,null,null,null,null,null,null,null,null,null,null,null,null,null,null,null,5424,"15.08. 01:00",17.8,0]
[null,null,null,null,null,null,null,null,null,null,null,null,null,null,null,null,null,null,null,null,null,null,null,null,null,null,null,5431,"15.08. 08:00",17.7,0]
[null,null,null,null,null,null,null,null,null,null,null,null,null,null,null,null,null,null,null,null,null,null,null,null,null,null,null,5438,"15.08. 15:00",21.6,0]
[null,null,null,null,null,null,null,null,null,null,null,null,null,null,null,null,null,null,null,null,null,null,null,null,null,null,null,5448,"16.08. 01:00",16,0]
[null,null,null,null,null,null,null,null,null,null,null,null,null,null,null,null,null,null,null,null,null,null,null,null,null,null,null,5459,"16.08. 12:00",20.100000000000001,0]
[null,null,null,null,null,null,null,null,null,null,null,null,null,null,null,null,null,null,null,null,null,null,null,null,null,null,null,5465,"16.08. 18:00",21.8,0]
[null,null,null,null,null,null,null,null,null,null,null,null,null,null,null,null,null,null,null,null,null,null,null,null,null,null,null,5473,"17.08. 02:00",15.2,0]
[null,null,null,null,null,null,null,null,null,null,null,null,null,null,null,null,null,null,null,null,null,null,null,null,null,null,null,5482,"17.08. 11:00",18.7,0]
[null,null,null,null,null,null,null,null,null,null,null,null,null,null,null,null,null,null,null,null,null,null,null,null,null,null,null,5483,"17.08. 12:00",20.6,0]
[null,null,null,null,null,null,null,null,null,null,null,null,null,null,null,null,null,null,null,null,null,null,null,null,null,null,null,5496,"18.08. 01:00",14.6,0]
[null,null,null,null,null,null,null,null,null,null,null,null,null,null,null,null,null,null,null,null,null,null,null,null,null,null,null,5500,"18.08. 05:00",13.4,0]
[null,null,null,null,null,null,null,null,null,null,null,null,null,null,null,null,null,null,null,null,null,null,null,null,null,null,null,5506,"18.08. 11:00",18.7,0]
[null,null,null,null,null,null,null,null,null,null,null,null,null,null,null,null,null,null,null,null,null,null,null,null,null,null,null,5517,"18.08. 22:00",15.4,0]
[null,null,null,null,null,null,null,null,null,null,null,null,null,null,null,null,null,null,null,null,null,null,null,null,null,null,null,5527,"19.08. 08:00",13.5,0]
[null,null,null,null,null,null,null,null,null,null,null,null,null,null,null,null,null,null,null,null,null,null,null,null,null,null,null,5534,"19.08. 15:00",14.5,0]
[null,null,null,null,null,null,null,null,null,null,null,null,null,null,null,null,null,null,null,null,null,null,null,null,null,null,null,5541,"19.08. 22:00",12.4,0]
[null,null,null,null,null,null,null,null,null,null,null,null,null,null,null,null,null,null,null,null,null,null,null,null,null,null,null,5543,"20.08. 00:00",11.6,0]
[null,null,null,null,null,null,null,null,null,null,null,null,null,null,null,null,null,null,null,null,null,null,null,null,null,null,null,5555,"20.08. 12:00",16.2,0]
[null,null,null,null,null,null,null,null,null,null,null,null,null,null,null,null,null,null,null,null,null,null,null,null,null,null,null,5560,"20.08. 17:00",18.3,0]
[null,null,null,null,null,null,null,null,null,null,null,null,null,null,null,null,null,null,null,null,null,null,null,null,null,null,null,5569,"21.08. 02:00",13.4,0]
[null,null,null,null,null,null,null,null,null,null,null,null,null,null,null,null,null,null,null,null,null,null,null,null,null,null,null,5578,"21.08. 11:00",17.5,0]
[null,null,null,null,null,null,null,null,null,null,null,null,null,null,null,null,null,null,null,null,null,null,null,null,null,null,null,5586,"21.08. 19:00",18.100000000000001,0]
[null,null,null,null,null,null,null,null,null,null,null,null,null,null,null,null,null,null,null,null,null,null,null,null,null,null,null,5592,"22.08. 01:00",13.7,0]
[null,null,null,null,null,null,null,null,null,null,null,null,null,null,null,null,null,null,null,null,null,null,null,null,null,null,null,5603,"22.08. 12:00",17.899999999999999,0]
[null,null,null,null,null,null,null,null,null,null,null,null,null,null,null,null,null,null,null,null,null,null,null,null,null,null,null,5609,"22.08. 18:00",16.7,0]
[null,null,null,null,null,null,null,null,null,null,null,null,null,null,null,null,null,null,null,null,null,null,null,null,null,null,null,5612,"22.08. 21:00",14.9,0]
[null,null,null,null,null,null,null,null,null,null,null,null,null,null,null,null,null,null,null,null,null,null,null,null,null,null,null,5623,"23.08. 08:00",14.9,0]
[null,null,null,null,null,null,null,null,null,null,null,null,null,null,null,null,null,null,null,null,null,null,null,null,null,null,null,5629,"23.08. 14:00",17.100000000000001,0]
[null,null,null,null,null,null,null,null,null,null,null,null,null,null,null,null,null,null,null,null,null,null,null,null,null,null,null,5638,"23.08. 23:00",11.7,0]
[null,null,null,null,null,null,null,null,null,null,null,null,null,null,null,null,null,null,null,null,null,null,null,null,null,null,null,5646,"24.08. 07:00",9.8000000000000007,0]
[null,null,null,null,null,null,null,null,null,null,null,null,null,null,null,null,null,null,null,null,null,null,null,null,null,null,null,5655,"24.08. 16:00",17.5,0]
[null,null,null,null,null,null,null,null,null,null,null,null,null,null,null,null,null,null,null,null,null,null,null,null,null,null,null,5660,"24.08. 21:00",12.3,0]
[null,null,null,null,null,null,null,null,null,null,null,null,null,null,null,null,null,null,null,null,null,null,null,null,null,null,null,5664,"25.08. 01:00",9,0]
[null,null,null,null,null,null,null,null,null,null,null,null,null,null,null,null,null,null,null,null,null,null,null,null,null,null,null,5674,"25.08. 11:00",18.600000000000001,0]
[null,null,null,null,null,null,null,null,null,null,null,null,null,null,null,null,null,null,null,null,null,null,null,null,null,null,null,5681,"25.08. 18:00",20.5,0]
[null,null,null,null,null,null,null,null,null,null,null,null,null,null,null,null,null,null,null,null,null,null,null,null,null,null,null,5688,"26.08. 01:00",14.1,0]
[null,null,null,null,null,null,null,null,null,null,null,null,null,null,null,null,null,null,null,null,null,null,null,null,null,null,null,5698,"26.08. 11:00",15.5,0]
[null,null,null,null,null,null,null,null,null,null,null,null,null,null,null,null,null,null,null,null,null,null,null,null,null,null,null,5705,"26.08. 18:00",15.1,0]
[null,null,null,null,null,null,null,null,null,null,null,null,null,null,null,null,null,null,null,null,null,null,null,null,null,null,null,5715,"27.08. 04:00",13.4,0]
[null,null,null,null,null,null,null,null,null,null,null,null,null,null,null,null,null,null,null,null,null,null,null,null,null,null,null,5724,"27.08. 13:00",22.7,0]
[null,null,null,null,null,null,null,null,null,null,null,null,null,null,null,null,null,null,null,null,null,null,null,null,null,null,null,5725,"27.08. 14:00",21.8,0]
[null,null,null,null,null,null,null,null,null,null,null,null,null,null,null,null,null,null,null,null,null,null,null,null,null,null,null,5733,"27.08. 22:00",17.899999999999999,0]
[null,null,null,null,null,null,null,null,null,null,null,null,null,null,null,null,null,null,null,null,null,null,null,null,null,null,null,5742,"28.08. 07:00",17.100000000000001,0]
[null,null,null,null,null,null,null,null,null,null,null,null,null,null,null,null,null,null,null,null,null,null,null,null,null,null,null,5750,"28.08. 15:00",23.2,0]
[null,null,null,null,null,null,null,null,null,null,null,null,null,null,null,null,null,null,null,null,null,null,null,null,null,null,null,5756,"28.08. 21:00",18.600000000000001,0]
[null,null,null,null,null,null,null,null,null,null,null,null,null,null,null,null,null,null,null,null,null,null,null,null,null,null,null,5767,"29.08. 08:00",19.899999999999999,0]
[null,null,null,null,null,null,null,null,null,null,null,null,null,null,null,null,null,null,null,null,null,null,null,null,null,null,null,5770,"29.08. 11:00",23.6,0]
[null,null,null,null,null,null,null,null,null,null,null,null,null,null,null,null,null,null,null,null,null,null,null,null,null,null,null,5784,"30.08. 01:00",16.8,0]
[null,null,null,null,null,null,null,null,null,null,null,null,null,null,null,null,null,null,null,null,null,null,null,null,null,null,null,5785,"30.08. 02:00",16,0]
[null,null,null,null,null,null,null,null,null,null,null,null,null,null,null,null,null,null,null,null,null,null,null,null,null,null,null,5793,"30.08. 10:00",17.600000000000001,0]
[null,null,null,null,null,null,null,null,null,null,null,null,null,null,null,null,null,null,null,null,null,null,null,null,null,null,null,5802,"30.08. 19:00",18.8,0]
[null,null,null,null,null,null,null,null,null,null,null,null,null,null,null,null,null,null,null,null,null,null,null,null,null,null,null,5814,"31.08. 07:00",13.8,0]
[null,null,null,null,null,null,null,null,null,null,null,null,null,null,null,null,null,null,null,null,null,null,null,null,null,null,null,5819,"31.08. 12:00",20.100000000000001,0]
[null,null,null,null,null,null,null,null,null,null,null,null,null,null,null,null,null,null,null,null,null,null,null,null,null,null,null,5824,"31.08. 17:00",20.5,{"$f":"IF(AD5864<=$AC$25,1,0)","v":0}]
[null,null,null,null,null,null,null,null,null,null,null,null,null,null,null,null,null,null,null,null,null,null,null,null,null,null,null,5836,"01.09. 05:00",8.6999999999999993,0]
[null,null,null,null,null,null,null,null,null,null,null,null,null,null,null,null,null,null,null,null,null,null,null,null,null,null,null,5838,"01.09. 07:00",10.7,0]
[null,null,null,null,null,null,null,null,null,null,null,null,null,null,null,null,null,null,null,null,null,null,null,null,null,null,null,5845,"01.09. 14:00",17.399999999999999,0]
[null,null,null,null,null,null,null,null,null,null,null,null,null,null,null,null,null,null,null,null,null,null,null,null,null,null,null,5859,"02.09. 04:00",9.1,0]
[null,null,null,null,null,null,null,null,null,null,null,null,null,null,null,null,null,null,null,null,null,null,null,null,null,null,null,5862,"02.09. 07:00",10.7,0]
[null,null,null,null,null,null,null,null,null,null,null,null,null,null,null,null,null,null,null,null,null,null,null,null,null,null,null,5871,"02.09. 16:00",17.600000000000001,0]
[null,null,null,null,null,null,null,null,null,null,null,null,null,null,null,null,null,null,null,null,null,null,null,null,null,null,null,5882,"03.09. 03:00",11.4,0]
[null,null,null,null,null,null,null,null,null,null,null,null,null,null,null,null,null,null,null,null,null,null,null,null,null,null,null,5888,"03.09. 09:00",13.7,{"$f":"IF(AD5928<=$AC$25,1,0)","v":0}]
[null,null,null,null,null,null,null,null,null,null,null,null,null,null,null,null,null,null,null,null,null,null,null,null,null,null,null,5896,"03.09. 17:00",16.8,0]
[null,null,null,null,null,null,null,null,null,null,null,null,null,null,null,null,null,null,null,null,null,null,null,null,null,null,null,5905,"04.09. 02:00",10.7,0]
[null,null,null,null,null,null,null,null,null,null,null,null,null,null,null,null,null,null,null,null,null,null,null,null,null,null,null,5910,"04.09. 07:00",11.3,0]
[null,null,null,null,null,null,null,null,null,null,null,null,null,null,null,null,null,null,null,null,null,null,null,null,null,null,null,5914,"04.09. 11:00",15.9,0]
[null,null,null,null,null,null,null,null,null,null,null,null,null,null,null,null,null,null,null,null,null,null,null,null,null,null,null,5927,"05.09. 00:00",10.8,0]
[null,null,null,null,null,null,null,null,null,null,null,null,null,null,null,null,null,null,null,null,null,null,null,null,null,null,null,5931,"05.09. 04:00",9.6,0]
[null,null,null,null,null,null,null,null,null,null,null,null,null,null,null,null,null,null,null,null,null,null,null,null,null,null,null,5940,"05.09. 13:00",21.1,0]
[null,null,null,null,null,null,null,null,null,null,null,null,null,null,null,null,null,null,null,null,null,null,null,null,null,null,null,5947,"05.09. 20:00",17.399999999999999,0]
[null,null,null,null,null,null,null,null,null,null,null,null,null,null,null,null,null,null,null,null,null,null,null,null,null,null,null,5957,"06.09. 06:00",11.8,0]
[null,null,null,null,null,null,null,null,null,null,null,null,null,null,null,null,null,null,null,null,null,null,null,null,null,null,null,5964,"06.09. 13:00",23.2,0]
[null,null,null,null,null,null,null,null,null,null,null,null,null,null,null,null,null,null,null,null,null,null,null,null,null,null,null,5966,"06.09. 15:00",24.3,0]
[null,null,null,null,null,null,null,null,null,null,null,null,null,null,null,null,null,null,null,null,null,null,null,null,null,null,null,5978,"07.09. 03:00",12.7,0]
[null,null,null,null,null,null,null,null,null,null,null,null,null,null,null,null,null,null,null,null,null,null,null,null,null,null,null,5983,"07.09. 08:00",15.6,0]
[null,null,null,null,null,null,null,null,null,null,null,null,null,null,null,null,null,null,null,null,null,null,null,null,null,null,null,5992,"07.09. 17:00",22.1,0]
[null,null,null,null,null,null,null,null,null,null,null,null,null,null,null,null,null,null,null,null,null,null,null,null,null,null,null,6000,"08.09. 01:00",13.1,0]
[null,null,null,null,null,null,null,null,null,null,null,null,null,null,null,null,null,null,null,null,null,null,null,null,null,null,null,6006,"08.09. 07:00",12.6,0]
[null,null,null,null,null,null,null,null,null,null,null,null,null,null,null,null,null,null,null,null,null,null,null,null,null,null,null,6017,"08.09. 18:00",21.1,0]
[null,null,null,null,null,null,null,null,null,null,null,null,null,null,null,null,null,null,null,null,null,null,null,null,null,null,null,6026,"09.09. 03:00",13.8,0]
[null,null,null,null,null,null,null,null,null,null,null,null,null,null,null,null,null,null,null,null,null,null,null,null,null,null,null,6029,"09.09. 06:00",14.4,0]
[null,null,null,null,null,null,null,null,null,null,null,null,null,null,null,null,null,null,null,null,null,null,null,null,null,null,null,6035,"09.09. 12:00",23.1,0]
[null,null,null,null,null,null,null,null,null,null,null,null,null,null,null,null,null,null,null,null,null,null,null,null,null,null,null,6043,"09.09. 20:00",21.9,0]
[null,null,null,null,null,null,null,null,null,null,null,null,null,null,null,null,null,null,null,null,null,null,null,null,null,null,null,6052,"10.09. 05:00",19.600000000000001,0]
[null,null,null,null,null,null,null,null,null,null,null,null,null,null,null,null,null,null,null,null,null,null,null,null,null,null,null,6060,"10.09. 13:00",19.2,0]
[null,null,null,null,null,null,null,null,null,null,null,null,null,null,null,null,null,null,null,null,null,null,null,null,null,null,null,6069,"10.09. 22:00",17.899999999999999,0]
[null,null,null,null,null,null,null,null,null,null,null,null,null,null,null,null,null,null,null,null,null,null,null,null,null,null,null,6074,"11.09. 03:00",15.3,0]
[null,null,null,null,null,null,null,null,null,null,null,null,null,null,null,null,null,null,null,null,null,null,null,null,null,null,null,6086,"11.09. 15:00",22.5,0]
[null,null,null,null,null,null,null,null,null,null,null,null,null,null,null,null,null,null,null,null,null,null,null,null,null,null,null,6087,"11.09. 16:00",21.7,0]
[null,null,null,null,null,null,null,null,null,null,null,null,null,null,null,null,null,null,null,null,null,null,null,null,null,null,null,6097,"12.09. 02:00",12.2,0]
[null,null,null,null,null,null,null,null,null,null,null,null,null,null,null,null,null,null,null,null,null,null,null,null,null,null,null,6104,"12.09. 09:00",15.7,0]
[null,null,null,null,null,null,null,null,null,null,null,null,null,null,null,null,null,null,null,null,null,null,null,null,null,null,null,6111,"12.09. 16:00",22.3,0]
[null,null,null,null,null,null,null,null,null,null,null,null,null,null,null,null,null,null,null,null,null,null,null,null,null,null,null,6121,"13.09. 02:00",11.9,0]
[null,null,null,null,null,null,null,null,null,null,null,null,null,null,null,null,null,null,null,null,null,null,null,null,null,null,null,6125,"13.09. 06:00",11.6,0]
[null,null,null,null,null,null,null,null,null,null,null,null,null,null,null,null,null,null,null,null,null,null,null,null,null,null,null,6138,"13.09. 19:00",16,0]
[null,null,null,null,null,null,null,null,null,null,null,null,null,null,null,null,null,null,null,null,null,null,null,null,null,null,null,6146,"14.09. 03:00",8.3000000000000007,0]
[null,null,null,null,null,null,null,null,null,null,null,null,null,null,null,null,null,null,null,null,null,null,null,null,null,null,null,6147,"14.09. 04:00",8.8000000000000007,0]
[null,null,null,null,null,null,null,null,null,null,null,null,null,null,null,null,null,null,null,null,null,null,null,null,null,null,null,6156,"14.09. 13:00",18.600000000000001,0]
[null,null,null,null,null,null,null,null,null,null,null,null,null,null,null,null,null,null,null,null,null,null,null,null,null,null,null,6164,"14.09. 21:00",14.5,0]
[null,null,null,null,null,null,null,null,null,null,null,null,null,null,null,null,null,null,null,null,null,null,null,null,null,null,null,6173,"15.09. 06:00",12.3,0]
[null,null,null,null,null,null,null,null,null,null,null,null,null,null,null,null,null,null,null,null,null,null,null,null,null,null,null,6179,"15.09. 12:00",13.9,0]
[null,null,null,null,null,null,null,null,null,null,null,null,null,null,null,null,null,null,null,null,null,null,null,null,null,null,null,6190,"15.09. 23:00",15.7,0]
[null,null,null,null,null,null,null,null,null,null,null,null,null,null,null,null,null,null,null,null,null,null,null,null,null,null,null,6193,"16.09. 02:00",12.8,0]
[null,null,null,null,null,null,null,null,null,null,null,null,null,null,null,null,null,null,null,null,null,null,null,null,null,null,null,6207,"16.09. 16:00",21.3,0]
[null,null,null,null,null,null,null,null,null,null,null,null,null,null,null,null,null,null,null,null,null,null,null,null,null,null,null,6214,"16.09. 23:00",12.4,0]
[null,null,null,null,null,null,null,null,null,null,null,null,null,null,null,null,null,null,null,null,null,null,null,null,null,null,null,6216,"17.09. 01:00",10.199999999999999,0]
[null,null,null,null,null,null,null,null,null,null,null,null,null,null,null,null,null,null,null,null,null,null,null,null,null,null,null,6228,"17.09. 13:00",18.2,0]
[null,null,null,null,null,null,null,null,null,null,null,null,null,null,null,null,null,null,null,null,null,null,null,null,null,null,null,6233,"17.09. 18:00",16.8,0]
[null,null,null,null,null,null,null,null,null,null,null,null,null,null,null,null,null,null,null,null,null,null,null,null,null,null,null,6242,"18.09. 03:00",6.9,0]
[null,null,null,null,null,null,null,null,null,null,null,null,null,null,null,null,null,null,null,null,null,null,null,null,null,null,null,6251,"18.09. 12:00",16.2,0]
[null,null,null,null,null,null,null,null,null,null,null,null,null,null,null,null,null,null,null,null,null,null,null,null,null,null,null,6259,"18.09. 20:00",13.1,0]
[null,null,null,null,null,null,null,null,null,null,null,null,null,null,null,null,null,null,null,null,null,null,null,null,null,null,null,6265,"19.09. 02:00",6.7,0]
[null,null,null,null,null,null,null,null,null,null,null,null,null,null,null,null,null,null,null,null,null,null,null,null,null,null,null,6268,"19.09. 05:00",6,0]
[null,null,null,null,null,null,null,null,null,null,null,null,null,null,null,null,null,null,null,null,null,null,null,null,null,null,null,6282,"19.09. 19:00",14.5,0]
[null,null,null,null,null,null,null,null,null,null,null,null,null,null,null,null,null,null,null,null,null,null,null,null,null,null,null,6285,"19.09. 22:00",11.6,0]
[null,null,null,null,null,null,null,null,null,null,null,null,null,null,null,null,null,null,null,null,null,null,null,null,null,null,null,6296,"20.09. 09:00",11,0]
[null,null,null,null,null,null,null,null,null,null,null,null,null,null,null,null,null,null,null,null,null,null,null,null,null,null,null,6302,"20.09. 15:00",13.8,0]
[null,null,null,null,null,null,null,null,null,null,null,null,null,null,null,null,null,null,null,null,null,null,null,null,null,null,null,6310,"20.09. 23:00",10.8,0]
[null,null,null,null,null,null,null,null,null,null,null,null,null,null,null,null,null,null,null,null,null,null,null,null,null,null,null,6319,"21.09. 08:00",11,0]
[null,null,null,null,null,null,null,null,null,null,null,null,null,null,null,null,null,null,null,null,null,null,null,null,null,null,null,6328,"21.09. 17:00",13.9,0]
[null,null,null,null,null,null,null,null,null,null,null,null,null,null,null,null,null,null,null,null,null,null,null,null,null,null,null,6333,"21.09. 22:00",12.7,0]
[null,null,null,null,null,null,null,null,null,null,null,null,null,null,null,null,null,null,null,null,null,null,null,null,null,null,null,6337,"22.09. 02:00",11.8,0]
[null,null,null,null,null,null,null,null,null,null,null,null,null,null,null,null,null,null,null,null,null,null,null,null,null,null,null,6347,"22.09. 12:00",14,0]
[null,null,null,null,null,null,null,null,null,null,null,null,null,null,null,null,null,null,null,null,null,null,null,null,null,null,null,6354,"22.09. 19:00",13.5,0]
[null,null,null,null,null,null,null,null,null,null,null,null,null,null,null,null,null,null,null,null,null,null,null,null,null,null,null,6361,"23.09. 02:00",11.3,0]
[null,null,null,null,null,null,null,null,null,null,null,null,null,null,null,null,null,null,null,null,null,null,null,null,null,null,null,6371,"23.09. 12:00",11.9,0]
[null,null,null,null,null,null,null,null,null,null,null,null,null,null,null,null,null,null,null,null,null,null,null,null,null,null,null,6378,"23.09. 19:00",11.5,0]
[null,null,null,null,null,null,null,null,null,null,null,null,null,null,null,null,null,null,null,null,null,null,null,null,null,null,null,6388,"24.09. 05:00",9.5,0]
[null,null,null,null,null,null,null,null,null,null,null,null,null,null,null,null,null,null,null,null,null,null,null,null,null,null,null,6389,"24.09. 06:00",9.6,0]
[null,null,null,null,null,null,null,null,null,null,null,null,null,null,null,null,null,null,null,null,null,null,null,null,null,null,null,6398,"24.09. 15:00",12.2,0]
[null,null,null,null,null,null,null,null,null,null,null,null,null,null,null,null,null,null,null,null,null,null,null,null,null,null,null,6406,"24.09. 23:00",9.1999999999999993,0]
[null,null,null,null,null,null,null,null,null,null,null,null,null,null,null,null,null,null,null,null,null,null,null,null,null,null,null,6415,"25.09. 08:00",8.4,0]
[null,null,null,null,null,null,null,null,null,null,null,null,null,null,null,null,null,null,null,null,null,null,null,null,null,null,null,6423,"25.09. 16:00",13,0]
[null,null,null,null,null,null,null,null,null,null,null,null,null,null,null,null,null,null,null,null,null,null,null,null,null,null,null,6429,"25.09. 22:00",8.8000000000000007,0]
[null,null,null,null,null,null,null,null,null,null,null,null,null,null,null,null,null,null,null,null,null,null,null,null,null,null,null,6440,"26.09. 09:00",7,0]
[null,null,null,null,null,null,null,null,null,null,null,null,null,null,null,null,null,null,null,null,null,null,null,null,null,null,null,6443,"26.09. 12:00",11.7,0]
[null,null,null,null,null,null,null,null,null,null,null,null,null,null,null,null,null,null,null,null,null,null,null,null,null,null,null,6449,"26.09. 18:00",8.6,0]
[null,null,null,null,null,null,null,null,null,null,null,null,null,null,null,null,null,null,null,null,null,null,null,null,null,null,null,6457,"27.09. 02:00",8,0]
[null,null,null,null,null,null,null,null,null,null,null,null,null,null,null,null,null,null,null,null,null,null,null,null,null,null,null,6466,"27.09. 11:00",10.9,0]
[null,null,null,null,null,null,null,null,null,null,null,null,null,null,null,null,null,null,null,null,null,null,null,null,null,null,null,6475,"27.09. 20:00",10.9,0]
[null,null,null,null,null,null,null,null,null,null,null,null,null,null,null,null,null,null,null,null,null,null,null,null,null,null,null,6480,"28.09. 01:00",8.9,0]
[null,null,null,null,null,null,null,null,null,null,null,null,null,null,null,null,null,null,null,null,null,null,null,null,null,null,null,6492,"28.09. 13:00",10.6,0]
[null,null,null,null,null,null,null,null,null,null,null,null,null,null,null,null,null,null,null,null,null,null,null,null,null,null,null,6497,"28.09. 18:00",9.6999999999999993,0]
[null,null,null,null,null,null,null,null,null,null,null,null,null,null,null,null,null,null,null,null,null,null,null,null,null,null,null,6509,"29.09. 06:00",8.4,0]
[null,null,null,null,null,null,null,null,null,null,null,null,null,null,null,null,null,null,null,null,null,null,null,null,null,null,null,6511,"29.09. 08:00",9.1999999999999993,0]
[null,null,null,null,null,null,null,null,null,null,null,null,null,null,null,null,null,null,null,null,null,null,null,null,null,null,null,6518,"29.09. 15:00",16.5,0]
[null,null,null,null,null,null,null,null,null,null,null,null,null,null,null,null,null,null,null,null,null,null,null,null,null,null,null,6525,"29.09. 22:00",14,0]
[null,null,null,null,null,null,null,null,null,null,null,null,null,null,null,null,null,null,null,null,null,null,null,null,null,null,null,6535,"30.09. 08:00",13.2,0]
[null,null,null,null,null,null,null,null,null,null,null,null,null,null,null,null,null,null,null,null,null,null,null,null,null,null,null,6544,"30.09. 17:00",18.7,0]
[null,null,null,null,null,null,null,null,null,null,null,null,null,null,null,null,null,null,null,null,null,null,null,null,null,null,null,6548,"30.09. 21:00",13.5,0]
[null,null,null,null,null,null,null,null,null,null,null,null,null,null,null,null,null,null,null,null,null,null,null,null,null,null,null,6561,"01.10. 10:00",14.2,0]
[null,null,null,null,null,null,null,null,null,null,null,null,null,null,null,null,null,null,null,null,null,null,null,null,null,null,null,6569,"01.10. 18:00",14.8,0]
[null,null,null,null,null,null,null,null,null,null,null,null,null,null,null,null,null,null,null,null,null,null,null,null,null,null,null,6570,"01.10. 19:00",13.8,0]
[null,null,null,null,null,null,null,null,null,null,null,null,null,null,null,null,null,null,null,null,null,null,null,null,null,null,null,6583,"02.10. 08:00",9.3000000000000007,0]
[null,null,null,null,null,null,null,null,null,null,null,null,null,null,null,null,null,null,null,null,null,null,null,null,null,null,null,6587,"02.10. 12:00",14.4,0]
[null,null,null,null,null,null,null,null,null,null,null,null,null,null,null,null,null,null,null,null,null,null,null,null,null,null,null,6593,"02.10. 18:00",16.8,0]
[null,null,null,null,null,null,null,null,null,null,null,null,null,null,null,null,null,null,null,null,null,null,null,null,null,null,null,6604,"03.10. 05:00",7.2,0]
[null,null,null,null,null,null,null,null,null,null,null,null,null,null,null,null,null,null,null,null,null,null,null,null,null,null,null,6614,"03.10. 15:00",17,0]
[null,null,null,null,null,null,null,null,null,null,null,null,null,null,null,null,null,null,null,null,null,null,null,null,null,null,null,6621,"03.10. 22:00",8.6999999999999993,0]
[null,null,null,null,null,null,null,null,null,null,null,null,null,null,null,null,null,null,null,null,null,null,null,null,null,null,null,6630,"04.10. 07:00",5.6,0]
[null,null,null,null,null,null,null,null,null,null,null,null,null,null,null,null,null,null,null,null,null,null,null,null,null,null,null,6637,"04.10. 14:00",9.5,0]
[null,null,null,null,null,null,null,null,null,null,null,null,null,null,null,null,null,null,null,null,null,null,null,null,null,null,null,6639,"04.10. 16:00",11.7,0]
[null,null,null,null,null,null,null,null,null,null,null,null,null,null,null,null,null,null,null,null,null,null,null,null,null,null,null,6651,"05.10. 04:00",10.6,0]
[null,null,null,null,null,null,null,null,null,null,null,null,null,null,null,null,null,null,null,null,null,null,null,null,null,null,null,6656,"05.10. 09:00",11.6,{"$f":"IF(AD6696<=$AC$25,1,0)","v":0}]
[null,null,null,null,null,null,null,null,null,null,null,null,null,null,null,null,null,null,null,null,null,null,null,null,null,null,null,6665,"05.10. 18:00",12.4,0]
[null,null,null,null,null,null,null,null,null,null,null,null,null,null,null,null,null,null,null,null,null,null,null,null,null,null,null,6673,"06.10. 02:00",9.6999999999999993,0]
[null,null,null,null,null,null,null,null,null,null,null,null,null,null,null,null,null,null,null,null,null,null,null,null,null,null,null,6679,"06.10. 08:00",10.6,0]
[null,null,null,null,null,null,null,null,null,null,null,null,null,null,null,null,null,null,null,null,null,null,null,null,null,null,null,6690,"06.10. 19:00",10.7,0]
[null,null,null,null,null,null,null,null,null,null,null,null,null,null,null,null,null,null,null,null,null,null,null,null,null,null,null,6691,"06.10. 20:00",10.199999999999999,0]
[null,null,null,null,null,null,null,null,null,null,null,null,null,null,null,null,null,null,null,null,null,null,null,null,null,null,null,6702,"07.10. 07:00",7.7,0]
[null,null,null,null,null,null,null,null,null,null,null,null,null,null,null,null,null,null,null,null,null,null,null,null,null,null,null,6708,"07.10. 13:00",9.6999999999999993,0]
[null,null,null,null,null,null,null,null,null,null,null,null,null,null,null,null,null,null,null,null,null,null,null,null,null,null,null,6716,"07.10. 21:00",12.3,0]
[null,null,null,null,null,null,null,null,null,null,null,null,null,null,null,null,null,null,null,null,null,null,null,null,null,null,null,6725,"08.10. 06:00",8.4,0]
[null,null,null,null,null,null,null,null,null,null,null,null,null,null,null,null,null,null,null,null,null,null,null,null,null,null,null,6733,"08.10. 14:00",15.5,0]
[null,null,null,null,null,null,null,null,null,null,null,null,null,null,null,null,null,null,null,null,null,null,null,null,null,null,null,6742,"08.10. 23:00",7.7,0]
[null,null,null,null,null,null,null,null,null,null,null,null,null,null,null,null,null,null,null,null,null,null,null,null,null,null,null,6747,"09.10. 04:00",5.2,0]
[null,null,null,null,null,null,null,null,null,null,null,null,null,null,null,null,null,null,null,null,null,null,null,null,null,null,null,6751,"09.10. 08:00",7.4,0]
[null,null,null,null,null,null,null,null,null,null,null,null,null,null,null,null,null,null,null,null,null,null,null,null,null,null,null,6761,"09.10. 18:00",12.7,0]
[null,null,null,null,null,null,null,null,null,null,null,null,null,null,null,null,null,null,null,null,null,null,null,null,null,null,null,6768,"10.10. 01:00",9.1999999999999993,0]
[null,null,null,null,null,null,null,null,null,null,null,null,null,null,null,null,null,null,null,null,null,null,null,null,null,null,null,6777,"10.10. 10:00",10.5,0]
[null,null,null,null,null,null,null,null,null,null,null,null,null,null,null,null,null,null,null,null,null,null,null,null,null,null,null,6784,"10.10. 17:00",12.9,{"$f":"IF(AD6824<=$AC$25,1,0)","v":0}]
[null,null,null,null,null,null,null,null,null,null,null,null,null,null,null,null,null,null,null,null,null,null,null,null,null,null,null,6794,"11.10. 03:00",13.4,0]
[null,null,null,null,null,null,null,null,null,null,null,null,null,null,null,null,null,null,null,null,null,null,null,null,null,null,null,6798,"11.10. 07:00",13.5,0]
[null,null,null,null,null,null,null,null,null,null,null,null,null,null,null,null,null,null,null,null,null,null,null,null,null,null,null,6811,"11.10. 20:00",16.100000000000001,0]
[null,null,null,null,null,null,null,null,null,null,null,null,null,null,null,null,null,null,null,null,null,null,null,null,null,null,null,6812,"11.10. 21:00",15.6,0]
[null,null,null,null,null,null,null,null,null,null,null,null,null,null,null,null,null,null,null,null,null,null,null,null,null,null,null,6820,"12.10. 05:00",12.6,0]
[null,null,null,null,null,null,null,null,null,null,null,null,null,null,null,null,null,null,null,null,null,null,null,null,null,null,null,6829,"12.10. 14:00",12.3,0]
[null,null,null,null,null,null,null,null,null,null,null,null,null,null,null,null,null,null,null,null,null,null,null,null,null,null,null,6837,"12.10. 22:00",9.8000000000000007,0]
[null,null,null,null,null,null,null,null,null,null,null,null,null,null,null,null,null,null,null,null,null,null,null,null,null,null,null,6846,"13.10. 07:00",8,0]
[null,null,null,null,null,null,null,null,null,null,null,null,null,null,null,null,null,null,null,null,null,null,null,null,null,null,null,6852,"13.10. 13:00",10.5,0]
[null,null,null,null,null,null,null,null,null,null,null,null,null,null,null,null,null,null,null,null,null,null,null,null,null,null,null,6863,"14.10. 00:00",6.4,0]
[null,null,null,null,null,null,null,null,null,null,null,null,null,null,null,null,null,null,null,null,null,null,null,null,null,null,null,6866,"14.10. 03:00",4.2,0]
[null,null,null,null,null,null,null,null,null,null,null,null,null,null,null,null,null,null,null,null,null,null,null,null,null,null,null,6872,"14.10. 09:00",7.9,0]
[null,null,null,null,null,null,null,null,null,null,null,null,null,null,null,null,null,null,null,null,null,null,null,null,null,null,null,6880,"14.10. 17:00",12.1,0]
[null,null,null,null,null,null,null,null,null,null,null,null,null,null,null,null,null,null,null,null,null,null,null,null,null,null,null,6889,"15.10. 02:00",5.8,0]
[null,null,null,null,null,null,null,null,null,null,null,null,null,null,null,null,null,null,null,null,null,null,null,null,null,null,null,6901,"15.10. 14:00",14.5,0]
[null,null,null,null,null,null,null,null,null,null,null,null,null,null,null,null,null,null,null,null,null,null,null,null,null,null,null,6906,"15.10. 19:00",11.3,0]
[null,null,null,null,null,null,null,null,null,null,null,null,null,null,null,null,null,null,null,null,null,null,null,null,null,null,null,6911,"16.10. 00:00",11.9,0]
[null,null,null,null,null,null,null,null,null,null,null,null,null,null,null,null,null,null,null,null,null,null,null,null,null,null,null,6923,"16.10. 12:00",15.8,0]
[null,null,null,null,null,null,null,null,null,null,null,null,null,null,null,null,null,null,null,null,null,null,null,null,null,null,null,6932,"16.10. 21:00",15.7,0]
[null,null,null,null,null,null,null,null,null,null,null,null,null,null,null,null,null,null,null,null,null,null,null,null,null,null,null,6938,"17.10. 03:00",12.2,0]
[null,null,null,null,null,null,null,null,null,null,null,null,null,null,null,null,null,null,null,null,null,null,null,null,null,null,null,6941,"17.10. 06:00",12.6,0]
[null,null,null,null,null,null,null,null,null,null,null,null,null,null,null,null,null,null,null,null,null,null,null,null,null,null,null,6948,"17.10. 13:00",9.1999999999999993,0]
[null,null,null,null,null,null,null,null,null,null,null,null,null,null,null,null,null,null,null,null,null,null,null,null,null,null,null,6958,"17.10. 23:00",5.2,0]
[null,null,null,null,null,null,null,null,null,null,null,null,null,null,null,null,null,null,null,null,null,null,null,null,null,null,null,6969,"18.10. 10:00",2.2000000000000002,0]
[null,null,null,null,null,null,null,null,null,null,null,null,null,null,null,null,null,null,null,null,null,null,null,null,null,null,null,6975,"18.10. 16:00",2.6,0]
[null,null,null,null,null,null,null,null,null,null,null,null,null,null,null,null,null,null,null,null,null,null,null,null,null,null,null,6983,"19.10. 00:00",0.4,0]
[null,null,null,null,null,null,null,null,null,null,null,null,null,null,null,null,null,null,null,null,null,null,null,null,null,null,null,6992,"19.10. 09:00",5.4,0]
[null,null,null,null,null,null,null,null,null,null,null,null,null,null,null,null,null,null,null,null,null,null,null,null,null,null,null,6993,"19.10. 10:00",7.8,0]
[null,null,null,null,null,null,null,null,null,null,null,null,null,null,null,null,null,null,null,null,null,null,null,null,null,null,null,7006,"19.10. 23:00",8.5,0]
[null,null,null,null,null,null,null,null,null,null,null,null,null,null,null,null,null,null,null,null,null,null,null,null,null,null,null,7010,"20.10. 03:00",3.8,0]
[null,null,null,null,null,null,null,null,null,null,null,null,null,null,null,null,null,null,null,null,null,null,null,null,null,null,null,7020,"20.10. 13:00",8.6,0]
[null,null,null,null,null,null,null,null,null,null,null,null,null,null,null,null,null,null,null,null,null,null,null,null,null,null,null,7027,"20.10. 20:00",4.9000000000000004,0]
[null,null,null,null,null,null,null,null,null,null,null,null,null,null,null,null,null,null,null,null,null,null,null,null,null,null,null,7034,"21.10. 03:00",3.4,0]
[null,null,null,null,null,null,null,null,null,null,null,null,null,null,null,null,null,null,null,null,null,null,null,null,null,null,null,7044,"21.10. 13:00",11.9,0]
[null,null,null,null,null,null,null,null,null,null,null,null,null,null,null,null,null,null,null,null,null,null,null,null,null,null,null,7051,"21.10. 20:00",9.3000000000000007,0]
[null,null,null,null,null,null,null,null,null,null,null,null,null,null,null,null,null,null,null,null,null,null,null,null,null,null,null,7053,"21.10. 22:00",8.3000000000000007,0]
[null,null,null,null,null,null,null,null,null,null,null,null,null,null,null,null,null,null,null,null,null,null,null,null,null,null,null,7065,"22.10. 10:00",6.9,0]
[null,null,null,null,null,null,null,null,null,null,null,null,null,null,null,null,null,null,null,null,null,null,null,null,null,null,null,7070,"22.10. 15:00",9.6,0]
[null,null,null,null,null,null,null,null,null,null,null,null,null,null,null,null,null,null,null,null,null,null,null,null,null,null,null,7079,"23.10. 00:00",1.9,0]
[null,null,null,null,null,null,null,null,null,null,null,null,null,null,null,null,null,null,null,null,null,null,null,null,null,null,null,7088,"23.10. 09:00",1.8,0]
[null,null,null,null,null,null,null,null,null,null,null,null,null,null,null,null,null,null,null,null,null,null,null,null,null,null,null,7096,"23.10. 17:00",6.3,0]
[null,null,null,null,null,null,null,null,null,null,null,null,null,null,null,null,null,null,null,null,null,null,null,null,null,null,null,7102,"23.10. 23:00",4.5,0]
[null,null,null,null,null,null,null,null,null,null,null,null,null,null,null,null,null,null,null,null,null,null,null,null,null,null,null,7113,"24.10. 10:00",9.6,0]
[null,null,null,null,null,null,null,null,null,null,null,null,null,null,null,null,null,null,null,null,null,null,null,null,null,null,null,7116,"24.10. 13:00",14.8,0]
[null,null,null,null,null,null,null,null,null,null,null,null,null,null,null,null,null,null,null,null,null,null,null,null,null,null,null,7122,"24.10. 19:00",12.7,0]
[null,null,null,null,null,null,null,null,null,null,null,null,null,null,null,null,null,null,null,null,null,null,null,null,null,null,null,7130,"25.10. 02:00",10.8,0]
[null,null,null,null,null,null,null,null,null,null,null,null,null,null,null,null,null,null,null,null,null,null,null,null,null,null,null,7139,"25.10. 11:00",16,0]
[null,null,null,null,null,null,null,null,null,null,null,null,null,null,null,null,null,null,null,null,null,null,null,null,null,null,null,7148,"25.10. 20:00",13.7,0]
[null,null,null,null,null,null,null,null,null,null,null,null,null,null,null,null,null,null,null,null,null,null,null,null,null,null,null,7153,"26.10. 01:00",12.3,0]
[null,null,null,null,null,null,null,null,null,null,null,null,null,null,null,null,null,null,null,null,null,null,null,null,null,null,null,7165,"26.10. 13:00",16.3,0]
[null,null,null,null,null,null,null,null,null,null,null,null,null,null,null,null,null,null,null,null,null,null,null,null,null,null,null,7170,"26.10. 18:00",15.8,0]
[null,null,null,null,null,null,null,null,null,null,null,null,null,null,null,null,null,null,null,null,null,null,null,null,null,null,null,7174,"26.10. 22:00",12.8,0]
[null,null,null,null,null,null,null,null,null,null,null,null,null,null,null,null,null,null,null,null,null,null,null,null,null,null,null,7184,"27.10. 08:00",9,0]
[null,null,null,null,null,null,null,null,null,null,null,null,null,null,null,null,null,null,null,null,null,null,null,null,null,null,null,7191,"27.10. 15:00",11.1,0]
[null,null,null,null,null,null,null,null,null,null,null,null,null,null,null,null,null,null,null,null,null,null,null,null,null,null,null,7198,"27.10. 22:00",6.3,0]
[null,null,null,null,null,null,null,null,null,null,null,null,null,null,null,null,null,null,null,null,null,null,null,null,null,null,null,7208,"28.10. 08:00",8.1,0]
[null,null,null,null,null,null,null,null,null,null,null,null,null,null,null,null,null,null,null,null,null,null,null,null,null,null,null,7212,"28.10. 12:00",13.1,0]
[null,null,null,null,null,null,null,null,null,null,null,null,null,null,null,null,null,null,null,null,null,null,null,null,null,null,null,7225,"29.10. 01:00",8.3000000000000007,0]
[null,null,null,null,null,null,null,null,null,null,null,null,null,null,null,null,null,null,null,null,null,null,null,null,null,null,null,7234,"29.10. 10:00",7.3,0]
[null,null,null,null,null,null,null,null,null,null,null,null,null,null,null,null,null,null,null,null,null,null,null,null,null,null,null,7235,"29.10. 11:00",7.2,0]
[null,null,null,null,null,null,null,null,null,null,null,null,null,null,null,null,null,null,null,null,null,null,null,null,null,null,null,7243,"29.10. 19:00",6.5,0]
[null,null,null,null,null,null,null,null,null,null,null,null,null,null,null,null,null,null,null,null,null,null,null,null,null,null,null,7256,"30.10. 08:00",6.8,0]
[null,null,null,null,null,null,null,null,null,null,null,null,null,null,null,null,null,null,null,null,null,null,null,null,null,null,null,7260,"30.10. 12:00",8.6999999999999993,0]
[null,null,null,null,null,null,null,null,null,null,null,null,null,null,null,null,null,null,null,null,null,null,null,null,null,null,null,7266,"30.10. 18:00",8.3000000000000007,0]
[null,null,null,null,null,null,null,null,null,null,null,null,null,null,null,null,null,null,null,null,null,null,null,null,null,null,null,7277,"31.10. 05:00",6.9,0]
[null,null,null,null,null,null,null,null,null,null,null,null,null,null,null,null,null,null,null,null,null,null,null,null,null,null,null,7280,"31.10. 08:00",6.9,0]
[null,null,null,null,null,null,null,null,null,null,null,null,null,null,null,null,null,null,null,null,null,null,null,null,null,null,null,7294,"31.10. 22:00",5.2,0]
[null,null,null,null,null,null,null,null,null,null,null,null,null,null,null,null,null,null,null,null,null,null,null,null,null,null,null,7295,"31.10. 23:00",4.9000000000000004,0]
[null,null,null,null,null,null,null,null,null,null,null,null,null,null,null,null,null,null,null,null,null,null,null,null,null,null,null,7303,"01.11. 07:00",1.4,0]
[null,null,null,null,null,null,null,null,null,null,null,null,null,null,null,null,null,null,null,null,null,null,null,null,null,null,null,7312,"01.11. 16:00",5.9,0]
[null,null,null,null,null,null,null,null,null,null,null,null,null,null,null,null,null,null,null,null,null,null,null,null,null,null,null,7324,"02.11. 04:00",0.8,0]
[null,null,null,null,null,null,null,null,null,null,null,null,null,null,null,null,null,null,null,null,null,null,null,null,null,null,null,7329,"02.11. 09:00",2.1,0]
[null,null,null,null,null,null,null,null,null,null,null,null,null,null,null,null,null,null,null,null,null,null,null,null,null,null,null,7338,"02.11. 18:00",2.9,0]
[null,null,null,null,null,null,null,null,null,null,null,null,null,null,null,null,null,null,null,null,null,null,null,null,null,null,null,7346,"03.11. 02:00",2.1,0]
[null,null,null,null,null,null,null,null,null,null,null,null,null,null,null,null,null,null,null,null,null,null,null,null,null,null,null,7352,"03.11. 08:00",2.2000000000000002,0]
[null,null,null,null,null,null,null,null,null,null,null,null,null,null,null,null,null,null,null,null,null,null,null,null,null,null,null,7355,"03.11. 11:00",2.7,0]
[null,null,null,null,null,null,null,null,null,null,null,null,null,null,null,null,null,null,null,null,null,null,null,null,null,null,null,7369,"04.11. 01:00",3.2,0]
[null,null,null,null,null,null,null,null,null,null,null,null,null,null,null,null,null,null,null,null,null,null,null,null,null,null,null,7372,"04.11. 04:00",3.3,0]
[null,null,null,null,null,null,null,null,null,null,null,null,null,null,null,null,null,null,null,null,null,null,null,null,null,null,null,7381,"04.11. 13:00",7.1,0]
[null,null,null,null,null,null,null,null,null,null,null,null,null,null,null,null,null,null,null,null,null,null,null,null,null,null,null,7389,"04.11. 21:00",5.7,0]
[null,null,null,null,null,null,null,null,null,null,null,null,null,null,null,null,null,null,null,null,null,null,null,null,null,null,null,7398,"05.11. 06:00",4.0999999999999996,0]
[null,null,null,null,null,null,null,null,null,null,null,null,null,null,null,null,null,null,null,null,null,null,null,null,null,null,null,7406,"05.11. 14:00",4.8,0]
[null,null,null,null,null,null,null,null,null,null,null,null,null,null,null,null,null,null,null,null,null,null,null,null,null,null,null,7415,"05.11. 23:00",1.5,0]
[null,null,null,null,null,null,null,null,null,null,null,null,null,null,null,null,null,null,null,null,null,null,null,null,null,null,null,7420,"06.11. 04:00",-2,0]
[null,null,null,null,null,null,null,null,null,null,null,null,null,null,null,null,null,null,null,null,null,null,null,null,null,null,null,7424,"06.11. 08:00",-1,{"$f":"IF(AD7464<=$AC$25,1,0)","v":0}]
[null,null,null,null,null,null,null,null,null,null,null,null,null,null,null,null,null,null,null,null,null,null,null,null,null,null,null,7434,"06.11. 18:00",-0.4,0]
[null,null,null,null,null,null,null,null,null,null,null,null,null,null,null,null,null,null,null,null,null,null,null,null,null,null,null,7441,"07.11. 01:00",-5.0999999999999996,1]
[null,null,null,null,null,null,null,null,null,null,null,null,null,null,null,null,null,null,null,null,null,null,null,null,null,null,null,7450,"07.11. 10:00",1,0]
[null,null,null,null,null,null,null,null,null,null,null,null,null,null,null,null,null,null,null,null,null,null,null,null,null,null,null,7457,"07.11. 17:00",-2.2000000000000002,0]
[null,null,null,null,null,null,null,null,null,null,null,null,null,null,null,null,null,null,null,null,null,null,null,null,null,null,null,7467,"08.11. 03:00",-3.5,0]
[null,null,null,null,null,null,null,null,null,null,null,null,null,null,null,null,null,null,null,null,null,null,null,null,null,null,null,7471,"08.11. 07:00",-3.8,0]
[null,null,null,null,null,null,null,null,null,null,null,null,null,null,null,null,null,null,null,null,null,null,null,null,null,null,null,7476,"08.11. 12:00",3.2,0]
[null,null,null,null,null,null,null,null,null,null,null,null,null,null,null,null,null,null,null,null,null,null,null,null,null,null,null,7485,"08.11. 21:00",-0.1,0]
[null,null,null,null,null,null,null,null,null,null,null,null,null,null,null,null,null,null,null,null,null,null,null,null,null,null,null,7493,"09.11. 05:00",-2.6,0]
[null,null,null,null,null,null,null,null,null,null,null,null,null,null,null,null,null,null,null,null,null,null,null,null,null,null,null,7502,"09.11. 14:00",4,0]
[null,null,null,null,null,null,null,null,null,null,null,null,null,null,null,null,null,null,null,null,null,null,null,null,null,null,null,7510,"09.11. 22:00",-1.3,0]
[null,null,null,null,null,null,null,null,null,null,null,null,null,null,null,null,null,null,null,null,null,null,null,null,null,null,null,7516,"10.11. 04:00",-3.3,0]
[null,null,null,null,null,null,null,null,null,null,null,null,null,null,null,null,null,null,null,null,null,null,null,null,null,null,null,7527,"10.11. 15:00",0.7,0]
[null,null,null,null,null,null,null,null,null,null,null,null,null,null,null,null,null,null,null,null,null,null,null,null,null,null,null,7536,"11.11. 00:00",-1.2,0]
[null,null,null,null,null,null,null,null,null,null,null,null,null,null,null,null,null,null,null,null,null,null,null,null,null,null,null,7539,"11.11. 03:00",-0.9,0]
[null,null,null,null,null,null,null,null,null,null,null,null,null,null,null,null,null,null,null,null,null,null,null,null,null,null,null,7545,"11.11. 09:00",3.3,0]
[null,null,null,null,null,null,null,null,null,null,null,null,null,null,null,null,null,null,null,null,null,null,null,null,null,null,null,7553,"11.11. 17:00",4.8,0]
[null,null,null,null,null,null,null,null,null,null,null,null,null,null,null,null,null,null,null,null,null,null,null,null,null,null,null,7562,"12.11. 02:00",2.5,0]
[null,null,null,null,null,null,null,null,null,null,null,null,null,null,null,null,null,null,null,null,null,null,null,null,null,null,null,7567,"12.11. 07:00",2.2999999999999998,0]
[null,null,null,null,null,null,null,null,null,null,null,null,null,null,null,null,null,null,null,null,null,null,null,null,null,null,null,7579,"12.11. 19:00",1,0]
[null,null,null,null,null,null,null,null,null,null,null,null,null,null,null,null,null,null,null,null,null,null,null,null,null,null,null,7584,"13.11. 00:00",-0.2,0]
[null,null,null,null,null,null,null,null,null,null,null,null,null,null,null,null,null,null,null,null,null,null,null,null,null,null,null,7596,"13.11. 12:00",2.2999999999999998,0]
[null,null,null,null,null,null,null,null,null,null,null,null,null,null,null,null,null,null,null,null,null,null,null,null,null,null,null,7597,"13.11. 13:00",2.2999999999999998,0]
[null,null,null,null,null,null,null,null,null,null,null,null,null,null,null,null,null,null,null,null,null,null,null,null,null,null,null,7611,"14.11. 03:00",2,0]
[null,null,null,null,null,null,null,null,null,null,null,null,null,null,null,null,null,null,null,null,null,null,null,null,null,null,null,7614,"14.11. 06:00",2.2000000000000002,0]
[null,null,null,null,null,null,null,null,null,null,null,null,null,null,null,null,null,null,null,null,null,null,null,null,null,null,null,7621,"14.11. 13:00",5.5,0]
[null,null,null,null,null,null,null,null,null,null,null,null,null,null,null,null,null,null,null,null,null,null,null,null,null,null,null,7631,"14.11. 23:00",3.2,0]
[null,null,null,null,null,null,null,null,null,null,null,null,null,null,null,null,null,null,null,null,null,null,null,null,null,null,null,7635,"15.11. 03:00",2.4,0]
[null,null,null,null,null,null,null,null,null,null,null,null,null,null,null,null,null,null,null,null,null,null,null,null,null,null,null,7648,"15.11. 16:00",8,0]
[null,null,null,null,null,null,null,null,null,null,null,null,null,null,null,null,null,null,null,null,null,null,null,null,null,null,null,7656,"16.11. 00:00",4.7,0]
[null,null,null,null,null,null,null,null,null,null,null,null,null,null,null,null,null,null,null,null,null,null,null,null,null,null,null,7657,"16.11. 01:00",4.5,0]
[null,null,null,null,null,null,null,null,null,null,null,null,null,null,null,null,null,null,null,null,null,null,null,null,null,null,null,7670,"16.11. 14:00",12.7,0]
[null,null,null,null,null,null,null,null,null,null,null,null,null,null,null,null,null,null,null,null,null,null,null,null,null,null,null,7674,"16.11. 18:00",9.1999999999999993,0]
[null,null,null,null,null,null,null,null,null,null,null,null,null,null,null,null,null,null,null,null,null,null,null,null,null,null,null,7683,"17.11. 03:00",5.2,0]
[null,null,null,null,null,null,null,null,null,null,null,null,null,null,null,null,null,null,null,null,null,null,null,null,null,null,null,7693,"17.11. 13:00",11.2,0]
[null,null,null,null,null,null,null,null,null,null,null,null,null,null,null,null,null,null,null,null,null,null,null,null,null,null,null,7700,"17.11. 20:00",6.4,0]
[null,null,null,null,null,null,null,null,null,null,null,null,null,null,null,null,null,null,null,null,null,null,null,null,null,null,null,7707,"18.11. 03:00",4.9000000000000004,0]
[null,null,null,null,null,null,null,null,null,null,null,null,null,null,null,null,null,null,null,null,null,null,null,null,null,null,null,7717,"18.11. 13:00",10.8,0]
[null,null,null,null,null,null,null,null,null,null,null,null,null,null,null,null,null,null,null,null,null,null,null,null,null,null,null,7724,"18.11. 20:00",8.1,0]
[null,null,null,null,null,null,null,null,null,null,null,null,null,null,null,null,null,null,null,null,null,null,null,null,null,null,null,7726,"18.11. 22:00",8.3000000000000007,0]
[null,null,null,null,null,null,null,null,null,null,null,null,null,null,null,null,null,null,null,null,null,null,null,null,null,null,null,7738,"19.11. 10:00",10.9,0]
[null,null,null,null,null,null,null,null,null,null,null,null,null,null,null,null,null,null,null,null,null,null,null,null,null,null,null,7743,"19.11. 15:00",11.3,0]
[null,null,null,null,null,null,null,null,null,null,null,null,null,null,null,null,null,null,null,null,null,null,null,null,null,null,null,7752,"20.11. 00:00",9.5,0]
[null,null,null,null,null,null,null,null,null,null,null,null,null,null,null,null,null,null,null,null,null,null,null,null,null,null,null,7761,"20.11. 09:00",9.4,0]
[null,null,null,null,null,null,null,null,null,null,null,null,null,null,null,null,null,null,null,null,null,null,null,null,null,null,null,7769,"20.11. 17:00",9.1,0]
[null,null,null,null,null,null,null,null,null,null,null,null,null,null,null,null,null,null,null,null,null,null,null,null,null,null,null,7775,"20.11. 23:00",7.2,0]
[null,null,null,null,null,null,null,null,null,null,null,null,null,null,null,null,null,null,null,null,null,null,null,null,null,null,null,7778,"21.11. 02:00",6.2,0]
[null,null,null,null,null,null,null,null,null,null,null,null,null,null,null,null,null,null,null,null,null,null,null,null,null,null,null,7789,"21.11. 13:00",6.3,0]
[null,null,null,null,null,null,null,null,null,null,null,null,null,null,null,null,null,null,null,null,null,null,null,null,null,null,null,7795,"21.11. 19:00",5.3,0]
[null,null,null,null,null,null,null,null,null,null,null,null,null,null,null,null,null,null,null,null,null,null,null,null,null,null,null,7803,"22.11. 03:00",4.4000000000000004,0]
[null,null,null,null,null,null,null,null,null,null,null,null,null,null,null,null,null,null,null,null,null,null,null,null,null,null,null,7812,"22.11. 12:00",7,0]
[null,null,null,null,null,null,null,null,null,null,null,null,null,null,null,null,null,null,null,null,null,null,null,null,null,null,null,7820,"22.11. 20:00",7.6,0]
[null,null,null,null,null,null,null,null,null,null,null,null,null,null,null,null,null,null,null,null,null,null,null,null,null,null,null,7829,"23.11. 05:00",4.3,0]
[null,null,null,null,null,null,null,null,null,null,null,null,null,null,null,null,null,null,null,null,null,null,null,null,null,null,null,7838,"23.11. 14:00",9,0]
[null,null,null,null,null,null,null,null,null,null,null,null,null,null,null,null,null,null,null,null,null,null,null,null,null,null,null,7843,"23.11. 19:00",5.8,0]
[null,null,null,null,null,null,null,null,null,null,null,null,null,null,null,null,null,null,null,null,null,null,null,null,null,null,null,7847,"23.11. 23:00",3.5,0]
[null,null,null,null,null,null,null,null,null,null,null,null,null,null,null,null,null,null,null,null,null,null,null,null,null,null,null,7857,"24.11. 09:00",3.4,0]
[null,null,null,null,null,null,null,null,null,null,null,null,null,null,null,null,null,null,null,null,null,null,null,null,null,null,null,7864,"24.11. 16:00",6,0]
[null,null,null,null,null,null,null,null,null,null,null,null,null,null,null,null,null,null,null,null,null,null,null,null,null,null,null,7871,"24.11. 23:00",3.4,0]
[null,null,null,null,null,null,null,null,null,null,null,null,null,null,null,null,null,null,null,null,null,null,null,null,null,null,null,7881,"25.11. 09:00",4.7,0]
[null,null,null,null,null,null,null,null,null,null,null,null,null,null,null,null,null,null,null,null,null,null,null,null,null,null,null,7885,"25.11. 13:00",7.9,0]
[null,null,null,null,null,null,null,null,null,null,null,null,null,null,null,null,null,null,null,null,null,null,null,null,null,null,null,7898,"26.11. 02:00",3.7,0]
[null,null,null,null,null,null,null,null,null,null,null,null,null,null,null,null,null,null,null,null,null,null,null,null,null,null,null,7899,"26.11. 03:00",3.8,0]
[null,null,null,null,null,null,null,null,null,null,null,null,null,null,null,null,null,null,null,null,null,null,null,null,null,null,null,7908,"26.11. 12:00",6.3,0]
[null,null,null,null,null,null,null,null,null,null,null,null,null,null,null,null,null,null,null,null,null,null,null,null,null,null,null,7916,"26.11. 20:00",4.9000000000000004,0]
[null,null,null,null,null,null,null,null,null,null,null,null,null,null,null,null,null,null,null,null,null,null,null,null,null,null,null,7922,"27.11. 02:00",3.1,0]
[null,null,null,null,null,null,null,null,null,null,null,null,null,null,null,null,null,null,null,null,null,null,null,null,null,null,null,7933,"27.11. 13:00",4.5999999999999996,0]
[null,null,null,null,null,null,null,null,null,null,null,null,null,null,null,null,null,null,null,null,null,null,null,null,null,null,null,7939,"27.11. 19:00",2.6,0]
[null,null,null,null,null,null,null,null,null,null,null,null,null,null,null,null,null,null,null,null,null,null,null,null,null,null,null,7950,"28.11. 06:00",0.1,0]
[null,null,null,null,null,null,null,null,null,null,null,null,null,null,null,null,null,null,null,null,null,null,null,null,null,null,null,7953,"28.11. 09:00",2.2999999999999998,0]
[null,null,null,null,null,null,null,null,null,null,null,null,null,null,null,null,null,null,null,null,null,null,null,null,null,null,null,7959,"28.11. 15:00",3.1,0]
[null,null,null,null,null,null,null,null,null,null,null,null,null,null,null,null,null,null,null,null,null,null,null,null,null,null,null,7967,"28.11. 23:00",-0.5,0]
[null,null,null,null,null,null,null,null,null,null,null,null,null,null,null,null,null,null,null,null,null,null,null,null,null,null,null,7976,"29.11. 08:00",-0.5,0]
[null,null,null,null,null,null,null,null,null,null,null,null,null,null,null,null,null,null,null,null,null,null,null,null,null,null,null,7985,"29.11. 17:00",1.6,0]
[null,null,null,null,null,null,null,null,null,null,null,null,null,null,null,null,null,null,null,null,null,null,null,null,null,null,null,7990,"29.11. 22:00",0.4,0]
[null,null,null,null,null,null,null,null,null,null,null,null,null,null,null,null,null,null,null,null,null,null,null,null,null,null,null,8002,"30.11. 10:00",1,0]
[null,null,null,null,null,null,null,null,null,null,null,null,null,null,null,null,null,null,null,null,null,null,null,null,null,null,null,8011,"30.11. 19:00",0.8,0]
[null,null,null,null,null,null,null,null,null,null,null,null,null,null,null,null,null,null,null,null,null,null,null,null,null,null,null,8019,"01.12. 03:00",-0.5,0]
[null,null,null,null,null,null,null,null,null,null,null,null,null,null,null,null,null,null,null,null,null,null,null,null,null,null,null,8025,"01.12. 09:00",-0.8,0]
[null,null,null,null,null,null,null,null,null,null,null,null,null,null,null,null,null,null,null,null,null,null,null,null,null,null,null,8028,"01.12. 12:00",-0.6,0]
[null,null,null,null,null,null,null,null,null,null,null,null,null,null,null,null,null,null,null,null,null,null,null,null,null,null,null,8035,"01.12. 19:00",-2.2999999999999998,0]
[null,null,null,null,null,null,null,null,null,null,null,null,null,null,null,null,null,null,null,null,null,null,null,null,null,null,null,8045,"02.12. 05:00",-7.2,1]
[null,null,null,null,null,null,null,null,null,null,null,null,null,null,null,null,null,null,null,null,null,null,null,null,null,null,null,8054,"02.12. 14:00",-7.4,1]
[null,null,null,null,null,null,null,null,null,null,null,null,null,null,null,null,null,null,null,null,null,null,null,null,null,null,null,8062,"02.12. 22:00",-9.6999999999999993,1]
[null,null,null,null,null,null,null,null,null,null,null,null,null,null,null,null,null,null,null,null,null,null,null,null,null,null,null,8071,"03.12. 07:00",-6.8,1]
[null,null,null,null,null,null,null,null,null,null,null,null,null,null,null,null,null,null,null,null,null,null,null,null,null,null,null,8079,"03.12. 15:00",2.6,0]
[null,null,null,null,null,null,null,null,null,null,null,null,null,null,null,null,null,null,null,null,null,null,null,null,null,null,null,8080,"03.12. 16:00",1.5,0]
[null,null,null,null,null,null,null,null,null,null,null,null,null,null,null,null,null,null,null,null,null,null,null,null,null,null,null,8093,"04.12. 05:00",-4.5,0]
[null,null,null,null,null,null,null,null,null,null,null,null,null,null,null,null,null,null,null,null,null,null,null,null,null,null,null,8097,"04.12. 09:00",-5.0999999999999996,1]
[null,null,null,null,null,null,null,null,null,null,null,null,null,null,null,null,null,null,null,null,null,null,null,null,null,null,null,8107,"04.12. 19:00",-7.4,1]
[null,null,null,null,null,null,null,null,null,null,null,null,null,null,null,null,null,null,null,null,null,null,null,null,null,null,null,8114,"05.12. 02:00",-5.8,1]
[null,null,null,null,null,null,null,null,null,null,null,null,null,null,null,null,null,null,null,null,null,null,null,null,null,null,null,8121,"05.12. 09:00",-2.8,0]
[null,null,null,null,null,null,null,null,null,null,null,null,null,null,null,null,null,null,null,null,null,null,null,null,null,null,null,8131,"05.12. 19:00",2.9,0]
[null,null,null,null,null,null,null,null,null,null,null,null,null,null,null,null,null,null,null,null,null,null,null,null,null,null,null,8140,"06.12. 04:00",6.3,0]
[null,null,null,null,null,null,null,null,null,null,null,null,null,null,null,null,null,null,null,null,null,null,null,null,null,null,null,8144,"06.12. 08:00",6.1,0]
[null,null,null,null,null,null,null,null,null,null,null,null,null,null,null,null,null,null,null,null,null,null,null,null,null,null,null,8149,"06.12. 13:00",5.8,0]
[null,null,null,null,null,null,null,null,null,null,null,null,null,null,null,null,null,null,null,null,null,null,null,null,null,null,null,8158,"06.12. 22:00",4.4000000000000004,0]
[null,null,null,null,null,null,null,null,null,null,null,null,null,null,null,null,null,null,null,null,null,null,null,null,null,null,null,8166,"07.12. 06:00",1.2,0]
[null,null,null,null,null,null,null,null,null,null,null,null,null,null,null,null,null,null,null,null,null,null,null,null,null,null,null,8175,"07.12. 15:00",3.1,0]
[null,null,null,null,null,null,null,null,null,null,null,null,null,null,null,null,null,null,null,null,null,null,null,null,null,null,null,8183,"07.12. 23:00",-2.6,0]
[null,null,null,null,null,null,null,null,null,null,null,null,null,null,null,null,null,null,null,null,null,null,null,null,null,null,null,8189,"08.12. 05:00",-2.9,0]
[null,null,null,null,null,null,null,null,null,null,null,null,null,null,null,null,null,null,null,null,null,null,null,null,null,null,null,8200,"08.12. 16:00",2.9,0]
[null,null,null,null,null,null,null,null,null,null,null,null,null,null,null,null,null,null,null,null,null,null,null,null,null,null,null,8201,"08.12. 17:00",2.2999999999999998,0]
[null,null,null,null,null,null,null,null,null,null,null,null,null,null,null,null,null,null,null,null,null,null,null,null,null,null,null,8212,"09.12. 04:00",-3.6,0]
[null,null,null,null,null,null,null,null,null,null,null,null,null,null,null,null,null,null,null,null,null,null,null,null,null,null,null,8218,"09.12. 10:00",-3.5,0]
[null,null,null,null,null,null,null,null,null,null,null,null,null,null,null,null,null,null,null,null,null,null,null,null,null,null,null,8226,"09.12. 18:00",-3.7,0]
[null,null,null,null,null,null,null,null,null,null,null,null,null,null,null,null,null,null,null,null,null,null,null,null,null,null,null,8235,"10.12. 03:00",-4.7,0]
[null,null,null,null,null,null,null,null,null,null,null,null,null,null,null,null,null,null,null,null,null,null,null,null,null,null,null,8240,"10.12. 08:00",-3.7,0]
[null,null,null,null,null,null,null,null,null,null,null,null,null,null,null,null,null,null,null,null,null,null,null,null,null,null,null,8252,"10.12. 20:00",-0.6,0]
[null,null,null,null,null,null,null,null,null,null,null,null,null,null,null,null,null,null,null,null,null,null,null,null,null,null,null,8257,"11.12. 01:00",-1.5,0]
[null,null,null,null,null,null,null,null,null,null,null,null,null,null,null,null,null,null,null,null,null,null,null,null,null,null,null,8261,"11.12. 05:00",-2.1,0]
[null,null,null,null,null,null,null,null,null,null,null,null,null,null,null,null,null,null,null,null,null,null,null,null,null,null,null,8271,"11.12. 15:00",2.2000000000000002,0]
[null,null,null,null,null,null,null,null,null,null,null,null,null,null,null,null,null,null,null,null,null,null,null,null,null,null,null,8278,"11.12. 22:00",-0.9,0]
[null,null,null,null,null,null,null,null,null,null,null,null,null,null,null,null,null,null,null,null,null,null,null,null,null,null,null,8287,"12.12. 07:00",-1.9,0]
[null,null,null,null,null,null,null,null,null,null,null,null,null,null,null,null,null,null,null,null,null,null,null,null,null,null,null,8294,"12.12. 14:00",1.3,0]
[null,null,null,null,null,null,null,null,null,null,null,null,null,null,null,null,null,null,null,null,null,null,null,null,null,null,null,8304,"13.12. 00:00",0.2,0]
[null,null,null,null,null,null,null,null,null,null,null,null,null,null,null,null,null,null,null,null,null,null,null,null,null,null,null,8308,"13.12. 04:00",0.4,0]
[null,null,null,null,null,null,null,null,null,null,null,null,null,null,null,null,null,null,null,null,null,null,null,null,null,null,null,8321,"13.12. 17:00",4.0999999999999996,0]
[null,null,null,null,null,null,null,null,null,null,null,null,null,null,null,null,null,null,null,null,null,null,null,null,null,null,null,8322,"13.12. 18:00",3.9,0]
[null,null,null,null,null,null,null,null,null,null,null,null,null,null,null,null,null,null,null,null,null,null,null,null,null,null,null,8330,"14.12. 02:00",2,0]
[null,null,null,null,null,null,null,null,null,null,null,null,null,null,null,null,null,null,null,null,null,null,null,null,null,null,null,8343,"14.12. 15:00",2.6,0]
[null,null,null,null,null,null,null,null,null,null,null,null,null,null,null,null,null,null,null,null,null,null,null,null,null,null,null,8347,"14.12. 19:00",1.1000000000000001,0]
[null,null,null,null,null,null,null,null,null,null,null,null,null,null,null,null,null,null,null,null,null,null,null,null,null,null,null,8356,"15.12. 04:00",-1.7,0]
[null,null,null,null,null,null,null,null,null,null,null,null,null,null,null,null,null,null,null,null,null,null,null,null,null,null,null,8366,"15.12. 14:00",-2.8,0]
[null,null,null,null,null,null,null,null,null,null,null,null,null,null,null,null,null,null,null,null,null,null,null,null,null,null,null,8373,"15.12. 21:00",-2.6,0]
[null,null,null,null,null,null,null,null,null,null,null,null,null,null,null,null,null,null,null,null,null,null,null,null,null,null,null,8380,"16.12. 04:00",-1.4,0]
[null,null,null,null,null,null,null,null,null,null,null,null,null,null,null,null,null,null,null,null,null,null,null,null,null,null,null,8382,"16.12. 06:00",-1.3,0]
[null,null,null,null,null,null,null,null,null,null,null,null,null,null,null,null,null,null,null,null,null,null,null,null,null,null,null,8390,"16.12. 14:00",2.6,0]
[null,null,null,null,null,null,null,null,null,null,null,null,null,null,null,null,null,null,null,null,null,null,null,null,null,null,null,8399,"16.12. 23:00",1.9,0]
[null,null,null,null,null,null,null,null,null,null,null,null,null,null,null,null,null,null,null,null,null,null,null,null,null,null,null,8411,"17.12. 11:00",0.1,0]
[null,null,null,null,null,null,null,null,null,null,null,null,null,null,null,null,null,null,null,null,null,null,null,null,null,null,null,8416,"17.12. 16:00",-0.2,0]
[null,null,null,null,null,null,null,null,null,null,null,null,null,null,null,null,null,null,null,null,null,null,null,null,null,null,null,8425,"18.12. 01:00",-3.5,0]
[null,null,null,null,null,null,null,null,null,null,null,null,null,null,null,null,null,null,null,null,null,null,null,null,null,null,null,8433,"18.12. 09:00",-2.2999999999999998,0]
[null,null,null,null,null,null,null,null,null,null,null,null,null,null,null,null,null,null,null,null,null,null,null,null,null,null,null,8442,"18.12. 18:00",-0.4,0]
[null,null,null,null,null,null,null,null,null,null,null,null,null,null,null,null,null,null,null,null,null,null,null,null,null,null,null,8448,"19.12. 00:00",-0.9,{"$f":"IF(AD8488<=$AC$25,1,0)","v":0}]
[null,null,null,null,null,null,null,null,null,null,null,null,null,null,null,null,null,null,null,null,null,null,null,null,null,null,null,8451,"19.12. 03:00",-1.3,0]
[null,null,null,null,null,null,null,null,null,null,null,null,null,null,null,null,null,null,null,null,null,null,null,null,null,null,null,8462,"19.12. 14:00",0.3,0]
[null,null,null,null,null,null,null,null,null,null,null,null,null,null,null,null,null,null,null,null,null,null,null,null,null,null,null,8468,"19.12. 20:00",1.2,0]
[null,null,null,null,null,null,null,null,null,null,null,null,null,null,null,null,null,null,null,null,null,null,null,null,null,null,null,8476,"20.12. 04:00",3.3,0]
[null,null,null,null,null,null,null,null,null,null,null,null,null,null,null,null,null,null,null,null,null,null,null,null,null,null,null,8485,"20.12. 13:00",10.1,0]
[null,null,null,null,null,null,null,null,null,null,null,null,null,null,null,null,null,null,null,null,null,null,null,null,null,null,null,8493,"20.12. 21:00",8.4,0]
[null,null,null,null,null,null,null,null,null,null,null,null,null,null,null,null,null,null,null,null,null,null,null,null,null,null,null,8502,"21.12. 06:00",6.7,0]
[null,null,null,null,null,null,null,null,null,null,null,null,null,null,null,null,null,null,null,null,null,null,null,null,null,null,null,8503,"21.12. 07:00",6.5,0]
[null,null,null,null,null,null,null,null,null,null,null,null,null,null,null,null,null,null,null,null,null,null,null,null,null,null,null,8511,"21.12. 15:00",9.4,0]
[null,null,null,null,null,null,null,null,null,null,null,null,null,null,null,null,null,null,null,null,null,null,null,null,null,null,null,8512,"21.12. 16:00",8.6999999999999993,{"$f":"IF(AD8552<=$AC$25,1,0)","v":0}]
[null,null,null,null,null,null,null,null,null,null,null,null,null,null,null,null,null,null,null,null,null,null,null,null,null,null,null,8513,"21.12. 17:00",8.1999999999999993,0]
[null,null,null,null,null,null,null,null,null,null,null,null,null,null,null,null,null,null,null,null,null,null,null,null,null,null,null,8514,"21.12. 18:00",7.7,0]
[null,null,null,null,null,null,null,null,null,null,null,null,null,null,null,null,null,null,null,null,null,null,null,null,null,null,null,8515,"21.12. 19:00",7.2,0]
[null,null,null,null,null,null,null,null,null,null,null,null,null,null,null,null,null,null,null,null,null,null,null,null,null,null,null,8516,"21.12. 20:00",6.7,0]
[null,null,null,null,null,null,null,null,null,null,null,null,null,null,null,null,null,null,null,null,null,null,null,null,null,null,null,8517,"21.12. 21:00",6.2,0]
[null,null,null,null,null,null,null,null,null,null,null,null,null,null,null,null,null,null,null,null,null,null,null,null,null,null,null,8518,"21.12. 22:00",5.7,0]
[null,null,null,null,null,null,null,null,null,null,null,null,null,null,null,null,null,null,null,null,null,null,null,null,null,null,null,8519,"21.12. 23:00",5.2,0]
[null,null,null,null,null,null,null,null,null,null,null,null,null,null,null,null,null,null,null,null,null,null,null,null,null,null,null,8520,"22.12. 00:00",5,0]
[null,null,null,null,null,null,null,null,null,null,null,null,null,null,null,null,null,null,null,null,null,null,null,null,null,null,null,8521,"22.12. 01:00",4.7,0]
[null,null,null,null,null,null,null,null,null,null,null,null,null,null,null,null,null,null,null,null,null,null,null,null,null,null,null,8522,"22.12. 02:00",4.4000000000000004,0]
[null,null,null,null,null,null,null,null,null,null,null,null,null,null,null,null,null,null,null,null,null,null,null,null,null,null,null,8523,"22.12. 03:00",4.7,0]
[null,null,null,null,null,null,null,null,null,null,null,null,null,null,null,null,null,null,null,null,null,null,null,null,null,null,null,8524,"22.12. 04:00",4.5,0]
[null,null,null,null,null,null,null,null,null,null,null,null,null,null,null,null,null,null,null,null,null,null,null,null,null,null,null,8525,"22.12. 05:00",4.4000000000000004,0]
[null,null,null,null,null,null,null,null,null,null,null,null,null,null,null,null,null,null,null,null,null,null,null,null,null,null,null,8526,"22.12. 06:00",4.5999999999999996,0]
[null,null,null,null,null,null,null,null,null,null,null,null,null,null,null,null,null,null,null,null,null,null,null,null,null,null,null,8527,"22.12. 07:00",4.5,0]
[null,null,null,null,null,null,null,null,null,null,null,null,null,null,null,null,null,null,null,null,null,null,null,null,null,null,null,8528,"22.12. 08:00",4.5,0]
[null,null,null,null,null,null,null,null,null,null,null,null,null,null,null,null,null,null,null,null,null,null,null,null,null,null,null,8529,"22.12. 09:00",4.8,0]
[null,null,null,null,null,null,null,null,null,null,null,null,null,null,null,null,null,null,null,null,null,null,null,null,null,null,null,8530,"22.12. 10:00",4.9000000000000004,0]
[null,null,null,null,null,null,null,null,null,null,null,null,null,null,null,null,null,null,null,null,null,null,null,null,null,null,null,8531,"22.12. 11:00",5,0]
[null,null,null,null,null,null,null,null,null,null,null,null,null,null,null,null,null,null,null,null,null,null,null,null,null,null,null,8532,"22.12. 12:00",5.0999999999999996,0]
[null,null,null,null,null,null,null,null,null,null,null,null,null,null,null,null,null,null,null,null,null,null,null,null,null,null,null,8533,"22.12. 13:00",6.4,0]
[null,null,null,null,null,null,null,null,null,null,null,null,null,null,null,null,null,null,null,null,null,null,null,null,null,null,null,8534,"22.12. 14:00",7,0]
[null,null,null,null,null,null,null,null,null,null,null,null,null,null,null,null,null,null,null,null,null,null,null,null,null,null,null,8535,"22.12. 15:00",7,0]
[null,null,null,null,null,null,null,null,null,null,null,null,null,null,null,null,null,null,null,null,null,null,null,null,null,null,null,8536,"22.12. 16:00",6.6,0]
[null,null,null,null,null,null,null,null,null,null,null,null,null,null,null,null,null,null,null,null,null,null,null,null,null,null,null,8537,"22.12. 17:00",6.1,0]
[null,null,null,null,null,null,null,null,null,null,null,null,null,null,null,null,null,null,null,null,null,null,null,null,null,null,null,8538,"22.12. 18:00",5.7,0]
[null,null,null,null,null,null,null,null,null,null,null,null,null,null,null,null,null,null,null,null,null,null,null,null,null,null,null,8539,"22.12. 19:00",5.2,0]
[null,null,null,null,null,null,null,null,null,null,null,null,null,null,null,null,null,null,null,null,null,null,null,null,null,null,null,8540,"22.12. 20:00",4.8,0]
[null,null,null,null,null,null,null,null,null,null,null,null,null,null,null,null,null,null,null,null,null,null,null,null,null,null,null,8541,"22.12. 21:00",4.3,0]
[null,null,null,null,null,null,null,null,null,null,null,null,null,null,null,null,null,null,null,null,null,null,null,null,null,null,null,8542,"22.12. 22:00",3.9,0]
[null,null,null,null,null,null,null,null,null,null,null,null,null,null,null,null,null,null,null,null,null,null,null,null,null,null,null,8543,"22.12. 23:00",3.4,0]
[null,null,null,null,null,null,null,null,null,null,null,null,null,null,null,null,null,null,null,null,null,null,null,null,null,null,null,8544,"23.12. 00:00",3,0]
[null,null,null,null,null,null,null,null,null,null,null,null,null,null,null,null,null,null,null,null,null,null,null,null,null,null,null,8545,"23.12. 01:00",2.4,0]
[null,null,null,null,null,null,null,null,null,null,null,null,null,null,null,null,null,null,null,null,null,null,null,null,null,null,null,8546,"23.12. 02:00",1.9,0]
[null,null,null,null,null,null,null,null,null,null,null,null,null,null,null,null,null,null,null,null,null,null,null,null,null,null,null,8547,"23.12. 03:00",2.2999999999999998,0]
[null,null,null,null,null,null,null,null,null,null,null,null,null,null,null,null,null,null,null,null,null,null,null,null,null,null,null,8548,"23.12. 04:00",2,0]
[null,null,null,null,null,null,null,null,null,null,null,null,null,null,null,null,null,null,null,null,null,null,null,null,null,null,null,8549,"23.12. 05:00",1.7,0]
[null,null,null,null,null,null,null,null,null,null,null,null,null,null,null,null,null,null,null,null,null,null,null,null,null,null,null,8550,"23.12. 06:00",1.9,0]
[null,null,null,null,null,null,null,null,null,null,null,null,null,null,null,null,null,null,null,null,null,null,null,null,null,null,null,8551,"23.12. 07:00",1.6,0]
[null,null,null,null,null,null,null,null,null,null,null,null,null,null,null,null,null,null,null,null,null,null,null,null,null,null,null,8552,"23.12. 08:00",1.5,0]
[null,null,null,null,null,null,null,null,null,null,null,null,null,null,null,null,null,null,null,null,null,null,null,null,null,null,null,8553,"23.12. 09:00",1.4,0]
[null,null,null,null,null,null,null,null,null,null,null,null,null,null,null,null,null,null,null,null,null,null,null,null,null,null,null,8554,"23.12. 10:00",1.2,0]
[null,null,null,null,null,null,null,null,null,null,null,null,null,null,null,null,null,null,null,null,null,null,null,null,null,null,null,8555,"23.12. 11:00",1.1000000000000001,0]
[null,null,null,null,null,null,null,null,null,null,null,null,null,null,null,null,null,null,null,null,null,null,null,null,null,null,null,8556,"23.12. 12:00",1,0]
[null,null,null,null,null,null,null,null,null,null,null,null,null,null,null,null,null,null,null,null,null,null,null,null,null,null,null,8557,"23.12. 13:00",0.9,0]
[null,null,null,null,null,null,null,null,null,null,null,null,null,null,null,null,null,null,null,null,null,null,null,null,null,null,null,8558,"23.12. 14:00",0.8,0]
[null,null,null,null,null,null,null,null,null,null,null,null,null,null,null,null,null,null,null,null,null,null,null,null,null,null,null,8559,"23.12. 15:00",1,0]
[null,null,null,null,null,null,null,null,null,null,null,null,null,null,null,null,null,null,null,null,null,null,null,null,null,null,null,8560,"23.12. 16:00",0.9,0]
[null,null,null,null,null,null,null,null,null,null,null,null,null,null,null,null,null,null,null,null,null,null,null,null,null,null,null,8561,"23.12. 17:00",0.6,0]
[null,null,null,null,null,null,null,null,null,null,null,null,null,null,null,null,null,null,null,null,null,null,null,null,null,null,null,8562,"23.12. 18:00",0.2,0]
[null,null,null,null,null,null,null,null,null,null,null,null,null,null,null,null,null,null,null,null,null,null,null,null,null,null,null,8563,"23.12. 19:00",-0.1,0]
[null,null,null,null,null,null,null,null,null,null,null,null,null,null,null,null,null,null,null,null,null,null,null,null,null,null,null,8564,"23.12. 20:00",-0.5,0]
[null,null,null,null,null,null,null,null,null,null,null,null,null,null,null,null,null,null,null,null,null,null,null,null,null,null,null,8565,"23.12. 21:00",-0.8,0]
[null,null,null,null,null,null,null,null,null,null,null,null,null,null,null,null,null,null,null,null,null,null,null,null,null,null,null,8566,"23.12. 22:00",-1.2,0]
[null,null,null,null,null,null,null,null,null,null,null,null,null,null,null,null,null,null,null,null,null,null,null,null,null,null,null,8567,"23.12. 23:00",-1.5,0]
[null,null,null,null,null,null,null,null,null,null,null,null,null,null,null,null,null,null,null,null,null,null,null,null,null,null,null,8568,"24.12. 00:00",-1.5,0]
[null,null,null,null,null,null,null,null,null,null,null,null,null,null,null,null,null,null,null,null,null,null,null,null,null,null,null,8569,"24.12. 01:00",-1.5,0]
[null,null,null,null,null,null,null,null,null,null,null,null,null,null,null,null,null,null,null,null,null,null,null,null,null,null,null,8570,"24.12. 02:00",-1.5,0]
[null,null,null,null,null,null,null,null,null,null,null,null,null,null,null,null,null,null,null,null,null,null,null,null,null,null,null,8571,"24.12. 03:00",-1.4,0]
[null,null,null,null,null,null,null,null,null,null,null,null,null,null,null,null,null,null,null,null,null,null,null,null,null,null,null,8572,"24.12. 04:00",-1.4,0]
[null,null,null,null,null,null,null,null,null,null,null,null,null,null,null,null,null,null,null,null,null,null,null,null,null,null,null,8573,"24.12. 05:00",-1.4,0]
[null,null,null,null,null,null,null,null,null,null,null,null,null,null,null,null,null,null,null,null,null,null,null,null,null,null,null,8574,"24.12. 06:00",-1.3,0]
[null,null,null,null,null,null,null,null,null,null,null,null,null,null,null,null,null,null,null,null,null,null,null,null,null,null,null,8575,"24.12. 07:00",-1.3,0]
[null,null,null,null,null,null,null,null,null,null,null,null,null,null,null,null,null,null,null,null,null,null,null,null,null,null,null,8576,"24.12. 08:00",-1.1000000000000001,{"$f":"IF(AD8616<=$AC$25,1,0)","v":0}]
[null,null,null,null,null,null,null,null,null,null,null,null,null,null,null,null,null,null,null,null,null,null,null,null,null,null,null,8577,"24.12. 09:00",0.9,0]
[null,null,null,null,null,null,null,null,null,null,null,null,null,null,null,null,null,null,null,null,null,null,null,null,null,null,null,8578,"24.12. 10:00",2,0]
[null,null,null,null,null,null,null,null,null,null,null,null,null,null,null,null,null,null,null,null,null,null,null,null,null,null,null,8579,"24.12. 11:00",2.4,0]
[null,null,null,null,null,null,null,null,null,null,null,null,null,null,null,null,null,null,null,null,null,null,null,null,null,null,null,8580,"24.12. 12:00",4.7,0]
[null,null,null,null,null,null,null,null,null,null,null,null,null,null,null,null,null,null,null,null,null,null,null,null,null,null,null,8581,"24.12. 13:00",5,0]
[null,null,null,null,null,null,null,null,null,null,null,null,null,null,null,null,null,null,null,null,null,null,null,null,null,null,null,8582,"24.12. 14:00",5.2,0]
[null,null,null,null,null,null,null,null,null,null,null,null,null,null,null,null,null,null,null,null,null,null,null,null,null,null,null,8583,"24.12. 15:00",4.5,0]
[null,null,null,null,null,null,null,null,null,null,null,null,null,null,null,null,null,null,null,null,null,null,null,null,null,null,null,8584,"24.12. 16:00",3.5,0]
[null,null,null,null,null,null,null,null,null,null,null,null,null,null,null,null,null,null,null,null,null,null,null,null,null,null,null,8585,"24.12. 17:00",3.3,0]
[null,null,null,null,null,null,null,null,null,null,null,null,null,null,null,null,null,null,null,null,null,null,null,null,null,null,null,8586,"24.12. 18:00",3.2,0]
[null,null,null,null,null,null,null,null,null,null,null,null,null,null,null,null,null,null,null,null,null,null,null,null,null,null,null,8587,"24.12. 19:00",3.1,0]
[null,null,null,null,null,null,null,null,null,null,null,null,null,null,null,null,null,null,null,null,null,null,null,null,null,null,null,8588,"24.12. 20:00",3,0]
[null,null,null,null,null,null,null,null,null,null,null,null,null,null,null,null,null,null,null,null,null,null,null,null,null,null,null,8589,"24.12. 21:00",2.9,0]
[null,null,null,null,null,null,null,null,null,null,null,null,null,null,null,null,null,null,null,null,null,null,null,null,null,null,null,8590,"24.12. 22:00",2.8,0]
[null,null,null,null,null,null,null,null,null,null,null,null,null,null,null,null,null,null,null,null,null,null,null,null,null,null,null,8591,"24.12. 23:00",2.7,0]
[null,null,null,null,null,null,null,null,null,null,null,null,null,null,null,null,null,null,null,null,null,null,null,null,null,null,null,8592,"25.12. 00:00",2.4,0]
[null,null,null,null,null,null,null,null,null,null,null,null,null,null,null,null,null,null,null,null,null,null,null,null,null,null,null,8593,"25.12. 01:00",2.2000000000000002,0]
[null,null,null,null,null,null,null,null,null,null,null,null,null,null,null,null,null,null,null,null,null,null,null,null,null,null,null,8594,"25.12. 02:00",1.9,0]
[null,null,null,null,null,null,null,null,null,null,null,null,null,null,null,null,null,null,null,null,null,null,null,null,null,null,null,8595,"25.12. 03:00",2.2000000000000002,0]
[null,null,null,null,null,null,null,null,null,null,null,null,null,null,null,null,null,null,null,null,null,null,null,null,null,null,null,8596,"25.12. 04:00",2.1,0]
[null,null,null,null,null,null,null,null,null,null,null,null,null,null,null,null,null,null,null,null,null,null,null,null,null,null,null,8597,"25.12. 05:00",1.9,0]
[null,null,null,null,null,null,null,null,null,null,null,null,null,null,null,null,null,null,null,null,null,null,null,null,null,null,null,8598,"25.12. 06:00",2.1,0]
[null,null,null,null,null,null,null,null,null,null,null,null,null,null,null,null,null,null,null,null,null,null,null,null,null,null,null,8599,"25.12. 07:00",2,0]
[null,null,null,null,null,null,null,null,null,null,null,null,null,null,null,null,null,null,null,null,null,null,null,null,null,null,null,8600,"25.12. 08:00",2.1,0]
[null,null,null,null,null,null,null,null,null,null,null,null,null,null,null,null,null,null,null,null,null,null,null,null,null,null,null,8601,"25.12. 09:00",3.4,0]
[null,null,null,null,null,null,null,null,null,null,null,null,null,null,null,null,null,null,null,null,null,null,null,null,null,null,null,8602,"25.12. 10:00",5.2,0]
[null,null,null,null,null,null,null,null,null,null,null,null,null,null,null,null,null,null,null,null,null,null,null,null,null,null,null,8603,"25.12. 11:00",7.3,0]
[null,null,null,null,null,null,null,null,null,null,null,null,null,null,null,null,null,null,null,null,null,null,null,null,null,null,null,8604,"25.12. 12:00",8,0]
[null,null,null,null,null,null,null,null,null,null,null,null,null,null,null,null,null,null,null,null,null,null,null,null,null,null,null,8605,"25.12. 13:00",7.7,0]
[null,null,null,null,null,null,null,null,null,null,null,null,null,null,null,null,null,null,null,null,null,null,null,null,null,null,null,8606,"25.12. 14:00",7.8,0]
[null,null,null,null,null,null,null,null,null,null,null,null,null,null,null,null,null,null,null,null,null,null,null,null,null,null,null,8607,"25.12. 15:00",7.3,0]
[null,null,null,null,null,null,null,null,null,null,null,null,null,null,null,null,null,null,null,null,null,null,null,null,null,null,null,8608,"25.12. 16:00",6.2,0]
[null,null,null,null,null,null,null,null,null,null,null,null,null,null,null,null,null,null,null,null,null,null,null,null,null,null,null,8609,"25.12. 17:00",5.9,0]
[null,null,null,null,null,null,null,null,null,null,null,null,null,null,null,null,null,null,null,null,null,null,null,null,null,null,null,8610,"25.12. 18:00",5.5,0]
[null,null,null,null,null,null,null,null,null,null,null,null,null,null,null,null,null,null,null,null,null,null,null,null,null,null,null,8611,"25.12. 19:00",5.0999999999999996,0]
[null,null,null,null,null,null,null,null,null,null,null,null,null,null,null,null,null,null,null,null,null,null,null,null,null,null,null,8612,"25.12. 20:00",4.8,0]
[null,null,null,null,null,null,null,null,null,null,null,null,null,null,null,null,null,null,null,null,null,null,null,null,null,null,null,8613,"25.12. 21:00",4.4000000000000004,0]
[null,null,null,null,null,null,null,null,null,null,null,null,null,null,null,null,null,null,null,null,null,null,null,null,null,null,null,8614,"25.12. 22:00",4,0]
[null,null,null,null,null,null,null,null,null,null,null,null,null,null,null,null,null,null,null,null,null,null,null,null,null,null,null,8615,"25.12. 23:00",3.6,0]
[null,null,null,null,null,null,null,null,null,null,null,null,null,null,null,null,null,null,null,null,null,null,null,null,null,null,null,8616,"26.12. 00:00",3.3,0]
[null,null,null,null,null,null,null,null,null,null,null,null,null,null,null,null,null,null,null,null,null,null,null,null,null,null,null,8617,"26.12. 01:00",2.9,0]
[null,null,null,null,null,null,null,null,null,null,null,null,null,null,null,null,null,null,null,null,null,null,null,null,null,null,null,8618,"26.12. 02:00",2.5,0]
[null,null,null,null,null,null,null,null,null,null,null,null,null,null,null,null,null,null,null,null,null,null,null,null,null,null,null,8619,"26.12. 03:00",2.8,0]
[null,null,null,null,null,null,null,null,null,null,null,null,null,null,null,null,null,null,null,null,null,null,null,null,null,null,null,8620,"26.12. 04:00",2.6,0]
[null,null,null,null,null,null,null,null,null,null,null,null,null,null,null,null,null,null,null,null,null,null,null,null,null,null,null,8621,"26.12. 05:00",2.4,0]
[null,null,null,null,null,null,null,null,null,null,null,null,null,null,null,null,null,null,null,null,null,null,null,null,null,null,null,8622,"26.12. 06:00",2.6,0]
[null,null,null,null,null,null,null,null,null,null,null,null,null,null,null,null,null,null,null,null,null,null,null,null,null,null,null,8623,"26.12. 07:00",2.4,0]
[null,null,null,null,null,null,null,null,null,null,null,null,null,null,null,null,null,null,null,null,null,null,null,null,null,null,null,8624,"26.12. 08:00",2.5,0]
[null,null,null,null,null,null,null,null,null,null,null,null,null,null,null,null,null,null,null,null,null,null,null,null,null,null,null,8625,"26.12. 09:00",2.5,0]
[null,null,null,null,null,null,null,null,null,null,null,null,null,null,null,null,null,null,null,null,null,null,null,null,null,null,null,8626,"26.12. 10:00",3.1,0]
[null,null,null,null,null,null,null,null,null,null,null,null,null,null,null,null,null,null,null,null,null,null,null,null,null,null,null,8627,"26.12. 11:00",4.2,0]
[null,null,null,null,null,null,null,null,null,null,null,null,null,null,null,null,null,null,null,null,null,null,null,null,null,null,null,8628,"26.12. 12:00",5.0999999999999996,0]
[null,null,null,null,null,null,null,null,null,null,null,null,null,null,null,null,null,null,null,null,null,null,null,null,null,null,null,8629,"26.12. 13:00",5.4,0]
[null,null,null,null,null,null,null,null,null,null,null,null,null,null,null,null,null,null,null,null,null,null,null,null,null,null,null,8630,"26.12. 14:00",5.6,0]
[null,null,null,null,null,null,null,null,null,null,null,null,null,null,null,null,null,null,null,null,null,null,null,null,null,null,null,8631,"26.12. 15:00",5.5,0]
[null,null,null,null,null,null,null,null,null,null,null,null,null,null,null,null,null,null,null,null,null,null,null,null,null,null,null,8632,"26.12. 16:00",4.9000000000000004,0]
[null,null,null,null,null,null,null,null,null,null,null,null,null,null,null,null,null,null,null,null,null,null,null,null,null,null,null,8633,"26.12. 17:00",4.5,0]
[null,null,null,null,null,null,null,null,null,null,null,null,null,null,null,null,null,null,null,null,null,null,null,null,null,null,null,8634,"26.12. 18:00",4,0]
[null,null,null,null,null,null,null,null,null,null,null,null,null,null,null,null,null,null,null,null,null,null,null,null,null,null,null,8635,"26.12. 19:00",3.6,0]
[null,null,null,null,null,null,null,null,null,null,null,null,null,null,null,null,null,null,null,null,null,null,null,null,null,null,null,8636,"26.12. 20:00",3.1,0]
[null,null,null,null,null,null,null,null,null,null,null,null,null,null,null,null,null,null,null,null,null,null,null,null,null,null,null,8637,"26.12. 21:00",2.7,0]
[null,null,null,null,null,null,null,null,null,null,null,null,null,null,null,null,null,null,null,null,null,null,null,null,null,null,null,8638,"26.12. 22:00",2.2000000000000002,0]
[null,null,null,null,null,null,null,null,null,null,null,null,null,null,null,null,null,null,null,null,null,null,null,null,null,null,null,8639,"26.12. 23:00",1.8,0]
[null,null,null,null,null,null,null,null,null,null,null,null,null,null,null,null,null,null,null,null,null,null,null,null,null,null,null,8640,"27.12. 00:00",1.5,{"$f":"IF(AD8680<=$AC$25,1,0)","v":0}]
[null,null,null,null,null,null,null,null,null,null,null,null,null,null,null,null,null,null,null,null,null,null,null,null,null,null,null,8641,"27.12. 01:00",1.2,0]
[null,null,null,null,null,null,null,null,null,null,null,null,null,null,null,null,null,null,null,null,null,null,null,null,null,null,null,8642,"27.12. 02:00",0.9,0]
[null,null,null,null,null,null,null,null,null,null,null,null,null,null,null,null,null,null,null,null,null,null,null,null,null,null,null,8643,"27.12. 03:00",1.2,0]
[null,null,null,null,null,null,null,null,null,null,null,null,null,null,null,null,null,null,null,null,null,null,null,null,null,null,null,8644,"27.12. 04:00",1,0]
[null,null,null,null,null,null,null,null,null,null,null,null,null,null,null,null,null,null,null,null,null,null,null,null,null,null,null,8645,"27.12. 05:00",0.8,0]
[null,null,null,null,null,null,null,null,null,null,null,null,null,null,null,null,null,null,null,null,null,null,null,null,null,null,null,8646,"27.12. 06:00",1,0]
[null,null,null,null,null,null,null,null,null,null,null,null,null,null,null,null,null,null,null,null,null,null,null,null,null,null,null,8647,"27.12. 07:00",0.9,0]
[null,null,null,null,null,null,null,null,null,null,null,null,null,null,null,null,null,null,null,null,null,null,null,null,null,null,null,8648,"27.12. 08:00",1.1000000000000001,0]
[null,null,null,null,null,null,null,null,null,null,null,null,null,null,null,null,null,null,null,null,null,null,null,null,null,null,null,8649,"27.12. 09:00",3,0]
[null,null,null,null,null,null,null,null,null,null,null,null,null,null,null,null,null,null,null,null,null,null,null,null,null,null,null,8650,"27.12. 10:00",4.9000000000000004,0]
[null,null,null,null,null,null,null,null,null,null,null,null,null,null,null,null,null,null,null,null,null,null,null,null,null,null,null,8651,"27.12. 11:00",6.4,0]
[null,null,null,null,null,null,null,null,null,null,null,null,null,null,null,null,null,null,null,null,null,null,null,null,null,null,null,8652,"27.12. 12:00",7.3,0]
[null,null,null,null,null,null,null,null,null,null,null,null,null,null,null,null,null,null,null,null,null,null,null,null,null,null,null,8653,"27.12. 13:00",8,0]
[null,null,null,null,null,null,null,null,null,null,null,null,null,null,null,null,null,null,null,null,null,null,null,null,null,null,null,8654,"27.12. 14:00",8,0]
[null,null,null,null,null,null,null,null,null,null,null,null,null,null,null,null,null,null,null,null,null,null,null,null,null,null,null,8655,"27.12. 15:00",7.3,0]
[null,null,null,null,null,null,null,null,null,null,null,null,null,null,null,null,null,null,null,null,null,null,null,null,null,null,null,8656,"27.12. 16:00",6.1,0]
[null,null,null,null,null,null,null,null,null,null,null,null,null,null,null,null,null,null,null,null,null,null,null,null,null,null,null,8657,"27.12. 17:00",5.6,0]
[null,null,null,null,null,null,null,null,null,null,null,null,null,null,null,null,null,null,null,null,null,null,null,null,null,null,null,8658,"27.12. 18:00",5.0999999999999996,0]
[null,null,null,null,null,null,null,null,null,null,null,null,null,null,null,null,null,null,null,null,null,null,null,null,null,null,null,8659,"27.12. 19:00",4.5999999999999996,0]
[null,null,null,null,null,null,null,null,null,null,null,null,null,null,null,null,null,null,null,null,null,null,null,null,null,null,null,8660,"27.12. 20:00",4.0999999999999996,0]
[null,null,null,null,null,null,null,null,null,null,null,null,null,null,null,null,null,null,null,null,null,null,null,null,null,null,null,8661,"27.12. 21:00",3.6,0]
[null,null,null,null,null,null,null,null,null,null,null,null,null,null,null,null,null,null,null,null,null,null,null,null,null,null,null,8662,"27.12. 22:00",3.1,0]
[null,null,null,null,null,null,null,null,null,null,null,null,null,null,null,null,null,null,null,null,null,null,null,null,null,null,null,8663,"27.12. 23:00",2.6,0]
[null,null,null,null,null,null,null,null,null,null,null,null,null,null,null,null,null,null,null,null,null,null,null,null,null,null,null,8664,"28.12. 00:00",2.1,0]
[null,null,null,null,null,null,null,null,null,null,null,null,null,null,null,null,null,null,null,null,null,null,null,null,null,null,null,8665,"28.12. 01:00",1.6,0]
[null,null,null,null,null,null,null,null,null,null,null,null,null,null,null,null,null,null,null,null,null,null,null,null,null,null,null,8666,"28.12. 02:00",1,0]
[null,null,null,null,null,null,null,null,null,null,null,null,null,null,null,null,null,null,null,null,null,null,null,null,null,null,null,8667,"28.12. 03:00",1.4,0]
[null,null,null,null,null,null,null,null,null,null,null,null,null,null,null,null,null,null,null,null,null,null,null,null,null,null,null,8668,"28.12. 04:00",1.1000000000000001,0]
[null,null,null,null,null,null,null,null,null,null,null,null,null,null,null,null,null,null,null,null,null,null,null,null,null,null,null,8669,"28.12. 05:00",0.8,0]
[null,null,null,null,null,null,null,null,null,null,null,null,null,null,null,null,null,null,null,null,null,null,null,null,null,null,null,8670,"28.12. 06:00",1.1000000000000001,0]
[null,null,null,null,null,null,null,null,null,null,null,null,null,null,null,null,null,null,null,null,null,null,null,null,null,null,null,8671,"28.12. 07:00",0.8,0]
[null,null,null,null,null,null,null,null,null,null,null,null,null,null,null,null,null,null,null,null,null,null,null,null,null,null,null,8672,"28.12. 08:00",1,0]
[null,null,null,null,null,null,null,null,null,null,null,null,null,null,null,null,null,null,null,null,null,null,null,null,null,null,null,8673,"28.12. 09:00",2.2999999999999998,0]
[null,null,null,null,null,null,null,null,null,null,null,null,null,null,null,null,null,null,null,null,null,null,null,null,null,null,null,8674,"28.12. 10:00",3.8,0]
[null,null,null,null,null,null,null,null,null,null,null,null,null,null,null,null,null,null,null,null,null,null,null,null,null,null,null,8675,"28.12. 11:00",5.4,0]
[null,null,null,null,null,null,null,null,null,null,null,null,null,null,null,null,null,null,null,null,null,null,null,null,null,null,null,8676,"28.12. 12:00",5.8,0]
[null,null,null,null,null,null,null,null,null,null,null,null,null,null,null,null,null,null,null,null,null,null,null,null,null,null,null,8677,"28.12. 13:00",5.8,0]
[null,null,null,null,null,null,null,null,null,null,null,null,null,null,null,null,null,null,null,null,null,null,null,null,null,null,null,8678,"28.12. 14:00",5.7,0]
[null,null,null,null,null,null,null,null,null,null,null,null,null,null,null,null,null,null,null,null,null,null,null,null,null,null,null,8679,"28.12. 15:00",5.2,0]
[null,null,null,null,null,null,null,null,null,null,null,null,null,null,null,null,null,null,null,null,null,null,null,null,null,null,null,8680,"28.12. 16:00",4.2,0]
[null,null,null,null,null,null,null,null,null,null,null,null,null,null,null,null,null,null,null,null,null,null,null,null,null,null,null,8681,"28.12. 17:00",3.8,0]
[null,null,null,null,null,null,null,null,null,null,null,null,null,null,null,null,null,null,null,null,null,null,null,null,null,null,null,8682,"28.12. 18:00",3.4,0]
[null,null,null,null,null,null,null,null,null,null,null,null,null,null,null,null,null,null,null,null,null,null,null,null,null,null,null,8683,"28.12. 19:00",3,0]
[null,null,null,null,null,null,null,null,null,null,null,null,null,null,null,null,null,null,null,null,null,null,null,null,null,null,null,8684,"28.12. 20:00",2.6,0]
[null,null,null,null,null,null,null,null,null,null,null,null,null,null,null,null,null,null,null,null,null,null,null,null,null,null,null,8685,"28.12. 21:00",2.2000000000000002,0]
[null,null,null,null,null,null,null,null,null,null,null,null,null,null,null,null,null,null,null,null,null,null,null,null,null,null,null,8686,"28.12. 22:00",1.8,0]
[null,null,null,null,null,null,null,null,null,null,null,null,null,null,null,null,null,null,null,null,null,null,null,null,null,null,null,8687,"28.12. 23:00",1.4,0]
[null,null,null,null,null,null,null,null,null,null,null,null,null,null,null,null,null,null,null,null,null,null,null,null,null,null,null,8688,"29.12. 00:00",1.3,0]
[null,null,null,null,null,null,null,null,null,null,null,null,null,null,null,null,null,null,null,null,null,null,null,null,null,null,null,8689,"29.12. 01:00",1.1000000000000001,0]
[null,null,null,null,null,null,null,null,null,null,null,null,null,null,null,null,null,null,null,null,null,null,null,null,null,null,null,8690,"29.12. 02:00",1,0]
[null,null,null,null,null,null,null,null,null,null,null,null,null,null,null,null,null,null,null,null,null,null,null,null,null,null,null,8691,"29.12. 03:00",1.1000000000000001,0]
[null,null,null,null,null,null,null,null,null,null,null,null,null,null,null,null,null,null,null,null,null,null,null,null,null,null,null,8692,"29.12. 04:00",1,0]
[null,null,null,null,null,null,null,null,null,null,null,null,null,null,null,null,null,null,null,null,null,null,null,null,null,null,null,8693,"29.12. 05:00",1,0]
[null,null,null,null,null,null,null,null,null,null,null,null,null,null,null,null,null,null,null,null,null,null,null,null,null,null,null,8694,"29.12. 06:00",1,0]
[null,null,null,null,null,null,null,null,null,null,null,null,null,null,null,null,null,null,null,null,null,null,null,null,null,null,null,8695,"29.12. 07:00",1,0]
[null,null,null,null,null,null,null,null,null,null,null,null,null,null,null,null,null,null,null,null,null,null,null,null,null,null,null,8696,"29.12. 08:00",1.1000000000000001,0]
[null,null,null,null,null,null,null,null,null,null,null,null,null,null,null,null,null,null,null,null,null,null,null,null,null,null,null,8697,"29.12. 09:00",2.1,0]
[null,null,null,null,null,null,null,null,null,null,null,null,null,null,null,null,null,null,null,null,null,null,null,null,null,null,null,8698,"29.12. 10:00",3,0]
[null,null,null,null,null,null,null,null,null,null,null,null,null,null,null,null,null,null,null,null,null,null,null,null,null,null,null,8699,"29.12. 11:00",3.4,0]
[null,null,null,null,null,null,null,null,null,null,null,null,null,null,null,null,null,null,null,null,null,null,null,null,null,null,null,8700,"29.12. 12:00",4,0]
[null,null,null,null,null,null,null,null,null,null,null,null,null,null,null,null,null,null,null,null,null,null,null,null,null,null,null,8701,"29.12. 13:00",4.4000000000000004,0]
[null,null,null,null,null,null,null,null,null,null,null,null,null,null,null,null,null,null,null,null,null,null,null,null,null,null,null,8702,"29.12. 14:00",4.4000000000000004,0]
[null,null,null,null,null,null,null,null,null,null,null,null,null,null,null,null,null,null,null,null,null,null,null,null,null,null,null,8703,"29.12. 15:00",4,0]
[null,null,null,null,null,null,null,null,null,null,null,null,null,null,null,null,null,null,null,null,null,null,null,null,null,null,null,8704,"29.12. 16:00",3.4,{"$f":"IF(AD8744<=$AC$25,1,0)","v":0}]
[null,null,null,null,null,null,null,null,null,null,null,null,null,null,null,null,null,null,null,null,null,null,null,null,null,null,null,8705,"29.12. 17:00",3.3,0]
[null,null,null,null,null,null,null,null,null,null,null,null,null,null,null,null,null,null,null,null,null,null,null,null,null,null,null,8706,"29.12. 18:00",3.2,0]
[null,null,null,null,null,null,null,null,null,null,null,null,null,null,null,null,null,null,null,null,null,null,null,null,null,null,null,8707,"29.12. 19:00",3.1,0]
[null,null,null,null,null,null,null,null,null,null,null,null,null,null,null,null,null,null,null,null,null,null,null,null,null,null,null,8708,"29.12. 20:00",3,0]
[null,null,null,null,null,null,null,null,null,null,null,null,null,null,null,null,null,null,null,null,null,null,null,null,null,null,null,8709,"29.12. 21:00",3,0]
[null,null,null,null,null,null,null,null,null,null,null,null,null,null,null,null,null,null,null,null,null,null,null,null,null,null,null,8710,"29.12. 22:00",2.9,0]
[null,null,null,null,null,null,null,null,null,null,null,null,null,null,null,null,null,null,null,null,null,null,null,null,null,null,null,8711,"29.12. 23:00",2.8,0]
[null,null,null,null,null,null,null,null,null,null,null,null,null,null,null,null,null,null,null,null,null,null,null,null,null,null,null,8712,"30.12. 00:00",2.7,0]
[null,null,null,null,null,null,null,null,null,null,null,null,null,null,null,null,null,null,null,null,null,null,null,null,null,null,null,8713,"30.12. 01:00",2.7,0]
[null,null,null,null,null,null,null,null,null,null,null,null,null,null,null,null,null,null,null,null,null,null,null,null,null,null,null,8714,"30.12. 02:00",2.7,0]
[null,null,null,null,null,null,null,null,null,null,null,null,null,null,null,null,null,null,null,null,null,null,null,null,null,null,null,8715,"30.12. 03:00",2.7,0]
[null,null,null,null,null,null,null,null,null,null,null,null,null,null,null,null,null,null,null,null,null,null,null,null,null,null,null,8716,"30.12. 04:00",2.7,0]
[null,null,null,null,null,null,null,null,null,null,null,null,null,null,null,null,null,null,null,null,null,null,null,null,null,null,null,8717,"30.12. 05:00",2.7,0]
[null,null,null,null,null,null,null,null,null,null,null,null,null,null,null,null,null,null,null,null,null,null,null,null,null,null,null,8718,"30.12. 06:00",2.7,0]
[null,null,null,null,null,null,null,null,null,null,null,null,null,null,null,null,null,null,null,null,null,null,null,null,null,null,null,8719,"30.12. 07:00",2.7,0]
[null,null,null,null,null,null,null,null,null,null,null,null,null,null,null,null,null,null,null,null,null,null,null,null,null,null,null,8720,"30.12. 08:00",2.8,0]
[null,null,null,null,null,null,null,null,null,null,null,null,null,null,null,null,null,null,null,null,null,null,null,null,null,null,null,8721,"30.12. 09:00",3,0]
[null,null,null,null,null,null,null,null,null,null,null,null,null,null,null,null,null,null,null,null,null,null,null,null,null,null,null,8722,"30.12. 10:00",3.3,0]
[null,null,null,null,null,null,null,null,null,null,null,null,null,null,null,null,null,null,null,null,null,null,null,null,null,null,null,8723,"30.12. 11:00",3.5,0]
[null,null,null,null,null,null,null,null,null,null,null,null,null,null,null,null,null,null,null,null,null,null,null,null,null,null,null,8724,"30.12. 12:00",3.7,0]
[null,null,null,null,null,null,null,null,null,null,null,null,null,null,null,null,null,null,null,null,null,null,null,null,null,null,null,8725,"30.12. 13:00",3.8,0]
[null,null,null,null,null,null,null,null,null,null,null,null,null,null,null,null,null,null,null,null,null,null,null,null,null,null,null,8726,"30.12. 14:00",3.8,0]
[null,null,null,null,null,null,null,null,null,null,null,null,null,null,null,null,null,null,null,null,null,null,null,null,null,null,null,8727,"30.12. 15:00",3.7,0]
[null,null,null,null,null,null,null,null,null,null,null,null,null,null,null,null,null,null,null,null,null,null,null,null,null,null,null,8728,"30.12. 16:00",3.6,0]
[null,null,null,null,null,null,null,null,null,null,null,null,null,null,null,null,null,null,null,null,null,null,null,null,null,null,null,8729,"30.12. 17:00",3.4,0]
[null,null,null,null,null,null,null,null,null,null,null,null,null,null,null,null,null,null,null,null,null,null,null,null,null,null,null,8730,"30.12. 18:00",3.3,0]
[null,null,null,null,null,null,null,null,null,null,null,null,null,null,null,null,null,null,null,null,null,null,null,null,null,null,null,8731,"30.12. 19:00",3.2,0]
[null,null,null,null,null,null,null,null,null,null,null,null,null,null,null,null,null,null,null,null,null,null,null,null,null,null,null,8732,"30.12. 20:00",3.1,0]
[null,null,null,null,null,null,null,null,null,null,null,null,null,null,null,null,null,null,null,null,null,null,null,null,null,null,null,8733,"30.12. 21:00",2.9,0]
[null,null,null,null,null,null,null,null,null,null,null,null,null,null,null,null,null,null,null,null,null,null,null,null,null,null,null,8734,"30.12. 22:00",2.8,0]
[null,null,null,null,null,null,null,null,null,null,null,null,null,null,null,null,null,null,null,null,null,null,null,null,null,null,null,8735,"30.12. 23:00",2.7,0]
[null,null,null,null,null,null,null,null,null,null,null,null,null,null,null,null,null,null,null,null,null,null,null,null,null,null,null,8736,"31.12. 00:00",2.2999999999999998,0]
[null,null,null,null,null,null,null,null,null,null,null,null,null,null,null,null,null,null,null,null,null,null,null,null,null,null,null,8737,"31.12. 01:00",1.9,0]
[null,null,null,null,null,null,null,null,null,null,null,null,null,null,null,null,null,null,null,null,null,null,null,null,null,null,null,8738,"31.12. 02:00",1.4,0]
[null,null,null,null,null,null,null,null,null,null,null,null,null,null,null,null,null,null,null,null,null,null,null,null,null,null,null,8739,"31.12. 03:00",1.7,0]
[null,null,null,null,null,null,null,null,null,null,null,null,null,null,null,null,null,null,null,null,null,null,null,null,null,null,null,8740,"31.12. 04:00",1.4,0]
[null,null,null,null,null,null,null,null,null,null,null,null,null,null,null,null,null,null,null,null,null,null,null,null,null,null,null,8741,"31.12. 05:00",1.2,0]
[null,null,null,null,null,null,null,null,null,null,null,null,null,null,null,null,null,null,null,null,null,null,null,null,null,null,null,8742,"31.12. 06:00",1.3,0]
[null,null,null,null,null,null,null,null,null,null,null,null,null,null,null,null,null,null,null,null,null,null,null,null,null,null,null,8743,"31.12. 07:00",1.1000000000000001,0]
[null,null,null,null,null,null,null,null,null,null,null,null,null,null,null,null,null,null,null,null,null,null,null,null,null,null,null,8744,"31.12. 08:00",1,0]
[null,null,null,null,null,null,null,null,null,null,null,null,null,null,null,null,null,null,null,null,null,null,null,null,null,null,null,8745,"31.12. 09:00",0.7,0]
[null,null,null,null,null,null,null,null,null,null,null,null,null,null,null,null,null,null,null,null,null,null,null,null,null,null,null,8746,"31.12. 10:00",0.4,0]
[null,null,null,null,null,null,null,null,null,null,null,null,null,null,null,null,null,null,null,null,null,null,null,null,null,null,null,8747,"31.12. 11:00",0.2,0]
[null,null,null,null,null,null,null,null,null,null,null,null,null,null,null,null,null,null,null,null,null,null,null,null,null,null,null,8748,"31.12. 12:00",5.0000000000000001E-3,0]
[null,null,null,null,null,null,null,null,null,null,null,null,null,null,null,null,null,null,null,null,null,null,null,null,null,null,null,8749,"31.12. 13:00",-0.1,0]
[null,null,null,null,null,null,null,null,null,null,null,null,null,null,null,null,null,null,null,null,null,null,null,null,null,null,null,8750,"31.12. 14:00",-0.2,0]
[null,null,null,null,null,null,null,null,null,null,null,null,null,null,null,null,null,null,null,null,null,null,null,null,null,null,null,8751,"31.12. 15:00",0.4,0]
[null,null,null,null,null,null,null,null,null,null,null,null,null,null,null,null,null,null,null,null,null,null,null,null,null,null,null,8752,"31.12. 16:00",0.6,0]
[null,null,null,null,null,null,null,null,null,null,null,null,null,null,null,null,null,null,null,null,null,null,null,null,null,null,null,8753,"31.12. 17:00",0.2,0]
[null,null,null,null,null,null,null,null,null,null,null,null,null,null,null,null,null,null,null,null,null,null,null,null,null,null,null,8754,"31.12. 18:00",-0.1,0]
[null,null,null,null,null,null,null,null,null,null,null,null,null,null,null,null,null,null,null,null,null,null,null,null,null,null,null,8755,"31.12. 19:00",-0.4,0]
[null,null,null,null,null,null,null,null,null,null,null,null,null,null,null,null,null,null,null,null,null,null,null,null,null,null,null,8756,"31.12. 20:00",-0.7,0]
[null,null,null,null,null,null,null,null,null,null,null,null,null,null,null,null,null,null,null,null,null,null,null,null,null,null,null,8757,"31.12. 21:00",-1,0]
[null,null,null,null,null,null,null,null,null,null,null,null,null,null,null,null,null,null,null,null,null,null,null,null,null,null,null,8758,"31.12. 22:00",-1.4,0]
[null,null,null,null,null,null,null,null,null,null,null,null,null,null,null,null,null,null,null,null,null,null,null,null,null,null,null,8759,"31.12. 23:00",-1.7,0]
[null,null,null,null,null,null,null,null,null,null,null,null,null,null,null,null,null,null,null,null,null,null,null,null,null,null,null,8760,"01.01. 00:00",0,0]

{"sheet":"Synthèse","index":13,"n_rows":103,"n_cols":25,"rows_kept":103,"cut":false,"hidden":false,"merged":[[8,5,8,7],[3,5,3,7]]}
[]
[null,{"$f":"Traduction!A729","v":"Analyse préliminaire: Synthèse et liste de sélection pour la suite"}]
[null,{"$f":"Traduction!A617","v":"Entreprise"},null,{"$f":"IF(Entreprise!$G$7=0,\"\",Entreprise!$G$7)","v":""}]
[" ",{"$f":"Traduction!A618","v":"Cette page peut-être imprimée (ctrl + p)"},null,null,null,{"$f":"HYPERLINK(NomFichier&Listes!C58&\"'!A1\",Traduction!$A$708)","v":"Retour aux résultats"},null,null,null,null,null,null,null,null,null,null,null,null,null,null,null,null,null,null,{"$f":"Traduction!$A$8","v":"Pompes"}]
[null,null,null,null,null,null,null,null,null,null,null,null,null,null,null,null,null,null,null,null,null,null,null,null,{"$f":"Traduction!$A$9","v":"Ventilateurs"}]
[null,{"$f":"Traduction!$A$40","v":"Synthèse"},null,null,null,null,null,null,null,null,null,null,null,null,null,null,null,null,null,null,null,null,null,null,{"$f":"Traduction!$A$10","v":"Air comprimé"}]
[null,{"$f":"Traduction!$A$246","v":"Consommation totale du Site:"},null,null,{"$f":"ConsoSite","v":0},{"$f":"Traduction!$A$205","v":"Prix  de l'électricité "},null,{"$f":"'Classement des économies'!F7","v":0.15010000000000001},null,null,null,null,null,null,null,null,null,null,null,null,null,null,null,null,{"$f":"Traduction!$A$545","v":"Groupe froid"}]
[null,{"$f":"Traduction!A619","v":"D'après les données introduite, il est estimé que:"},null,null,null,null,null,null,null,null,null,null,null,null,null,null,null,null,null,null,null,null,null,null,{"$f":"Traduction!$A$702","v":"Autre"}]
[null,null,null,null,{"$f":"Traduction!$A$237","v":"Consommation théorique"},{"$f":"Traduction!$A$58","v":"Potentiel d'économie"}]
[null,null,null,null,{"$f":"Traduction!$A$240","v":" actuelle [kWh/a]"},{"$f":"Traduction!$A$6","v":"[kWh/a]"},"[CHF/a]","[%]",null,null,null,null,null,null,null,null,null,null,null,null,null,null,null,null,{"$f":"Traduction!$A$542","v":"Consommation après implémentation"}]
[null,{"$f":"Traduction!$A$243","v":"Analyse fine très recommendée"},null,null,{"$f":"ROUND('Classement des économies'!AL116,-2)","v":0},{"$f":"ROUND('Classement des économies'!AM116,-2)","v":0},{"$f":"ROUND(F11*$H$7,-2)","v":0},{"$f":"IFERROR(F11/E11,0)","v":0},null,null,null,null,null,null,null,null,null,null,null,null,null,null,null,null,{"$f":"Traduction!$A$543","v":"Économie Recommandée"}]
[null,{"$f":"Traduction!$A$244","v":"Analyse fine recommandée"},null,null,{"$f":"ROUND('Classement des économies'!AL117,-2)","v":0},{"$f":"ROUND('Classement des économies'!AM117,-2)","v":0},{"$f":"ROUND(F12*$H$7,-2)","v":0},{"$f":"IFERROR(F12/E12,0)","v":0},null,null,null,null,null,null,null,null,null,null,null,null,null,null,null,null,{"$f":"Traduction!$A$544","v":"Économie très recommandée"}]
[null,{"$f":"Traduction!$A$245","v":"Potentiel d'économie faible"},null,null,{"$f":"ROUND('Classement des économies'!AL118,-2)","v":0},{"$f":"ROUND('Classement des économies'!AM118,-2)","v":0},{"$f":"ROUND(F13*$H$7,-2)","v":0},{"$f":"IFERROR(F13/E13,0)","v":0}]
[]
[]
[null,{"$f":"Traduction!A620","v":"Liste des entrainements"}]
[]
[null,{"$f":"Traduction!$A$138","v":"Numéro d'entrainement"},{"$f":"Traduction!A365","v":"Type d'entrainement"},{"$f":"Traduction!$A$140","v":"Localisation"},{"$f":"Traduction!$A$141","v":"Nom/code/description"},{"$f":"Traduction!$A$151","v":"Consommation annuelle estimée [kWh/a]"},{"$f":"Traduction!$A$218","v":"Economies totales [%]"},{"$f":"Traduction!A621","v":"Economies annuelles [CHF/a]  (± 30 %)"},{"$f":"Traduction!A622","v":"Retenue pour l'analyse fine"},{"$f":"Traduction!A613","v":"Commentaires"},{"$f":"Traduction!$A$220","v":"Puissance nominale [kW]"},{"$f":"Traduction!$A$221","v":"Année de construction [années]"},{"$f":"Traduction!$A$163","v":"Classe d'efficacité  du moteur"},{"$f":"Traduction!$A$146","v":"Heures de fonctionnement individuelles [heures/année]"},{"$f":"Traduction!$A$147","v":"Demande variable"},{"$f":"Traduction!$A$149","v":"Convertisseur de fréquence réglé"},{"$f":"Traduction!$A$150","v":"Relevage ou circulation "},null,{"$f":"Traduction!A623","v":"Commentaire de suivi"},{"$f":"Traduction!A624","v":"Forcer l'économie [%]"}]
[null,{"$f":"'Classement des économies'!D25","v":""},{"$f":"'Classement des économies'!E25","v":""},{"$f":"'Classement des économies'!X25","v":""},{"$f":"'Classement des économies'!H25","v":""},{"$f":"'Classement des économies'!R25","v":""},{"$f":"IF(ISBLANK(T19),'Classement des économies'!K25,T19)","v":""},{"$f":"IFERROR(ROUND(F19*G19*$H$7,-3),\"\")","v":""},"oui",{"$f":"IF(ISBLANK(S19),'Classement des économies'!T25,S19)","v":""},{"$f":"'Classement des économies'!Y25","v":""},{"$f":"'Classement des économies'!Z25","v":""},{"$f":"'Classement des économies'!AA25","v":""},{"$f":"'Classement des économies'!AB25","v":""},{"$f":"'Classement des économies'!AC25","v":""},{"$f":"'Classement des économies'!AD25","v":""},{"$f":"'Classement des économies'!AE25","v":""},null,null,null,null,null,null,null,{"$f":"Traduction!A4","v":"oui"}]
[null,{"$f":"'Classement des économies'!D26","v":""},{"$f":"'Classement des économies'!E26","v":""},{"$f":"'Classement des économies'!X26","v":""},{"$f":"'Classement des économies'!H26","v":""},{"$f":"'Classement des économies'!R26","v":""},{"$f":"IF(ISBLANK(T20),'Classement des économies'!K26,T20)","v":""},{"$f":"IFERROR(ROUND(F20*G20*$H$7,-3),\"\")","v":""},null,{"$f":"IF(ISBLANK(S20),'Classement des économies'!T26,S20)","v":""},{"$f":"'Classement des économies'!Y26","v":""},{"$f":"'Classement des économies'!Z26","v":""},{"$f":"'Classement des économies'!AA26","v":""},{"$f":"'Classement des économies'!AB26","v":""},{"$f":"'Classement des économies'!AC26","v":""},{"$f":"'Classement des économies'!AD26","v":""},{"$f":"'Classement des économies'!AE26","v":""},null,null,null,null,null,null,null,{"$f":"Traduction!A626","v":"Eventuellement"}]
[null,{"$f":"'Classement des économies'!D27","v":""},{"$f":"'Classement des économies'!E27","v":""},{"$f":"'Classement des économies'!X27","v":""},{"$f":"'Classement des économies'!H27","v":""},{"$f":"'Classement des économies'!R27","v":""},{"$f":"IF(ISBLANK(T21),'Classement des économies'!K27,T21)","v":""},"",null,{"$f":"IF(ISBLANK(S21),'Classement des économies'!T27,S21)","v":""},{"$f":"'Classement des économies'!Y27","v":""},{"$f":"'Classement des économies'!Z27","v":""},{"$f":"'Classement des économies'!AA27","v":""},{"$f":"'Classement des économies'!AB27","v":""},{"$f":"'Classement des économies'!AC27","v":""},{"$f":"'Classement des économies'!AD27","v":""},{"$f":"'Classement des économies'!AE27","v":""},null,null,null,null,null,null,null,{"$f":"Traduction!$A$5","v":"non"}]
[null,{"$f":"'Classement des économies'!D28","v":""},{"$f":"'Classement des économies'!E28","v":""},{"$f":"'Classement des économies'!X28","v":""},{"$f":"'Classement des économies'!H28","v":""},{"$f":"'Classement des économies'!R28","v":""},{"$f":"IF(ISBLANK(T22),'Classement des économies'!K28,T22)","v":""},"",null,{"$f":"IF(ISBLANK(S22),'Classement des économies'!T28,S22)","v":""},{"$f":"'Classement des économies'!Y28","v":""},{"$f":"'Classement des économies'!Z28","v":""},{"$f":"'Classement des économies'!AA28","v":""},{"$f":"'Classement des économies'!AB28","v":""},{"$f":"'Classement des économies'!AC28","v":""},{"$f":"'Classement des économies'!AD28","v":""},{"$f":"'Classement des économies'!AE28","v":""}]
[null,{"$f":"'Classement des économies'!D29","v":""},{"$f":"'Classement des économies'!E29","v":""},{"$f":"'Classement des économies'!X29","v":""},{"$f":"'Classement des économies'!H29","v":""},{"$f":"'Classement des économies'!R29","v":""},{"$f":"IF(ISBLANK(T23),'Classement des économies'!K29,T23)","v":""},"",null,{"$f":"IF(ISBLANK(S23),'Classement des économies'!T29,S23)","v":""},{"$f":"'Classement des économies'!Y29","v":""},{"$f":"'Classement des économies'!Z29","v":""},{"$f":"'Classement des économies'!AA29","v":""},{"$f":"'Classement des économies'!AB29","v":""},{"$f":"'Classement des économies'!AC29","v":""},{"$f":"'Classement des économies'!AD29","v":""},{"$f":"'Classement des économies'!AE29","v":""}]
[null,{"$f":"'Classement des économies'!D30","v":""},{"$f":"'Classement des économies'!E30","v":""},{"$f":"'Classement des économies'!X30","v":""},{"$f":"'Classement des économies'!H30","v":""},{"$f":"'Classement des économies'!R30","v":""},{"$f":"IF(ISBLANK(T24),'Classement des économies'!K30,T24)","v":""},"",null,{"$f":"IF(ISBLANK(S24),'Classement des économies'!T30,S24)","v":""},{"$f":"'Classement des économies'!Y30","v":""},{"$f":"'Classement des économies'!Z30","v":""},{"$f":"'Classement des économies'!AA30","v":""},{"$f":"'Classement des économies'!AB30","v":""},{"$f":"'Classement des économies'!AC30","v":""},{"$f":"'Classement des économies'!AD30","v":""},{"$f":"'Classement des économies'!AE30","v":""}]
[null,{"$f":"'Classement des économies'!D31","v":""},{"$f":"'Classement des économies'!E31","v":""},{"$f":"'Classement des économies'!X31","v":""},{"$f":"'Classement des économies'!H31","v":""},{"$f":"'Classement des économies'!R31","v":""},{"$f":"IF(ISBLANK(T25),'Classement des économies'!K31,T25)","v":""},"",null,{"$f":"IF(ISBLANK(S25),'Classement des économies'!T31,S25)","v":""},{"$f":"'Classement des économies'!Y31","v":""},{"$f":"'Classement des économies'!Z31","v":""},{"$f":"'Classement des économies'!AA31","v":""},{"$f":"'Classement des économies'!AB31","v":""},{"$f":"'Classement des économies'!AC31","v":""},{"$f":"'Classement des économies'!AD31","v":""},{"$f":"'Classement des économies'!AE31","v":""}]
[null,{"$f":"'Classement des économies'!D32","v":""},{"$f":"'Classement des économies'!E32","v":""},{"$f":"'Classement des économies'!X32","v":""},{"$f":"'Classement des économies'!H32","v":""},{"$f":"'Classement des économies'!R32","v":""},{"$f":"IF(ISBLANK(T26),'Classement des économies'!K32,T26)","v":""},"",null,{"$f":"IF(ISBLANK(S26),'Classement des économies'!T32,S26)","v":""},{"$f":"'Classement des économies'!Y32","v":""},{"$f":"'Classement des économies'!Z32","v":""},{"$f":"'Classement des économies'!AA32","v":""},{"$f":"'Classement des économies'!AB32","v":""},{"$f":"'Classement des économies'!AC32","v":""},{"$f":"'Classement des économies'!AD32","v":""},{"$f":"'Classement des économies'!AE32","v":""}]
[null,{"$f":"'Classement des économies'!D33","v":""},{"$f":"'Classement des économies'!E33","v":""},{"$f":"'Classement des économies'!X33","v":""},{"$f":"'Classement des économies'!H33","v":""},{"$f":"'Classement des économies'!R33","v":""},{"$f":"IF(ISBLANK(T27),'Classement des économies'!K33,T27)","v":""},"",null,{"$f":"IF(ISBLANK(S27),'Classement des économies'!T33,S27)","v":""},{"$f":"'Classement des économies'!Y33","v":""},{"$f":"'Classement des économies'!Z33","v":""},{"$f":"'Classement des économies'!AA33","v":""},{"$f":"'Classement des économies'!AB33","v":""},{"$f":"'Classement des économies'!AC33","v":""},{"$f":"'Classement des économies'!AD33","v":""},{"$f":"'Classement des économies'!AE33","v":""}]
[null,{"$f":"'Classement des économies'!D34","v":""},{"$f":"'Classement des économies'!E34","v":""},{"$f":"'Classement des économies'!X34","v":""},{"$f":"'Classement des économies'!H34","v":""},{"$f":"'Classement des économies'!R34","v":""},{"$f":"IF(ISBLANK(T28),'Classement des économies'!K34,T28)","v":""},"",null,{"$f":"IF(ISBLANK(S28),'Classement des économies'!T34,S28)","v":""},{"$f":"'Classement des économies'!Y34","v":""},{"$f":"'Classement des économies'!Z34","v":""},{"$f":"'Classement des économies'!AA34","v":""},{"$f":"'Classement des économies'!AB34","v":""},{"$f":"'Classement des économies'!AC34","v":""},{"$f":"'Classement des économies'!AD34","v":""},{"$f":"'Classement des économies'!AE34","v":""}]
[null,{"$f":"'Classement des économies'!D35","v":""},{"$f":"'Classement des économies'!E35","v":""},{"$f":"'Classement des économies'!X35","v":""},{"$f":"'Classement des économies'!H35","v":""},{"$f":"'Classement des économies'!R35","v":""},{"$f":"IF(ISBLANK(T29),'Classement des économies'!K35,T29)","v":""},"",{"$f":"IF(ISBLANK(S29),'Classement des économies'!T35,S29)","v":""},{"$f":"IF(ISBLANK(S29),'Classement des économies'!T35,S29)","v":""},{"$f":"'Classement des économies'!Y35","v":""},{"$f":"'Classement des économies'!Z35","v":""},{"$f":"'Classement des économies'!AA35","v":""},{"$f":"'Classement des économies'!AB35","v":""},{"$f":"'Classement des économies'!AC35","v":""},{"$f":"'Classement des économies'!AD35","v":""},{"$f":"'Classement des économies'!AE35","v":""}]
[null,{"$f":"'Classement des économies'!D36","v":""},{"$f":"'Classement des économies'!E36","v":""},{"$f":"'Classement des économies'!X36","v":""},{"$f":"'Classement des économies'!H36","v":""},{"$f":"'Classement des économies'!R36","v":""},{"$f":"IF(ISBLANK(T30),'Classement des économies'!K36,T30)","v":""},"",{"$f":"IF(ISBLANK(S30),'Classement des économies'!T36,S30)","v":""},{"$f":"IF(ISBLANK(S30),'Classement des économies'!T36,S30)","v":""},{"$f":"'Classement des économies'!Y36","v":""},{"$f":"'Classement des économies'!Z36","v":""},{"$f":"'Classement des économies'!AA36","v":""},{"$f":"'Classement des économies'!AB36","v":""},{"$f":"'Classement des économies'!AC36","v":""},{"$f":"'Classement des économies'!AD36","v":""},{"$f":"'Classement des économies'!AE36","v":""}]
[null,{"$f":"'Classement des économies'!D37","v":""},{"$f":"'Classement des économies'!E37","v":""},{"$f":"'Classement des économies'!X37","v":""},{"$f":"'Classement des économies'!H37","v":""},{"$f":"'Classement des économies'!R37","v":""},{"$f":"IF(ISBLANK(T31),'Classement des économies'!K37,T31)","v":""},"",{"$f":"IF(ISBLANK(S31),'Classement des économies'!T37,S31)","v":""},{"$f":"IF(ISBLANK(S31),'Classement des économies'!T37,S31)","v":""},{"$f":"'Classement des économies'!Y37","v":""},{"$f":"'Classement des économies'!Z37","v":""},{"$f":"'Classement des économies'!AA37","v":""},{"$f":"'Classement des économies'!AB37","v":""},{"$f":"'Classement des économies'!AC37","v":""},{"$f":"'Classement des économies'!AD37","v":""},{"$f":"'Classement des économies'!AE37","v":""}]
[null,{"$f":"'Classement des économies'!D38","v":""},{"$f":"'Classement des économies'!E38","v":""},{"$f":"'Classement des économies'!X38","v":""},{"$f":"'Classement des économies'!H38","v":""},{"$f":"'Classement des économies'!R38","v":""},{"$f":"IF(ISBLANK(T32),'Classement des économies'!K38,T32)","v":""},"",{"$f":"IF(ISBLANK(S32),'Classement des économies'!T38,S32)","v":""},{"$f":"IF(ISBLANK(S32),'Classement des économies'!T38,S32)","v":""},{"$f":"'Classement des économies'!Y38","v":""},{"$f":"'Classement des économies'!Z38","v":""},{"$f":"'Classement des économies'!AA38","v":""},{"$f":"'Classement des économies'!AB38","v":""},{"$f":"'Classement des économies'!AC38","v":""},{"$f":"'Classement des économies'!AD38","v":""},{"$f":"'Classement des économies'!AE38","v":""}]
[null,{"$f":"'Classement des économies'!D39","v":""},{"$f":"'Classement des économies'!E39","v":""},{"$f":"'Classement des économies'!X39","v":""},{"$f":"'Classement des économies'!H39","v":""},{"$f":"'Classement des économies'!R39","v":""},{"$f":"IF(ISBLANK(T33),'Classement des économies'!K39,T33)","v":""},"",{"$f":"IF(ISBLANK(S33),'Classement des économies'!T39,S33)","v":""},{"$f":"IF(ISBLANK(S33),'Classement des économies'!T39,S33)","v":""},{"$f":"'Classement des économies'!Y39","v":""},{"$f":"'Classement des économies'!Z39","v":""},{"$f":"'Classement des économies'!AA39","v":""},{"$f":"'Classement des économies'!AB39","v":""},{"$f":"'Classement des économies'!AC39","v":""},{"$f":"'Classement des économies'!AD39","v":""},{"$f":"'Classement des économies'!AE39","v":""}]
[null,{"$f":"'Classement des économies'!D40","v":""},{"$f":"'Classement des économies'!E40","v":""},{"$f":"'Classement des économies'!X40","v":""},{"$f":"'Classement des économies'!H40","v":""},{"$f":"'Classement des économies'!R40","v":""},{"$f":"IF(ISBLANK(T34),'Classement des économies'!K40,T34)","v":""},"",{"$f":"IF(ISBLANK(S34),'Classement des économies'!T40,S34)","v":""},{"$f":"IF(ISBLANK(S34),'Classement des économies'!T40,S34)","v":""},{"$f":"'Classement des économies'!Y40","v":""},{"$f":"'Classement des économies'!Z40","v":""},{"$f":"'Classement des économies'!AA40","v":""},{"$f":"'Classement des économies'!AB40","v":""},{"$f":"'Classement des économies'!AC40","v":""},{"$f":"'Classement des économies'!AD40","v":""},{"$f":"'Classement des économies'!AE40","v":""}]
[null,{"$f":"'Classement des économies'!D41","v":""},{"$f":"'Classement des économies'!E41","v":""},{"$f":"'Classement des économies'!X41","v":""},{"$f":"'Classement des économies'!H41","v":""},{"$f":"'Classement des économies'!R41","v":""},{"$f":"IF(ISBLANK(T35),'Classement des économies'!K41,T35)","v":""},"",{"$f":"IF(ISBLANK(S35),'Classement des économies'!T41,S35)","v":""},{"$f":"IF(ISBLANK(S35),'Classement des économies'!T41,S35)","v":""},{"$f":"'Classement des économies'!Y41","v":""},{"$f":"'Classement des économies'!Z41","v":""},{"$f":"'Classement des économies'!AA41","v":""},{"$f":"'Classement des économies'!AB41","v":""},{"$f":"'Classement des économies'!AC41","v":""},{"$f":"'Classement des économies'!AD41","v":""},{"$f":"'Classement des économies'!AE41","v":""}]
[null,{"$f":"'Classement des économies'!D42","v":""},{"$f":"'Classement des économies'!E42","v":""},{"$f":"'Classement des économies'!X42","v":""},{"$f":"'Classement des économies'!H42","v":""},{"$f":"'Classement des économies'!R42","v":""},{"$f":"IF(ISBLANK(T36),'Classement des économies'!K42,T36)","v":""},"",{"$f":"IF(ISBLANK(S36),'Classement des économies'!T42,S36)","v":""},{"$f":"IF(ISBLANK(S36),'Classement des économies'!T42,S36)","v":""},{"$f":"'Classement des économies'!Y42","v":""},{"$f":"'Classement des économies'!Z42","v":""},{"$f":"'Classement des économies'!AA42","v":""},{"$f":"'Classement des économies'!AB42","v":""},{"$f":"'Classement des économies'!AC42","v":""},{"$f":"'Classement des économies'!AD42","v":""},{"$f":"'Classement des économies'!AE42","v":""}]
[null,{"$f":"'Classement des économies'!D43","v":""},{"$f":"'Classement des économies'!E43","v":""},{"$f":"'Classement des économies'!X43","v":""},{"$f":"'Classement des économies'!H43","v":""},{"$f":"'Classement des économies'!R43","v":""},{"$f":"IF(ISBLANK(T37),'Classement des économies'!K43,T37)","v":""},"",{"$f":"IF(ISBLANK(S37),'Classement des économies'!T43,S37)","v":""},{"$f":"IF(ISBLANK(S37),'Classement des économies'!T43,S37)","v":""},{"$f":"'Classement des économies'!Y43","v":""},{"$f":"'Classement des économies'!Z43","v":""},{"$f":"'Classement des économies'!AA43","v":""},{"$f":"'Classement des économies'!AB43","v":""},{"$f":"'Classement des économies'!AC43","v":""},{"$f":"'Classement des économies'!AD43","v":""},{"$f":"'Classement des économies'!AE43","v":""}]
[null,{"$f":"'Classement des économies'!D44","v":""},{"$f":"'Classement des économies'!E44","v":""},{"$f":"'Classement des économies'!X44","v":""},{"$f":"'Classement des économies'!H44","v":""},{"$f":"'Classement des économies'!R44","v":""},{"$f":"IF(ISBLANK(T38),'Classement des économies'!K44,T38)","v":""},"",{"$f":"IF(ISBLANK(S38),'Classement des économies'!T44,S38)","v":""},{"$f":"IF(ISBLANK(S38),'Classement des économies'!T44,S38)","v":""},{"$f":"'Classement des économies'!Y44","v":""},{"$f":"'Classement des économies'!Z44","v":""},{"$f":"'Classement des économies'!AA44","v":""},{"$f":"'Classement des économies'!AB44","v":""},{"$f":"'Classement des économies'!AC44","v":""},{"$f":"'Classement des économies'!AD44","v":""},{"$f":"'Classement des économies'!AE44","v":""}]
[null,{"$f":"'Classement des économies'!D45","v":""},{"$f":"'Classement des économies'!E45","v":""},{"$f":"'Classement des économies'!X45","v":""},{"$f":"'Classement des économies'!H45","v":""},{"$f":"'Classement des économies'!R45","v":""},{"$f":"IF(ISBLANK(T39),'Classement des économies'!K45,T39)","v":""},"",{"$f":"IF(ISBLANK(S39),'Classement des économies'!T45,S39)","v":""},{"$f":"IF(ISBLANK(S39),'Classement des économies'!T45,S39)","v":""},{"$f":"'Classement des économies'!Y45","v":""},{"$f":"'Classement des économies'!Z45","v":""},{"$f":"'Classement des économies'!AA45","v":""},{"$f":"'Classement des économies'!AB45","v":""},{"$f":"'Classement des économies'!AC45","v":""},{"$f":"'Classement des économies'!AD45","v":""},{"$f":"'Classement des économies'!AE45","v":""}]
[null,{"$f":"'Classement des économies'!D46","v":""},{"$f":"'Classement des économies'!E46","v":""},{"$f":"'Classement des économies'!X46","v":""},{"$f":"'Classement des économies'!H46","v":""},{"$f":"'Classement des économies'!R46","v":""},{"$f":"IF(ISBLANK(T40),'Classement des économies'!K46,T40)","v":""},"",{"$f":"IF(ISBLANK(S40),'Classement des économies'!T46,S40)","v":""},{"$f":"IF(ISBLANK(S40),'Classement des économies'!T46,S40)","v":""},{"$f":"'Classement des économies'!Y46","v":""},{"$f":"'Classement des économies'!Z46","v":""},{"$f":"'Classement des économies'!AA46","v":""},{"$f":"'Classement des économies'!AB46","v":""},{"$f":"'Classement des économies'!AC46","v":""},{"$f":"'Classement des économies'!AD46","v":""},{"$f":"'Classement des économies'!AE46","v":""}]
[null,{"$f":"'Classement des économies'!D47","v":""},{"$f":"'Classement des économies'!E47","v":""},{"$f":"'Classement des économies'!X47","v":""},{"$f":"'Classement des économies'!H47","v":""},{"$f":"'Classement des économies'!R47","v":""},{"$f":"IF(ISBLANK(T41),'Classement des économies'!K47,T41)","v":""},"",{"$f":"IF(ISBLANK(S41),'Classement des économies'!T47,S41)","v":""},{"$f":"IF(ISBLANK(S41),'Classement des économies'!T47,S41)","v":""},{"$f":"'Classement des économies'!Y47","v":""},{"$f":"'Classement des économies'!Z47","v":""},{"$f":"'Classement des économies'!AA47","v":""},{"$f":"'Classement des économies'!AB47","v":""},{"$f":"'Classement des économies'!AC47","v":""},{"$f":"'Classement des économies'!AD47","v":""},{"$f":"'Classement des économies'!AE47","v":""}]
[null,{"$f":"'Classement des économies'!D48","v":""},{"$f":"'Classement des économies'!E48","v":""},{"$f":"'Classement des économies'!X48","v":""},{"$f":"'Classement des économies'!H48","v":""},{"$f":"'Classement des économies'!R48","v":""},{"$f":"IF(ISBLANK(T42),'Classement des économies'!K48,T42)","v":""},"",{"$f":"IF(ISBLANK(S42),'Classement des économies'!T48,S42)","v":""},{"$f":"IF(ISBLANK(S42),'Classement des économies'!T48,S42)","v":""},{"$f":"'Classement des économies'!Y48","v":""},{"$f":"'Classement des économies'!Z48","v":""},{"$f":"'Classement des économies'!AA48","v":""},{"$f":"'Classement des économies'!AB48","v":""},{"$f":"'Classement des économies'!AC48","v":""},{"$f":"'Classement des économies'!AD48","v":""},{"$f":"'Classement des économies'!AE48","v":""}]
[null,{"$f":"'Classement des économies'!D49","v":""},{"$f":"'Classement des économies'!E49","v":""},{"$f":"'Classement des économies'!X49","v":""},{"$f":"'Classement des économies'!H49","v":""},{"$f":"'Classement des économies'!R49","v":""},{"$f":"IF(ISBLANK(T43),'Classement des économies'!K49,T43)","v":""},"",{"$f":"IF(ISBLANK(S43),'Classement des économies'!T49,S43)","v":""},{"$f":"IF(ISBLANK(S43),'Classement des économies'!T49,S43)","v":""},{"$f":"'Classement des économies'!Y49","v":""},{"$f":"'Classement des économies'!Z49","v":""},{"$f":"'Classement des économies'!AA49","v":""},{"$f":"'Classement des économies'!AB49","v":""},{"$f":"'Classement des économies'!AC49","v":""},{"$f":"'Classement des économies'!AD49","v":""},{"$f":"'Classement des économies'!AE49","v":""}]
[null,{"$f":"'Classement des économies'!D50","v":""},{"$f":"'Classement des économies'!E50","v":""},{"$f":"'Classement des économies'!X50","v":""},{"$f":"'Classement des économies'!H50","v":""},{"$f":"'Classement des économies'!R50","v":""},{"$f":"IF(ISBLANK(T44),'Classement des économies'!K50,T44)","v":""},"",{"$f":"IF(ISBLANK(S44),'Classement des économies'!T50,S44)","v":""},{"$f":"IF(ISBLANK(S44),'Classement des économies'!T50,S44)","v":""},{"$f":"'Classement des économies'!Y50","v":""},{"$f":"'Classement des économies'!Z50","v":""},{"$f":"'Classement des économies'!AA50","v":""},{"$f":"'Classement des économies'!AB50","v":""},{"$f":"'Classement des économies'!AC50","v":""},{"$f":"'Classement des économies'!AD50","v":""},{"$f":"'Classement des économies'!AE50","v":""}]
[null,{"$f":"'Classement des économies'!D51","v":""},{"$f":"'Classement des économies'!E51","v":""},{"$f":"'Classement des économies'!X51","v":""},{"$f":"'Classement des économies'!H51","v":""},{"$f":"'Classement des économies'!R51","v":""},{"$f":"IF(ISBLANK(T45),'Classement des économies'!K51,T45)","v":""},"",{"$f":"IF(ISBLANK(S45),'Classement des économies'!T51,S45)","v":""},{"$f":"IF(ISBLANK(S45),'Classement des économies'!T51,S45)","v":""},{"$f":"'Classement des économies'!Y51","v":""},{"$f":"'Classement des économies'!Z51","v":""},{"$f":"'Classement des économies'!AA51","v":""},{"$f":"'Classement des économies'!AB51","v":""},{"$f":"'Classement des économies'!AC51","v":""},{"$f":"'Classement des économies'!AD51","v":""},{"$f":"'Classement des économies'!AE51","v":""}]
[null,{"$f":"'Classement des économies'!D52","v":""},{"$f":"'Classement des économies'!E52","v":""},{"$f":"'Classement des économies'!X52","v":""},{"$f":"'Classement des économies'!H52","v":""},{"$f":"'Classement des économies'!R52","v":""},{"$f":"IF(ISBLANK(T46),'Classement des économies'!K52,T46)","v":""},"",{"$f":"IF(ISBLANK(S46),'Classement des économies'!T52,S46)","v":""},{"$f":"IF(ISBLANK(S46),'Classement des économies'!T52,S46)","v":""},{"$f":"'Classement des économies'!Y52","v":""},{"$f":"'Classement des économies'!Z52","v":""},{"$f":"'Classement des économies'!AA52","v":""},{"$f":"'Classement des économies'!AB52","v":""},{"$f":"'Classement des économies'!AC52","v":""},{"$f":"'Classement des économies'!AD52","v":""},{"$f":"'Classement des économies'!AE52","v":""}]
[null,{"$f":"'Classement des économies'!D53","v":""},{"$f":"'Classement des économies'!E53","v":""},{"$f":"'Classement des économies'!X53","v":""},{"$f":"'Classement des économies'!H53","v":""},{"$f":"'Classement des économies'!R53","v":""},{"$f":"IF(ISBLANK(T47),'Classement des économies'!K53,T47)","v":""},"",{"$f":"IF(ISBLANK(S47),'Classement des économies'!T53,S47)","v":""},{"$f":"IF(ISBLANK(S47),'Classement des économies'!T53,S47)","v":""},{"$f":"'Classement des économies'!Y53","v":""},{"$f":"'Classement des économies'!Z53","v":""},{"$f":"'Classement des économies'!AA53","v":""},{"$f":"'Classement des économies'!AB53","v":""},{"$f":"'Classement des économies'!AC53","v":""},{"$f":"'Classement des économies'!AD53","v":""},{"$f":"'Classement des économies'!AE53","v":""}]
[null,{"$f":"'Classement des économies'!D54","v":""},{"$f":"'Classement des économies'!E54","v":""},{"$f":"'Classement des économies'!X54","v":""},{"$f":"'Classement des économies'!H54","v":""},{"$f":"'Classement des économies'!R54","v":""},{"$f":"IF(ISBLANK(T48),'Classement des économies'!K54,T48)","v":""},"",{"$f":"IF(ISBLANK(S48),'Classement des économies'!T54,S48)","v":""},{"$f":"IF(ISBLANK(S48),'Classement des économies'!T54,S48)","v":""},{"$f":"'Classement des économies'!Y54","v":""},{"$f":"'Classement des économies'!Z54","v":""},{"$f":"'Classement des économies'!AA54","v":""},{"$f":"'Classement des économies'!AB54","v":""},{"$f":"'Classement des économies'!AC54","v":""},{"$f":"'Classement des économies'!AD54","v":""},{"$f":"'Classement des économies'!AE54","v":""}]
[null,{"$f":"'Classement des économies'!D55","v":""},{"$f":"'Classement des économies'!E55","v":""},{"$f":"'Classement des économies'!X55","v":""},{"$f":"'Classement des économies'!H55","v":""},{"$f":"'Classement des économies'!R55","v":""},{"$f":"IF(ISBLANK(T49),'Classement des économies'!K55,T49)","v":""},"",{"$f":"IF(ISBLANK(S49),'Classement des économies'!T55,S49)","v":""},{"$f":"IF(ISBLANK(S49),'Classement des économies'!T55,S49)","v":""},{"$f":"'Classement des économies'!Y55","v":""},{"$f":"'Classement des économies'!Z55","v":""},{"$f":"'Classement des économies'!AA55","v":""},{"$f":"'Classement des économies'!AB55","v":""},{"$f":"'Classement des économies'!AC55","v":""},{"$f":"'Classement des économies'!AD55","v":""},{"$f":"'Classement des économies'!AE55","v":""}]
[null,{"$f":"'Classement des économies'!D56","v":""},{"$f":"'Classement des économies'!E56","v":""},{"$f":"'Classement des économies'!X56","v":""},{"$f":"'Classement des économies'!H56","v":""},{"$f":"'Classement des économies'!R56","v":""},{"$f":"IF(ISBLANK(T50),'Classement des économies'!K56,T50)","v":""},"",{"$f":"IF(ISBLANK(S50),'Classement des économies'!T56,S50)","v":""},{"$f":"IF(ISBLANK(S50),'Classement des économies'!T56,S50)","v":""},{"$f":"'Classement des économies'!Y56","v":""},{"$f":"'Classement des économies'!Z56","v":""},{"$f":"'Classement des économies'!AA56","v":""},{"$f":"'Classement des économies'!AB56","v":""},{"$f":"'Classement des économies'!AC56","v":""},{"$f":"'Classement des économies'!AD56","v":""},{"$f":"'Classement des économies'!AE56","v":""}]
[null,{"$f":"'Classement des économies'!D57","v":""},{"$f":"'Classement des économies'!E57","v":""},{"$f":"'Classement des économies'!X57","v":""},{"$f":"'Classement des économies'!H57","v":""},{"$f":"'Classement des économies'!R57","v":""},{"$f":"IF(ISBLANK(T51),'Classement des économies'!K57,T51)","v":""},"",{"$f":"IF(ISBLANK(S51),'Classement des économies'!T57,S51)","v":""},{"$f":"IF(ISBLANK(S51),'Classement des économies'!T57,S51)","v":""},{"$f":"'Classement des économies'!Y57","v":""},{"$f":"'Classement des économies'!Z57","v":""},{"$f":"'Classement des économies'!AA57","v":""},{"$f":"'Classement des économies'!AB57","v":""},{"$f":"'Classement des économies'!AC57","v":""},{"$f":"'Classement des économies'!AD57","v":""},{"$f":"'Classement des économies'!AE57","v":""}]
[null,{"$f":"'Classement des économies'!D58","v":""},{"$f":"'Classement des économies'!E58","v":""},{"$f":"'Classement des économies'!X58","v":""},{"$f":"'Classement des économies'!H58","v":""},{"$f":"'Classement des économies'!R58","v":""},{"$f":"IF(ISBLANK(T52),'Classement des économies'!K58,T52)","v":""},"",{"$f":"IF(ISBLANK(S52),'Classement des économies'!T58,S52)","v":""},{"$f":"IF(ISBLANK(S52),'Classement des économies'!T58,S52)","v":""},{"$f":"'Classement des économies'!Y58","v":""},{"$f":"'Classement des économies'!Z58","v":""},{"$f":"'Classement des économies'!AA58","v":""},{"$f":"'Classement des économies'!AB58","v":""},{"$f":"'Classement des économies'!AC58","v":""},{"$f":"'Classement des économies'!AD58","v":""},{"$f":"'Classement des économies'!AE58","v":""}]
[null,{"$f":"'Classement des économies'!D59","v":""},{"$f":"'Classement des économies'!E59","v":""},{"$f":"'Classement des économies'!X59","v":""},{"$f":"'Classement des économies'!H59","v":""},{"$f":"'Classement des économies'!R59","v":""},{"$f":"IF(ISBLANK(T53),'Classement des économies'!K59,T53)","v":""},"",{"$f":"IF(ISBLANK(S53),'Classement des économies'!T59,S53)","v":""},{"$f":"IF(ISBLANK(S53),'Classement des économies'!T59,S53)","v":""},{"$f":"'Classement des économies'!Y59","v":""},{"$f":"'Classement des économies'!Z59","v":""},{"$f":"'Classement des économies'!AA59","v":""},{"$f":"'Classement des économies'!AB59","v":""},{"$f":"'Classement des économies'!AC59","v":""},{"$f":"'Classement des économies'!AD59","v":""},{"$f":"'Classement des économies'!AE59","v":""}]
[null,{"$f":"'Classement des économies'!D60","v":""},{"$f":"'Classement des économies'!E60","v":""},{"$f":"'Classement des économies'!X60","v":""},{"$f":"'Classement des économies'!H60","v":""},{"$f":"'Classement des économies'!R60","v":""},{"$f":"IF(ISBLANK(T54),'Classement des économies'!K60,T54)","v":""},"",{"$f":"IF(ISBLANK(S54),'Classement des économies'!T60,S54)","v":""},{"$f":"IF(ISBLANK(S54),'Classement des économies'!T60,S54)","v":""},{"$f":"'Classement des économies'!Y60","v":""},{"$f":"'Classement des économies'!Z60","v":""},{"$f":"'Classement des économies'!AA60","v":""},{"$f":"'Classement des économies'!AB60","v":""},{"$f":"'Classement des économies'!AC60","v":""},{"$f":"'Classement des économies'!AD60","v":""},{"$f":"'Classement des économies'!AE60","v":""}]
[null,{"$f":"'Classement des économies'!D61","v":""},{"$f":"'Classement des économies'!E61","v":""},{"$f":"'Classement des économies'!X61","v":""},{"$f":"'Classement des économies'!H61","v":""},{"$f":"'Classement des économies'!R61","v":""},{"$f":"IF(ISBLANK(T55),'Classement des économies'!K61,T55)","v":""},"",{"$f":"IF(ISBLANK(S55),'Classement des économies'!T61,S55)","v":""},{"$f":"IF(ISBLANK(S55),'Classement des économies'!T61,S55)","v":""},{"$f":"'Classement des économies'!Y61","v":""},{"$f":"'Classement des économies'!Z61","v":""},{"$f":"'Classement des économies'!AA61","v":""},{"$f":"'Classement des économies'!AB61","v":""},{"$f":"'Classement des économies'!AC61","v":""},{"$f":"'Classement des économies'!AD61","v":""},{"$f":"'Classement des économies'!AE61","v":""}]
[null,{"$f":"'Classement des économies'!D62","v":""},{"$f":"'Classement des économies'!E62","v":""},{"$f":"'Classement des économies'!X62","v":""},{"$f":"'Classement des économies'!H62","v":""},{"$f":"'Classement des économies'!R62","v":""},{"$f":"IF(ISBLANK(T56),'Classement des économies'!K62,T56)","v":""},"",{"$f":"IF(ISBLANK(S56),'Classement des économies'!T62,S56)","v":""},{"$f":"IF(ISBLANK(S56),'Classement des économies'!T62,S56)","v":""},{"$f":"'Classement des économies'!Y62","v":""},{"$f":"'Classement des économies'!Z62","v":""},{"$f":"'Classement des économies'!AA62","v":""},{"$f":"'Classement des économies'!AB62","v":""},{"$f":"'Classement des économies'!AC62","v":""},{"$f":"'Classement des économies'!AD62","v":""},{"$f":"'Classement des économies'!AE62","v":""}]
[null,{"$f":"'Classement des économies'!D63","v":""},{"$f":"'Classement des économies'!E63","v":""},{"$f":"'Classement des économies'!X63","v":""},{"$f":"'Classement des économies'!H63","v":""},{"$f":"'Classement des économies'!R63","v":""},{"$f":"IF(ISBLANK(T57),'Classement des économies'!K63,T57)","v":""},"",{"$f":"IF(ISBLANK(S57),'Classement des économies'!T63,S57)","v":""},{"$f":"IF(ISBLANK(S57),'Classement des économies'!T63,S57)","v":""},{"$f":"'Classement des économies'!Y63","v":""},{"$f":"'Classement des économies'!Z63","v":""},{"$f":"'Classement des économies'!AA63","v":""},{"$f":"'Classement des économies'!AB63","v":""},{"$f":"'Classement des économies'!AC63","v":""},{"$f":"'Classement des économies'!AD63","v":""},{"$f":"'Classement des économies'!AE63","v":""}]
[null,{"$f":"'Classement des économies'!D64","v":""},{"$f":"'Classement des économies'!E64","v":""},{"$f":"'Classement des économies'!X64","v":""},{"$f":"'Classement des économies'!H64","v":""},{"$f":"'Classement des économies'!R64","v":""},{"$f":"IF(ISBLANK(T58),'Classement des économies'!K64,T58)","v":""},"",{"$f":"IF(ISBLANK(S58),'Classement des économies'!T64,S58)","v":""},{"$f":"IF(ISBLANK(S58),'Classement des économies'!T64,S58)","v":""},{"$f":"'Classement des économies'!Y64","v":""},{"$f":"'Classement des économies'!Z64","v":""},{"$f":"'Classement des économies'!AA64","v":""},{"$f":"'Classement des économies'!AB64","v":""},{"$f":"'Classement des économies'!AC64","v":""},{"$f":"'Classement des économies'!AD64","v":""},{"$f":"'Classement des économies'!AE64","v":""}]
[null,{"$f":"'Classement des économies'!D65","v":""},{"$f":"'Classement des économies'!E65","v":""},{"$f":"'Classement des économies'!X65","v":""},{"$f":"'Classement des économies'!H65","v":""},{"$f":"'Classement des économies'!R65","v":""},{"$f":"IF(ISBLANK(T59),'Classement des économies'!K65,T59)","v":""},"",{"$f":"IF(ISBLANK(S59),'Classement des économies'!T65,S59)","v":""},{"$f":"IF(ISBLANK(S59),'Classement des économies'!T65,S59)","v":""},{"$f":"'Classement des économies'!Y65","v":""},{"$f":"'Classement des économies'!Z65","v":""},{"$f":"'Classement des économies'!AA65","v":""},{"$f":"'Classement des économies'!AB65","v":""},{"$f":"'Classement des économies'!AC65","v":""},{"$f":"'Classement des économies'!AD65","v":""},{"$f":"'Classement des économies'!AE65","v":""}]
[null,{"$f":"'Classement des économies'!D66","v":""},{"$f":"'Classement des économies'!E66","v":""},{"$f":"'Classement des économies'!X66","v":""},{"$f":"'Classement des économies'!H66","v":""},{"$f":"'Classement des économies'!R66","v":""},{"$f":"IF(ISBLANK(T60),'Classement des économies'!K66,T60)","v":""},"",{"$f":"IF(ISBLANK(S60),'Classement des économies'!T66,S60)","v":""},{"$f":"IF(ISBLANK(S60),'Classement des économies'!T66,S60)","v":""},{"$f":"'Classement des économies'!Y66","v":""},{"$f":"'Classement des économies'!Z66","v":""},{"$f":"'Classement des économies'!AA66","v":""},{"$f":"'Classement des économies'!AB66","v":""},{"$f":"'Classement des économies'!AC66","v":""},{"$f":"'Classement des économies'!AD66","v":""},{"$f":"'Classement des économies'!AE66","v":""}]
[null,{"$f":"'Classement des économies'!D67","v":""},{"$f":"'Classement des économies'!E67","v":""},{"$f":"'Classement des économies'!X67","v":""},{"$f":"'Classement des économies'!H67","v":""},{"$f":"'Classement des économies'!R67","v":""},{"$f":"IF(ISBLANK(T61),'Classement des économies'!K67,T61)","v":""},"",{"$f":"IF(ISBLANK(S61),'Classement des économies'!T67,S61)","v":""},{"$f":"IF(ISBLANK(S61),'Classement des économies'!T67,S61)","v":""},{"$f":"'Classement des économies'!Y67","v":""},{"$f":"'Classement des économies'!Z67","v":""},{"$f":"'Classement des économies'!AA67","v":""},{"$f":"'Classement des économies'!AB67","v":""},{"$f":"'Classement des économies'!AC67","v":""},{"$f":"'Classement des économies'!AD67","v":""},{"$f":"'Classement des économies'!AE67","v":""}]
[null,{"$f":"'Classement des économies'!D68","v":""},{"$f":"'Classement des économies'!E68","v":""},{"$f":"'Classement des économies'!X68","v":""},{"$f":"'Classement des économies'!H68","v":""},{"$f":"'Classement des économies'!R68","v":""},{"$f":"IF(ISBLANK(T62),'Classement des économies'!K68,T62)","v":""},"",{"$f":"IF(ISBLANK(S62),'Classement des économies'!T68,S62)","v":""},{"$f":"IF(ISBLANK(S62),'Classement des économies'!T68,S62)","v":""},{"$f":"'Classement des économies'!Y68","v":""},{"$f":"'Classement des économies'!Z68","v":""},{"$f":"'Classement des économies'!AA68","v":""},{"$f":"'Classement des économies'!AB68","v":""},{"$f":"'Classement des économies'!AC68","v":""},{"$f":"'Classement des économies'!AD68","v":""},{"$f":"'Classement des économies'!AE68","v":""}]
[null,{"$f":"'Classement des économies'!D69","v":""},{"$f":"'Classement des économies'!E69","v":""},{"$f":"'Classement des économies'!X69","v":""},{"$f":"'Classement des économies'!H69","v":""},{"$f":"'Classement des économies'!R69","v":""},{"$f":"IF(ISBLANK(T63),'Classement des économies'!K69,T63)","v":""},"",{"$f":"IF(ISBLANK(S63),'Classement des économies'!T69,S63)","v":""},{"$f":"IF(ISBLANK(S63),'Classement des économies'!T69,S63)","v":""},{"$f":"'Classement des économies'!Y69","v":""},{"$f":"'Classement des économies'!Z69","v":""},{"$f":"'Classement des économies'!AA69","v":""},{"$f":"'Classement des économies'!AB69","v":""},{"$f":"'Classement des économies'!AC69","v":""},{"$f":"'Classement des économies'!AD69","v":""},{"$f":"'Classement des économies'!AE69","v":""}]
[null,{"$f":"'Classement des économies'!D70","v":""},{"$f":"'Classement des économies'!E70","v":""},{"$f":"'Classement des économies'!X70","v":""},{"$f":"'Classement des économies'!H70","v":""},{"$f":"'Classement des économies'!R70","v":""},{"$f":"IF(ISBLANK(T64),'Classement des économies'!K70,T64)","v":""},"",{"$f":"IF(ISBLANK(S64),'Classement des économies'!T70,S64)","v":""},{"$f":"IF(ISBLANK(S64),'Classement des économies'!T70,S64)","v":""},{"$f":"'Classement des économies'!Y70","v":""},{"$f":"'Classement des économies'!Z70","v":""},{"$f":"'Classement des économies'!AA70","v":""},{"$f":"'Classement des économies'!AB70","v":""},{"$f":"'Classement des économies'!AC70","v":""},{"$f":"'Classement des économies'!AD70","v":""},{"$f":"'Classement des économies'!AE70","v":""}]
[null,{"$f":"'Classement des économies'!D71","v":""},{"$f":"'Classement des économies'!E71","v":""},{"$f":"'Classement des économies'!X71","v":""},{"$f":"'Classement des économies'!H71","v":""},{"$f":"'Classement des économies'!R71","v":""},{"$f":"IF(ISBLANK(T65),'Classement des économies'!K71,T65)","v":""},"",{"$f":"IF(ISBLANK(S65),'Classement des économies'!T71,S65)","v":""},{"$f":"IF(ISBLANK(S65),'Classement des économies'!T71,S65)","v":""},{"$f":"'Classement des économies'!Y71","v":""},{"$f":"'Classement des économies'!Z71","v":""},{"$f":"'Classement des économies'!AA71","v":""},{"$f":"'Classement des économies'!AB71","v":""},{"$f":"'Classement des économies'!AC71","v":""},{"$f":"'Classement des économies'!AD71","v":""},{"$f":"'Classement des économies'!AE71","v":""}]
[null,{"$f":"'Classement des économies'!D72","v":""},{"$f":"'Classement des économies'!E72","v":""},{"$f":"'Classement des économies'!X72","v":""},{"$f":"'Classement des économies'!H72","v":""},{"$f":"'Classement des économies'!R72","v":""},{"$f":"IF(ISBLANK(T66),'Classement des économies'!K72,T66)","v":""},"",{"$f":"IF(ISBLANK(S66),'Classement des économies'!T72,S66)","v":""},{"$f":"IF(ISBLANK(S66),'Classement des économies'!T72,S66)","v":""},{"$f":"'Classement des économies'!Y72","v":""},{"$f":"'Classement des économies'!Z72","v":""},{"$f":"'Classement des économies'!AA72","v":""},{"$f":"'Classement des économies'!AB72","v":""},{"$f":"'Classement des économies'!AC72","v":""},{"$f":"'Classement des économies'!AD72","v":""},{"$f":"'Classement des économies'!AE72","v":""}]
[null,{"$f":"'Classement des économies'!D73","v":""},{"$f":"'Classement des économies'!E73","v":""},{"$f":"'Classement des économies'!X73","v":""},{"$f":"'Classement des économies'!H73","v":""},{"$f":"'Classement des économies'!R73","v":""},{"$f":"IF(ISBLANK(T67),'Classement des économies'!K73,T67)","v":""},"",{"$f":"IF(ISBLANK(S67),'Classement des économies'!T73,S67)","v":""},{"$f":"IF(ISBLANK(S67),'Classement des économies'!T73,S67)","v":""},{"$f":"'Classement des économies'!Y73","v":""},{"$f":"'Classement des économies'!Z73","v":""},{"$f":"'Classement des économies'!AA73","v":""},{"$f":"'Classement des économies'!AB73","v":""},{"$f":"'Classement des économies'!AC73","v":""},{"$f":"'Classement des économies'!AD73","v":""},{"$f":"'Classement des économies'!AE73","v":""}]
[null,{"$f":"'Classement des économies'!D74","v":""},{"$f":"'Classement des économies'!E74","v":""},{"$f":"'Classement des économies'!X74","v":""},{"$f":"'Classement des économies'!H74","v":""},{"$f":"'Classement des économies'!R74","v":""},{"$f":"IF(ISBLANK(T68),'Classement des économies'!K74,T68)","v":""},"",{"$f":"IF(ISBLANK(S68),'Classement des économies'!T74,S68)","v":""},{"$f":"IF(ISBLANK(S68),'Classement des économies'!T74,S68)","v":""},{"$f":"'Classement des économies'!Y74","v":""},{"$f":"'Classement des économies'!Z74","v":""},{"$f":"'Classement des économies'!AA74","v":""},{"$f":"'Classement des économies'!AB74","v":""},{"$f":"'Classement des économies'!AC74","v":""},{"$f":"'Classement des économies'!AD74","v":""},{"$f":"'Classement des économies'!AE74","v":""}]
[null,{"$f":"'Classement des économies'!D75","v":""},{"$f":"'Classement des économies'!E75","v":""},{"$f":"'Classement des économies'!X75","v":""},{"$f":"'Classement des économies'!H75","v":""},{"$f":"'Classement des économies'!R75","v":""},{"$f":"IF(ISBLANK(T69),'Classement des économies'!K75,T69)","v":""},"",{"$f":"IF(ISBLANK(S69),'Classement des économies'!T75,S69)","v":""},{"$f":"IF(ISBLANK(S69),'Classement des économies'!T75,S69)","v":""},{"$f":"'Classement des économies'!Y75","v":""},{"$f":"'Classement des économies'!Z75","v":""},{"$f":"'Classement des économies'!AA75","v":""},{"$f":"'Classement des économies'!AB75","v":""},{"$f":"'Classement des économies'!AC75","v":""},{"$f":"'Classement des économies'!AD75","v":""},{"$f":"'Classement des économies'!AE75","v":""}]
[null,{"$f":"'Classement des économies'!D76","v":""},{"$f":"'Classement des économies'!E76","v":""},{"$f":"'Classement des économies'!X76","v":""},{"$f":"'Classement des économies'!H76","v":""},{"$f":"'Classement des économies'!R76","v":""},{"$f":"IF(ISBLANK(T70),'Classement des économies'!K76,T70)","v":""},"",{"$f":"IF(ISBLANK(S70),'Classement des économies'!T76,S70)","v":""},{"$f":"IF(ISBLANK(S70),'Classement des économies'!T76,S70)","v":""},{"$f":"'Classement des économies'!Y76","v":""},{"$f":"'Classement des économies'!Z76","v":""},{"$f":"'Classement des économies'!AA76","v":""},{"$f":"'Classement des économies'!AB76","v":""},{"$f":"'Classement des économies'!AC76","v":""},{"$f":"'Classement des économies'!AD76","v":""},{"$f":"'Classement des économies'!AE76","v":""}]
[null,{"$f":"'Classement des économies'!D77","v":""},{"$f":"'Classement des économies'!E77","v":""},{"$f":"'Classement des économies'!X77","v":""},{"$f":"'Classement des économies'!H77","v":""},{"$f":"'Classement des économies'!R77","v":""},{"$f":"IF(ISBLANK(T71),'Classement des économies'!K77,T71)","v":""},"",{"$f":"IF(ISBLANK(S71),'Classement des économies'!T77,S71)","v":""},{"$f":"IF(ISBLANK(S71),'Classement des économies'!T77,S71)","v":""},{"$f":"'Classement des économies'!Y77","v":""},{"$f":"'Classement des économies'!Z77","v":""},{"$f":"'Classement des économies'!AA77","v":""},{"$f":"'Classement des économies'!AB77","v":""},{"$f":"'Classement des économies'!AC77","v":""},{"$f":"'Classement des économies'!AD77","v":""},{"$f":"'Classement des économies'!AE77","v":""}]
[null,{"$f":"'Classement des économies'!D78","v":""},{"$f":"'Classement des économies'!E78","v":""},{"$f":"'Classement des économies'!X78","v":""},{"$f":"'Classement des économies'!H78","v":""},{"$f":"'Classement des économies'!R78","v":""},{"$f":"IF(ISBLANK(T72),'Classement des économies'!K78,T72)","v":""},"",{"$f":"IF(ISBLANK(S72),'Classement des économies'!T78,S72)","v":""},{"$f":"IF(ISBLANK(S72),'Classement des économies'!T78,S72)","v":""},{"$f":"'Classement des économies'!Y78","v":""},{"$f":"'Classement des économies'!Z78","v":""},{"$f":"'Classement des économies'!AA78","v":""},{"$f":"'Classement des économies'!AB78","v":""},{"$f":"'Classement des économies'!AC78","v":""},{"$f":"'Classement des économies'!AD78","v":""},{"$f":"'Classement des économies'!AE78","v":""}]
[null,{"$f":"'Classement des économies'!D79","v":""},{"$f":"'Classement des économies'!E79","v":""},{"$f":"'Classement des économies'!X79","v":""},{"$f":"'Classement des économies'!H79","v":""},{"$f":"'Classement des économies'!R79","v":""},{"$f":"IF(ISBLANK(T73),'Classement des économies'!K79,T73)","v":""},"",{"$f":"IF(ISBLANK(S73),'Classement des économies'!T79,S73)","v":""},{"$f":"IF(ISBLANK(S73),'Classement des économies'!T79,S73)","v":""},{"$f":"'Classement des économies'!Y79","v":""},{"$f":"'Classement des économies'!Z79","v":""},{"$f":"'Classement des économies'!AA79","v":""},{"$f":"'Classement des économies'!AB79","v":""},{"$f":"'Classement des économies'!AC79","v":""},{"$f":"'Classement des économies'!AD79","v":""},{"$f":"'Classement des économies'!AE79","v":""}]
[null,{"$f":"'Classement des économies'!D80","v":""},{"$f":"'Classement des économies'!E80","v":""},{"$f":"'Classement des économies'!X80","v":""},{"$f":"'Classement des économies'!H80","v":""},{"$f":"'Classement des économies'!R80","v":""},{"$f":"IF(ISBLANK(T74),'Classement des économies'!K80,T74)","v":""},"",{"$f":"IF(ISBLANK(S74),'Classement des économies'!T80,S74)","v":""},{"$f":"IF(ISBLANK(S74),'Classement des économies'!T80,S74)","v":""},{"$f":"'Classement des économies'!Y80","v":""},{"$f":"'Classement des économies'!Z80","v":""},{"$f":"'Classement des économies'!AA80","v":""},{"$f":"'Classement des économies'!AB80","v":""},{"$f":"'Classement des économies'!AC80","v":""},{"$f":"'Classement des économies'!AD80","v":""},{"$f":"'Classement des économies'!AE80","v":""}]
[null,{"$f":"'Classement des économies'!D81","v":""},{"$f":"'Classement des économies'!E81","v":""},{"$f":"'Classement des économies'!X81","v":""},{"$f":"'Classement des économies'!H81","v":""},{"$f":"'Classement des économies'!R81","v":""},{"$f":"IF(ISBLANK(T75),'Classement des économies'!K81,T75)","v":""},"",{"$f":"IF(ISBLANK(S75),'Classement des économies'!T81,S75)","v":""},{"$f":"IF(ISBLANK(S75),'Classement des économies'!T81,S75)","v":""},{"$f":"'Classement des économies'!Y81","v":""},{"$f":"'Classement des économies'!Z81","v":""},{"$f":"'Classement des économies'!AA81","v":""},{"$f":"'Classement des économies'!AB81","v":""},{"$f":"'Classement des économies'!AC81","v":""},{"$f":"'Classement des économies'!AD81","v":""},{"$f":"'Classement des économies'!AE81","v":""}]
[null,{"$f":"'Classement des économies'!D82","v":""},{"$f":"'Classement des économies'!E82","v":""},{"$f":"'Classement des économies'!X82","v":""},{"$f":"'Classement des économies'!H82","v":""},{"$f":"'Classement des économies'!R82","v":""},{"$f":"IF(ISBLANK(T76),'Classement des économies'!K82,T76)","v":""},"",{"$f":"IF(ISBLANK(S76),'Classement des économies'!T82,S76)","v":""},{"$f":"IF(ISBLANK(S76),'Classement des économies'!T82,S76)","v":""},{"$f":"'Classement des économies'!Y82","v":""},{"$f":"'Classement des économies'!Z82","v":""},{"$f":"'Classement des économies'!AA82","v":""},{"$f":"'Classement des économies'!AB82","v":""},{"$f":"'Classement des économies'!AC82","v":""},{"$f":"'Classement des économies'!AD82","v":""},{"$f":"'Classement des économies'!AE82","v":""}]
[null,{"$f":"'Classement des économies'!D83","v":""},{"$f":"'Classement des économies'!E83","v":""},{"$f":"'Classement des économies'!X83","v":""},{"$f":"'Classement des économies'!H83","v":""},{"$f":"'Classement des économies'!R83","v":""},{"$f":"IF(ISBLANK(T77),'Classement des économies'!K83,T77)","v":""},"",{"$f":"IF(ISBLANK(S77),'Classement des économies'!T83,S77)","v":""},{"$f":"IF(ISBLANK(S77),'Classement des économies'!T83,S77)","v":""},{"$f":"'Classement des économies'!Y83","v":""},{"$f":"'Classement des économies'!Z83","v":""},{"$f":"'Classement des économies'!AA83","v":""},{"$f":"'Classement des économies'!AB83","v":""},{"$f":"'Classement des économies'!AC83","v":""},{"$f":"'Classement des économies'!AD83","v":""},{"$f":"'Classement des économies'!AE83","v":""}]
[null,{"$f":"'Classement des économies'!D84","v":""},{"$f":"'Classement des économies'!E84","v":""},{"$f":"'Classement des économies'!X84","v":""},{"$f":"'Classement des économies'!H84","v":""},{"$f":"'Classement des économies'!R84","v":""},{"$f":"IF(ISBLANK(T78),'Classement des économies'!K84,T78)","v":""},"",{"$f":"IF(ISBLANK(S78),'Classement des économies'!T84,S78)","v":""},{"$f":"IF(ISBLANK(S78),'Classement des économies'!T84,S78)","v":""},{"$f":"'Classement des économies'!Y84","v":""},{"$f":"'Classement des économies'!Z84","v":""},{"$f":"'Classement des économies'!AA84","v":""},{"$f":"'Classement des économies'!AB84","v":""},{"$f":"'Classement des économies'!AC84","v":""},{"$f":"'Classement des économies'!AD84","v":""},{"$f":"'Classement des économies'!AE84","v":""}]
[null,{"$f":"'Classement des économies'!D85","v":""},{"$f":"'Classement des économies'!E85","v":""},{"$f":"'Classement des économies'!X85","v":""},{"$f":"'Classement des économies'!H85","v":""},{"$f":"'Classement des économies'!R85","v":""},{"$f":"IF(ISBLANK(T79),'Classement des économies'!K85,T79)","v":""},"",{"$f":"IF(ISBLANK(S79),'Classement des économies'!T85,S79)","v":""},{"$f":"IF(ISBLANK(S79),'Classement des économies'!T85,S79)","v":""},{"$f":"'Classement des économies'!Y85","v":""},{"$f":"'Classement des économies'!Z85","v":""},{"$f":"'Classement des économies'!AA85","v":""},{"$f":"'Classement des économies'!AB85","v":""},{"$f":"'Classement des économies'!AC85","v":""},{"$f":"'Classement des économies'!AD85","v":""},{"$f":"'Classement des économies'!AE85","v":""}]
[null,{"$f":"'Classement des économies'!D86","v":""},{"$f":"'Classement des économies'!E86","v":""},{"$f":"'Classement des économies'!X86","v":""},{"$f":"'Classement des économies'!H86","v":""},{"$f":"'Classement des économies'!R86","v":""},{"$f":"IF(ISBLANK(T80),'Classement des économies'!K86,T80)","v":""},"",{"$f":"IF(ISBLANK(S80),'Classement des économies'!T86,S80)","v":""},{"$f":"IF(ISBLANK(S80),'Classement des économies'!T86,S80)","v":""},{"$f":"'Classement des économies'!Y86","v":""},{"$f":"'Classement des économies'!Z86","v":""},{"$f":"'Classement des économies'!AA86","v":""},{"$f":"'Classement des économies'!AB86","v":""},{"$f":"'Classement des économies'!AC86","v":""},{"$f":"'Classement des économies'!AD86","v":""},{"$f":"'Classement des économies'!AE86","v":""}]
[null,{"$f":"'Classement des économies'!D87","v":""},{"$f":"'Classement des économies'!E87","v":""},{"$f":"'Classement des économies'!X87","v":""},{"$f":"'Classement des économies'!H87","v":""},{"$f":"'Classement des économies'!R87","v":""},{"$f":"IF(ISBLANK(T81),'Classement des économies'!K87,T81)","v":""},"",{"$f":"IF(ISBLANK(S81),'Classement des économies'!T87,S81)","v":""},{"$f":"IF(ISBLANK(S81),'Classement des économies'!T87,S81)","v":""},{"$f":"'Classement des économies'!Y87","v":""},{"$f":"'Classement des économies'!Z87","v":""},{"$f":"'Classement des économies'!AA87","v":""},{"$f":"'Classement des économies'!AB87","v":""},{"$f":"'Classement des économies'!AC87","v":""},{"$f":"'Classement des économies'!AD87","v":""},{"$f":"'Classement des économies'!AE87","v":""}]
[null,{"$f":"'Classement des économies'!D88","v":""},{"$f":"'Classement des économies'!E88","v":""},{"$f":"'Classement des économies'!X88","v":""},{"$f":"'Classement des économies'!H88","v":""},{"$f":"'Classement des économies'!R88","v":""},{"$f":"IF(ISBLANK(T82),'Classement des économies'!K88,T82)","v":""},"",{"$f":"IF(ISBLANK(S82),'Classement des économies'!T88,S82)","v":""},{"$f":"IF(ISBLANK(S82),'Classement des économies'!T88,S82)","v":""},{"$f":"'Classement des économies'!Y88","v":""},{"$f":"'Classement des économies'!Z88","v":""},{"$f":"'Classement des économies'!AA88","v":""},{"$f":"'Classement des économies'!AB88","v":""},{"$f":"'Classement des économies'!AC88","v":""},{"$f":"'Classement des économies'!AD88","v":""},{"$f":"'Classement des économies'!AE88","v":""}]
[null,{"$f":"'Classement des économies'!D89","v":""},{"$f":"'Classement des économies'!E89","v":""},{"$f":"'Classement des économies'!X89","v":""},{"$f":"'Classement des économies'!H89","v":""},{"$f":"'Classement des économies'!R89","v":""},{"$f":"IF(ISBLANK(T83),'Classement des économies'!K89,T83)","v":""},"",{"$f":"IF(ISBLANK(S83),'Classement des économies'!T89,S83)","v":""},{"$f":"IF(ISBLANK(S83),'Classement des économies'!T89,S83)","v":""},{"$f":"'Classement des économies'!Y89","v":""},{"$f":"'Classement des économies'!Z89","v":""},{"$f":"'Classement des économies'!AA89","v":""},{"$f":"'Classement des économies'!AB89","v":""},{"$f":"'Classement des économies'!AC89","v":""},{"$f":"'Classement des économies'!AD89","v":""},{"$f":"'Classement des économies'!AE89","v":""}]
[null,{"$f":"'Classement des économies'!D90","v":""},{"$f":"'Classement des économies'!E90","v":""},{"$f":"'Classement des économies'!X90","v":""},{"$f":"'Classement des économies'!H90","v":""},{"$f":"'Classement des économies'!R90","v":""},{"$f":"IF(ISBLANK(T84),'Classement des économies'!K90,T84)","v":""},{"$f":"IFERROR(ROUND(F84*G84*$H$7,-3),\"\")","v":""},{"$f":"IF(ISBLANK(S84),'Classement des économies'!T90,S84)","v":""},{"$f":"IF(ISBLANK(S84),'Classement des économies'!T90,S84)","v":""},{"$f":"'Classement des économies'!Y90","v":""},{"$f":"'Classement des économies'!Z90","v":""},{"$f":"'Classement des économies'!AA90","v":""},{"$f":"'Classement des économies'!AB90","v":""},{"$f":"'Classement des économies'!AC90","v":""},{"$f":"'Classement des économies'!AD90","v":""},{"$f":"'Classement des économies'!AE90","v":""}]
[null,{"$f":"'Classement des économies'!D91","v":""},{"$f":"'Classement des économies'!E91","v":""},{"$f":"'Classement des économies'!X91","v":""},{"$f":"'Classement des économies'!H91","v":""},{"$f":"'Classement des économies'!R91","v":""},{"$f":"IF(ISBLANK(T85),'Classement des économies'!K91,T85)","v":""},"",{"$f":"IF(ISBLANK(S85),'Classement des économies'!T91,S85)","v":""},{"$f":"IF(ISBLANK(S85),'Classement des économies'!T91,S85)","v":""},{"$f":"'Classement des économies'!Y91","v":""},{"$f":"'Classement des économies'!Z91","v":""},{"$f":"'Classement des économies'!AA91","v":""},{"$f":"'Classement des économies'!AB91","v":""},{"$f":"'Classement des économies'!AC91","v":""},{"$f":"'Classement des économies'!AD91","v":""},{"$f":"'Classement des économies'!AE91","v":""}]
[null,{"$f":"'Classement des économies'!D92","v":""},{"$f":"'Classement des économies'!E92","v":""},{"$f":"'Classement des économies'!X92","v":""},{"$f":"'Classement des économies'!H92","v":""},{"$f":"'Classement des économies'!R92","v":""},{"$f":"IF(ISBLANK(T86),'Classement des économies'!K92,T86)","v":""},"",{"$f":"IF(ISBLANK(S86),'Classement des économies'!T92,S86)","v":""},{"$f":"IF(ISBLANK(S86),'Classement des économies'!T92,S86)","v":""},{"$f":"'Classement des économies'!Y92","v":""},{"$f":"'Classement des économies'!Z92","v":""},{"$f":"'Classement des économies'!AA92","v":""},{"$f":"'Classement des économies'!AB92","v":""},{"$f":"'Classement des économies'!AC92","v":""},{"$f":"'Classement des économies'!AD92","v":""},{"$f":"'Classement des économies'!AE92","v":""}]
[null,{"$f":"'Classement des économies'!D93","v":""},{"$f":"'Classement des économies'!E93","v":""},{"$f":"'Classement des économies'!X93","v":""},{"$f":"'Classement des économies'!H93","v":""},{"$f":"'Classement des économies'!R93","v":""},{"$f":"IF(ISBLANK(T87),'Classement des économies'!K93,T87)","v":""},"",{"$f":"IF(ISBLANK(S87),'Classement des économies'!T93,S87)","v":""},{"$f":"IF(ISBLANK(S87),'Classement des économies'!T93,S87)","v":""},{"$f":"'Classement des économies'!Y93","v":""},{"$f":"'Classement des économies'!Z93","v":""},{"$f":"'Classement des économies'!AA93","v":""},{"$f":"'Classement des économies'!AB93","v":""},{"$f":"'Classement des économies'!AC93","v":""},{"$f":"'Classement des économies'!AD93","v":""},{"$f":"'Classement des économies'!AE93","v":""}]
[null,{"$f":"'Classement des économies'!D94","v":""},{"$f":"'Classement des économies'!E94","v":""},{"$f":"'Classement des économies'!X94","v":""},{"$f":"'Classement des économies'!H94","v":""},{"$f":"'Classement des économies'!R94","v":""},{"$f":"IF(ISBLANK(T88),'Classement des économies'!K94,T88)","v":""},"",{"$f":"IF(ISBLANK(S88),'Classement des économies'!T94,S88)","v":""},{"$f":"IF(ISBLANK(S88),'Classement des économies'!T94,S88)","v":""},{"$f":"'Classement des économies'!Y94","v":""},{"$f":"'Classement des économies'!Z94","v":""},{"$f":"'Classement des économies'!AA94","v":""},{"$f":"'Classement des économies'!AB94","v":""},{"$f":"'Classement des économies'!AC94","v":""},{"$f":"'Classement des économies'!AD94","v":""},{"$f":"'Classement des économies'!AE94","v":""}]
[null,{"$f":"'Classement des économies'!D95","v":""},{"$f":"'Classement des économies'!E95","v":""},{"$f":"'Classement des économies'!X95","v":""},{"$f":"'Classement des économies'!H95","v":""},{"$f":"'Classement des économies'!R95","v":""},{"$f":"IF(ISBLANK(T89),'Classement des économies'!K95,T89)","v":""},"",{"$f":"IF(ISBLANK(S89),'Classement des économies'!T95,S89)","v":""},{"$f":"IF(ISBLANK(S89),'Classement des économies'!T95,S89)","v":""},{"$f":"'Classement des économies'!Y95","v":""},{"$f":"'Classement des économies'!Z95","v":""},{"$f":"'Classement des économies'!AA95","v":""},{"$f":"'Classement des économies'!AB95","v":""},{"$f":"'Classement des économies'!AC95","v":""},{"$f":"'Classement des économies'!AD95","v":""},{"$f":"'Classement des économies'!AE95","v":""}]
[null,{"$f":"'Classement des économies'!D96","v":""},{"$f":"'Classement des économies'!E96","v":""},{"$f":"'Classement des économies'!X96","v":""},{"$f":"'Classement des économies'!H96","v":""},{"$f":"'Classement des économies'!R96","v":""},{"$f":"IF(ISBLANK(T90),'Classement des économies'!K96,T90)","v":""},"",{"$f":"IF(ISBLANK(S90),'Classement des économies'!T96,S90)","v":""},{"$f":"IF(ISBLANK(S90),'Classement des économies'!T96,S90)","v":""},{"$f":"'Classement des économies'!Y96","v":""},{"$f":"'Classement des économies'!Z96","v":""},{"$f":"'Classement des économies'!AA96","v":""},{"$f":"'Classement des économies'!AB96","v":""},{"$f":"'Classement des économies'!AC96","v":""},{"$f":"'Classement des économies'!AD96","v":""},{"$f":"'Classement des économies'!AE96","v":""}]
[null,{"$f":"'Classement des économies'!D97","v":""},{"$f":"'Classement des économies'!E97","v":""},{"$f":"'Classement des économies'!X97","v":""},{"$f":"'Classement des économies'!H97","v":""},{"$f":"'Classement des économies'!R97","v":""},{"$f":"IF(ISBLANK(T91),'Classement des économies'!K97,T91)","v":""},"",{"$f":"IF(ISBLANK(S91),'Classement des économies'!T97,S91)","v":""},{"$f":"IF(ISBLANK(S91),'Classement des économies'!T97,S91)","v":""},{"$f":"'Classement des économies'!Y97","v":""},{"$f":"'Classement des économies'!Z97","v":""},{"$f":"'Classement des économies'!AA97","v":""},{"$f":"'Classement des économies'!AB97","v":""},{"$f":"'Classement des économies'!AC97","v":""},{"$f":"'Classement des économies'!AD97","v":""},{"$f":"'Classement des économies'!AE97","v":""}]
[null,{"$f":"'Classement des économies'!D98","v":""},{"$f":"'Classement des économies'!E98","v":""},{"$f":"'Classement des économies'!X98","v":""},{"$f":"'Classement des économies'!H98","v":""},{"$f":"'Classement des économies'!R98","v":""},{"$f":"IF(ISBLANK(T92),'Classement des économies'!K98,T92)","v":""},"",{"$f":"IF(ISBLANK(S92),'Classement des économies'!T98,S92)","v":""},{"$f":"IF(ISBLANK(S92),'Classement des économies'!T98,S92)","v":""},{"$f":"'Classement des économies'!Y98","v":""},{"$f":"'Classement des économies'!Z98","v":""},{"$f":"'Classement des économies'!AA98","v":""},{"$f":"'Classement des économies'!AB98","v":""},{"$f":"'Classement des économies'!AC98","v":""},{"$f":"'Classement des économies'!AD98","v":""},{"$f":"'Classement des économies'!AE98","v":""}]
[null,{"$f":"'Classement des économies'!D99","v":""},{"$f":"'Classement des économies'!E99","v":""},{"$f":"'Classement des économies'!X99","v":""},{"$f":"'Classement des économies'!H99","v":""},{"$f":"'Classement des économies'!R99","v":""},{"$f":"IF(ISBLANK(T93),'Classement des économies'!K99,T93)","v":""},"",{"$f":"IF(ISBLANK(S93),'Classement des économies'!T99,S93)","v":""},{"$f":"IF(ISBLANK(S93),'Classement des économies'!T99,S93)","v":""},{"$f":"'Classement des économies'!Y99","v":""},{"$f":"'Classement des économies'!Z99","v":""},{"$f":"'Classement des économies'!AA99","v":""},{"$f":"'Classement des économies'!AB99","v":""},{"$f":"'Classement des économies'!AC99","v":""},{"$f":"'Classement des économies'!AD99","v":""},{"$f":"'Classement des économies'!AE99","v":""}]
[null,{"$f":"'Classement des économies'!D100","v":""},{"$f":"'Classement des économies'!E100","v":""},{"$f":"'Classement des économies'!X100","v":""},{"$f":"'Classement des économies'!H100","v":""},{"$f":"'Classement des économies'!R100","v":""},{"$f":"IF(ISBLANK(T94),'Classement des économies'!K100,T94)","v":""},"",{"$f":"IF(ISBLANK(S94),'Classement des économies'!T100,S94)","v":""},{"$f":"IF(ISBLANK(S94),'Classement des économies'!T100,S94)","v":""},{"$f":"'Classement des économies'!Y100","v":""},{"$f":"'Classement des économies'!Z100","v":""},{"$f":"'Classement des économies'!AA100","v":""},{"$f":"'Classement des économies'!AB100","v":""},{"$f":"'Classement des économies'!AC100","v":""},{"$f":"'Classement des économies'!AD100","v":""},{"$f":"'Classement des économies'!AE100","v":""}]
[null,{"$f":"'Classement des économies'!D101","v":""},{"$f":"'Classement des économies'!E101","v":""},{"$f":"'Classement des économies'!X101","v":""},{"$f":"'Classement des économies'!H101","v":""},{"$f":"'Classement des économies'!R101","v":""},{"$f":"IF(ISBLANK(T95),'Classement des économies'!K101,T95)","v":""},"",{"$f":"IF(ISBLANK(S95),'Classement des économies'!T101,S95)","v":""},{"$f":"IF(ISBLANK(S95),'Classement des économies'!T101,S95)","v":""},{"$f":"'Classement des économies'!Y101","v":""},{"$f":"'Classement des économies'!Z101","v":""},{"$f":"'Classement des économies'!AA101","v":""},{"$f":"'Classement des économies'!AB101","v":""},{"$f":"'Classement des économies'!AC101","v":""},{"$f":"'Classement des économies'!AD101","v":""},{"$f":"'Classement des économies'!AE101","v":""}]
[null,{"$f":"'Classement des économies'!D102","v":""},{"$f":"'Classement des économies'!E102","v":""},{"$f":"'Classement des économies'!X102","v":""},{"$f":"'Classement des économies'!H102","v":""},{"$f":"'Classement des économies'!R102","v":""},{"$f":"IF(ISBLANK(T96),'Classement des économies'!K102,T96)","v":""},"",{"$f":"IF(ISBLANK(S96),'Classement des économies'!T102,S96)","v":""},{"$f":"IF(ISBLANK(S96),'Classement des économies'!T102,S96)","v":""},{"$f":"'Classement des économies'!Y102","v":""},{"$f":"'Classement des économies'!Z102","v":""},{"$f":"'Classement des économies'!AA102","v":""},{"$f":"'Classement des économies'!AB102","v":""},{"$f":"'Classement des économies'!AC102","v":""},{"$f":"'Classement des économies'!AD102","v":""},{"$f":"'Classement des économies'!AE102","v":""}]
[null,{"$f":"'Classement des économies'!D103","v":""},{"$f":"'Classement des économies'!E103","v":""},{"$f":"'Classement des économies'!X103","v":""},{"$f":"'Classement des économies'!H103","v":""},{"$f":"'Classement des économies'!R103","v":""},{"$f":"IF(ISBLANK(T97),'Classement des économies'!K103,T97)","v":""},"",{"$f":"IF(ISBLANK(S97),'Classement des économies'!T103,S97)","v":""},{"$f":"IF(ISBLANK(S97),'Classement des économies'!T103,S97)","v":""},{"$f":"'Classement des économies'!Y103","v":""},{"$f":"'Classement des économies'!Z103","v":""},{"$f":"'Classement des économies'!AA103","v":""},{"$f":"'Classement des économies'!AB103","v":""},{"$f":"'Classement des économies'!AC103","v":""},{"$f":"'Classement des économies'!AD103","v":""},{"$f":"'Classement des économies'!AE103","v":""}]
[null,{"$f":"'Classement des économies'!D104","v":""},{"$f":"'Classement des économies'!E104","v":""},{"$f":"'Classement des économies'!X104","v":""},{"$f":"'Classement des économies'!H104","v":""},{"$f":"'Classement des économies'!R104","v":""},{"$f":"IF(ISBLANK(T98),'Classement des économies'!K104,T98)","v":""},"",{"$f":"IF(ISBLANK(S98),'Classement des économies'!T104,S98)","v":""},{"$f":"IF(ISBLANK(S98),'Classement des économies'!T104,S98)","v":""},{"$f":"'Classement des économies'!Y104","v":""},{"$f":"'Classement des économies'!Z104","v":""},{"$f":"'Classement des économies'!AA104","v":""},{"$f":"'Classement des économies'!AB104","v":""},{"$f":"'Classement des économies'!AC104","v":""},{"$f":"'Classement des économies'!AD104","v":""},{"$f":"'Classement des économies'!AE104","v":""}]
[null,{"$f":"'Classement des économies'!D105","v":""},{"$f":"'Classement des économies'!E105","v":""},{"$f":"'Classement des économies'!X105","v":""},{"$f":"'Classement des économies'!H105","v":""},{"$f":"'Classement des économies'!R105","v":""},{"$f":"IF(ISBLANK(T99),'Classement des économies'!K105,T99)","v":""},"",{"$f":"IF(ISBLANK(S99),'Classement des économies'!T105,S99)","v":""},{"$f":"IF(ISBLANK(S99),'Classement des économies'!T105,S99)","v":""},{"$f":"'Classement des économies'!Y105","v":""},{"$f":"'Classement des économies'!Z105","v":""},{"$f":"'Classement des économies'!AA105","v":""},{"$f":"'Classement des économies'!AB105","v":""},{"$f":"'Classement des économies'!AC105","v":""},{"$f":"'Classement des économies'!AD105","v":""},{"$f":"'Classement des économies'!AE105","v":""}]
[null,{"$f":"'Classement des économies'!D106","v":""},{"$f":"'Classement des économies'!E106","v":""},{"$f":"'Classement des économies'!X106","v":""},{"$f":"'Classement des économies'!H106","v":""},{"$f":"'Classement des économies'!R106","v":""},{"$f":"IF(ISBLANK(T100),'Classement des économies'!K106,T100)","v":""},"",{"$f":"IF(ISBLANK(S100),'Classement des économies'!T106,S100)","v":""},{"$f":"IF(ISBLANK(S100),'Classement des économies'!T106,S100)","v":""},{"$f":"'Classement des économies'!Y106","v":""},{"$f":"'Classement des économies'!Z106","v":""},{"$f":"'Classement des économies'!AA106","v":""},{"$f":"'Classement des économies'!AB106","v":""},{"$f":"'Classement des économies'!AC106","v":""},{"$f":"'Classement des économies'!AD106","v":""},{"$f":"'Classement des économies'!AE106","v":""}]
[null,{"$f":"'Classement des économies'!D107","v":""},{"$f":"'Classement des économies'!E107","v":""},{"$f":"'Classement des économies'!X107","v":""},{"$f":"'Classement des économies'!H107","v":""},{"$f":"'Classement des économies'!R107","v":""},{"$f":"IF(ISBLANK(T101),'Classement des économies'!K107,T101)","v":""},"",{"$f":"IF(ISBLANK(S101),'Classement des économies'!T107,S101)","v":""},{"$f":"IF(ISBLANK(S101),'Classement des économies'!T107,S101)","v":""},{"$f":"'Classement des économies'!Y107","v":""},{"$f":"'Classement des économies'!Z107","v":""},{"$f":"'Classement des économies'!AA107","v":""},{"$f":"'Classement des économies'!AB107","v":""},{"$f":"'Classement des économies'!AC107","v":""},{"$f":"'Classement des économies'!AD107","v":""},{"$f":"'Classement des économies'!AE107","v":""}]
[null,{"$f":"'Classement des économies'!D108","v":""},{"$f":"'Classement des économies'!E108","v":""},{"$f":"'Classement des économies'!X108","v":""},{"$f":"'Classement des économies'!H108","v":""},{"$f":"'Classement des économies'!R108","v":""},{"$f":"IF(ISBLANK(T102),'Classement des économies'!K108,T102)","v":""},"",{"$f":"IF(ISBLANK(S102),'Classement des économies'!T108,S102)","v":""},{"$f":"IF(ISBLANK(S102),'Classement des économies'!T108,S102)","v":""},{"$f":"'Classement des économies'!Y108","v":""},{"$f":"'Classement des économies'!Z108","v":""},{"$f":"'Classement des économies'!AA108","v":""},{"$f":"'Classement des économies'!AB108","v":""},{"$f":"'Classement des économies'!AC108","v":""},{"$f":"'Classement des économies'!AD108","v":""},{"$f":"'Classement des économies'!AE108","v":""}]
[null,{"$f":"'Classement des économies'!D109","v":""},{"$f":"'Classement des économies'!E109","v":""},{"$f":"'Classement des économies'!X109","v":""},{"$f":"'Classement des économies'!H109","v":""},{"$f":"'Classement des économies'!R109","v":""},{"$f":"IF(ISBLANK(T103),'Classement des économies'!K109,T103)","v":""},"",{"$f":"IF(ISBLANK(S103),'Classement des économies'!T109,S103)","v":""},{"$f":"IF(ISBLANK(S103),'Classement des économies'!T109,S103)","v":""},{"$f":"'Classement des économies'!Y109","v":""},{"$f":"'Classement des économies'!Z109","v":""},{"$f":"'Classement des économies'!AA109","v":""},{"$f":"'Classement des économies'!AB109","v":""},{"$f":"'Classement des économies'!AC109","v":""},{"$f":"'Classement des économies'!AD109","v":""},{"$f":"'Classement des économies'!AE109","v":""}]

{"sheet":"Traduction","index":14,"n_rows":745,"n_cols":8,"rows_kept":745,"cut":false,"hidden":false,"merged":[]}
[null,"Table de traduction "]
["Langue",{"$f":"Menu!D5","v":"FR"}]
["Textes Afficher","FR","DE"]
[{"$f":"IF($B$2=\"FR\",B4,C4)","v":"oui"},"oui","ja",1,null,"VELANI","Introduction"]
[{"$f":"IF($B$2=\"FR\",B5,C5)","v":"non"},"non","nein",1,null,"Evaluez rapidement l'intérêt à passer à l'étape suivante, l'analyse préliminaire.","Entreprise"]
["[kWh/a]","[kWh/a]","[kWh/a]",1,null,"N. d'entrainement","Menu"]
["Cliquez sur les rectangles ci-dessous  (encadrés en bleu) pour accéder de façon directe aux différents modules de l'outil.","Cliquez sur les rectangles ci-dessous  (encadrés en bleu) pour accéder de façon directe aux différents modules de l'outil.","Über den Menubalken oben oder die Menupunkte mit Kurzbeschrieb unten kann im Tool navigiert werden.",1,null,null,"Menu","Introduction"]
["Pompes","Pompes","Pumpen",1,null,"Cet outil vous permet d'abord de déterminer si votre site industriel, ou votre bâtiment, offre des potentiels d'économies significatifs au niveau de ses entraînements électriques. Afin de limiter l'effort aux situations qui en vallent la peine, un premier module \"Vérification rapide\", qui ne nécessite que quelques minutes, est proposée. Dans le module suivant  \"Analyse préliminaire\", on s'intéresse aux  principaux entraînements électriques du site (information de base) et, sur cette base, un premier potentiel est estimé puis les entraînements classés. Pour les entraînements pour lesquels on dispose de plus d'informations, le module \"Analyse préliminaire plus\" permet de préciser le potentiel. On parvient ainsi à déterminer quels entraînements bénéficieraient avantageusement d'une analyse de détail. Cette dernière, basée sur des mesurages, doit être menée par des spécialistes. Le module \"Analyse de détail\" propose des \"recettes\" d'analyse spécifiques à chaque type d'entraînement et des procédures de conduite des mesurages.","Vérification rapide"]
["Ventilateurs","Ventilateurs","Ventilatoren",1,null,"Changelog:","Menu"]
["Air comprimé","Air comprimé","Druckluft",1,null,"Précision du texte dans l'aide expliquant le calcul de la consommation annuelle et ajout des boutons corresponandant dans l'onglet conseils d'orientation","Introduction"]
["Introduction","Introduction","Einleitung",1,null,"Correction de l'erreur dans l'explication de la méthode de calcul d'économie du à l'ajout d'un variateur de vitesse dans le cas d'un débit variable pour un ventileur ","Installations de froid\n> 30 kW froid"]
["Entreprise","Entreprise","Firma",1,null,"Ajout de l'explication concernant ce qui est pris en compte entre l'âge de l'élément entrainées et la classe d'efficacité du moteur dans l'explication de la méthode de calcul pour l'AP et l'AP+ pompe/ventilateur","Station de pompage\n> 20 kW par pompe"]
["Menu","Menu","Menü",1,null,"Mise en rouge des textes en début de feuilles qui expliquent la marche à suivre et agrandissement des boutons pour passer à l'AP+ ainsi que mise en évidence de cette colonne","Monoblocs de ventilation\n> 10'000 m3/h par monobloc"]
["Quick-check (Vérification rapide)","Quick-check (Vérification rapide)","Quick-Check",1,null,"Rénovation de la navigation, ajout d'un onglet menu. Pour l'analyse préliminaire plus les tableaux correspondant au différents entrainements ont été mis dans des feuilles séparées.","Ventilateurs\n> 10 kW par ventilateur\n"]
["Grand","Grand","Gross",null,null,"AP et AP+ air comprimée: Le facteur entre la puissance nominale et la consommation effective a été corrigé pour les compresseurs sans variateur de 1.15 à 1. Pour les compresseur avec variateur cette valeur reste la même. Correction dans AP et AP+ et dans l'aide.","Système d'air comprimé\n>  25 kW (compresseur)"]
["Limité","Limité","Begrenzt",null,null,"AP et AP+ air comprimée, la sélection pour les taux de charge a été étendu","Autres entraînements\n> 10 kW par entraînement"]
["Réinitialiser","Réinitialiser","Zurücksetzen",null,null,"AP et AP+ air comprimée: Les économies avec un système de commande  électronique centralisé pour un système de 3 compresseurs ou plus ont été diminué de 12 % à 10 % (AP et AP+)","Chaufferie\n> 10 kW par entr. électrique"]
["Évaluer l'intérêt à passer à l'étape suivante","Évaluer l'intérêt à passer à l'étape suivante","Interesses weiterzugehen",null,null,"AP et AP+ air comprimée : sélection des taux de fuite a été étendue","Groupe de pompes de circulation > 10 kW/pompe"]
["Orientation","Orientation","Orientierung",null,null,"AP+ air comprimée : Lors du calcul d'économie du au sectionnement du réseau, l'économie est calculé sur le taux de fuite (et non comme faussement avant sur la consommation totale)."]
["Cacher les résultats","Cacher les résultats","Ergebnisse ausblenden",null,null,"AP et AP+ air comprimée : corrigé l'erreur des éconimies dues à une meilleures gestion des CP qui n'étaient pas pris en compte.","Yannick Riesen:\nAdapter l'xplication méthode de calcul\n"]
["Installation de froid","Installation de froid","Kälteanlage",1,null,"Si un AP+ existe déjà et que l'on reclique dessus dans la feuille des classements des économies, il est demandé si l'on veut réecrir les paramètre de l'AP ou pas.","Yannick Riesen:\nAjouter facteur consommation électrique\n"]
["Station de pompage","Station de pompage","Pumpstation",1,null,"AP+ air comprimée : Si l'on choisi compresseur à vis la selection marche arrête n'est plus possible. Pour piston, tout ou rien n'est plus possible. Si l'on sélectionne un CP à vitesse variable la selection du type de régulation devient blanc,","Installations de froid\n> 30 kW froid"]
["Ventilateurs","Ventilateurs","Ventilatoren",null,null,"AP+ air comprimée : Les unités pour les puissances spécifiques et débits ont été corrigé.","Station de pompage\n> 20 kW par pompe"]
["Système d'air comprimé","Système d'air comprimé","Druckluftsystem",1,null,"Explication calcule AP+, références figure 2 adaptée. ","Monoblocs de ventilation\n> 10'000 m3/h par monobloc"]
["Autres entraînements électriques importants","Autres entraînements électriques importants","Weitere wichtige elektrische Antriebe",1,null,"AP pompe et ventil corrigé erreur aide (nom/code/description)","Ventilateurs\n> 10 kW par ventilateur\n"]
["Circulation","Circulation","Umwälzung",1,null,"Conseil d'orientation : la pondération pour l'âge a été adaptée","Système d'air comprimé\n>  25 kW (compresseur)"]
["Chaufferie","Chaufferie","Kesselraum",null,null,"Vérification rapide: la limite pour être intéressant pas de <90% (plus neuf que 7 ans) à < 80%","Autres entraînements\n> 10 kW par entraînement"]
["Groupe de pompes de circulation","Groupe de pompes de circulation","Zirkulationspumpengruppe",1,null,"AP+ air comprimée : ajout de la question sur le point de rosé","Chaufferie\n> 10 kW par entr. électrique"]
["Calculer une estimation de potentiel","Calculer une estimation de potentiel","Berechnung der Einsparpotenziale",1,null,"Quelques corrections de bug, ajout colonnes économies sur 4 et 8 ans, ajout des +- 30 % d'erreur et du point info correspondant. ","Groupe de pompes de circulation > 10 kW/pompe"]
["Méthode d'évaluation","Méthode d'évaluation","Evaluierungsmethode",null,null,"Message d'erreur si le dossier Information n'est pas trouvé losrque l'on clique sur l'aide.","Oui, mon site satisfait ces critères"]
["Analyse prélimin.","Analyse prélimin.","Grobanalyse",1,null,"Le change log a été un peu négligé","Menu"]
["Ajouter 10 lignes supplémentaires","Ajouter 10 lignes supplémentaires","10 zusätzliche Zeilen hinzufügen",1,null,"AP+ ventilateurs, la possibilié de calculer le ratio avec le puissance électrique a été supprimée","Entreprise"]
["Chaufferie (pompes d’alimentation chaudière ou autres)","Chaufferie (pompes d’alimentation chaudière ou autres)","Kesselraum (Kesselspeisepumpen oder andere)",1,null,"Correction de plusieurs fautes d'orthographes et amélioration des textes. ","Analyse prélimin."]
["AP pompe","AP pompe","GA-Pumpe",1,null,"AP+ Pompe, le rapport minimale entre Qmax et Qnom est fixé à 10 % si valeur plus basse message d'avertissement ainsi et calcules fait avec cette valeur.","Menu"]
["AP ventilateur","AP ventilateur","GA-Ventilator",1,null,"V1e","Entreprise"]
["Analyse prélim.","Analyse prélim.","Grobanalyse",1,null,"V1e","Analyse prélimin."]
["AP Résultat\n","AP Résultat\n","GA-Ergebnis",1,null,"V1e","Yannick Riesen:\nAdapter l'xplication méthode de calcul\n"]
["AP air comprimé","AP air comprimé","GA-Druckluft\n",1,null,"V1e","Yannick Riesen:\nAjouter facteur consommation électrique\n"]
["AP Résultat","AP Résultat","GA-Ergebnis",null,null,"V1f"]
["Synthèse","Synthèse","Zusammenfassung",1,null,"V1g","Yannick Riesen:\nPour l'instant, le calcul est fait par rapport à la classe d'efficacité du moteur. Faudrait impléementer l'age de l'élément entrainé"]
["Air comprimé","Air comprimé","Druckluft",null,null,"V1g","Yannick Riesen:\n10 % Circulation bon gain si on travaille à presison constante (autre réglage (proportionnelle supérieur)"]
["Pompe ventilateur","Pompe ventilateur","Pumpe Ventilator",null,null,"V1g","Yannick Riesen:\nDans commentaire résultats préciser que si redimensionnement nécessaire "]
["Classification","Classification","Klassifizierung",1,null,"V1g","Yannick Riesen:\nPour l'instant, le calcul est fait par rapport à la classe d'efficacité du moteur. Faudrait impléementer l'age de l'élément entrainé"]
["Afficher/cacher informations supplémentaires","Afficher/cacher informations supplémentaires","Zusätzliche Informationen ein-/ausblenden",1,null,"V1g","Yannick Riesen:\n10 % Circulation bon gain si on travaille à presison constante (autre réglage (proportionnelle supérieur)"]
["Classement","Classement","Rangliste",1,null,"V1g","Yannick Riesen:\nDans commentaire résultats préciser que si redimensionnement nécessaire "]
["Afficher le graphique des puissances spécifiques","Afficher le graphique des puissances spécifiques","Spezifische Leistung Graphen einblenden",1,null,"V1g","AP Autres"]
["Afficher/cacher les données déjà remplies ","Afficher/cacher les données déjà remplies ","Bereits abgeschlossene Daten ein-/ausblenden ",1,null,"V1g","Afficher cacher les détails"]
["Je connais ma puissance spécifique","Je connais ma puissance spécifique","Ich kenne die spezifische Leistung.",1,null,"V1g"]
["J'aimerais entrer moi-même la puissance spécifique des nouveaux compresseurs","J'aimerais entrer moi-même la puissance spécifique des nouveaux compresseurs","Ich möchte die spezifische Leistung der neuen Kompressoren selbst eingeben.",1,null,"V1g"]
["Enregistrer l'économie dans la feuille\n\"Classement des économie\" et l'afficher","Enregistrer l'économie dans la feuille\n\"Classement des économie\" et l'afficher","Die Einsparungsresultate in der Klassifikationsseite eintragen",1,null,"V1g","Yannick Riesen:\nPrix simplifié=Coût totale de l'électricité (en CHF, tout inclus)/consommation total (kWh)"]
["Données de débit indisponibles","Données de débit indisponibles","Durchflussdaten nicht verfügbar",1,null,"V1g"]
["Generer bouton ","Generer bouton ","Schaltfläche generieren ",1,null,"V1g","Yannick Riesen:\nPrix simplifié=Coût totale de l'électricité (en CHF, tout inclus)/consommation total (kWh)"]
["Consommation électrique annuelle estimée du compresseur [kWh/a]","Consommation électrique annuelle estimée du compresseur [kWh/a]","Jahresverbrauch [kWh/a]",1,null,"V1h"]
["Légende","Légende","Legende",1,null,"V2c"]
["Nombre de","Nombre de","Anzahl der",null,null,"V2c",null,"Entreprise"]
["Données du module non-encore complétées","Données du module non-encore complétées","Dateneingabe noch nicht abgeschlossen",1,null,"V2f"]
["Données du module complétées","Données du module complétées","Dateneingabe abgeschlossen",1,null,"V2f",null,"Menu"]
["Potentiel d'économie","Potentiel d'économie","Einsparpotenzial",1,null,"V2f",null,"Vérification rapide"]
["Données facultatives","Données facultatives","Optionale Eingabe",1,null,"V2f"]
["Introduction/explication","Introduction/explication","Einführung/Erklärungen",1,null,"V2f",null,"Réinitialiser"]
["Mode d'emploi de l'outil","Mode d'emploi de l'outil","Bedienungsanleitung",1,null,"V2h",null,"Évaluer l'intérêt à passer à l'étape suivante"]
["Données sur l'entreprise","Données sur l'entreprise","Unternehmensdaten",1,null,"V2i",null,"Grand"]
["Possibilité d'entrer vos coordonnées","Possibilité d'entrer vos coordonnées","Firmenangaben",1,null,"V2j",null,"Limité"]
["Total","Total","Total",1,null,"v2j",null,"Orientation"]
["Vérification Rapide","Vérification Rapide","Quick check",null,null,"v2k"]
["Commentaires","Commentaires","Bemerkungen",1,null,"V2m",null,"Autres entraînements électriques importants"]
["Evaluez rapidement, d'après l'âge et la consommation électrique de votre site, s'il vaut la peine de poursuivre la démarche.  ","Evaluez rapidement, d'après l'âge et la consommation électrique de votre site, s'il vaut la peine de poursuivre la démarche.  ","Schätzen Sie anhand des Alters und des Stromverbrauchs des Standorts schnell ab, ob es sich lohnt, weiter zu gehen. ",1,null,"Ajout colonne commentaires"]
["Conseils d'orientation","Conseils d'orientation","Vorgehensberatung ",null,null,"Fusion du quick-check et conseil d'orientation",null,"Chaufferie"]
[{"$f":"IF($B$2=\"FR\",B69,C69)","v":"Par quelques informations supplémentaires, vous pouvez estimer grossièrement le potentiel d'économie d'énergie de vos entraînements électriques et évaluer l'intérêt à passer à l'étape suivante, l'analyse préliminaire."},"Par quelques informations supplémentaires, vous pouvez estimer grossièrement le potentiel d'économie d'énergie de vos entraînements électriques et évaluer l'intérêt à passer à l'étape suivante, l'analyse préliminaire.","Anhand einiger zusätzlicher Eingaben erhalten Sie eine erste grobe Einschätzung der potenziellen Energieeinsparungen des Standorts.",null,null,"Ajout de la catégorie autres, ajout dans synthèse d'un tableau récapitulatif avec possibilité de corriger les économies. Aide à la sélection d'entrainement est supprimée de la feuille excel et une une nouvelle page d'aide avec les liens sur les différents systèmes est crée.",null,"Groupe de pompes de circulation"]
["Analyse Préliminaire (AP)","Analyse Préliminaire (AP)","Grobanalyse (GA)",1,null,"Ecriture info pour évaluation vérification rapide. Ajout d'un module autres entrainement (version grossière).",null,"Calculer une estimation de potentiel"]
["En listant les principaux entraînements de votre site, vous disposerez d'une première estimation des économies qui peuvent leur être associées.","En listant les principaux entraînements de votre site, vous disposerez d'une première estimation des économies qui peuvent leur être associées.","Erfassung der Antriebe und grobe Einschätzung des Einsparpotenzials, unterteilt nach Anwendung",1,null,"Ajout question système pour pompe et ventilo GA et GA+  et écriture de l'aide et adaptation des calculs",null,"Cacher les résultats"]
["Nombre d'entrainements listé","Nombre d'entrainements listé","Anzahl der eingetragene Antriebe",1,null,"Donnée styles aux cellules",null,"Installation de froid"]
["Entrainements","Entrainements","Antriebe",null,null,"1. Première vérification",null,"Station de pompage"]
["Pompe","Pompe","Pumpe",null,null,null,null,"Monoblocs de ventilation"]
["Ventilateur","Ventilateur","Ventilator",null,null,"2. Evaluation complémentaire"]
["Air comprimé","Air comprimé","Druckluftanlage",null,null,"En renseignant quelques champs supplémentaires, évaluez la pertinence à passer à l'analyse préliminaire."]
["Pompe(s)","Pompe(s)","Pumpen",1,null,"Appréciation"]
["Ventilateur(s)","Ventilateur(s)","Ventilatoren",1,null,"D'après la consommation d'énergie du site, le potentiel est faible.",null,"Ventilateurs"]
["Résultats","Résultats","Resultate",1,null,"Favorable",null,"Système d'air comprimé"]
["Présentation et classement des résultats de l'analyse préliminaire.","Présentation et classement des résultats de l'analyse préliminaire.","Resultatübersicht der Grobanalyse mit Klassifizierung der Potenziale",1,null,"Très favorable",null,"Analyse prélimin."]
["Tableau de Synthèse","Tableau de Synthèse","Resultatsübersicht",null,null,"Défavorable",null,"Ajouter 10 lignes supplémentaires"]
["Analyse Préliminaire plus","Analyse Préliminaire plus","Grobanalyse plus (GA+)",1,null,"Il y un intérêt à poursuivre avec l'analyse préliminaire",null,"Chaufferie (pompes d’alimentation chaudière ou autres)"]
["Pour les entrainements pour lesquels on dispose d'informations plus détaillées, on peut préciser ici les économies. Le classement des économies sera actualisé.","Pour les entrainements pour lesquels on dispose d'informations plus détaillées, on peut préciser ici les économies. Le classement des économies sera actualisé.","Wo genauere Informationen zur Verfügung stehen können hier die Berechnungen des Einsparpotenzials entsprechend verfeinert werden.",1,null,"L'intérêt à continuer est limité",null,"AP pompe"]
["Index","Index","Index",1,null,"Veuillez renseigner tous les champs nécessaires",null,"Yannick Riesen:\nPour l'instant, le calcul est fait par rapport à la classe d'efficacité du moteur. Faudrait impléementer l'age de l'élément entrainé"]
["Entrainements déjà renseignés","Entrainements déjà renseignés","Antriebe mit ausgefüllten Daten",1,null,"Vérifiez que vous avez bien sélectionné les entraînements présents sur site",null,"Yannick Riesen:\nDans commentaire résultats préciser que si redimensionnement nécessaire "]
["Introduction/Explications","Introduction/Explications","Einführung/Erklärungen",1,null,"Vérifier la valeur renseignée pour la consommation électrique totale du site",null,"Yannick Riesen:\n10 % Circulation bon gain si on travaille à presison constante (autre réglage (proportionnelle supérieur)"]
["Cet outil vous permet de déterminer de façon logique et efficace si votre site industriel ou votre bâtiment offre des potentiels d'économies significatifs au niveau de ses entraînements électriques.\nAfin de limiter l'effort aux situations qui en vallent la peine, un premier module \"vérification rapide\", qui ne nécessite que 2 minutes, est proposée. Il vous permetra de décider de poursuivre, ou pas, l'analyse. Dans le module suivant  \"Conseil d'orientation\", on s'intéresse à la présence ou non des grands entraînements électriques et, sur cette base, un premier potentiel est estimé.","Cet outil vous permet de déterminer de façon logique et efficace si votre site industriel ou votre bâtiment offre des potentiels d'économies significatifs au niveau de ses entraînements électriques.\nAfin de limiter l'effort aux situations qui en vallent la peine, un premier module \"vérification rapide\", qui ne nécessite que 2 minutes, est proposée. Il vous permetra de décider de poursuivre, ou pas, l'analyse. Dans le module suivant  \"Conseil d'orientation\", on s'intéresse à la présence ou non des grands entraînements électriques et, sur cette base, un premier potentiel est estimé.","Mit diesem Tool können Sie systematisch und schnell beurteilen, ob Ihr Standort erhebliche Einsparpotenziale bei den elektrischen Antrieben bietet.\nUm den Aufwand zu beschränken, wird ein erster \"Quick-Check \"-Schritt vorgeschlagen, der nur 2 Minuten dauert. Damit können Sie beurteilen, ob es sich lohnt die Analyse fortzusetzen. Beim nächsten Schritt, die \"Vorgehensberatung\" wird ein erstes sehr grobes einsparungspotenziale angegeben anhand der eingegebene Systemen. ",null,null,"Neutre",null,"AP ventilateur"]
["L'objectif de cet outil est de vous accompagner jusqu'à la mise en œuvre des optimisations et la validation des économies. Comme les phases préliminaires doivent pouvoir être menées sans soutien, toutes vos interventions sont commentées et explicitées. Vous trouverez des explications ou informations en cliquant sur les textes soulignés comme ci-dessous.","L'objectif de cet outil est de vous accompagner jusqu'à la mise en œuvre des optimisations et la validation des économies. Comme les phases préliminaires doivent pouvoir être menées sans soutien, toutes vos interventions sont commentées et explicitées. Vous trouverez des explications ou informations en cliquant sur les textes soulignés comme ci-dessous.","Ziel dieses Tools ist es, Sie bis zur Umsetzung von Optimierungsmassnahmen und der Validierung der Einsparungen zu begleiten.  Um das Vorgehen bis und mit Grobanalyse Plus auch ohne externe Unterstützung zu ermöglichen, sind die meisten Eingaben in Hilfetexten erläutert. Die Hilfetexte können mit Klick auf die unterstrichenen Wörter aufgerufen werden (Hyperlinks). Siehe Beispiel unten.",1,null,"Renseignements généraux",null,"Analyse prélim."]
["Attention : Les économies calculées jusqu'à l'analyse préliminaire sont des valeurs approximatives basées sur des moyennes et des données statistiques. Elles peuvent donc fortement différer des économies réelles. Seule l'analyse fine permet d'obtenir des estimations d'économies précises.","Attention : Les économies calculées jusqu'à l'analyse préliminaire sont des valeurs approximatives basées sur des moyennes et des données statistiques. Elles peuvent donc fortement différer des économies réelles. Seule l'analyse fine permet d'obtenir des estimations d'économies précises.","Achtung: Die bis zur Grobanalyse berechneten Einsparungen sind Näherungswerte auf der Basis von Durchschnittswerten und können erheblich von den tatsächlichen Einsparungen abweichen. Für eine genaue Einschätzung des Potenzials muss eine Feinanalyse durchgeführt werden.",1,null,"Prix de l'électricité en CHF/kWh (Coûts totaux incluant l'énergie, la puissance et les coûts réseaux divisés par la consommation totale)",null,"AP Résultat\n"]
["Signification des couleurs","Signification des couleurs","Bedeutung der Farben",1,null,"De quand datent approximativement les installations (comprenant des entraînements). Commencez par la valeur que vous allez réduire.",null,"AP air comprimé"]
["Case à compléter ou liste déroulante","Case à compléter ou liste déroulante","Eingabefeld",1,null,"Autres grands consommateurs d'électricité"]
["Valeur par défaut, peut être précisée","Valeur par défaut, peut être précisée","Eingabefeld mit Standardwert (kann überschrieben werden)",1,null,"Existe-t-il d'autres grands consommateurs de courant (fours, éclairage, ...) représentant, ensembles, plus de 50 % de la consommation électrique annuelle du site?",null,"AP Résultat"]
["Champ facultatif","Champ facultatif","Optionales Eingabefeld",1,null,"3. Conclusion",null,"Tableau de synthèse"]
["Objectif de l'outil","Objectif de l'outil","Ziel des Tools",1,null,"Evaluation générale",null,"Air comprimé"]
["Cliquez pour plus d'information sur la méthode de calcul","Cliquez pour plus d'information sur la méthode de calcul","Klicken Sie hier für weitere Informationen zur Berechnungsmethode",1,null,"Installations de froid\n> 30 kW froid",null,"Pompe ventilateur"]
["Cliquez sur les textes souligné bleu pour une aide ou des informations sur la méthode de calcul.","Cliquez sur les textes souligné bleu pour une aide ou des informations sur la méthode de calcul.","Klicken Sie für Hilfe oder Erklärungen zur Methodologie",1,null,"Station de pompage\n> 20 kW par pompe",null,"Classification"]
["Version","Version","Version",1,null,"Monoblocs de ventilation\n> 10'000 m3/h par monobloc",null,301]
["Entreprise","Entreprise","Firma",null,null,"Ventilateurs\n> 10 kW par ventilateur\n",null,"Afficher/cacher informations supplémentaires"]
["Sur cette page vous pouvez entrer les données de contacts","Sur cette page vous pouvez entrer les données de contacts","Kontaktinformation",1,null,"Système d'air comprimé\n>  25 kW (compresseur)",null,"Classement"]
["Nom de l'entreprise","Nom de l'entreprise","Name der Firma",1,null,"Autres entraînements\n> 10 kW par entraînement",null,"Afficher le graphique des puissances spécifiques"]
["Nom et prénom de l'interlocuteur","Nom et prénom de l'interlocuteur","Name und Vorname der Kontaktperson",1,null,"Chaufferie\n> 10 kW par entr. électrique",null,"Afficher/cacher les données déjà remplies "]
["Numéro de téléphone","Numéro de téléphone","Telefon-Nummer",1,null,"Groupe de pompes de circulation > 10 kW/pompe",null,"Afficher/cacher les données déjà remplies"]
["Adresse email","Adresse email","E-Mail",1,null,null,null,"Je connais ma puissance spécifique"]
["Vérification rapide ","Vérification rapide ","Quick-Check",null,null,"Yannick Riesen:\nAdapter l'xplication méthode de calcul\n",null,"J'aimerais entrer moi-même la puissance spécifique des nouveaux compresseurs"]
["Evaluez rapidement s'il vaut la peine de passer à l'étape suivante pour préciser le potentiel d'économie de vos entrainements électriques.","Evaluez rapidement s'il vaut la peine de passer à l'étape suivante pour préciser le potentiel d'économie de vos entrainements électriques.","Schätzen Sie mit einigen Angaben über Ihren Standort ein, ob es sich lohnt mit Schritt 2 fortzufahren. ",1,null,"Yannick Riesen:\nAjouter facteur consommation électrique\n",null,"Enregistrer l'économie dans la feuille\n\"Classement des économie\" et l'afficher"]
["Consommation annuelle électrique totale du site:","Consommation annuelle électrique totale du site:","Gesamter jährlicher Stromverbrauch des Standorts:",null,null,"1. Première vérification",null,"Yannick Riesen:\nPrix simplifié=Coût totale de l'électricité (en CHF, tout inclus)/consommation total (kWh)"]
["De quand datent les installations [répartition en %]","De quand datent les installations [répartition en %]","Wann wurden die Anlagen gebaut [% Verteilung]?",1,null,"Si la consommation électrique totale du site comprenant les entrainements électrique est plus grande que 100 MWh/a et que plus de 15 % des entrainements électriques ont été installé il y plus de 8 ans, il vaut la peine de passer à l'étape suivante en cliquant cliquez sur le bouton ci-dessous.",null,"Yannick Riesen:\nVérifier avec AEnEC jusqu'à quel point on peut utilisé ces formules\n"]
["Résultat","Résultat","Resultat",null,null,"2. Evaluation complémentaire",null,"Données de débit indisponibles"]
["Intérêt à passer à l'étape suivante plutôt: plus tôt, intérêt à anticiper l'étape suivante","Intérêt à passer à l'étape suivante plutôt: plus tôt, intérêt à anticiper l'étape suivante","Interesse für den nächsten Schritt",null,null,"En renseignant quelques champs supplémentaires, évaluez la pertinence à passer à l'analyse préliminaire.",null,"Generer bouton "]
["Conseils d'orientation (2 minutes à 10 minutes)","Conseils d'orientation (2 minutes à 10 minutes)","Vorgehensberatung (2 bis 10 Minuten)",null,null,"Appréciation",null,"Retour au conseil d'orientation"]
["Via quelques informations supplémentaires, vous pouvez connaître grossièrement le potentiel d'économie d'énergie de vos entraînements électriques et évaluer l'intérêt à passer à l'étape suivante, l'analyse préliminaire.","Via quelques informations supplémentaires, vous pouvez connaître grossièrement le potentiel d'économie d'énergie de vos entraînements électriques et évaluer l'intérêt à passer à l'étape suivante, l'analyse préliminaire.","Mit einigen zusätzlichen Informationen können Sie das Energiesparpotenzial Ihrer elektrischen Antriebe grob abschätzen und das Interesse der nächsten Schritt auszufüllen, die Grobanalyse, zu bewerten.",null,null,"D'après la consommation d'énergie du site, le potentiel est faible."]
["1. Consommation annuelle électrique totale du site et secteur d'activité:","1. Consommation annuelle électrique totale du site et secteur d'activité:","1. Gesamter jährlicher Stromverbrauch des Standorts und  Industriebranche:",null,null,"Favorable"]
["Prix de l'électricité en CHF/kWh","Prix de l'électricité en CHF/kWh","Strompreis in CHF/kWh",null,null,"Très favorable"]
["Précisez la consommation électrique annuelle du site en MWh/a :","Précisez la consommation électrique annuelle du site en MWh/a :","Jährlicher Stromverbrauch des Standorts in MWh/a",1,null,"Défavorable"]
["Le secteur d'activité","Le secteur d'activité","Branche",1,null,"Il y un intérêt à poursuivre avec l'analyse préliminaire"]
["2. Installations sur site","2. Installations sur site","2. Anlagen am Standort",1,null,"L'intérêt à continuer est limité"]
["Veuillez cliquer sur les installations présentes sur le site.","Veuillez cliquer sur les installations présentes sur le site.","Klicken Sie bitte auf die Anlagen, die vor Ort vorhanden sind.",1,null,"Veuillez renseigner tous les champs nécessaires"]
["Points totaux","Points totaux","Total Punkte",1,null,"Vérifiez que vous avez bien sélectionné les entraînements présents sur site"]
["3. Résultats","3. Résultats","3. Resultate",null,null,"Vérifier la valeur renseignée pour la consommation électrique totale du site"]
["Potentiel d'économie par année","Potentiel d'économie par année","Jährliche Einsparpotenziale",1,null,"Neutre"]
["Pour répertorier les principaux entrainements et estimer plus précisément les potentiels associés, passez à l'étape suivante en cliquant sur la flèche \"Analyse prélim.\".","Pour répertorier les principaux entrainements et estimer plus précisément les potentiels associés, passez à l'étape suivante en cliquant sur la flèche \"Analyse prélim.\".","Um die interessantesten elektrischen Antriebe aufzulisten und ihr Einsparpotenzial separat zu berechnen, gehen Sie zum nächsten Schritt, indem Sie auf den Pfeil klicken.",null,null,"Renseignements généraux"]
["Lister les principaux entraînements et disposer d'une première estimation des économies.","Lister les principaux entraînements et disposer d'une première estimation des économies.","Listen Sie die relevanten Antriebe auf, um eine erste Schätzung der zu erwartenden Einsparungen zu erhalten.",1,null,"Prix de l'électricité en CHF/kWh (Coûts totaux incluant l'énergie, la puissance et les coûts réseaux divisés par la consommation totale)"]
["Economies associées à ces entraînements","Economies associées à ces entraînements","Geschätzte erwartete Einsparungen",1,null,"De quand datent approximativement les installations (comprenant des entraînements). Commencez par la valeur que vous allez réduire."]
["Veuillez choisir le type d'entrainement que vous souhaiter lister en cliquant sur le rectangle bleu correspondant","Veuillez choisir le type d'entrainement que vous souhaiter lister en cliquant sur le rectangle bleu correspondant","Bitte wählen Sie durch Anklicken der elektrische Antriebstyp aus, der Sie auflisten möchten.",1,null,"Autres grands consommateurs d'électricité"]
["But:","But:","Ziel:",1,null,"Existe-t-il d'autres grands consommateurs de courant (fours, éclairage, ...) représentant, ensembles, plus de 50 % de la consommation électrique annuelle du site?"]
["Résultat:","Résultat:","Resultat:",1,null,"3. Conclusion"]
["Instructions:","Instructions:","Anweisungen:",1,null,"Evaluation générale"]
["Accédez aux différentes listes par type d'entrainement en cliquant dans la cellule correspondante","Accédez aux différentes listes par type d'entrainement en cliquant dans la cellule correspondante","Zugriff auf die verschiedenen Listen nach elektrischen Antriebstyp durch Anklicken der entsprechenden Zelle",null,null,"Installations de froid\n> 30 kW froid"]
["Aide: où trouvez les entrainements pertinents?","Aide: où trouvez les entrainements pertinents?","Hilfe: Wo finde ich die sinnvollen elektrischen Antriebe?",null,null,"Station de pompage\n> 20 kW par pompe"]
["En cliquant sur les différents boutons ci-dessous, correspondant à des installations typiques pouvant exister sur votre site, un texte d'aide vous facilitera l'identification des entraînements électriques caractéristiques de ces types d'installations. Vous pourrez ensuite répertorier ces entraînements dans les listes ci-dessus.","En cliquant sur les différents boutons ci-dessous, correspondant à des installations typiques pouvant exister sur votre site, un texte d'aide vous facilitera l'identification des entraînements électriques caractéristiques de ces types d'installations. Vous pourrez ensuite répertorier ces entraînements dans les listes ci-dessus.","Wenn Sie auf die verschiedenen Knöpfen unten klicken, die den typischen Anlagen auf Ihrem Industriegelände entsprechen, erleichtert Ihnen ein Hilfetext die Identifizierung der für dieser Typ von Anlagen charakteristischen elektrischen Antriebe. Sie können diese antriebe dann in den Listen auflisten",null,null,"Monoblocs de ventilation\n> 10'000 m3/h par monobloc"]
["Lister les principales pompes et disposer d'une première estimation des économies qui peuvent être escomptées","Lister les principales pompes et disposer d'une première estimation des économies qui peuvent être escomptées","Erfassung der wichtigsten Pumpen mit einer ersten Schätzung des Einsparpotenzials",1,null,"Ventilateurs\n> 10 kW par ventilateur\n"]
["Lister les principaux ventilateurs et disposer d'une première estimation des économies qui peuvent être escomptées.","Lister les principaux ventilateurs et disposer d'une première estimation des économies qui peuvent être escomptées.","Erfassung der wichtigsten Ventilatoren mit einer ersten Schätzung des Einsparpotenzials",1,null,"Système d'air comprimé\n>  25 kW (compresseur)"]
[{"$f":"IF($B$2=\"FR\",B133,C133)","v":"Lister, pour le réseau d'air comprimé, les compresseurs et disposer d'une première estimation des économies qui peuvent être escomptées."},"Lister, pour le réseau d'air comprimé, les compresseurs et disposer d'une première estimation des économies qui peuvent être escomptées.","Erfassung der wichtigsten Kompressoren mit einer ersten Schätzung des Einsparpotenzials",1,null,"Autres entraînements\n> 10 kW par entraînement"]
["Instructions","Instructions","Anweisungen:",null,null,"Chaufferie\n> 10 kW par entr. électrique"]
["Complétez le tableau ci-dessous pour les pompes. En cas de besoin cliquez sur l'aide ci-après pour afficher l'aide à la sélection","Complétez le tableau ci-dessous pour les pompes. En cas de besoin cliquez sur l'aide ci-après pour afficher l'aide à la sélection","Erfassen Sie unten die relevanten Pumpen. Der Hilfe-Link rechts unterstützt bei der Auswahl.",1,null,"Groupe de pompes de circulation > 10 kW/pompe"]
["Complétez le tableau ci-dessous pour les ventilateurs. En cas de besoin cliquez sur le bouton pour afficher l'aide à la sélection","Complétez le tableau ci-dessous pour les ventilateurs. En cas de besoin cliquez sur le bouton pour afficher l'aide à la sélection","Erfassen Sie unten die relevanten Ventilatoren. Der Hilfe-Link rechts unterstützt bei der Auswahl.",null,null,"Oui, mon site satisfait ces critères"]
["Complétez le tableau pour les compresseurs. En cas de besoin cliquez sur l'aide ci-après pour afficher l'aide à la sélection.","Complétez le tableau pour les compresseurs. En cas de besoin cliquez sur l'aide ci-après pour afficher l'aide à la sélection.","Erfassen Sie unten die Eckdaten der Druckluftanlage und die relevanten Kompressoren.",1,null,"Menü"]
["Numéro d'entrainement","Numéro d'entrainement","Antriebsnummer",1,null,"Firma"]
["Type d'entraînement ","Type d'entraînement ","Antriebstyp",1,null,"Grobanalyse"]
["Localisation","Localisation","Standort",1,null,"Menü"]
["Nom/code/description","Nom/code/description","Bezeichnung, Nummer, Beschrieb",1,null,"Firma"]
["Puissance nominale du moteur [kW]","Puissance nominale du moteur [kW]","Nennleistung des Motors [kW]",1,null,"Grobanalyse"]
["Année de construction de la pompe [année]","Année de construction de la pompe [année]","Baujahr der Pumpe [Jahr]",1,null,"Yannick Riesen:\nAdapter l'xplication méthode de calcul\n"]
["Ventilation","Ventilation","Ventilator",1,null,"Yannick Riesen:\nAjouter facteur consommation électrique\n"]
["Année de construction de la ventilation [année]","Année de construction de la ventilation [année]","Baujahr der Ventilatoren [Jahr]",1,null,"Evaluez rapidement l'intérêt à passer à l'étape suivante, l'analyse préliminaire."]
["Heures de fonctionnement individuelles [heures/année]","Heures de fonctionnement individuelles [heures/année]","Jährliche Betriebsstunden [h/a]",1,null," Aide: où trouver les entrainements pertinents?"]
["Demande variable","Demande variable","Variabler Bedarf",1,null,"Nombre d'entrainement listé"]
["Relevage","Relevage","Heben",1,null,"Avez-vous procédé à des optimisations « système » ces dernières années ?"]
["Convertisseur de fréquence réglé","Convertisseur de fréquence réglé","Gesteuerter Frequenzumrichter",1]
["Relevage ou circulation ","Relevage ou circulation ","Heben oder Umwälzen ",1,null,"Consommation annuelle estimées [kWh/a]"]
["Consommation annuelle estimée [kWh/a]","Consommation annuelle estimée [kWh/a]","Jahresverbrauch [kWh/a]",1,null,"Gains technologique [%]"]
["Forcer la consommation annuelle [kWh/a]","Forcer la consommation annuelle [kWh/a]","Verbrauch manuell überschreiben [kWh/a]",1,null,"Gains optimisation système"]
["Consommation annuelle estimée [kWh/a]","Consommation annuelle estimée [kWh/a]","Geschätzter Jahresverbrauch [kWh/a]",null,null,"efficacité avec correction si élement entrainé est plus agé"]
["Economies [kWh/a]","Economies [kWh/a]","Einsparungen [kWh/a]",1,null,"Equivalent classe d'efficactié élément entrainé"]
["Economies [%]","Economies [%]","Einsparungen [%]",1,null,"Yannick Riesen:\nPour l'instant, le calcul est fait par rapport à la classe d'efficacité du moteur. Faudrait impléementer l'age de l'élément entrainé"]
["Gain technologique [%]","Gain technologique [%]","Technologischeeinsparungen  [%]",1,null,"Yannick Riesen:\n10 % Circulation bon gain si on travaille à presison constante (autre réglage (proportionnelle supérieur)"]
["Gain variateur de fréquence","Gain variateur de fréquence","FU Gewinn [%]",1,null,"Yannick Riesen:\nDans commentaire résultats préciser que si redimensionnement nécessaire "]
["Gains redimensionnement [%]","Gains redimensionnement [%]","Neudimensionierungsgewinn",1,null,"Nombre d'entrainement listé"]
["Code","Code","Code"]
["efficacité avec correction si élément entrainé est plus âgé","efficacité avec correction si élément entrainé est plus âgé","korrigierter Wirkungsgrad, wenn das angetriebene Element älter ist",null,null,"Avez-vous procédé à des optimisations « système » ces dernières années ?"]
["Pompe","Pompe","Pumpe (n)",null,null,"Commentaires/défauts"]
["Ne sais pas","Ne sais pas","Weiss nicht",1,null,"Consommation annuelle estimées [kWh/a]"]
["Classe d'efficacité  du moteur","Classe d'efficacité  du moteur","Motoreffizienz-Klasse",1,null,"Gains technologique [%]"]
["Systèmes d'air comprimée","Systèmes d'air comprimée","Druckluftsysteme",null,null,"Gains optimisation système"]
["Instructions: ","Instructions: ","Anweisungen:",null,null,"efficacité avec correction si élement entrainé est plus agé"]
["Pour chaque réseau, complétez les valeurs demandées","Pour chaque réseau, complétez les valeurs demandées","Füllen Sie die Werte aus",null,null,"Equivalent classe d'efficactié élément entrainé"]
["Nombre de compresseurs","Nombre de compresseurs","Anzahl der Kompressoren",1,null,"Yannick Riesen:\nPour l'instant, le calcul est fait par rapport à la classe d'efficacité du moteur. Faudrait impléementer l'age de l'élément entrainé"]
["Réseau d'air comprimée","Réseau d'air comprimée","Druckluftnetz",1,null,"Yannick Riesen:\n10 % Circulation bon gain si on travaille à presison constante (autre réglage (proportionnelle supérieur)"]
["Avez-vous déjà optimisé la pression?","Avez-vous déjà optimisé la pression?","Haben Sie den Druck bereits optimiert?",1,null,"Yannick Riesen:\nDans commentaire résultats préciser que si redimensionnement nécessaire "]
["État du réseau d'air comprimée","État du réseau d'air comprimée","Zustand des Druckluftnetzes",1,null,"Nombre d'entrainement listé"]
["Réseau 1","Réseau 1","Netz 1",null,null,"Text pour économies"]
["Presque étanche (tf=15%)","Presque étanche (tf=15%)","Fast Dicht (Leckagerate 15%)",1,null,"AIP"]
["Nombre de compresseurs fonctionnant simultanément","Nombre de compresseurs fonctionnant simultanément","Anzahl der gleichzeitig arbeitenden Kompressoren",1,null,"Economie du à une meilleures gestion  [kWh/a]"]
["Système de commande électronique centralisé","Système de commande électronique centralisé","Zentrale elektronische Steuerung",1,null,"Total:"]
["Consommation totale du réseau","Consommation totale du réseau","Gesamtverbrauch",1,null,"Commentaires/défauts:"]
["Economies dues à l'ajustement de pression [kWh/a]","Economies dues à l'ajustement de pression [kWh/a]","Einsparungen durch Druckanpassung [kWh/a]",null,null,"AP Autres"]
["Economies dues à une meilleure gestion  [kWh/a]","Economies dues à une meilleure gestion  [kWh/a]","Einsparungen durch besserer Betrieb [kWh/a].",null,null,"Economines"]
["Economies dues à une réduction des fuites [kWh/a]","Economies dues à une réduction des fuites [kWh/a]","Einsparung durch reduzierte Leckage [kWh/a].",null,null,"Conso totales"]
["Economies totales réseau [kWh/a]","Economies totales réseau [kWh/a]","Gesamte Netzeinsparungen [kWh/a]",1,null,"Nbre Pompe"]
["Economie Totale","Economie Totale","Gesamte Einsparungen [kWh/a]",1,null,"Nbre de Ventilo"]
["Puissance nominale du compresseur [kW]","Puissance nominale du compresseur [kW]","Kompressor Nennleistung [kW]",1,null,"Nbre CP"]
["Année de construction du compresseur [année]","Année de construction du compresseur [année]","Kompressor Baujahr [Jahr]",1,null,"Economie Pompe"]
["Heures annuelles de fonctionnement du compresseur [h]","Heures annuelles de fonctionnement du compresseur [h]","Betriebsstunden [h/a]",1,null,"Ecnomie Ventil"]
["Taux de charge [%]","Taux de charge [%]","Auslastung [%]",1,null,"Economie autre"]
["Est-ce un compresseur avec variateur de fréquence (VF ou VV)","Est-ce un compresseur avec variateur de fréquence (VF ou VV)","Kompressor mit FU?",1,null,"Conso Ventil"]
["Âge du compresseur","Âge du compresseur"," ",1,null,"Conso Aircomp"]
["Taux de charge","Taux de charge","Auslastung",null,null,"Conso autre"]
["Economie remplacement du compresseur technologique [kWh/a]","Economie remplacement du compresseur technologique [kWh/a]","Technologieeinsparungen (neuer Kompressor) [kWh/a].",1,null,"Résultats: Optimisations pour les pompes, les ventilateurs et l'air comprimé "]
["Economie ajout de variateur [kWh/a]","Economie ajout de variateur [kWh/a]","Einsparungen dank Frequenzumrichter [kWh/a].",1,null,"Pompe et ventil 1er ligne"]
["Nombre d'entrainements listés","Nombre d'entrainements listés","Anzahl der erfassten Antriebe",1]
["Analyse préliminaire: Liste des pompes","Analyse préliminaire: Liste des pompes","Grobanalyse: Liste der Pumpen",1]
["Lister les entraînements pertinents pour calculer une première estimation des économies qui peuvent être escomptées","Lister les entraînements pertinents pour calculer une première estimation des économies qui peuvent être escomptées","Führen Sie die relevanten Antriebe auf, um eine erste Schätzung der zu erwartenden Einsparungen zu erhalten.",null,null,"Optimisation système [kWh/a]"]
["Remplissez Complétez le tableau ci-dessous pour les pompes. En cas de besoin cliquer sur le bouton pour afficher l'aide à la sélection","Remplissez Complétez le tableau ci-dessous pour les pompes. En cas de besoin cliquer sur le bouton pour afficher l'aide à la sélection","Füllen Sie die folgende Tabelle für die Pumpen aus. Klicken Sie ggf. auf die Knöpfe, um Hilfe anzuzeigen.",null,null,"Autre eco"]
["Mesures d'améliorations","Mesures d'améliorations","Verbesserungsmaßnahmen",1,null,"Autre conso"]
["Calcul des gains","Calcul des gains","Ertragsberechnung",1,null,"Commentaires GA+"]
["Type d'entraînement","Type d'entraînement","Elektrischen Antriebstyp",null,null,"Analyse préliminaire: Synthèse et liste de sélection pour la suite"]
[{"$f":"IF($B$2=\"FR\",B197,C197)","v":"Analyse préliminaire: Liste des ventilateurs"},"Analyse préliminaire: Liste des ventilateurs","Grobanalyse: Liste der Ventilatoren",1,null,"Site entreprise"]
["Analyse préliminaire: Système d'air comprimé","Analyse préliminaire: Système d'air comprimé","Grobanalyse: Druckluftsystem",1,null,"Cette page peut-être imprimée (ctrl + p)"]
["Remplissez le tableau ci-dessous. En cas de besoin cliquer sur le bouton pour afficher l'aide à la sélection","Remplissez le tableau ci-dessous. En cas de besoin cliquer sur le bouton pour afficher l'aide à la sélection","Füllen Sie die folgende Tabelle aus. Klicken Sie ggf. auf die Knöpfe, um Hilfe anzuzeigen.",null,null,"D'après les données introduite, il est estimé que:"]
["Texte pour mesure","Texte pour mesure","Text zur Messung",1,null,"Liste des entrainements"]
["Texte pour économies","Texte pour économies","Text für Einsparungen"]
["Analyse préliminaire: Résultats classés","Analyse préliminaire: Résultats classés","Zusammenfassung der Resultate",1]
["Cette entrainement a déjà fait l'objet d'une analyse préliminaire, voulez vous réécrire le valeurs de l'analyse préliminaire","Cette entrainement a déjà fait l'objet d'une analyse préliminaire, voulez vous réécrire le valeurs de l'analyse préliminaire","Dieser elektrische Antrieb war bereits Gegenstand einer Grobanalyse + , möchten Sie die Werte der Grobanalyse neu schreiben?",1]
["Sur cette page, les potentiels d'économies sont classés selon leur pertinence. Cliquez sur le bouton de la première colonne pour préciser les potentiels d'économies d'un entrainement particulier avec l'analyse préliminaire + (si vous disposez d'informations additionnelles)","Sur cette page, les potentiels d'économies sont classés selon leur pertinence. Cliquez sur le bouton de la première colonne pour préciser les potentiels d'économies d'un entrainement particulier avec l'analyse préliminaire + (si vous disposez d'informations additionnelles)","Die erfassten Antriebe sind unten aufgelistet und nach Potenzial sortiert und zusammengefasst. Mit Klick auf den Butten in der linken Spalte wird die GA+ Seite für den betroffenen Antrieb geöffnet. Darin können weitere Angaben gemacht und die Schätzung des Einsparpotenzials verfeinert werden.",1]
["Prix  de l'électricité ","Prix  de l'électricité ","Strompreis",1]
["Classe","Classe","Klasse"]
["Approfondissement très recommandé (économie > 20 MWh/a et > 20 % de la consommation, âge > 8 ans)","Approfondissement très recommandé (économie > 20 MWh/a et > 20 % de la consommation, âge > 8 ans)","Vertiefung dringend empfohlen (Einsparung > 20 MWh/a und > 20% des Verbrauchs, Alter > 8 Jahre)",1]
["Approfondissement moyennement recommandé (économie > 10 MWh/a, âge > 5 ans)","Approfondissement moyennement recommandé (économie > 10 MWh/a, âge > 5 ans)","Vertiefung empfohlen (Einsparung >10 MWh/a, Alter > 5 Jahre)",1]
["Approfondissement pas recommandé","Approfondissement pas recommandé","Vertiefung nicht empfohlen, wenig Potenzial",1]
["kWh/an","kWh/an","KWh/a",1,null,"Je ne sais pas"]
["CHF/an","CHF/an","CHF/a",1,null,"Je ne sais pas"]
["Économies installations intéressantes","Économies installations intéressantes","Einsparungen bei interessanten Installationen",null,null,"Toto "]
["Économies installations moyennement intéressantes","Économies installations moyennement intéressantes","Einsparungen bei mässig interessanten Installationen",null,null,0.5]
["Résultats: Optimisation pour les pompes et les ventilateurs ","Résultats: Optimisation pour les pompes et les ventilateurs ","Ergebnisse: Optimierungen",null,null,0.6]
["Nombre entrainement total","Nombre entrainement total","Gesamtzahl der Antriebe",1,null,0.7]
["Analyse préliminaire plus : cliquer sur le bouton","Analyse préliminaire plus : cliquer sur le bouton","GA+ \n(Klick auf Button)",1,null,"Campagne de réduction des fuites et colmatage de ceux-ci"]
["Type","Type","Typ",null,null,0.5]
["Economies totales [%]","Economies totales [%]","Einsparpotenzial [%]",1,null,"Puissance nominal du compresseur [kW]"]
["Economies [CHF/a]","Economies [CHF/a]","Einsparungen [CHF/a]",1,null,"Sur ce graphique les losanges repésentent les puissances spécifiques (nominales ou effectives) de vos compresseur(s) en fonction de la pression. Si les losanges se trouvent en dessus de la ligne rouge traitillée, le rendement n'est pas très bon. Les marqueurs ronds repésente les puissances spécifiques de divers compresseurs."]
["Puissance nominale [kW]","Puissance nominale [kW]","Nennleistung [kW]",1,null,"Yannick Riesen:\nPrix simplifié=Coût totale de l'électricité (en CHF, tout inclus)/consommation total (kWh)"]
["Année de construction [années]","Année de construction [années]","Baujahr",1,null,"Eff3"]
["Economie AP+ [kWh/a]","Economie AP+ [kWh/a]","Einsparung AP+ [kWh/a]",1,null,"Eff3"]
["Economie AP+ [%]","Economie AP+ [%]","Einsparung AP+ [%]",1,null,"Eff3"]
["Consommation annuelle AP+","Consommation annuelle AP+","Jährliche Stromverbrauch AP+",1,null,"IE1"]
["Classification","Classification","Classification",null,null,"IE1"]
["Ventilateurs","Ventilateurs","Ventilateurs",null,null,"IE1"]
["Eco Pompe","Eco Pompe","Eco Pompe",1,null,"IE2"]
["EcoVentil","EcoVentil","EcoVentil",1,null,"IE2"]
["Conso pompe","Conso pompe","Conso pompe",1,null,"IE2"]
["Consventil","Consventil","Consventil",1,null,"IE3"]
["Air comp","Air comp","Air comp",null,null,"IE3"]
["Eco air comp","Eco air comp","Eco air comp",1,null,"IE3"]
["Cons air comp","Cons air comp","Cons air comp",1,null,"oui non"]
["Nom AP+","Nom AP+","Nom AP+",1,null,"efficacité avec correction si élement entrainé est plus agé"]
["Classement","Classement","Rangliste",null,null,"Equivalent classe d'efficactié élément entrainé"]
["Analyse préliminaire: Synthèse","Analyse préliminaire: Synthèse","Grobanalyse: Übersicht",null,null,"Eff3"]
["Consommation théorique","Consommation théorique","Verbrauch erfasste Antriebe",1,null,"IE1"]
["pompes","pompes","Pumpen",null,null,"IE2"]
["air comprimé","air comprimé","Druckluft",null,null,"IE3"]
[" actuelle [kWh/a]"," actuelle [kWh/a]","[kWh/a]",1,null,"IE4"]
["[kWh/a]","[kWh/a]"," [kWh/a]",null,null,"IE2"]
["[CHF/a]","[CHF/a]","[CHF/a]",null,null,"Avez-vous procédé à des optimisations « système » ces dernières années ?"]
["Analyse fine très recommendée","Analyse fine très recommendée","Feinanalyse sehr empfohlen",1,null,"IE4"]
["Analyse fine recommandée","Analyse fine recommandée","Feinanalyse empfohlen",1,null,"IE4"]
["Potentiel d'économie faible","Potentiel d'économie faible","Geringes Einsparpotenzial",1,null,"IE4"]
["Consommation totale du Site:","Consommation totale du Site:","Gesamtverbrauch des Standortes:",1,null,"Economies optimisation système [kWh/a]"]
["Facteur de calcul","Facteur de calcul","Berechnungsfaktor",1,null,"Eff3"]
["Analyse préliminaire + :  Système d'air comprimée","Analyse préliminaire + :  Système d'air comprimée","Grobanalyse +: Druckluftsystem",1,null,"Eff3"]
["Cette analyse préliminaire + permet, à l'aide de quelques informations supplémentaires, de préciser les économies potentielles. Néanmoins cette analyse ne remplace pas l'audit du système. Une fois les économies calculées cliquez sur le bouton \"Enregistrer l'économie dans la feuille…\" pour transférer ces valeurs dans le tableau de classement des économies. ","Cette analyse préliminaire + permet, à l'aide de quelques informations supplémentaires, de préciser les économies potentielles. Néanmoins cette analyse ne remplace pas l'audit du système. Une fois les économies calculées cliquez sur le bouton \"Enregistrer l'économie dans la feuille…\" pour transférer ces valeurs dans le tableau de classement des économies. ","Diese Grobanalyse + erlaubt es, mit ein paar zusätzlichen Informationen das Einsparpotenzial zu verfeinern. Diese Analyse ersetzt jedoch nicht eine Feinanalyse. Nachdem die Einsparungen berechnet wurden, klicken Sie auf den Knopf \"Einsparungen in Tabelle speichern....\", um diese Werte in der Einsparungsklassifikation zu übernehmen. ",null,null,"Eff3"]
["Type de compresseurs","Type de compresseurs","Kompressor Typ",1,null,"IE1"]
["Compresseur à vis","Compresseur à vis","Schraubenkompressor",1,null,"IE1"]
["Compresseur à piston","Compresseur à piston","Kolbenkompressor",1,null,"IE1"]
["Ne sais pas","Ne sais pas","Ich weiß es nicht.",null,null,"IE2"]
["Sécheur","Sécheur","Trockner",1,null,"IE2"]
["Sécheur par absorption","Sécheur par absorption","Absorptionstrockner",null,null,"IE2"]
["Sécheur frigorifique","Sécheur frigorifique","Kältetrockner",1,null,"IE3"]
["Aucun","Aucun","Keine",1,null,"IE3"]
["Régulation compresseur","Régulation compresseur","Kompressorensteuerung",1,null,"IE3"]
["En marche / A vide","En marche / A vide","Ein / Leerlauf",1,null,"efficacité avec correction si élement entrainé est plus agé"]
["Par modulation","Par modulation","Durch Modulation",1,null,"Equivalent classe d'efficactié élément entrainé"]
[{"$f":"IF($B$2=\"FR\",B261,C261)","v":"Marche- Arrêt"},"Marche- Arrêt","Ein - Aus",1,null,"Eff3"]
["Etat réseau","Etat réseau","Netzwerkstatus",1,null,"IE1"]
["Étanche (tf=<10%)","Étanche (tf=<10%)","Dicht (Leckrate=<10%)",1,null,"IE2"]
["Peu étanche (tf=20%)","Peu étanche (tf=20%)","Undicht (Leckrate=20%)",1,null,"IE3"]
["Très peu étanche (tf=25%)","Très peu étanche (tf=25%)","Sehr undicht (Leckrate=25%)",1,null,"IE4"]
["Extrêmement peu étanche (tf=35 %)","Extrêmement peu étanche (tf=35 %)","Extrem undicht (Leckrate=35 %)",1,null,"IE1"]
["Pas du tout étanche (tf=50%)","Pas du tout étanche (tf=50%)","Überhaupt nicht dicht (Leckrate=50%)",1,null,"oui non"]
["Taux de charge moyen","Taux de charge moyen","Durchschnittliche Auslastung",1,null,"Avez-vous procédé à des optimisations « système » ces dernières années ?"]
["20% (très bas)","20% (très bas)","20% (sehr niedrig)",1,null,"IE4"]
["30 % (bas)","30 % (bas)","30 % (niedrig)",1,null,"IE4"]
[0.6,0.6,0.6,null,null,"IE4"]
[0.7,0.7,0.7,null,null,"Economies optimisation système [kWh/a]"]
["90 % (très haut)","90 % (très haut)","90% (sehr hoch)",1,null,"x=1.9017y -0.83"]
["A l'arrêt","A l'arrêt","Im Stillstand",1,null,"y=0.517x +0.4453"]
["A. Reseau d'air comprimée","A. Reseau d'air comprimée","A. Druckluftnetz",1]
["Description","Description","Beschreibung",null,null,"Yannick Riesen:\nPrix simplifié=Coût totale de l'électricité (en CHF, tout inclus)/consommation total (kWh)"]
["Nombre de CP fonctionnant simultanément","Nombre de CP fonctionnant simultanément","Anzahl der gleichzeitig arbeitenden KPs",1,null,"Consommation électrique annuelles MWh"]
["Prix simplifié de l'électricité en CHF/kWh","Prix simplifié de l'électricité en CHF/kWh","Mitlerer Stromtarif in CHF/kWh",1]
["Attention: certaines valeurs de la partie B.1  doivent être renseignées","Attention: certaines valeurs de la partie B.1  doivent être renseignées","Achtung: einige Werte in Teil B.1 müssen ausgefüllt werden.",1,null,"Eff3"]
["Campagne de réduction des fuites et colmatage de celles-ci","Campagne de réduction des fuites et colmatage de celles-ci","Leckage-Reduktionskampagne und Abdichtung von Leckagen",1,null,"IE1"]
["Abaissement de la pression de service","Abaissement de la pression de service","Senkung des Betriebsdruckes",1,null,"IE2"]
["Remplacement et/ou ajout de variateur de vitesse combiné à une meilleure régulation","Remplacement et/ou ajout de variateur de vitesse combiné à une meilleure régulation","Austausch und/oder Ergänzung des Getriebemotors in Verbindung mit besserer Regelung",1,null,"IE3"]
["B.1 Compresseurs","B.1 Compresseurs","B.1 Kompressoren",1,null,"IE4"]
["Informations reprises","Informations reprises","Übernommene Informationen",1,null,0.5]
["Taux de charge moyen [%]","Taux de charge moyen [%]","Durchschnittliche Last [%]",1,null,0.6]
["Est-ce un compresseur VV (avec variateur de fréquence)","Est-ce un compresseur VV (avec variateur de fréquence)","Kompressor mit FU (Frequenzumrichter)?",1,null,0.7]
[" Ajout d'un système de gestion des compresseurs"," Ajout d'un système de gestion des compresseurs"," Hinzufügen eines Kompressormanagementsystems",1,null,"Phrases gain compresseur"]
["Questions","Questions","Fragen",1,null,"Gain ajout convertisseur de fréquence "]
["Quel est le type de compresseur ?","Quel est le type de compresseur ?","Kompressortyp?",1,null,"Phrases gains réseau air comprimé"]
["Quel est le mode de régulation du compresseur ?","Quel est le mode de régulation du compresseur ?","Wie wird der Kompressor geregelt?",1,null,"Une campagne de recherche de fuites par ultrasons et la réparation des fuites repérées permet généralement une économie de l'ordre de"]
["Taux de charge en période de non production?","Taux de charge en période de non production?","Auslastung während der Nicht-Produktionszeit?",null,null,"D'expérience, la pression peut souvent être abaissée d'environ 0.5 bar, cela permet d'économiser "]
["Pression de service maximale du compresseur [bar]","Pression de service maximale du compresseur [bar]","Betriebsdruck Kompressor [bar] max.",1,null,"Campagne de recherche de fuites par ultrasons et la réparation des fuites repérées"]
["B2. Puissance spécifique effective (Facultatif)","B2. Puissance spécifique effective (Facultatif)","B2. Effektive spezifische Leistung (optional)",1,null,"Optmisation de la pression"]
["Si vous connaissez la puissance spécifique nominale ou réelle( au point de fonctionnement fréquent),","Si vous connaissez la puissance spécifique nominale ou réelle( au point de fonctionnement fréquent),","Wenn die spezifische Nenn- oder Wirkleistung (im häufigsten Betriebspunkt) bekannt ist",1,null,"Optimisation système"]
["vous pouvez compléter les valeurs ci-dessous pour une évaluation du potentiel d'économie ","vous pouvez compléter les valeurs ci-dessous pour une évaluation du potentiel d'économie ","sollten die untenstehenden Werte angegeben werden. Dadurch ist eine genauere Potenzialabschätzung möglich.",1,null,"Phrases calculs gains pompes"]
["lié à un renouvellement technique plus précis.","lié à un renouvellement technique plus précis."," ",1,null,"permettrait un gain technologique de "]
["Puissance spécifique effective ou nominale [kW/m3/min]","Puissance spécifique effective ou nominale [kW/m3/min]","Spezifische Leistung, effektiv oder nominal [kW/m3/min]",1,null,"L'ajout d'un variateur permet en moyenne d'économiser "]
["Pression de service correspondant [bar]","Pression de service correspondant [bar]","Entsprechender Betriebsdruck [bar]",1,null,"Texte autres:"]
["Débit correspondant [m3/min]","Débit correspondant [m3/min]","Entsprechender Durchfluss [m3/min]",1,null,"Voir AP+"]
["Sur ce graphique les losanges représentent les puissances spécifiques (nominales ou effectives) de vos compresseur(s) en fonction de la pression. Si les losanges se trouvent en dessus de la ligne rouge traitillée, le rendement n'est pas très bon. Les marqueurs ronds représentent les puissances spécifiques de divers compresseurs.","Sur ce graphique les losanges représentent les puissances spécifiques (nominales ou effectives) de vos compresseur(s) en fonction de la pression. Si les losanges se trouvent en dessus de la ligne rouge traitillée, le rendement n'est pas très bon. Les marqueurs ronds représentent les puissances spécifiques de divers compresseurs.","In diesem Diagramm stellen die Rauten die spezifischen Leistungen (Soll oder Ist) Ihres Kompressors bzw. Ihrer Kompressoren in Abhängigkeit vom Druck dar. Wenn die Diamanten über der roten Linie liegen, ist der Wirkungsgrad nicht sehr gut. Rundmarker repräsentieren die spezifischen Leistungen verschiedener Kompressoren.",null,null,"Phrases gain compresseur"]
["B3. Etat assaini (facultatif)","B3. Etat assaini (facultatif)","B3. Neuer Zustand (Eingabe optional)",1,null,"Gain ajout convertisseur de fréquence "]
["Puissance spécifique du nouveau compresseur à la pression de service correspondante [kW/m3/min]","Puissance spécifique du nouveau compresseur à la pression de service correspondante [kW/m3/min]","Spezifische Leistung des neuen Kompressors bei entsprechendem Betriebsdruck [kW/m3/min].",1,null,"Phrases gains réseau air comprimé"]
["Puissance spécifique du nouveau compresseur [kW/m3/min]","Puissance spécifique du nouveau compresseur [kW/m3/min]","Spezifische Leistung des neuen Kompressors[kW/m3/min].",null,null,"Une campagne de recherche de fuites par ultrasons et la réparation des fuites repérées permet généralement une économie de l'ordre de"]
["Consommation totale","Consommation totale","Verbrauch Total",null,null,"D'expérience, la pression peut souvent être abaissée d'environ 0.5 bar, cela permet d'économiser "]
["B4. Résultats économie compresseurs","B4. Résultats économie compresseurs","B4. Einsparungsresultate Kompressoren",1,null,"Campagne de recherche de fuites par ultrasons et la réparation des fuites repérées"]
["Facteur de puissance moyenne initial","Facteur de puissance moyenne initial","Mittlerer Anfangsleistungsfaktor",1,null,"Optmisation de la pression"]
["Facteur de puissance VV","Facteur de puissance VV","Leistungsfaktor FU",1,null,"Optimisation système"]
["Consommation annuelle état initial","Consommation annuelle état initial","Jahresverbrauch Ausgangszustand",1,null,"Phrases calculs gains pompes"]
["Economie compresseur plus efficace [kWh/a]","Economie compresseur plus efficace [kWh/a]","Einsparung durch effizientere Kompressoren [kWh/a]",1,null,"permettrait un gain technologique de "]
["Economie mise sur variateur et/ou régulation [kWh/a]","Economie mise sur variateur et/ou régulation [kWh/a]","Einsparung  dank FU oder/und bessere Regelung [kWh/a]",1,null,"L'ajout d'un variateur permet en moyenne d'économiser "]
["Economie totale compresseur [kWh/a]","Economie totale compresseur [kWh/a]","Gesamteinsparungen [kWh/a]",1,null,"Texte autres:"]
["C. Réseau: questions supplémentaires","C. Réseau: questions supplémentaires","C. Netzwerk: weitere Fragen",1,null,"Voir AP+"]
["C1. Questions générales","C1. Questions générales","C1. Allgemeine Fragen",1,null,"Tableau pour l'évalutation des économies dûes au pompes"]
["Économies [kWh/a]","Économies [kWh/a]","Einsparungen [kWh/a]",1,null,"Analys préliminaire [source: Guide de bonne pratique pompe]"]
["Commentaire","Commentaire","Kommentar",null,null,"Economies [effeffp]"]
["Séchage de l'air : le point de rosé requis par les utilisateurs est-il plus bas que 3°C ?","Séchage de l'air : le point de rosé requis par les utilisateurs est-il plus bas que 3°C ?","Lufttrocknung: Ist der von den Anwendern geforderte Taupunkt < 3°C?",1,null,"Estimation consommation actuelle"]
["Quel est le type de système de sécheur d'air comprimé ?","Quel est le type de système de sécheur d'air comprimé ?","Drucklufttrockner-Typ?",1,null,"Eff3"]
["Pression de consigne du réseau [bar]","Pression de consigne du réseau [bar]","Betriebsdruck des Netzes [bar]",1,null,"Eff3"]
["Pression de service du (des) consommateur (s) le(s) plus exigeant(s) [bar]","Pression de service du (des) consommateur (s) le(s) plus exigeant(s) [bar]","Betriebsdruck des anspruchsvollsten Verbrauchers [bar]",1,null,"Eff3"]
["Réduction de la pression [bar]","Réduction de la pression [bar]","Druckreduzierung [bar]",1,null,"IE1"]
["Forcer la réduction de pression [bar]","Forcer la réduction de pression [bar]","Druckreduzierung überschreiben [bar]",1,null,"IE1"]
["C2. Sectionnement du réseau ","C2. Sectionnement du réseau ","C2. Netztrennung ",1,null,"IE1"]
["Durant les périodes de non-production (ex. WE, nuits), suivant les besoins en air comprimée résiduels, une partie du réseau ","Durant les périodes de non-production (ex. WE, nuits), suivant les besoins en air comprimée résiduels, une partie du réseau ","In produktionsfreien Zeiten (z.B. Wochenende, Nächte), je nach Restdruckluftbedarf, kann ein Teil des Netzes ",1,null,"IE2"]
["peut-être déconnectée avec une vanne permettant ainsi des économies","peut-être déconnectée avec une vanne permettant ainsi des économies","mit einem Ventil abgesperrt werden. Dadurch werden Leckageverluste reduziert.",1,null,"IE2"]
[{"$f":"IF($B$2=\"FR\",B325,C325)","v":"Nombre d'heures de déconnection par semaine  [h/semaine]"},"Nombre d'heures de déconnection par semaine  [h/semaine]","Dauer der Absperrung in Stunden pro Woche [h/w].",1,null,"IE2"]
["Proportion  du réseau pouvant être déconnectée durant la période de non-production","Proportion  du réseau pouvant être déconnectée durant la période de non-production","Anteil des abgesperrten Netzes am gesamten Netz",1,null,"IE3"]
["Taux de charge non-production","Taux de charge non-production","Last während nicht Produktionszeit",1,null,"IE3"]
["Facteur de puissance initial","Facteur de puissance initial","Leistungsfaktor Initial",1,null,"IE3"]
["Economie (CP non assaini)","Economie (CP non assaini)","Einsparungen (nicht sanierte FU)",1,null,"IE4"]
["Economie du à une meilleures gestion [kWh/a]","Economie du à une meilleures gestion [kWh/a]","Einsparungen durch besseres Management [kWh/a].",1,null,"IE4"]
["C3. Abaissement de la température de l'air d'aspiration (juste pour information, n'est pas pris en compte dans les calculs)","C3. Abaissement de la température de l'air d'aspiration (juste pour information, n'est pas pris en compte dans les calculs)","C3. Absenken der Ansauglufttemperatur (nur zur Information, wird nicht in den Berechnungen eingezogen) ",1,null,"IE4"]
["La température de l'air aspiré influe sur la puissance spécifique du compresseur avec une augmentation de 0.34 %/°C","La température de l'air aspiré influe sur la puissance spécifique du compresseur avec une augmentation de 0.34 %/°C","Die Temperatur der Ansaugluft beeinflusst die spezifische Leistung des Kompressors mit einem Anstieg von 0,34 %/°C.",1,null,"Eff3"]
["D. Potentiel d'économies","D. Potentiel d'économies","D. Einsparpotenzial",1,null,"Eff3"]
[{"$f":"IF($B$2=\"FR\",B334,C334)","v":"Ces potentiels d'économies sont des ordres de grandeurs probables. Pour un potentiel réel, une analyse allant bien au-delà de cet outil doit être effectuée."},"Ces potentiels d'économies sont des ordres de grandeurs probables. Pour un potentiel réel, une analyse allant bien au-delà de cet outil doit être effectuée.","Diese Einsparpotentiale sind Größenordnungen. Für ein genaures Potenzial muss eine Feinanalyse durchgeführt werden (nicht von diesem Tool abgedeckt).",1,null,"Eff3"]
["soit ","soit ","einer von beiden ",1,null,"IE1"]
["Economie totale du système","Economie totale du système","Gesamte Systemersparnis",1,null,"IE1"]
["Détails des économies","Détails des économies","Einsparungen Details",1,null,"IE1"]
["Mesures","Mesures","Maßnahmen",null,null,"IE2"]
["Économie du à une réduction des fuites ","Économie du à une réduction des fuites ","Einsparung durch reduzierte Leckage ",null,null,"IE2"]
["Économie du à l'ajustement de pression","Économie du à l'ajustement de pression","Einsparung durch Druckanpassung",1,null,"IE2"]
["Économie compresseurs et optimisation  de la régulation","Économie compresseurs et optimisation  de la régulation","Einsparung Kompressor und Regelungsoptimierung",1,null,"IE3"]
["Changement du sécheur","Changement du sécheur","Trocknerwechsel",1,null,"IE3"]
["E. Potentiel d'économies supplémentaires","E. Potentiel d'économies supplémentaires","E. Potenzial für zusätzliche Einsparungen",1,null,"IE3"]
["Chaleur","Chaleur","Wärme",1,null,"IE4"]
["Chaleur valorisable, si pas déjà fait","Chaleur valorisable, si pas déjà fait","Wärme die Rückgewonnen werden kann.",1,null,"IE4"]
["Mesure","Mesure","Maßnahmen",null,null,"IE4"]
["Ajout d'un échangeur de chaleur et raccordement à un système de chauffage","Ajout d'un échangeur de chaleur et raccordement à un système de chauffage","Hinzufügen eines Wärmetauschers und Anschluss an ein Wärmesystem",1,null,"Variation demande"]
["Analyse préliminaire + :  pompes","Analyse préliminaire + :  pompes","Grobanalyse +: Pumpen",1,null,"Pseudo- taux de charge (de la puissance du moteur, effpompeestpr)"]
["Cette analyse préliminaire + permet à l'aide de quelques informations supplémentaires de préciser les économies potentielles. Une fois les informations introduites, les économies sont calculées et enregistrées directement dans le tableau de classement des économies (résultats).","Cette analyse préliminaire + permet à l'aide de quelques informations supplémentaires de préciser les économies potentielles. Une fois les informations introduites, les économies sont calculées et enregistrées directement dans le tableau de classement des économies (résultats).","Hier kann die Schätzung des Einsparpotenzials mit Hilfe einiger zusätzlicher Informationen präzisiert werden. Das Resultat wird direkt in die Übersichtsseite \"Resultate\" übernommen.",1,null,"Code [codepompeestpr]"]
["Calcul","Calcul","Berechnung",null,null,"Eff3"]
["Gain du à la classe d'efficacité et de la puissance du moteur","Gain du à la classe d'efficacité et de la puissance du moteur","Gewinn durch Effizienzklasse und Motorleistung",1,null,"IE1"]
["Gain redimensionnement","Gain redimensionnement","Gewinn durch redimensionieruin",1,null,"IE2"]
["Type de pompe","Type de pompe","Pumpentyp",1,null,"IE3"]
["Classe d'efficacité","Classe d'efficacité","Effizienzklasse",null,null,"IE4"]
["Gamme de puissance","Gamme de puissance","Leistungsbereich",1]
["Economies","Economies","Einsparungen"]
["Code [codeffp]","Code [codeffp]","Code [codeffp]",1]
["Qmax/Qnom","Qmax/Qnom","Qmax/Qnenn",1]
["Gain","Gain","Einsparung"]
["<20 kW","<20 kW","<20 kW",1]
["20-100 kW","20-100 kW","20-100 kW",1]
["< 100 kW","< 100 kW","< 100 kW",1]
["Gain remplacement technologique","Gain remplacement technologique","Einsparung mit effizientere Technologie",1]
["Information reprise de l'étape précédente","Information reprise de l'étape précédente","Informationen aus dem vorherigen Schritt",1]
["Type d'entrainement","Type d'entrainement","Anwendung"]
["âge de l'élément entrainé [années]","âge de l'élément entrainé [années]","Alter des Antriebs [Jahre]",1]
["Heures de fonctionnement [heures/années]","Heures de fonctionnement [heures/années]","Betriebsstunden [h/a]",1]
["A compléter","A compléter","Zu vervollständigen",1]
["A. Déterminer le rapport entre le débit maximum nécessaire et le débit nominal","A. Déterminer le rapport entre le débit maximum nécessaire et le débit nominal","A. Dimensionierung",1]
["Ce rapport permet de déterminer si l'installation est surdimensionnée","Ce rapport permet de déterminer si l'installation est surdimensionnée","Verhältnis zwischen dem maximalen Durchfluss und dem Nenndurchfluss zur Feststellung einer evtl. Überdimensionierung",1]
["Rapport entre le débit maximal (Qmax) et le débit nominal de l'entraînement (Qnom) [-]","Rapport entre le débit maximal (Qmax) et le débit nominal de l'entraînement (Qnom) [-]","Höchster effektiver Durchfluss / Nenndurchfluss (Qmax/Qnenn)",1]
["Puissance nominale à l'arbre de la pompe [kW]","Puissance nominale à l'arbre de la pompe [kW]","Nennleistung an der Pumpenwelle [kW]",1]
["Si les débits ne sont pas connus, on peut estimer la qualité du dimensionnement via les puissances électriques","Si les débits ne sont pas connus, on peut estimer la qualité du dimensionnement via les puissances électriques","Sind die Durchflussmengen nicht bekannt, die Dimensionierung über die elektrischen Leistungen abgeschätzt werden.",1]
["Puissance électrique consommée max. du moteur [kW]","Puissance électrique consommée max. du moteur [kW]","Max. elektrische Leistungsaufnahme Motor [kW]",1]
["Parbre_max/Parbre_nom","Parbre_max/Parbre_nom","Wellenleistung_max / Nennwellenleistung",1]
["Qmax/Qnom utilisé pour les calculs ci-dessous","Qmax/Qnom utilisé pour les calculs ci-dessous","Max. Durchfluss / Nenndurchfluss die für die folgenden Berechnungen verwendet werden\n",1]
["B. Determination de la répartition temporelle de la demande","B. Determination de la répartition temporelle de la demande","B. Lastprofil",1]
["Distribution temporelle de la demande","Distribution temporelle de la demande","Anteil Teillastbetrieb",1]
["Débit par rapport au débit maximal (Q/Qmax) [%]","Débit par rapport au débit maximal (Q/Qmax) [%]","Durchfluss im Vergleich zum max. Durchfluss (Q/Qmax)[%]",1]
["Puissance moteur  [kW]","Puissance moteur  [kW]","Motorleistung [kW]",1]
["Heures/an","Heures/an","h/a"]
["Charge moyenne","Charge moyenne","Durchschnittliche Last",1]
["Charge début","Charge début","Anfangslast",1]
["Charge fin","Charge fin","Endlast",1]
["Nombre d'heures totales:","Nombre d'heures totales:","Stundenanzahl Total",1]
["C. Potentiel d'économies","C. Potentiel d'économies","C. Einsparpotenzial",1]
["Potentiel d'économie par tranche de débit selon les 3 sources d'économies","Potentiel d'économie par tranche de débit selon les 3 sources d'économies","Einsparpotential pro Durchflussbereich",1]
["Energie consommée actuellement [kWh/a]","Energie consommée actuellement [kWh/a]","Aktueller Energieverbrauch [kWh/a]",1]
[{"$f":"IF($B$2=\"FR\",B389,C389)","v":"Economies dues au redimensionnement [kWh/a]"},"Economies dues au redimensionnement [kWh/a]","Einsparung durch Redimensionierung [kWh/a]",1]
["Economies dues à l'ajout/réglage du/d'un convertisseur [kWh/a]","Economies dues à l'ajout/réglage du/d'un convertisseur [kWh/a]","Einsparung durch den Einbau eines Frequenzumrichters [kWh/a]",1]
["Economies dues au améliorations technologiques [kWh]","Economies dues au améliorations technologiques [kWh]","Einsparung durch effizientere Technologie [kWh]",1]
["Economies totales [kWh/a]","Economies totales [kWh/a]","Einsparung Total [kWh/a]",1]
["Economies totales [CHF/a]","Economies totales [CHF/a]","Einsparung Total[CHF/a]"]
["Puissance moyenne","Puissance moyenne","Durchschnittliche Leistung"]
["Economies dû au redimensionnement [kWh/a]","Economies dû au redimensionnement [kWh/a]","Einsparung durch Redimensionierung [kWh/a]",1]
["Economies dû à l'ajout d'un convertisseur [kWh/a]","Economies dû à l'ajout d'un convertisseur [kWh/a]","Einsparung durch den Einbau eines Frequenzumrichters [kWh/a].",1]
["Gain de remplacement technologique [kWh]","Gain de remplacement technologique [kWh]","Einsparung durch Effizientere technologie [kWh]",1]
["Gain CF Circulation","Gain CF Circulation","FU-Verstärkung Zirkulation",1]
["Gain CF Relevage","Gain CF Relevage","FU-Verstärkung Auftrieb",1]
["Somme","Somme","Summe",1]
["Synthèse","Synthèse","Synthese"]
["Estimation de l'économie totale:","Estimation de l'économie totale:","Schätzung der Gesamteinsparungen:",1]
["soit:","soit:"," ",1]
["Mesures d'optimisation possibles (à valider dans le cadre d'une analyse détaillée):","Mesures d'optimisation possibles (à valider dans le cadre d'une analyse détaillée):","Mögliche Optimierungsmassnahmen (in einer detaillierten Analyse zu validieren):",1]
["Redimensionnement de l'entraînement","Redimensionnement de l'entraînement","Redimensionierung des Antriebs",1]
["Introduction d'un convertisseur de fréquence et d'un réglage adéquat","Introduction d'un convertisseur de fréquence et d'un réglage adéquat","Frequenzumrichters mit geeigneter Regelung",1]
["Remplacement de l'équipement par un substitut plus moderne et plus efficace","Remplacement de l'équipement par un substitut plus moderne et plus efficace","Ersatz durch durch ein moderneres und effizienteres System",1]
["Base pour calculs","Base pour calculs","Berechnungsgrundlage",1]
["Rapport entre rapport des débits et rapport de la puissance à l'arbre:","Rapport entre rapport des débits et rapport de la puissance à l'arbre:","Verhältnis zwischen Durchfluss und Leistung zur Welle:",1]
["Calcul Planair","Calcul Planair","Planair-Berechnung",1]
["Liste question variateur de fréquence","Liste question variateur de fréquence","Fragenliste Frequenzumrichter",1]
["Pour le démarage puis 50 Hz","Pour le démarage puis 50 Hz","Für den Start dann 50 Hz",1]
["Réglé à une fréquence constante <50 Hz","Réglé à une fréquence constante <50 Hz","Konstante Frequenz <50 Hz",1]
["Asservi à une grandeur de réglage","Asservi à une grandeur de réglage","Regulierte Frequenz",1]
["Rapport débit","Rapport débit","Durchflussverhältnis",1]
["Charac","Charac","Charakter",1]
["x=1.74 y -0.7566","x=1.74 y -0.7566","x=1.74 y -0.7566",1]
["Rapport Parbre","Rapport Parbre","Pwelle Verhältniss",1]
["y=0.5731x +0.4358","y=0.5731x +0.4358","y=0.5731x +0.4358",1]
["Analyse préliminaire + :  Ventilateurs","Analyse préliminaire + :  Ventilateurs","Grobanalyse +: Ventilatoren",1]
["Cette analyse préliminaire + permet à l'aide de quelques informations supplémentaires de préciser les économies potentielles.","Cette analyse préliminaire + permet à l'aide de quelques informations supplémentaires de préciser les économies potentielles.","Diese Grobanalyse+ erlaubt es, mit Hilfe einiger zusätzlicher Informationen das Einsparpotenzial zu spezifizieren."]
["> 100 kW","> 100 kW","> 100 kW",1]
["Rapport entre le débit maximal (Qmax) et le débit nominale de l'entraînement (Qnom) [%]","Rapport entre le débit maximal (Qmax) et le débit nominale de l'entraînement (Qnom) [%]","Verhältnis zwischen maximalem Durchfluss (Qmax) und Nenndurchfluss (Qnenn)[%]."]
["Puissance nominale à l'arbre du ventilateur [kW]","Puissance nominale à l'arbre du ventilateur [kW]","Nennleistung an der Lüftungswelle [kW]",1]
["Gain CF","Gain CF","FU einsparungen"]
["Notes","Notes","Anmerkungen",1]
["Attention lors de modifications, vérifier que les modifications soient aussi faites dans les différents GA+","Attention lors de modifications, vérifier que les modifications soient aussi faites dans les différents GA+","Seien Sie vorsichtig, wenn Sie Änderungen vornehmen, prüfen Sie, ob die Änderungen auch in den unterschiedlichen GA+",1]
["Consommation électrique annuelles [MWh]","Consommation électrique annuelles [MWh]","Jährlicher Stromverbrauch [MWh]"]
["<100 MWh/a ou < 15 000 CHF","<100 MWh/a ou < 15 000 CHF","<100 MWh/a oder < 15 000 CHF",1]
["Entre 100 MWh/a-1000 MWh/a ou 15 000 CHF-150 000 CHF","Entre 100 MWh/a-1000 MWh/a ou 15 000 CHF-150 000 CHF","Zwischen 100 MWh/a-1000 MWh/a oder 15 000 CHF-150 000 CHF",1]
["> 1000 MWh/a ou > 150 000 CHF","> 1000 MWh/a ou > 150 000 CHF","> 1000 MWh/a oder > 150 000 CHF",1]
["Remarque","Remarque","Anmerkung",1]
["Texte quick check","Texte quick check","Quick-Check-Text",1]
["De vos données, il est probable qu'il existe un potentiel d'économie non-négligeable. Nous vous conseillons donc de passer à l’étape suivante qui permet d’affiner le potentiel d’économie pour votre entreprise.","De vos données, il est probable qu'il existe un potentiel d'économie non-négligeable. Nous vous conseillons donc de passer à l’étape suivante qui permet d’affiner le potentiel d’économie pour votre entreprise.","Basierend auf Ihren Eingaben ist es wahrscheinlich, dass es ein erhebliches Einsparpotenzial gibt, wir empfehlen Ihnen, den nächsten Schritt zu gehen, der das Einsparpotenzial für Ihr Unternehmen verfeinert.",1]
["De vos données, il apparaît que le potentiel d'économie est probablement relativement faible. Vous pouvez néanmoins passer à l'étape suivant si vous souhaitez le confirmer.","De vos données, il apparaît que le potentiel d'économie est probablement relativement faible. Vous pouvez néanmoins passer à l'étape suivant si vous souhaitez le confirmer.","Basierend auf Ihren Daten sind die möglichen Einsparungen wahrscheinlich relativ gering, aber Sie können trotzdem zum nächsten Schritt übergehen, wenn Sie sicher sein wollen.",1]
["Secteurs d'activité ","Secteurs d'activité ","Tätigkeitsbranche",1]
["Bâtiment de service (hôpital, administration,…)","Bâtiment de service (hôpital, administration,…)","Dienstleistungen (Spital, Verwaltung ,…)",1]
["Bois et meubles","Bois et meubles","Holz und Möbel",1]
["Chimie, pharma et hydrocarbures","Chimie, pharma et hydrocarbures","Chemie, Pharma und Öl -Industrie",1]
["Habillement","Habillement","Textilindustrie",1]
["Industrie alimentaire","Industrie alimentaire","Lebensmittelindustrie",1]
["Industrie du papier et de l'impression","Industrie du papier et de l'impression","Papier- und Druckindustrie",1]
["Industrie du tabac","Industrie du tabac","Tabakindustrie",1]
["Manufacture fine d'équipements","Manufacture fine d'équipements","Herstellung von Feinwerkzeugen",1]
["Métallurgie et produits métalliques","Métallurgie et produits métalliques","Metallurgie und Metallprodukte",1]
["Minéraux (ciment, verre, céramique)","Minéraux (ciment, verre, céramique)","Mineralien (Zement, Glas, Keramik)",1]
["Plastique","Plastique","Plastik",1]
["STEP, stations de pompage, UIOM","STEP, stations de pompage, UIOM","Kläranlage, Pumpstationen, Müllverbrennungsanlage ",1]
["Autres industries","Autres industries","Andere Industrien",1]
["CoOr dernière cell","CoOr dernière cell","CoOr Letzte Zelle",1]
["Année","Année","Jahr "]
["Pondérations","Pondérations","Gewichtung",1]
[{"$f":"IF($B$2=\"FR\",B453,C453)","v":"Oui/Non"},"Oui/Non","Ja/Nein",1]
["Utilisation","Utilisation","Verwendung",1]
["En continu","En continu","Kontinuierlich",1]
["La moitié du temps ","La moitié du temps ","Die Hälfte der Zeit ",1]
["10 % à 20 %","10 % à 20 %","von 10 % bis 20 %.",1]
["Très peu (à enlever)","Très peu (à enlever)","Sehr wenig (zu entfernen)",1]
["test","test","Untersuchung",1]
["Installations","Installations","Einrichtungen"]
["Installation de froid","Installation de froid","Kühlsystem"]
["Station de pompage","Station de pompage","Pumpstation"]
["Monoblocs de ventilation","Monoblocs de ventilation","Lüftungsmonoblöcke",1]
["Système d'air comprimé","Système d'air comprimé","Druckluft Système"]
["Autres entraînements électriques importants","Autres entraînements électriques importants","Weitere wichtige elektrische Antriebe"]
["Chaufferie (pompes d’alimentation chaudière ou autres)","Chaufferie (pompes d’alimentation chaudière ou autres)","Kesselraum (Kesselspeisepumpen oder andere)"]
["Groupe de pompes de circulation","Groupe de pompes de circulation","Zirkulationspumpengruppe"]
["Taux de charge (nombre)","Taux de charge (nombre)","Lastrate (Anzahl)",1]
["Economie VSD (Mousavi 2014)","Economie VSD (Mousavi 2014)","VSD einsparungen (Mousavi 2014)",1]
["Taux de charge compresseur","Taux de charge compresseur","Last des Kompressors",1]
["20 % (très bas)","20 % (très bas)","20% (sehr niedrig)",1]
["Feuille de calcule/référence pour la feuille \"Classement de économies\"","Feuille de calcule/référence pour la feuille \"Classement de économies\"","Berechnungs-/Referenzblatt für das Blatt \"Spar-Ranking",1]
["Limite inférieure pour entrainement intéressant [kWh/a]","Limite inférieure pour entrainement intéressant [kWh/a]","Unterer Grenzwert für interessanten Antrieb [kWh/a].",1]
["Limite inférieure pour entrainement moyennement intéressant [kWh/a]","Limite inférieure pour entrainement moyennement intéressant [kWh/a]","Unterer Grenzwert für mäßig interessanten Antrieb[kWh/a].",1]
["Phrase mesure compresseur","Phrase mesure compresseur","Satze Kompressor",1]
["Le remplacement du compresseur par un compresseur plus efficace.","Le remplacement du compresseur par un compresseur plus efficace.","Austausch des Kompressors durch einen effizienteren Kompressor.",1]
["Le remplacement du compresseur par un compresseur plus efficace avec variateur de fréquence","Le remplacement du compresseur par un compresseur plus efficace avec variateur de fréquence","Ersatz des Kompressors durch einen effizienteren Kompressor mit FU"]
["Le remplacement d'un compresseur du système par un compresseur avec variateur de fréquence.","Le remplacement d'un compresseur du système par un compresseur avec variateur de fréquence.","Der Ersatz eines Kompressors der Anlage durch einen Kompressor mit FU",1]
["Phrase gain compresseurs","Phrase gain compresseurs","Sätze Kompressor"]
["Gain convertisseur de fréquence ","Gain convertisseur de fréquence ","Einsparung mit Frequenzumrichter"]
["Gain remplacement compresseur ","Gain remplacement compresseur ","Einsparung Austausch des(r) Kompressors(en) ",1]
["Phrases gain réseau air comprimé","Phrases gain réseau air comprimé","Sätze System Einsparungen"]
["Une campagne de recherche de fuite par ultrasons et la réparation des fuites repérées permet généralement une économie de l'ordre de","Une campagne de recherche de fuite par ultrasons et la réparation des fuites repérées permet généralement une économie de l'ordre de","Eine Ultraschall-Lecksuchkampagne und die Reparatur identifizierter Lecks führt in der Regel zu Einsparungen in der Größenordnung von"]
["L'ajout d'un système de commande centralisé ","L'ajout d'un système de commande centralisé ","Installation eines zentrales Steuerungssystem ",1]
["D'expérience la pression peut souvent être baissée d'environ 0.5 bar, dans ce cas cela permettrait d'économiser ","D'expérience la pression peut souvent être baissée d'environ 0.5 bar, dans ce cas cela permettrait d'économiser ","Erfahrungsgemäß kann der Druck oft um ca. 0,5 bar gesenkt werden, in diesem Fall würde dies zu Einsparungen führen. "]
["Campagne de recherche de fuite par ultrasons et la réparation des fuites repérées","Campagne de recherche de fuite par ultrasons et la réparation des fuites repérées","Ultraschall-Lecksuchkampagne und Reparatur der festgestellten Leckagen"]
["optimisation de la régulation et év. remplacement de compresseur(s)","optimisation de la régulation et év. remplacement de compresseur(s)","Optimierung der Regelung und ev. Austausch von Kompressor(en)",1]
["Optimisation de la pression","Optimisation de la pression","Druckoptimierung"]
["Phrases gains pompe","Phrases gains pompe","Sätze zur Pumpeneinsparungen",1]
["Remplacement et redimensionnement entrainement et/ou moteur. ","Remplacement et redimensionnement entrainement et/ou moteur. ","Austausch und Redimensionierung von Antrieb und/oder Motor. ",1]
["Ajout d'un variateur de fréquence","Ajout d'un variateur de fréquence","Hinzufügen eines Frequenzumrichters",1]
["Redimensionnement entrainement","Redimensionnement entrainement","Redimensionierung der Anlage"]
["Phrases calcules gains pompes","Phrases calcules gains pompes","Sätze einsparungen Pumpen"]
["Le remplacement","Le remplacement","Der Ersatz"]
["de la pompe/ventilateur","de la pompe/ventilateur","der Pumpe/Lüfter",1]
["du moteur","du moteur","des Motors"]
["permettrai un gain technologique de ","permettrai un gain technologique de ","ermöglicht einen technologischen Gewinn von "]
["L'ajout d'un variateur perment en moyenne d'économiser ","L'ajout d'un variateur perment en moyenne d'économiser ","Das Hinzufügen eines FUs spart durchschnittlich"]
["Le redimensionnement des pompes/ventilateurs permet en moyenne un gain de ","Le redimensionnement des pompes/ventilateurs permet en moyenne un gain de ","Die Redimensionierung der Pumpen/Ventilatoren ermöglicht eine durchschnittliche Verstärkung von ",1]
["Dans votre cas, l'âge de la pompe/ventilateur rend le redimensionnement peu rentable.","Dans votre cas, l'âge de la pompe/ventilateur rend le redimensionnement peu rentable.","In Ihrem Fall macht das Alter der Pumpe/Lüfter die Größenänderung unwirtschaftlich.",1]
["Mesure air comprimée","Mesure air comprimée","Massnahmen Druckluft",1]
["Remplacement de compresseurs et/ou ajout de variateur de vitesse combiné à une meilleur régulation ","Remplacement de compresseurs et/ou ajout de variateur de vitesse combiné à une meilleur régulation ","Austausch von Verdichtern und/oder Ergänzung des Drehzahlreglers in Verbindung mit besserer Regelung; ",1]
["Pour accélérer le programme cette page ne peut être calculée que lorsque un bouton est activé","Pour accélérer le programme cette page ne peut être calculée que lorsque un bouton est activé","Um das Programm zu beschleunigen, kann diese Seite nur berechnet werden, wenn eine Schaltfläche aktiviert ist."]
["Points attribuées","Points attribuées","Vergebene Punkte"]
["Limite pour 1 point","Limite pour 1 point","Grenzwert für 1 Punkt"]
["Limite pour 2 points","Limite pour 2 points","Grenzwert für 2 Punkte"]
["Attribution des points pour le conseil d'orientation: Estimations des économies ","Attribution des points pour le conseil d'orientation: Estimations des économies ","Vergabe von Punkten für die Vorgehensberatung: Schätzungen der Einsparungen "]
["Cette feuille calcule les points de l'estimation des économies","Cette feuille calcule les points de l'estimation des économies","Dieses Blatt berechnet die Punkte der Ersparnisschätzung."]
["Points entreprise en général","Points entreprise en général","Firma-Punkte allgemein"]
["Consommations el. annuelles","Consommations el. annuelles","elekt. Verbrauch alljährlich"]
["Secteurs","Secteurs","Sektoren"]
["Ages des installations techniques","Ages des installations techniques","Alter der technischen Anlagen"]
["Règle de calcul","Règle de calcul","Berechnungsregel"]
["1 point si consommation en dessus de la valeur du point D et 2 points si en dessous de la valeur E en MWh","1 point si consommation en dessus de la valeur du point D et 2 points si en dessous de la valeur E en MWh","1 Punkt bei Verbrauch über dem Wert von Punkt D und 2 Punkte bei Verbrauch unter dem Wert E in MWh"]
["Voir points attribués au secteur d'après la feuille Listes (d'après rapport proEpa [ref])","Voir points attribués au secteur d'après la feuille Listes (d'après rapport proEpa [ref])","Siehe Punkte, die dem Sektor nach Blatt Listen (laut proEpa-Bericht[ref]) vergeben werden."]
["Proportion de l'âge des installations sur le site","Proportion de l'âge des installations sur le site","Alters Verhaltnis der Anlagen vor Ort"]
[{"$f":"IF($B$2=\"FR\",B517,C517)","v":"Points installations sur site"},"Points installations sur site","Vor-Ort-Installationspunkte"]
["Somme des points des installations présentes sur le site (voir tableau ci-dessous)","Somme des points des installations présentes sur le site (voir tableau ci-dessous)","Summe der Punkte der auf dem Gelände vorhandenen Anlagen (siehe Tabelle unten)"]
["Somme des points attribués (B4, B5, B8) pour autant que la consommation annuelle soit plus élevée que 100 MWh/an et que B8 > 4 ","Somme des points attribués (B4, B5, B8) pour autant que la consommation annuelle soit plus élevée que 100 MWh/an et que B8 > 4 ","Summe der vergebenen Punkte (B4, B5, B8), sofern der Jahresverbrauch höher als 100 MWh/a ist und B8 > 4 "]
["La partie ci-dessous, calcule la hauteur de la barre d'estimation des économies. Nous nous basons sur une économie maximale de 15 %, d'après les résultats des programmes conduits par Planair, voir graphique à droite","La partie ci-dessous, calcule la hauteur de la barre d'estimation des économies. Nous nous basons sur une économie maximale de 15 %, d'après les résultats des programmes conduits par Planair, voir graphique à droite","Der untere Teil berechnet die Höhe des Sparschätzungsbalkens. Wir gehen von einer maximalen Einsparung von 15% aus, basierend auf den Ergebnissen der Planair-Programme, siehe Grafik rechts."]
["Notation","Notation","Bewertung"]
["Nombre de points maximal","Nombre de points maximal","Maximale Punktzahl"]
["Nombre de points conduisant à la meilleure note","Nombre de points conduisant à la meilleure note","Nombre de points conduisant à la meilleure note"]
["Hauteur de la barre ","Hauteur de la barre ","Höhe der Stange "]
["Installations présentes sur le site","Installations présentes sur le site","Einrichtungen, die auf dem Gelände vorhanden sind"]
["Point","Point","Punkt"]
["Gain technologique (remplacement entrainement et/ou moteur): ","Gain technologique (remplacement entrainement et/ou moteur): ","Einsparungen durch Technologieverbesserung (Erneuerung Anlage/Motor): ",1]
["Gain de redimensionnement  ","Gain de redimensionnement  ","Einsparungen Redimensionierung: ",1]
["Gain ajout variateur de fréquence  ","Gain ajout variateur de fréquence  ","Einsparung FU: ",1]
["Retour au conseil d'orientation","Retour au conseil d'orientation","Zurück zur Vorgehensberatung"]
["Economies associées à ces pompes","Economies associées à ces pompes","Geschätztes Einsparpotenzial",1]
["Economies associées à ces ventilateurs","Economies associées à ces ventilateurs","Erwartete Einsparungen",1]
["Economies attendues","Economies attendues","Erwartete Einsparungen",1]
["Economies [kWh/a]  (± 30 %)","Economies [kWh/a]  (± 30 %)","Einsparpotenzial [kWh/a]",1]
["Economies annuelles [CHF/a]  (± 30 %)","Economies annuelles [CHF/a]  (± 30 %)","Jährliche Einsparungen [CHF/a] (± 30 %)",1]
["Economies sur 4 ans [CHF/4a]  (± 30 %)","Economies sur 4 ans [CHF/4a]  (± 30 %)","Einsparungen in 4 Jahren [CHF/4J] (± 30 %)"]
["Economies sur 8 ans [CHF/8a]  (± 30 %)","Economies sur 8 ans [CHF/8a]  (± 30 %)","Einsparungen in 8 Jahren [CHF/8J] (± 30 %)"]
["Mesures d'améliorations possibles","Mesures d'améliorations possibles","Mögliche Optimierungsmaßnahmen (in einer detaillierten Analyse zu validieren):"]
["Origines des gains","Origines des gains","Massnahmen",1]
["Ventilateurs et pompes","Ventilateurs et pompes","Ventilatoren und Pumpen"]
["Économie du à une reduction des fuites ","Économie du à une reduction des fuites ","Einsparung durch reduzierte Leckage ",1]
["Consommation après implémentation","Consommation après implémentation","Verbrauch nach Implementierungen",1]
["Économie Recommandée","Économie Recommandée","Empfehlenswerte Massnahmen",1]
["Économie très recommandée","Économie très recommandée","Sehr Empfehlenswerte Massnahmen",1]
["Groupe froid","Groupe froid","Kälte",1]
["Disponible prochainement","Disponible prochainement","Noch nicht verfügbar",1]
["Autres entrainements","Autres entrainements","Andere Antriebe ",1]
["Ventilateurs et pompes","Ventilateurs et pompes","Ventilatoren und Pumpen"]
["Monoblocs de ventilation","Monoblocs de ventilation","Lüftungsmonoblöcke"]
["Economie du à l'ajustement de pression [kWh/a]","Economie du à l'ajustement de pression [kWh/a]","Einsparung Druckreduzierung [kWh/a]",1]
["Economie du à une reduction des fuites [kWh/a]","Economie du à une reduction des fuites [kWh/a]","Einsparung durch reduzierte Leckage [kWh/a].",1]
["Pompe et ventilateur","Pompe et ventilateur","Pumpen und Ventilatoren",1]
["Afficher/cacher informations supplémentaires","Afficher/cacher informations supplémentaires","Zusätzliche Informationen ein-/ausblenden"]
["Économies des installations intéressantes","Économies des installations intéressantes","Einsparungen der Installationen mit hohem Potenzial",1]
["Économies des installations moyennement intéressantes","Économies des installations moyennement intéressantes","Einsparungen bei Installationen mit mässigem Potenzial",1]
["de la consommation total du système ","de la consommation total du système ","des System-Stromverbrauchs",1]
["Taux de charge en periode de non production?","Taux de charge en periode de non production?","Auslastung ausserhalb Produktionszeiten?",1]
["Veuillez renseigner le champ <<consommation annuelle électrique totale du site>>","Veuillez renseigner le champ <<consommation annuelle électrique totale du site>>","Die Eingabe \"Gesamter jährlicher Stromverbrauch des Standorts:\" fehlt.",1]
["Erreur dans la lecture des fichiers d'aides. Veuillez vérifier que le dossier -Informations- est dézippé et se trouve dans le même dossier que le fichier excel","Erreur dans la lecture des fichiers d'aides. Veuillez vérifier que le dossier -Informations- est dézippé et se trouve dans le même dossier que le fichier excel","Hilfe .htm Dateien werden nicht gefunden. Überprufen Sie, dass im Ordner wo diese Excel-Datei liegt auch den Ordner \"Information\" enthält (die Dateien mussen Extrahiert werden). ",1]
["Veuillez renseigner les champs nécessaires","Veuillez renseigner les champs nécessaires","Füllen Sie bitte die Fehlenden Eingaben.",1]
["Les heures de fct ne correspondent pas","Les heures de fct ne correspondent pas","Die Betriebsstunden stimmen nicht überein.",1]
["Veuillez adapter les pourcentages pour avoir une valeur positive","Veuillez adapter les pourcentages pour avoir une valeur positive","Die Anteile müssen reduziert werden damit die Summe stimmt.",1]
["La différence entre la pression du réseau","La différence entre la pression du réseau","Die Differenz zwischen den Netzdruck",1]
["bar et la pression maximiale requise est importante. Le niveau de pression peut probablement être abaissé (et/ou les pertes de pressions éliminée)","bar et la pression maximiale requise est importante. Le niveau de pression peut probablement être abaissé (et/ou les pertes de pressions éliminée)","bar und den höchsten Bedarfsdruck ist hoch. Der Druck Sollwert kann eventuel reduziert werden (oder die Druckverluste).",1]
["La pression de service peut éventuellement être abaissée","La pression de service peut éventuellement être abaissée","Der Solldruck könnte eventuel reduziert werden. ",1]
["C. Question variateur","C. Question variateur","C. Frage FU",1]
["Comment est piloté le variateur de fréquence","Comment est piloté le variateur de fréquence","Wie wird der FU geregelt?",1]
["Sécheur par adsorption","Sécheur par adsorption","Adsorptionstrockner",1]
["Vraiment peu étanche (tf=35 %)","Vraiment peu étanche (tf=35 %)","Sehr undicht (Leckrate=35%)",1]
["La valeur max. est très basse. Soit les valeurs sont fausses, soit la pompe travaille à un débit techniquement trop faible","La valeur max. est très basse. Soit les valeurs sont fausses, soit la pompe travaille à un débit techniquement trop faible","Die max. Werte sind sehr Tief. Die eingegebene Werte sind vielleicht falsch oder der Volumenstrom ist zu Tief.",1]
["Répartition temporelle de la charge","Répartition temporelle de la charge","Zeitliche verteilung der Last",1]
["% du débit max","% du débit max","% vom max. Volumenstrom",1]
["Afficher le graphique des puissances spécifiques","Afficher le graphique des puissances spécifiques","Spezifische Leistung Graph einbleden"]
["Type et Nom/code/description","Type et Nom/code/description","Typ und Name/Bezeichnung"]
["Evaluez rapidement l'intérêt à passer à l'étape suivante, l'analyse préliminaire.","Evaluez rapidement l'intérêt à passer à l'étape suivante, l'analyse préliminaire.","Schnelle Beurteilung und Einschätzung"]
["Si la consommation électrique totale du site comprenant les entrainements électriques est d'au moins 100 MWh/a et que  15 % des entrainements électriques ont été installés il y plus de 8 ans, il vaut la peine de passer à l'étape suivante en cliquant cliquez sur le bouton ci-dessous.","Si la consommation électrique totale du site comprenant les entrainements électriques est d'au moins 100 MWh/a et que  15 % des entrainements électriques ont été installés il y plus de 8 ans, il vaut la peine de passer à l'étape suivante en cliquant cliquez sur le bouton ci-dessous.","Falls der Stromverbrauch des Standorts die die Elektrische Antriebe beinhaltet grösser als 100 MWh/a und das mehr als 15 % der Antriebe älter als 8 Jahre sind, lohnt es sich weiterzumachen. Klicken Sie dafür auf dem Knopf."]
["Oui, mon site satisfait ces critères. Il vaut la peine de passer à l'étape suivante. ","Oui, mon site satisfait ces critères. Il vaut la peine de passer à l'étape suivante. ","Ja, mein Standort erfüllt diese Kriterien. Quick-Check einblenden."]
["1. Première vérification","1. Première vérification","1. Erster Check"]
["2. Evaluation complémentaire","2. Evaluation complémentaire","2. Zusätzliche Beurteilung"]
["En renseignant quelques champs supplémentaires, évaluez la pertinence à passer à l'analyse préliminaire.","En renseignant quelques champs supplémentaires, évaluez la pertinence à passer à l'analyse préliminaire.","Mit den folgenden, zusätzlichen Angaben kann eingeschätzt werden, ob eine Grobanalyse sinnvoll ist."]
["Appréciation","Appréciation","Beurteilung"]
["D'après la consommation d'énergie du site, le potentiel est faible.","D'après la consommation d'énergie du site, le potentiel est faible.","Nach dem Stromverbrauch des standorts ist das Potential eher gering."]
["Favorable","Favorable","Vorteilhaft"]
[{"$f":"IF($B$2=\"FR\",B584,C584)","v":"Très favorable"},"Très favorable","Sehr vorteilhaft"]
["Défavorable","Défavorable","Nicht vorteilhaft"]
["Il y un intérêt à poursuivre avec l'analyse préliminaire","Il y un intérêt à poursuivre avec l'analyse préliminaire","Es lohnt sich mit der Grobanalyse weiter zu machen"]
["L'intérêt à continuer est limité","L'intérêt à continuer est limité","Das Interesse weiterzumachen ist eher gering"]
["Veuillez renseigner tous les champs nécessaires","Veuillez renseigner tous les champs nécessaires","Füllen Sie alle Eingaben aus"]
["Vérifiez que vous avez bien sélectionné les entraînements présents sur site","Vérifiez que vous avez bien sélectionné les entraînements présents sur site","Überprüfen Sie, ob alle Vorhandenen Antriebe ausgewählt wurden."]
["Vérifier la valeur renseignée pour la consommation électrique totale du site","Vérifier la valeur renseignée pour la consommation électrique totale du site","Überprüfen Sie der eingebener Stromverbrauch Wert"]
["Neutre","Neutre","Neutral"]
["Renseignements généraux","Renseignements généraux","Allgemeine Eingaben"]
["Prix de l'électricité en CHF/kWh (Coûts totaux divisés par la consommation totale)","Prix de l'électricité en CHF/kWh (Coûts totaux divisés par la consommation totale)","Mittlerer Stromtarif in CHF/kWh"]
["De quand datent approximativement les installations (comprenant des entraînements). Commencez par la valeur que vous allez réduire.","De quand datent approximativement les installations (comprenant des entraînements). Commencez par la valeur que vous allez réduire.","Von wann stammen die meisten Installationen. Fangen Sie mit dem Wert an den Sie reduzieren werden."]
["Autres grands consommateurs d'électricité","Autres grands consommateurs d'électricité","Andere grosse Stromverbraucher"]
["Existe-t-il d'autres grands consommateurs de courant (fours, éclairage, ...) représentant, ensembles, plus de 50 % de la consommation électrique annuelle du site?","Existe-t-il d'autres grands consommateurs de courant (fours, éclairage, ...) représentant, ensembles, plus de 50 % de la consommation électrique annuelle du site?"]
["Existe-t-il d'autres grands consommateurs de courant (fours, éclairage, ...) représentant, ensembles, plus de 50 % de la consommation électrique annuelle du site?","Existe-t-il d'autres grands consommateurs de courant (fours, éclairage, ...) représentant, ensembles, plus de 50 % de la consommation électrique annuelle du site?","Gibt es andere grosse Stromverbraucher (z.B. Öfen, Galvanik, Beleuchtung, etc.) die insgesamt mehr als 50 % des gesamten Stromverbrauch ausmachen?"]
["3. Conclusion","3. Conclusion","3. Fazit"]
["Evaluation générale","Evaluation générale","Gesamtbeurteilung"]
["Installations de froid\n> 30 kW froid","Installations de froid\n> 30 kW froid","Kältemaschine\n > 30 kW Kälteleistung"]
["Station de pompage\n> 20 kW par pompe","Station de pompage\n> 20 kW par pompe","Pumpstation\n > 20 kW pro Pumpe"]
["Monoblocs de ventilation\n> 10'000 m3/h par monobloc","Monoblocs de ventilation\n> 10'000 m3/h par monobloc","Lüftungsanlage\n > 10'000 m3/h pro Monobloc"]
["Ventilateurs\n> 10 kW par ventilateur\n","Ventilateurs\n> 10 kW par ventilateur\n","Ventilator\n > 10 kW pro Ventilator"]
["Système d'air comprimé\n>  25 kW (compresseur)","Système d'air comprimé\n>  25 kW (compresseur)","Druckluftsystem\n > 25 kW pro Kompressor"]
["Autres entraînements\n> 10 kW par entraînement","Autres entraînements\n> 10 kW par entraînement","Andere Antriebe\n > 10 kW pro Antrieb"]
["Chaufferie\n> 10 kW par entr. électrique","Chaufferie\n> 10 kW par entr. électrique","Kesselraum\n > 10 kW pro elektr. Antrieb"]
["Groupe de pompes de circulation > 10 kW/pompe","Groupe de pompes de circulation > 10 kW/pompe","Umwälzpumpen > 10 kW pro Pumpe"]
["avant","avant","vor"]
["entre ","entre ","zwischen"]
["et","et","und"]
["après","après","nach"]
[" Aide: où trouver les entrainements pertinents?"," Aide: où trouver les entrainements pertinents?","Hilfe:  wo können die Antriebe gefunden werden?"]
["Commentaires","Commentaires","Bemerkungen"]
["Remplissez le tableau ci-dessous. En cas de besoin cliquer sur l'aide ci-après pour afficher l'aide à la sélection.","Remplissez le tableau ci-dessous. En cas de besoin cliquer sur l'aide ci-après pour afficher l'aide à la sélection.","Erfassen Sie unten die relevanten Ventilatoren. Der Hilfe-Link rechts unterstützt bei der Auswahl."]
["Résultats: Estimations des gains","Résultats: Estimations des gains","Resultate pro Antrieb/Installation"]
["Economies sur 4 ans [CHF/4a]  (± 30 %)","Economies sur 4 ans [CHF/4a]  (± 30 %)","Einsparungen in 4 Jahren \n[CHF/4a] (± 30 %)"]
["Entreprise","Entreprise","Firma"]
["Cette page peut-être imprimée (ctrl + p)","Cette page peut-être imprimée (ctrl + p)","Seite Ausdrucken (ctrl + p)"]
["D'après les données introduite, il est estimé que:","D'après les données introduite, il est estimé que:","Schätzung aufgrund der eingegebenen Daten:"]
["Liste des entrainements","Liste des entrainements","Liste der erfassten Antriebe"]
["Economies annuelles [CHF/a]  (± 30 %)","Economies annuelles [CHF/a]  (± 30 %)","Jährliche Einsparungen [CHF/a] (± 30 %)"]
["Retenue pour l'analyse fine","Retenue pour l'analyse fine","Für Feinanalyse ausgewählt"]
["Commentaire de suivi","Commentaire de suivi","Kommentar"]
["Forcer l'économie [%]","Forcer l'économie [%]","Einsparung überschreiben"]
["A. fine","A. fine","Feinanaly."]
["Eventuellement","Eventuellement","Eventuel"]
["Afficher cacher les détails","Afficher cacher les détails","Details Anzeigen"]
[{"$f":"IF($B$2=\"FR\",B628,C628)","v":"https://doc.velani-tool.ch/Informations"},{"$f":"Listes!A36&\"Informations\"","v":"https://doc.velani-tool.ch/Informations"},{"$f":"Listes!A36&\"InformationsDE\"","v":"https://doc.velani-tool.ch/InformationsDE"}]
["Liens","Liens","Link"]
["Donnée de débit disponible","Donnée de débit disponible","Durchflüsse Verfügbar"]
["Langue","Langue","Sprache"]
["Cet outil est composé de 4 modules qui vous permettent d’estimer, de façon de plus en plus précise, le potentiel d’économie significatif au niveau de vos entraînements électriques.","Cet outil est composé de 4 modules qui vous permettent d’estimer, de façon de plus en plus précise, le potentiel d’économie significatif au niveau de vos entraînements électriques.","Mit Velani kann das Einsparpotenzial bei den elektrischen Antrieben in vier Schritten abgeschätzt werden. Jeder Schritt fügt zusätzliche Information hinzu und führt zu einer präziseren Potenzialschätzung."]
["Afin de limiter l'effort aux situations qui en vallent la peine, ces modules sont à compléter ou à consulter dans l’ordre suivant :","Afin de limiter l'effort aux situations qui en vallent la peine, ces modules sont à compléter ou à consulter dans l’ordre suivant :","Für ein effizientes Vorgehen und um die Erfassung aller wichtigen Informationen sicherzustellen, sollten die folgenden Schritte in der vorgesehenen Reihenfolge durchgeführt werden"]
["Module 1 de « Quick check (Vérification rapide) » ","Module 1 de « Quick check (Vérification rapide) » ","Schritt 1: \"Quickcheck\""]
["Il ne nécessite que quelques minutes et permet de vérifier globalement l’intérêt pour votre site de réaliser une analyse préliminaire des entrainements électriques. Si le résultat de ce module de vérification est favorable, on peut passer au module 2 d’analyse préliminaire.","Il ne nécessite que quelques minutes et permet de vérifier globalement l’intérêt pour votre site de réaliser une analyse préliminaire des entrainements électriques. Si le résultat de ce module de vérification est favorable, on peut passer au module 2 d’analyse préliminaire.","Schätzen Sie mit einigen Angaben über Ihren Standort ein, ob es sich lohnt mit Schritt 2 fortzufahren. "]
["Module n°2 « Analyse préliminaire » ","Module n°2 « Analyse préliminaire » ","Schritt 2: \"Grobanalyse\""]
["Ce module s'intéresse aux  principaux entraînements électriques du site (informations de base), il permet de définir un premier potentiel d’économie  et de classer les entraînements. Si l’on possède des données plus détaillées sur les entrainements, on peut passer au module 3.","Ce module s'intéresse aux  principaux entraînements électriques du site (informations de base), il permet de définir un premier potentiel d’économie  et de classer les entraînements. Si l’on possède des données plus détaillées sur les entrainements, on peut passer au module 3.","In der Grobanalyse werden die wichtigsten elektrischen Antriebe mit den relevanten/bekannten Eigenschaften erfasst. Damit kann eine erste, differenzierte Potenzialabschätzung gemacht werden. Die Resultate werden eingeordnet und strukturiert dargestellt."]
["Module n°3 « Analyse préliminaire plus» ","Module n°3 « Analyse préliminaire plus» ","Schritt 3: \"Grobanalyse +\""]
["Pour les entraînements pour lesquels on dispose de plus d'informations, le module \"Analyse préliminaire plus\" permet de préciser le potentiel. On parvient ainsi à déterminer quels entraînements bénéficieraient avantageusement d'une analyse de détail.","Pour les entraînements pour lesquels on dispose de plus d'informations, le module \"Analyse préliminaire plus\" permet de préciser le potentiel. On parvient ainsi à déterminer quels entraînements bénéficieraient avantageusement d'une analyse de détail.","Die Einsparpotentiale einzelner Antriebe können noch präzisiert werden indem in der Grobanalyse + Zusatzinformationen erfasst werden."]
["Module n°4 « Analyse de détail » ","Module n°4 « Analyse de détail » ","Schritt 4: \"Feinanalyse\""]
["Ce module propose des \"recettes\" d'analyse spécifiques à chaque type d'entraînement et des procédures de conduite des mesurages. L’analyse de détail, basée sur des mesurages, doit être menée par un spécialiste.","Ce module propose des \"recettes\" d'analyse spécifiques à chaque type d'entraînement et des procédures de conduite des mesurages. L’analyse de détail, basée sur des mesurages, doit être menée par un spécialiste.","Hier werden bewährte Ansätze für die Feinanalyse an verschiedenen Antriebs- und Anwendungstypen  vorgeschlagen. Die Feinanalyse wird in der Regel von Fachspezialisten durchgeführt. "]
["Introduction","Introduction","Einführung"]
["Méthode d'évaluation","Méthode d'évaluation","Beurteilungssmethodik"]
["Méthode de calcul : classification","Méthode de calcul : classification","Methodik Einstufung"]
["Méthode de calcul : air comprimé","Méthode de calcul : air comprimé","Berechnungsmethodik: Druckluft"]
["Méthode de calcul : pompe et ventilateur","Méthode de calcul : pompe et ventilateur","Berechnungsmethodik: Pumpe und Ventilator"]
["Méthode de calcul AP+: air comprimé","Méthode de calcul AP+: air comprimé","Berechnungsmethodik  GA+: Druckluft"]
["Méthode de calcul AP+: pompe","Méthode de calcul AP+: pompe","Berechnungsmethodik  GA+: Pumpen"]
[{"$f":"IF($B$2=\"FR\",B649,C649)","v":"Méthode de calcul AP+: ventilateur"},"Méthode de calcul AP+: ventilateur","Berechnungsmethodik  GA+: Ventilatoren"]
["Voulez-vous enregistrer les résultats de l'analyse préliminaire plus?","Voulez-vous enregistrer les résultats de l'analyse préliminaire plus?","Wollen Sie die Resultate der Grobanalyse plus speichern?"]
["Enregistrer les résultats","Enregistrer les résultats","Resultate speichern"]
[0]
["Analyse préliminaire: Liste des installations production de froid","Analyse préliminaire: Liste des installations production de froid","Grobanalyse: Liste der Kältemaschine "]
["Lister les principales installations de froid et disposer une première estimation des économies qui peuvent être escomptées","Lister les principales installations de froid et disposer une première estimation des économies qui peuvent être escomptées","Listen Sie die Kältemaschine ihres Standortes auf um eine erste einschätzung zum einsparpotenzial zu bekommen."]
["Economies associées à ces installations de froid","Economies associées à ces installations de froid","Einsparungen  der Kältemaschine"]
["Complétez le tableau ci-dessous, en cas de besoin cliquez sur le bouton pour afficher l'aide à la sélection.","Complétez le tableau ci-dessous, en cas de besoin cliquez sur le bouton pour afficher l'aide à la sélection.","Füllen Sie die Tabelle unten auf. Falls nötig klicken Sie auf die Hilfe Links."]
["Désignation de l'installation","Désignation de l'installation","Name der Installation "]
["Groupe de froid","Groupe de froid","Kältemaschine"]
["Groupe de froid ","Groupe de froid ","Kältemaschine"]
["Groupe de froid ","Groupe de froid ","Kältemaschine"]
["Groupe de froid ","Groupe de froid ","Kältemaschine"]
["Année de construction de l'installation","Année de construction de l'installation","Baujahr"]
["Profil d'heures de fonctionnement annuel de l'installation [h/an]","Profil d'heures de fonctionnement annuel de l'installation [h/an]","Auslastungsprofil der Kältemaschine [h/a]"]
["Puissance électrique nonimale totale des compresseurs [kW]","Puissance électrique nonimale totale des compresseurs [kW]","Gesamte elektrische Kompressorleistung [kW]"]
["Mode de régulation des compresseurs ","Mode de régulation des compresseurs ","Kompressor-Steuerungsmodus"]
["Tout ou rien par marche/arrêt","Tout ou rien par marche/arrêt","Ein/Aus-Regelung"]
["Cascade des compresseurs","Cascade des compresseurs","Kompressor-Kaskade"]
["Tiroir sans variation de vitesse du moteur ","Tiroir sans variation de vitesse du moteur ","Saugdrossel-Regelung (ohne FU)"]
[{"$f":"IF($B$2=\"FR\",B669,C669)","v":"Variation de vitesse / tête de cylindre"},"Variation de vitesse / tête de cylindre","Frequenzumrichter"]
["La température de condensation est-elle constante ?","La température de condensation est-elle constante ?","Kondenser-Temp. konstant?"]
["Non","Non","Nein"]
["Oui","Oui","Ja"]
["Existe-t-il un système de free-cooling ?","Existe-t-il un système de free-cooling ?","Freecooling?"]
["Non","Non","Nein"]
["Oui","Oui","Ja"]
["Ne sais pas","Ne sais pas","Weiss nicht"]
["Consommation annuelle estimées [kWh/a]","Consommation annuelle estimées [kWh/a]","Jährlicher Stromverbrauch [MWh]"]
["A","A","A"]
["B","B","B"]
["C","C","C"]
["Classe d'efficacité du moteur (si moteur et compresseur séparés)","Classe d'efficacité du moteur (si moteur et compresseur séparés)","Motor Effizienzklasse"]
["Analyse préliminaire + :  Installation de froid","Analyse préliminaire + :  Installation de froid","Grobanalyse +: Kältemaschine"]
["Existe-t- il un système de valorisation des rejets thermiques aux condenseurs ?","Existe-t- il un système de valorisation des rejets thermiques aux condenseurs ?","Wärmerückgewinnung beim Kondensator?"]
["De combien de degré peut-on baisser la température de condensation ?","De combien de degré peut-on baisser la température de condensation ?","Um wieviel Grad kann die Kondensator-Temp. gesenkt werden?"]
["Quelle est la température production de froid [°C] ? ","Quelle est la température production de froid [°C] ? ","Kaltwassertemperatur [°C]?"]
["De combien de degré peut-on augmenter la température de production de froid [°C] ?","De combien de degré peut-on augmenter la température de production de froid [°C] ?","Um wieviel Grad kann die Kaltwassertemperatur gesenkt werden?"]
["Quelle est la différence de température aller-retour de la production froid [°C] ?","Quelle est la différence de température aller-retour de la production froid [°C] ?","Temperaturdifferenz zwischen Vor- und Rücklauftemperatur [°C]?"]
["Questions supplémentaires","Questions supplémentaires","Zusätzliche Fragen"]
["Gain sur la baisse de la température de condensation","Gain sur la baisse de la température de condensation","Senkung Kondensator-Temperatur"]
["Gain sur la pression de condensation flottante","Gain sur la pression de condensation flottante","Variabler Kondensatordruck"]
["Gain sur l'augmentation de la presson d'évaporation","Gain sur l'augmentation de la presson d'évaporation","Erhöhung Verdampfungsdruck"]
["Gains optimisation de distribution de froid","Gains optimisation de distribution de froid","Optimierung Kaltwasserverteilung"]
["Gain sur le free-cooling","Gain sur le free-cooling","Free-cooling"]
["Potentiel d'économies","Potentiel d'économies","Einsparungspotentiale"]
["Gain technologiques sur l'installation","Gain technologiques sur l'installation","Technologischeeinsparungen "]
["Gain sur l'efficacité des moteurs","Gain sur l'efficacité des moteurs","Motoreffizienzeinsparungen"]
["Gain sur le compresseurs à vitesse variable","Gain sur le compresseurs à vitesse variable","Einsparungen dank Frequenzumrichter"]
["Gain sur la régulation de la vitesse et du tiroir des compresseurs","Gain sur la régulation de la vitesse et du tiroir des compresseurs","Regelung FU und Schublade"]
["Gain d'optimisation de la pression de condensation ","Gain d'optimisation de la pression de condensation ","Verfüssigungsdruck "]
["Gain free-cooling","Gain free-cooling","Free-cooling"]
["Quick-check","Quick-check","Quick-check"]
["Autre","Autre","Andere"]
["Pourcentage des installation datant d'avant","Pourcentage des installation datant d'avant","Anteil der Anlage mit Jahrgang vor"]
["Pourcentage des installations datant ","Pourcentage des installations datant ","Anteil der Antriebe mit Jahrgang "]
["Synthèse","Synthèse","Zusammenfassung"]
["Les valeurs n'ont pas pu être enregistrées","Les valeurs n'ont pas pu être enregistrées","Die Werte konnten nicht gespeichert werden"]
["Supprimer cette fiche AP plus","Supprimer cette fiche AP plus","Diese GA+ Seite mitsamt Daten löschen"]
["Retour aux résultats","Retour aux résultats","Zurück zu Resultaten"]
["Peut-on  ajouter un convertisseur réglé ou réglé le convertisseur existant ?","Peut-on  ajouter un convertisseur réglé ou réglé le convertisseur existant ?","Kann ein geregelter Frequenzumrichter installiert oder ein existirender FU geregelt werden?"]
["Y-a il un convertisseur de fréquence réglé","Y-a il un convertisseur de fréquence réglé","Ist ein geregelter FU installiert?"]
["Heures de fonctionnement du moteur [heures/années]","Heures de fonctionnement du moteur [heures/années]","Motorstundenanzahl  [Std./a]"]
["Année de construction de l'entrainement [année]","Année de construction de l'entrainement [année]","Baujahr"]
["Gains technologique [%]","Gains technologique [%]","Einsparungen Technologie"]
["Gain variateur de fréquence","Gain variateur de fréquence","Einsparungen FU"]
["Gain régulation","Gain régulation","Einsparungen Regelung"]
["Gain technologique moteur ","Gain technologique moteur ","Einsparungen Motortechnologie"]
[{"$f":"IF($B$2=\"FR\",B717,C717)","v":"Pourrait-on avantageusement régler la vitesse par l’ajout d’un convertisseur"},"Pourrait-on avantageusement régler la vitesse par l’ajout d’un convertisseur","Drehzahlregelung mit FU sinnvoll? (falls noch kein FU)"]
["Aide","Aide","Hilfe"]
["Méthode de calcul","Méthode de calcul","Berech. Grundlagen"]
["Complétez le tableau ci-dessous, en cas de besoin cliquez sur l'aide ci-après pour afficher l'aide à la sélection","Complétez le tableau ci-dessous, en cas de besoin cliquez sur l'aide ci-après pour afficher l'aide à la sélection","Erfassen Sie unten die relevanten Kältemaschinen. Der Hilfe-Link rechts unterstützt bei der Auswahl."]
["Economies associées à ces installations de froid","Economies associées à ces installations de froid","Erwartete Einsparungen"]
["Lister les principales installations de froid et disposer d'une première estimation des économies qui peuvent être escomptées","Lister les principales installations de froid et disposer d'une première estimation des économies qui peuvent être escomptées","Erfassung der wichtigsten Kältemaschinen mit einer ersten Schätzung des Einsparpotenzials"]
["Analyse préliminaire: Autres","Analyse préliminaire: Autres","Grobanalyse: Andere Antriebe"]
["•  La consommation électrique totale du site (entrainements électriques inclus) plus grand que 100 MWh/a","•  La consommation électrique totale du site (entrainements électriques inclus) plus grand que 100 MWh/a","•  Der Stromverbrauch des untersuchten Standorts ist grösser als 100 MWh/a (inkl. der elektrischen Antriebe)"]
["•  15 %, au moins, des entrainements électriques ont été installés il y a plus de 8 ans","•  15 %, au moins, des entrainements électriques ont été installés il y a plus de 8 ans","•  Mehr als 15 % der Antriebe sind älter als 8 Jahre"]
["Campagne de réduction des fuites et colmatage de celle-ci.","Campagne de réduction des fuites et colmatage de celle-ci.","Leckage-Reduktionskampagne und Abdichtung von Leckagen"]
["Attention la puissance à l'arbre est plus élevée que la puissance nominale du moteur.","Attention la puissance à l'arbre est plus élevée que la puissance nominale du moteur.","Achtung, die Wellenleistung ist höcher als die Motornennleistung."]
["Il se peut qu'un de vos compresseur soit surdimensionné en pression.","Il se peut qu'un de vos compresseur soit surdimensionné en pression.","Es kann sein dass ein Kompressor bezüglich Druck überdimensioniert ist"]
["Analyse préliminaire: Synthèse et liste de sélection pour la suite","Analyse préliminaire: Synthèse et liste de sélection pour la suite","Resultate Zusammenfassung"]
["Source pour les aides","Source pour les aides","Datenquelle für Hilfe"]
["Internet","Internet","Internet"]
["Local","Local","Lokal"]
["Cacher le quick check","Cacher le quick check","Quick-check ausblenden "]
["Coût annuel pour l'électricité","Coût annuel pour l'électricité","Jährliche Stromkosten"]
["Résultats: Estimations des gains","Résultats: Estimations des gains","Resultaten"]
["Afficher/cacher informations supplémentaires","Afficher/cacher informations supplémentaires","Ein-/Aus- blenden zusätzliche Informationen"]
["Sur ce graphique les losanges repésentent les puissances spécifiques (nominales ou effectives) de vos compresseur(s) en fonction de la pression. Si les losanges se trouvent en dessus de la ligne rouge traitillée, le rendement n'est pas très bon. ","Sur ce graphique les losanges repésentent les puissances spécifiques (nominales ou effectives) de vos compresseur(s) en fonction de la pression. Si les losanges se trouvent en dessus de la ligne rouge traitillée, le rendement n'est pas très bon. ","In diesem Diagramm stellen die Rauten die spezifischen Leistungen (Soll oder Ist) Ihres Kompressors bzw. Ihrer Kompressoren in Abhängigkeit vom Druck da. Wenn die Diamanten über der roten Linie liegen, ist der Wirkungsgrad nicht sehr gut. "]
["Renseignements manuel de la puissance spéc. [kW/m3/min]","Renseignements manuel de la puissance spéc. [kW/m3/min]","Manuelle angabe der spezifische Leistung [kW/m3/min]"]
["Sectionnement du réseau","Sectionnement du réseau","Netztrennung "]
["Gains sur la régulation des compresseurs","Gains sur la régulation des compresseurs","Kompressor-Regulierungs-Einsparungen"]
[" Répartition temporelle de la charge"," Répartition temporelle de la charge","Lastverteilung"]
["Heures/an","Heures/an","Std/Jahr"]
["% du débit max","% du débit max","% des höchsten effektiven Druchflusses"]
[0]
[0]

{"sheet":"APPo","index":15,"n_rows":150,"n_cols":47,"rows_kept":150,"cut":false,"hidden":true,"merged":[[37,1,37,11],[38,9,38,13],[12,8,12,14],[8,8,8,14],[9,8,9,14],[10,8,10,14],[11,8,11,14],[20,8,20,14],[13,8,13,14],[14,8,14,14],[20,1,20,7],[8,1,8,7],[9,1,9,7],[10,1,10,7],[12,1,12,7],[13,1,13,7],[14,1,14,7],[15,1,15,7],[16,1,16,7],[17,1,17,7],[18,1,18,7],[19,1,19,7],[30,9,30,15],[39,1,39,4],[40,1,40,4],[41,1,41,4],[42,1,42,4],[39,5,39,8],[40,5,40,8],[41,5,41,8],[42,5,42,8],[38,1,38,4],[56,5,56,7],[51,8,51,10],[52,8,52,10],[53,8,53,10],[54,8,54,10],[55,8,55,10],[56,8,56,10],[39,9,39,13],[40,9,40,13],[41,9,41,13],[42,9,42,13],[43,5,43,8],[43,9,43,13],[1,11,1,12],[1,13,1,14],[1,15,1,16],[1,17,1,18],[1,19,1,20],[1,1,1,2],[1,3,1,4],[1,5,1,6],[1,7,1,8],[1,9,1,10],[2,9,2,10],[32,1,32,7],[32,9,34,14],[25,1,25,20],[31,1,31,20],[3,11,3,12],[3,13,3,14],[3,15,3,16],[3,17,3,18],[3,19,3,20],[3,1,3,2],[3,3,3,4],[3,5,3,6],[3,7,3,8],[3,9,3,10],[6,1,6,20],[15,8,15,14],[16,8,16,14],[17,8,17,14],[19,8,19,14],[18,8,18,14],[26,1,27,6],[29,1,30,6],[34,1,34,7],[3,25,3,26],[55,15,55,18],[56,15,56,18],[51,19,51,21],[52,19,52,21],[53,19,53,21],[54,19,54,21],[55,19,55,21],[56,19,56,21],[51,15,51,18],[52,15,52,18],[53,15,53,18],[54,15,54,18],[50,14,50,18],[60,12,60,14],[47,8,47,14],[38,5,38,8],[50,1,50,13],[59,6,59,8],[3,21,3,22],[3,23,3,24],[55,11,55,14],[56,11,56,14],[51,11,51,14],[52,11,52,14],[53,11,53,14],[54,11,54,14],[54,1,54,4],[55,1,55,4],[56,1,56,4],[51,1,51,4],[52,1,52,4],[53,1,53,4],[51,5,51,7],[52,5,52,7],[53,5,53,7],[54,5,54,7],[55,5,55,7]]}
[null,1,null,2,null,3,null,4,null,5,null,6,null,7,null,8,null,9,null,10," ",11,null,12,null,13]
[null,{"$f":"HYPERLINK(NomFichier&Listes!C48&\"'!A1\",Traduction!$A$13)","v":"Menu"},null,{"$f":"HYPERLINK(NomFichier&Listes!C49&\"'!A1\",Traduction!$A$11)","v":"Introduction"},null,{"$f":"HYPERLINK(NomFichier&Listes!C50&\"'!G7\",Traduction!$A$12)","v":"Entreprise"},null,{"$f":"HYPERLINK(NomFichier&Listes!C51&\"'!O16\",Traduction!$A$701)","v":"Quick-check"},null,{"$f":"HYPERLINK(NomFichier&Listes!C53&\"'!E10\",Traduction!$A$77)","v":"Pompe(s)"},null,{"$f":"HYPERLINK(NomFichier&Listes!C54&\"'!E10\",Traduction!$A$78)","v":"Ventilateur(s)"},null,{"$f":"HYPERLINK(NomFichier&Listes!C55&\"'!M12\",Traduction!$A$10)","v":"Air comprimé"},null,{"$f":"HYPERLINK(NomFichier&Listes!C57&\"'!F10\",Traduction!$A$545)","v":"Groupe froid"},null,{"$f":"HYPERLINK(NomFichier&Listes!$C$56&\"'!E10\",Traduction!$A$702)","v":"Autre"},null,{"$f":"Traduction!$A$79","v":"Résultats"}]
[]
[null,{"$f":"IFERROR(HYPERLINK(NomFichier&B92&\"'!A1\",B92),\"\")","v":""},null,{"$f":"IFERROR(HYPERLINK(NomFichier&D92&\"'!A1\",D92),\"\")","v":""},null,{"$f":"IFERROR(HYPERLINK(NomFichier&F92&\"'!A1\",F92),\"\")","v":""},null,{"$f":"IFERROR(HYPERLINK(NomFichier&H92&\"'!A1\",H92),\"\")","v":""},null,{"$f":"IFERROR(HYPERLINK(NomFichier&J92&\"'!A1\",J92),\"\")","v":""},null,{"$f":"IFERROR(HYPERLINK(NomFichier&L92&\"'!A1\",L92),\"\")","v":""},null,{"$f":"IFERROR(HYPERLINK(NomFichier&N92&\"'!A1\",N92),\"\")","v":""},null,{"$f":"IFERROR(HYPERLINK(NomFichier&P92&\"'!A1\",P92),\"\")","v":""},null,{"$f":"IFERROR(HYPERLINK(NomFichier&R92&\"'!A1\",R92),\"\")","v":""},null,{"$f":"IFERROR(HYPERLINK(NomFichier&T92&\"'!A1\",T92),\"\")","v":""},null,{"$f":"IFERROR(HYPERLINK(NomFichier&V92&\"'!A1\",V92),\"\")","v":""},null,{"$f":"IFERROR(HYPERLINK(NomFichier&X92&\"'!A1\",X92),\"\")","v":""},null,{"$f":"IFERROR(HYPERLINK(NomFichier&Z92&\"'!A1\",Z92),\"\")","v":""}]
[]
[null,{"$f":"Traduction!$A$348","v":"Analyse préliminaire + :  pompes"},null,null,null,null,null,null,null,null,null,null,null,null,null,null,null,null,null,null,null,null,null,null,null,null,null,null,{"$f":"Traduction!$A$4","v":"oui"},null,{"$f":"Traduction!$A$29","v":"Calculer une estimation de potentiel"}]
[null,{"$f":"Traduction!$A$349","v":"Cette analyse préliminaire + permet à l'aide de quelques informations supplémentaires de préciser les économies potentielles. Une fois les informations introduites, les économies sont calculées et enregistrées directement dans le tableau de classement des économies (résultats)."},null,null,null,null,null,null,null,null,null,null,null,null,null,null,null,null,null,null,null,null,null,null,null,null,null,null,{"$f":"Traduction!$A$5","v":"non"},null,{"$f":"Traduction!$A$351","v":"Gain du à la classe d'efficacité et de la puissance du moteur"},null,null,null,null,null,null,null,null,null,{"$f":"Traduction!$A$352","v":"Gain redimensionnement"},null,null,null,null,"oui non",{"$f":"Traduction!$A$353","v":"Type de pompe"}]
[null,{"$f":"Traduction!$A$364","v":"Information reprise de l'étape précédente"},null,null,null,null,null,null,null,null,null,null,null,null,null,null,null,null,null,null,null,null,null,null,null,null,null,null,null,null,{"$f":"Traduction!$A$124","v":"Veuillez choisir le type d'entrainement que vous souhaiter lister en cliquant sur le rectangle bleu correspondant"},{"$f":"Traduction!$A$163","v":"Classe d'efficacité  du moteur"},{"$f":"Traduction!$A$355","v":"Gamme de puissance"},"Economie moteur",{"$f":"Traduction!$A$357","v":"Code [codeffp]"},null,"Economie entrainement",{"$f":"Traduction!$A$163","v":"Classe d'efficacité  du moteur"},0,null,{"$f":"Traduction!$A$358","v":"Qmax/Qnom"},{"$f":"Traduction!$A$156","v":"Gain technologique [%]"},null,null,null,{"$f":"Traduction!$A$4","v":"oui"},{"$f":"Traduction!$A$148","v":"Relevage"}]
[null,{"$f":"Traduction!$A$365","v":"Type d'entrainement"},null,null,null,null,null,null,"Pompes",null,null,null,null,null,null,null,null,null,null,null,null,null,null,null,null,null,null,null,null,null,{"$f":"Traduction!$A$8","v":"Pompes"},"Eff3",{"$f":"Traduction!$A$360","v":"<20 kW"},0.1,{"$f":"AE9 & AF9 & IF(AG9=\"<20 kW\",\"p1\",IF(AG9=\"20-100 kW\",\"p2\",\"p3\"))","v":"PompesEff3p1"},null,0.02,"Eff3",1998,null,0,0.3,null,null,null,{"$f":"Traduction!$A$5","v":"non"},{"$f":"Traduction!$A$26","v":"Circulation"}]
[null,{"$f":"Traduction!$A$141","v":"Nom/code/description"},null,null,null,null,null,null,null,null,null,null,null,null,null,null,null,null,null,null,null,null,null,null,null,null,null,null,null,null,{"$f":"Traduction!$A$8","v":"Pompes"},"Eff3",{"$f":"Traduction!$A$361","v":"20-100 kW"},0.05,{"$f":"AE10 & AF10 & IF(AG10=\"<20 kW\",\"p1\",IF(AG10=\"20-100 kW\",\"p2\",\"p3\"))","v":"PompesEff3p2"},null,0.03,"IE1",2005,null,0.25,0.2,null,{"$f":"MATCH(0.2,AO9:AO13,1)","v":1},null,null,{"$f":"Traduction!$A$570","v":"La valeur max. est très basse. Soit les valeurs sont fausses, soit la pompe travaille à un débit techniquement trop faible"}]
[null,{"$f":"Traduction!$A$140","v":"Localisation"},null,null,null,null,null,null,null,null,null,null,null,null,null,null,null,null,null,null,null,null,null,null,null,null,null,"efficacité avec correction si élement entrainé est plus agé","Equivalent classe d'efficactié élément entrainé",null,{"$f":"Traduction!$A$8","v":"Pompes"},"Eff3",{"$f":"Traduction!$A$362","v":"< 100 kW"},0.04,"PompesEff3p3",null,0.01,"IE2",2010,null,0.5,0.08,null,null,null,null,{"$f":"Traduction!$A$561","v":"Les heures de fct ne correspondent pas"}]
[null,{"$f":"Traduction!$A$613","v":"Commentaires"},null,null,null,null,null,null,null,null,null,null,null,null,null,null,null,null,null,null,null,null,null,null,null,null,null,null,{"$f":"IF(ISBLANK(fp_age),\"\",IF(I14<=AM9,AL9,IF(I14<=AM10,AL10,IF(I14<=AM11,AL11,IF(I14<=AM12,AL12,AL13)))))","v":""},null,{"$f":"Traduction!$A$8","v":"Pompes"},"IE1",{"$f":"Traduction!$A$360","v":"<20 kW"},7.0000000000000007E-2,"PompesIE1p1",null,0.01,"IE3",2014,null,0.75,0.05,null,null,null,{"$f":"Traduction!$A$561","v":"Les heures de fct ne correspondent pas"},{"$f":"Traduction!A706","v":"Les valeurs n'ont pas pu être enregistrées"}]
[null,{"$f":"Traduction!$A$220","v":"Puissance nominale [kW]"},null,null,null,null,null,null,null,null,null,null,null,null,null,null,null,null,null,null,null,null,null,null,null,null,"Code moteur",{"$f":"Traduction!$A$363","v":"Gain remplacement technologique"},null,null,{"$f":"Traduction!$A$8","v":"Pompes"},"IE1",{"$f":"Traduction!$A$361","v":"20-100 kW"},0.04,"PompesIE1p2",null,0.01,"IE4",2017,null,1,0,null,null,null,{"$f":"Traduction!$A$566","v":"C. Question variateur"}]
[null,{"$f":"Traduction!$A$366","v":"âge de l'élément entrainé [années]"},null,null,null,null,null,null,null,null,null,null,null,null,null,null,null,null,null,null,null,null,null,null,null,null,{"$f":"I9 & I15 & IF(I13<20,\"p1\",IF(I13<100,\"p2\",\"p3\"))","v":"Pompesp1"},{"$f":"IFERROR(INDEX(AH9:AH24,MATCH(AA14,AI9:AI24,0)),0) + IFERROR(INDEX(AK9:AK24,MATCH(AA16,AI9:AI24,0)),0)","v":0},null,null,{"$f":"Traduction!$A$8","v":"Pompes"},"IE1",{"$f":"Traduction!$A$362","v":"< 100 kW"},0.03,"PompesIE1p3",null,0.01,null,null,null,1.5,0,null,null,null,{"$f":"Traduction!$A$567","v":"Comment est piloté le variateur de fréquence"}]
[null,{"$f":"Traduction!$A$163","v":"Classe d'efficacité  du moteur"},null,null,null,null,null,null,null,null,null,null,null,null,null,null,null,null,null,null,null,null,null,null,null,null,"Code Entrainement",null,null,null,{"$f":"Traduction!$A$8","v":"Pompes"},"IE2",{"$f":"Traduction!$A$360","v":"<20 kW"},0.03,"PompesIE2p1",null,0.01]
[null,{"$f":"Traduction!$A$367","v":"Heures de fonctionnement [heures/années]"},null,null,null,null,null,null,null,null,null,null,null,null,null,null,null,null,null,null,null,null,null,null,null,null,{"$f":"I9 & AC12 & IF(I13<20,\"p1\",IF(I13<100,\"p2\",\"p3\"))","v":"Pompesp1"},null,null,null,{"$f":"Traduction!$A$8","v":"Pompes"},"IE2",{"$f":"Traduction!$A$361","v":"20-100 kW"},0.02,"PompesIE2p2",null,0.01]
[null,{"$f":"Traduction!$A$147","v":"Demande variable"},null,null,null,null,null,null,null,null,null,null,null,null,null,null,null,null,null,null,null,null,null,null,null,null,null,null,null,null,{"$f":"Traduction!$A$8","v":"Pompes"},"IE2",{"$f":"Traduction!$A$362","v":"< 100 kW"},0.02,"PompesIE2p3",null,0]
[null,{"$f":"Traduction!$A$149","v":"Convertisseur de fréquence réglé"},null,null,null,null,null,null,null,null,null,null,null,null,null,null,null,null,null,null,null,null,null,null,null,null,null,null,null,null,{"$f":"Traduction!$A$8","v":"Pompes"},"IE3",{"$f":"Traduction!$A$360","v":"<20 kW"},0,"PompesIE3p1",null,0]
[null,{"$f":"Traduction!$A$152","v":"Forcer la consommation annuelle [kWh/a]"},null,null,null,null,null,null,null,null,null,null,null,null,null,null,null,null,null,null,null,null,null,null,null,null,null,null,null,null,{"$f":"Traduction!$A$8","v":"Pompes"},"IE3",{"$f":"Traduction!$A$361","v":"20-100 kW"},0,"PompesIE3p2",null,0]
[null,{"$f":"Traduction!$A$150","v":"Relevage ou circulation "},null,null,null,null,null,null,null,null,null,null,null,null,null,null,null,null,null,null,null,null,null,null,null,null,null,null,null,null,{"$f":"Traduction!$A$8","v":"Pompes"},"IE3",{"$f":"Traduction!$A$362","v":"< 100 kW"},0,"PompesIE3p3",null,0]
[null,{"$f":"Traduction!$A$278","v":"Prix simplifié de l'électricité en CHF/kWh"},null,null,null,null,null,null,{"$f":"PrixElec","v":0.15010000000000001},null,null,null,null,null,null,null,null,null,null,null,null,null,null,null,null,null,null,null,null,null,null,null,null,0,null,null,0]
[null,{"$f":"Traduction!$A$138","v":"Numéro d'entrainement"},null,null,null,null,null,null,101,null,null,null,null,null,null,null,null,null,null,null,null,null,null,null,null,null,null,null,null,null,{"$f":"Traduction!$A$8","v":"Pompes"},"IE4",{"$f":"Traduction!$A$360","v":"<20 kW"},0,"PompesIE4p1",null,0]
[null,null,null,null,null,null,null,null,null,null,null,null,null,null,null,null,null,null,null,null,null,null,null,null,null,null,null,null,null,null,{"$f":"Traduction!$A$8","v":"Pompes"},"IE4",{"$f":"Traduction!$A$361","v":"20-100 kW"},0,{"$f":"AE23 & AF23 & IF(AG23=\"<20 kW\",\"p1\",IF(AG23=\"20-100 kW\",\"p2\",\"p3\"))","v":"PompesIE4p2"},null,0]
[null,{"$f":"Traduction!$A$368","v":"A compléter"},null,null,null,null,null,null,null,null,null,null,null,null,null,null,null,null,null,null,null,null,null,null,null,null,null,null,null,null,{"$f":"Traduction!$A$8","v":"Pompes"},"IE4",{"$f":"Traduction!$A$362","v":"< 100 kW"},0,{"$f":"AE24 & AF24 & IF(AG24=\"<20 kW\",\"p1\",IF(AG24=\"20-100 kW\",\"p2\",\"p3\"))","v":"PompesIE4p3"}]
[null,{"$f":"Traduction!$A$369","v":"A. Déterminer le rapport entre le débit maximum nécessaire et le débit nominal"},null,null,null,null,null,null,null,null,null,null,null,null,null,null,null,null,null,null,null,null,null,null,null,null,null,0.4]
[null,{"$f":"Traduction!$A$370","v":"Ce rapport permet de déterminer si l'installation est surdimensionnée"},null,null,null,null,null,null,null,null,null,null,null,null,null,null,null,null,null,null,null,null,null,null,null,null,null,{"$f":"Traduction!$A$352","v":"Gain redimensionnement"}]
[null,{"$f":"Traduction!$A$371","v":"Rapport entre le débit maximal (Qmax) et le débit nominal de l'entraînement (Qnom) [-]"},null,null,null,null,null,{"$f":"HYPERLINK(Traduction!A628 & \"/info_QmaxQnom.htm\",Traduction!$A$718)","v":"Aide"},null,null,null,null,null,null,null,null,null,null,null,null,null,null,null,null,null,null,null,{"$f":"FORECAST($I$35,OFFSET($AP$9:$AP$14,MATCH($I$27,$AO$9:$AO$14,1)-1,0,2),OFFSET($AO$9:$AO$14,MATCH($I$27,$AO$9:$AO$14,1)-1,0,2))","v":{"$error":"#DIV/0!"}},{"$f":"IF(AB27<0,0,AB27)","v":{"$error":"#DIV/0!"}}]
[]
[]
[null,{"$f":"Traduction!$A$372","v":"Puissance nominale à l'arbre de la pompe [kW]"},null,null,null,null,null,{"$f":"HYPERLINK(Traduction!A628&\"/info_Parbre.htm\",Traduction!$A$718)","v":"Aide"}]
[null,null,null,null,null,null,null,null,null,{"$f":"IFERROR(IF(AB43>fp_Pnom,Traduction!$A$727,\"\"),\"\")","v":""}]
[null,{"$f":"Traduction!$A$373","v":"Si les débits ne sont pas connus, on peut estimer la qualité du dimensionnement via les puissances électriques"}]
[null,{"$f":"HYPERLINK(Traduction!A628&\"/info_Pelmax.htm\",Traduction!$A$374)","v":"Puissance électrique consommée max. du moteur [kW]"},null,null,null,null,null,null,null,{"$f":"IF((I33*0.9/I30)>(0.1-$O$79)/$O$78,\"\",AU10)","v":{"$error":"#DIV/0!"}}]
[null,{"$f":"Traduction!$A$375","v":"Parbre_max/Parbre_nom"},null,null,null,null,null,null,{"$f":"IF((I33*0.9/I30)>(0.1-$O$79)/$O$78,(I33*0.9/I30),(0.1-$O$79)/$O$78)","v":{"$error":"#DIV/0!"}}]
[null,{"$f":"Traduction!$A$376","v":"Qmax/Qnom utilisé pour les calculs ci-dessous"},null,null,null,null,null,null,{"$f":"IF(I27=0,IF(I34=0,\"\",IF(I18=$AT$8,I34,I34*O78+O79)),I27)","v":{"$error":"#DIV/0!"}}]
[]
[null,{"$f":"Traduction!$A$377","v":"B. Determination de la répartition temporelle de la demande"}]
[null,{"$f":"HYPERLINK(Traduction!A628&\"/info_Q_Qmax.htm\",Traduction!$A$378)","v":"Distribution temporelle de la demande"},null,null,null,null,null,null,null,null,null,null,null,null,null,null,null,null,null,null,null,null,null,null,null,null,null,null,null,null,{"$f":"Traduction!$A$382","v":"Charge moyenne"},{"$f":"Traduction!$A$383","v":"Charge début"},{"$f":"Traduction!$A$384","v":"Charge fin"}]
[null,{"$f":"Traduction!$A$379","v":"Débit par rapport au débit maximal (Q/Qmax) [%]"},null,null,null,{"$f":"Traduction!$A$380","v":"Puissance moteur  [kW]"},null,null,null,{"$f":"Traduction!$A$146","v":"Heures de fonctionnement individuelles [heures/année]"},null,null,null,null,null,null,null,null,null,null,null,null,null,null,null,null,null,null,null,null,{"$f":"AVERAGE(AF39:AG39)","v":0.125},0,0.25]
[null,{"$f":"TEXT(AF39,\"0%\") & \"-\" & TEXT(AG39,\"0%\")","v":"0%-25%"},null,null,null,{"$f":"TEXT(0,\"0.0\") & \"-\" & TEXT(IF(I18=$AT$8,I35*AG39/0.9,(($I$35*AG39*$O$82+$O$83)/0.9))*$I$30,\"0.0\")","v":{"$error":"#DIV/0!"}},null,null,null,null,null,null,null,null,null,null,null,null,null,null,null,null,null,null,null,null,null,null,null,null,{"$f":"AVERAGE(AF40:AG40)","v":0.375},0.25,0.5]
[null,{"$f":"TEXT(AF40,\"0%\") & \"-\" & TEXT(AG40,\"0%\")","v":"25%-50%"},null,null,null,{"$f":"TEXT(IF(I18=$AT$8,AF40*$I$35/0.9,(($I$35*AF40*$O$82+$O$83)/0.9))*$I$30,\"0.0\") & \"-\" & TEXT(IF(I18=$AT$8,AG40*$I$35/0.9,(($I$35*AG40*$O$82+$O$83)/0.9))*$I$30,\"0.0\")","v":{"$error":"#DIV/0!"}},null,null,null,null,null,null,null,null,null,null,null,null,null,null,null,null,null,null,null,null,null,null,null,null,0.625,0.5,0.75]
[null,"50%-75%",null,null,null,{"$f":"TEXT(IF(I18=$AT$8,AF41*I35/0.9,(($I$35*AF41*$O$82+$O$83)/0.9))*$I$30,\"0.0\") & \"-\" & TEXT(IF(I18=$AT$8,AG41*I35/0.9,(($I$35*AG41*$O$82+$O$83)/0.9))*$I$30,\"0.0\")","v":{"$error":"#DIV/0!"}},null,null,null,null,null,null,null,null,null,null,null,null,null,null,null,null,null,null,null,null,null,null,null,null,0.875,0.75,1]
[null,"75%-100%",null,null,null,{"$f":"TEXT(IF(I18=$AT$8,AF42*I35/0.9,(($I$35*AF42*$O$82+$O$83)/0.9))*$I$30,\"0.0\") & \"-\" & TEXT(AB43,\"0.0\")","v":{"$error":"#DIV/0!"}},null,null,null,null,null,null,null,null,null,null,null,null,null,null,null,null,null,null,null,null,null,{"$f":"IF(I18=$AT$8,AG42*I35/0.9,(($I$35*AG42*$O$82+$O$83)/0.9))*$I$30","v":{"$error":"#DIV/0!"}}]
[null,null,null,null,null,{"$f":"Traduction!$A$385","v":"Nombre d'heures totales:"},null,null,null,{"$f":"SUM(J40:J43)","v":0}]
[null,null,null,null,null,null,null,null,null,{"$f":"IF(J44=I16,\"\",AU11)","v":""}]
[]
[null,{"$f":"IF(I18=AT8,AT13,\"\")","v":""}]
[null,{"$f":"IF(I18=AT8,AT14,\"\")","v":""}]
[]
[null,{"$f":"Traduction!$A$386","v":"C. Potentiel d'économies"}]
[null,{"$f":"Traduction!$A$387","v":"Potentiel d'économie par tranche de débit selon les 3 sources d'économies"},null,null,null,null,null,null,null,null,null,null,null,null,{"$f":"HYPERLINK(Traduction!A628&\"/Calc_GAP_pump.htm\",Traduction!A648)","v":"Méthode de calcul AP+: pompe"},null,null,null,null,null,null,null,null,null,null,null,null,null,"Consommation sans correction",{"$f":"Traduction!$A$306","v":"Facteur de puissance moyenne initial"},{"$f":"Traduction!$A$395","v":"Economies dû au redimensionnement [kWh/a]"},{"$f":"Traduction!$A$396","v":"Economies dû à l'ajout d'un convertisseur [kWh/a]"},{"$f":"Traduction!$A$397","v":"Gain de remplacement technologique [kWh]"},null,null,null,null,null,{"$f":"Traduction!$A$398","v":"Gain CF Circulation"},{"$f":"Traduction!$A$399","v":"Gain CF Relevage"}]
[null,{"$f":"Traduction!$A$379","v":"Débit par rapport au débit maximal (Q/Qmax) [%]"},null,null,null,{"$f":"Traduction!$A$388","v":"Energie consommée actuellement [kWh/a]"},null,null,{"$f":"Traduction!$A$389","v":"Economies dues au redimensionnement [kWh/a]"},null,null,{"$f":"Traduction!$A$390","v":"Economies dues à l'ajout/réglage du/d'un convertisseur [kWh/a]"},null,null,null,{"$f":"Traduction!$A$391","v":"Economies dues au améliorations technologiques [kWh]"},null,null,null,{"$f":"Traduction!$A$392","v":"Economies totales [kWh/a]"},null,null,null,null,null,null,null,{"$f":"IF(T48=\"Asservi à une grandeur de réglage\",1,0)","v":0},{"$f":"AD52*J40","v":{"$error":"#DIV/0!"}},{"$f":"IF($I$18=AC6,$AE39*$I$35/0.9,($AE39*$I$35*$O$82+$O$83))*$I$30/0.9","v":{"$error":"#DIV/0!"}},{"$f":"$AC$27","v":{"$error":"#DIV/0!"}},{"$f":"IF(OR($I$18=$AC$7,AND($I$18=$AC$6,$I$48<>$P$75)),INDEX(AM52:AN52,IF($I$20=AU9,1,2)),0)*IF($I$48=$P$74,0.5,1)","v":0},{"$f":"$AB$14","v":0},null,null,null,null,null,0.4,0.25]
[null,{"$f":"TEXT(AF39,\"0%\") & \"-\" & TEXT(AG39,\"0%\")","v":"0%-25%"},null,null,null,{"$f":"IF(fp_opt>0,AC52*fp_opt/$AC$56,AC52)","v":{"$error":"#DIV/0!"}},null,null,{"$f":"$F53*AE52","v":{"$error":"#DIV/0!"}},null,null,{"$f":"$F53*AF52","v":{"$error":"#DIV/0!"}},null,null,null,{"$f":"$F53*AG52","v":{"$error":"#DIV/0!"}},null,null,null,{"$f":"SUM(I53:S53)","v":{"$error":"#DIV/0!"}},null,null,null,null,null,null,null,null,{"$f":"AD53*J41","v":{"$error":"#DIV/0!"}},{"$f":"IF($I$18=AC6,$AE40*$I$35/0.9,($AE40*$I$35*$O$82+$O$83))*$I$30/0.9","v":{"$error":"#DIV/0!"}},{"$f":"$AC$27","v":{"$error":"#DIV/0!"}},{"$f":"IF(OR($I$18=AC7,AND($I$18=$AC$6,$I$48<>$P$75)),INDEX(AM53:AN53,IF($I$20=AU9,1,2)),0)*IF($I$48=$P$74,0.5,1)","v":0},{"$f":"$AB$14","v":0},null,null,null,null,null,0.25,0.15]
[null,{"$f":"TEXT(AF40,\"0%\") & \"-\" & TEXT(AG40,\"0%\")","v":"25%-50%"},null,null,null,{"$f":"IF(fp_opt>0,AC53*fp_opt/$AC$56,AC53)","v":{"$error":"#DIV/0!"}},null,null,{"$f":"$F54*AE53","v":{"$error":"#DIV/0!"}},null,null,{"$f":"$F54*AF53","v":{"$error":"#DIV/0!"}},null,null,null,{"$f":"$F54*AG53","v":{"$error":"#DIV/0!"}},null,null,null,{"$f":"SUM(I54:S54)","v":{"$error":"#DIV/0!"}},null,null,null,null,null,null,null,null,{"$error":"#DIV/0!"},{"$f":"IF($I$18=AC6,$AE41*$I$35/0.9,($AE41*$I$35*$O$82+$O$83))*$I$30/0.9","v":{"$error":"#DIV/0!"}},{"$error":"#DIV/0!"},{"$f":"IF(OR($I$18=AC7,AND($I$18=$AC$6,$I$48<>$P$75)),INDEX(AM54:AN54,IF($I$20=\"Circulation\",1,2)),0)*IF($I$48=$P$74,0.5,1)","v":0},0,null,null,null,null,null,0.1,7.0000000000000007E-2]
[null,{"$f":"TEXT(AF41,\"0%\") & \"-\" & TEXT(AG41,\"0%\")","v":"50%-75%"},null,null,null,{"$f":"IF(fp_opt>0,AC54*fp_opt/$AC$56,AC54)","v":{"$error":"#DIV/0!"}},null,null,{"$f":"$F55*AE54","v":{"$error":"#DIV/0!"}},null,null,{"$f":"$F55*AF54","v":{"$error":"#DIV/0!"}},null,null,null,{"$f":"$F55*AG54","v":{"$error":"#DIV/0!"}},null,null,null,{"$error":"#DIV/0!"},null,null,null,null,null,null,null,null,{"$error":"#DIV/0!"},{"$f":"IF($I$18=AC6,$AE42*$I$35/0.9,($AE42*$I$35*$O$82+$O$83))*$I$30/0.9","v":{"$error":"#DIV/0!"}},{"$error":"#DIV/0!"},{"$f":"IF(OR($I$18=AC7,AND($I$18=$AC$6,$I$48<>$P$75)),INDEX(AM55:AN55,IF($I$20=AU9,1,2)),0)*IF($I$48=$P$74,0.5,1)","v":0},0,null,null,null,null,null,0,0]
[null,{"$f":"TEXT(AF42,\"0%\") & \"-\" & TEXT(AG42,\"0%\")","v":"75%-100%"},null,null,null,{"$f":"IF(fp_opt>0,AC55*fp_opt/$AC$56,AC55)","v":{"$error":"#DIV/0!"}},null,null,{"$f":"$F56*AE55","v":{"$error":"#DIV/0!"}},null,null,{"$f":"$F56*AF55","v":{"$error":"#DIV/0!"}},null,null,null,{"$f":"$F56*AG55","v":{"$error":"#DIV/0!"}},null,null,null,{"$error":"#DIV/0!"},null,null,null,null,null,null,null,null,{"$f":"SUM(AC52:AC55)","v":{"$error":"#DIV/0!"}}]
[null,{"$f":"Traduction!$A$400","v":"Somme"},null,null,null,{"$f":"SUM(F53:F56)","v":{"$error":"#DIV/0!"}},null,null,{"$f":"SUM(I53:I56)","v":{"$error":"#DIV/0!"}},null,null,{"$f":"SUM(L53:L56)","v":{"$error":"#DIV/0!"}},null,null,null,{"$f":"SUM(P53:P56)","v":{"$error":"#DIV/0!"}},null,null,null,{"$error":"#DIV/0!"}]
[]
[null,{"$f":"Traduction!$A$705","v":"Synthèse"}]
[null,{"$f":"Traduction!$A$402","v":"Estimation de l'économie totale:"},null,null,null,null,{"$f":"ROUND(T57,-2)","v":{"$error":"#DIV/0!"}},null,null,{"$f":"Traduction!$A$403","v":"soit:"},null,null,null,null,{"$f":"G60/F57","v":{"$error":"#DIV/0!"}}]
[null,null,null,null,null,null,null,null,null,{"$f":"Traduction!$A$403","v":"soit:"},null,null,{"$f":"ROUND(I21*T57,-2)","v":{"$error":"#DIV/0!"}}]
[]
[null,{"$f":"Traduction!$A$404","v":"Mesures d'optimisation possibles (à valider dans le cadre d'une analyse détaillée):"}]
[null,{"$f":"Traduction!$A$405","v":"Redimensionnement de l'entraînement"}]
[null,{"$f":"Traduction!$A$406","v":"Introduction d'un convertisseur de fréquence et d'un réglage adéquat"}]
[null,{"$f":"Traduction!$A$407","v":"Remplacement de l'équipement par un substitut plus moderne et plus efficace"}]
[]
[]
[]
[]
[]
[null,null,null,null,null,null,null,null,null,null,null,null,null,null,null,{"$f":"Traduction!$A$411","v":"Liste question variateur de fréquence"}]
[null,{"$f":"Traduction!$A$408","v":"Base pour calculs"},null,null,null,null,null,null,null,null,null,null,null,null,null,{"$f":"Traduction!$A$412","v":"Pour le démarage puis 50 Hz"}]
[null,{"$f":"Traduction!$A$409","v":"Rapport entre rapport des débits et rapport de la puissance à l'arbre:"},null,null,null,null,null,null,null,null,null,null,null,null,null,{"$f":"Traduction!$A$413","v":"Réglé à une fréquence constante <50 Hz"}]
[null,{"$f":"Traduction!$A$410","v":"Calcul Planair"},null,null,null,null,null,null,null,null,null,null,null,null,null,{"$f":"Traduction!$A$414","v":"Asservi à une grandeur de réglage"}]
[null,null,null,null,null,null,null,null,null,{"$f":"Traduction!$A$416","v":"Charac"}]
[null,null,null,null,null,null,null,null,{"$f":"Traduction!$A$415","v":"Rapport débit"},{"$f":"Traduction!$A$417","v":"x=1.74 y -0.7566"}]
[null,null,null,null,null,null,null,null,null,"p=",null,null,null,null,1.74]
[null,null,null,null,null,null,null,null,null,"h=",null,null,null,null,-0.75660000000000005]
[]
[null,null,null,null,null,null,null,null,{"$f":"Traduction!$A$418","v":"Rapport Parbre"},{"$f":"Traduction!$A$419","v":"y=0.5731x +0.4358"}]
[null,null,null,null,null,null,null,null,null,"p",null,null,null,null,0.57310000000000005]
[null,null,null,null,null,null,null,null,null,"h",null,null,null,null,0.43580000000000002]
[]
[]
[]
[]
[]
[]
[]
[]
[null,{"$f":"INDEX(ClaLiGANa,MATCH(B1,ClaListePo,0))","v":{"$error":"#N/A"}},{"$error":"#N/A"},{"$error":"#N/A"},{"$error":"#N/A"},{"$error":"#N/A"},{"$error":"#N/A"},{"$error":"#N/A"},{"$error":"#N/A"},{"$error":"#N/A"},{"$error":"#N/A"},{"$error":"#N/A"},{"$error":"#N/A"},{"$error":"#N/A"},{"$error":"#N/A"},{"$error":"#N/A"},{"$error":"#N/A"},{"$error":"#N/A"},{"$error":"#N/A"},{"$error":"#N/A"},{"$error":"#N/A"},{"$error":"#N/A"},{"$error":"#N/A"},{"$error":"#N/A"},{"$error":"#N/A"},{"$error":"#N/A"},{"$error":"#N/A"}]
[]
[null,{"$f":"RIGHT(CELL(\"nomfichier\",A1),LEN(CELL(\"nomfichier\",A1))-FIND(\"]\",CELL(\"nomfichier\",A1)))","v":"APPo"}]
[]
[]
[]
[]
[]
[]
[]
[]
[]
[]
[]
[]
[]
[]
[]
[]
[]
[]
[]
[]
[]
[]
[]
[]
[]
[]
[]
[]
[]
[]
[]
[]
[]
[]
[]
[]
[]
[]
[]
[]
[]
[]
[]
[]
[]
[]
[]
[]
[]
[]
[]
[]
[]
[]
[]
[1]

{"sheet":"Listes","index":16,"n_rows":59,"n_cols":16,"rows_kept":59,"cut":false,"hidden":false,"merged":[]}
[{"$f":"Traduction!$A$436","v":"Secteurs d'activité "},{"$f":"Traduction!$A$426","v":"Notes"},"Consommation électrique annuelles MWh",null,{"$f":"Traduction!$A$432","v":"Remarque"},{"$f":"Traduction!$A$427","v":"Attention lors de modifications, vérifier que les modifications soient aussi faites dans les différents GA+"}]
[{"$f":"Traduction!$A$437","v":"Bâtiment de service (hôpital, administration,…)"},2,{"$f":"Traduction!$A$429","v":"<100 MWh/a ou < 15 000 CHF"},null,{"$f":"Traduction!$A$433","v":"Texte quick check"}]
[{"$f":"Traduction!$A$438","v":"Bois et meubles"},1,{"$f":"Traduction!$A$430","v":"Entre 100 MWh/a-1000 MWh/a ou 15 000 CHF-150 000 CHF"},null,{"$f":"Traduction!$A$434","v":"De vos données, il est probable qu'il existe un potentiel d'économie non-négligeable. Nous vous conseillons donc de passer à l’étape suivante qui permet d’affiner le potentiel d’économie pour votre entreprise."}]
[{"$f":"Traduction!$A$439","v":"Chimie, pharma et hydrocarbures"},3,{"$f":"Traduction!$A$431","v":"> 1000 MWh/a ou > 150 000 CHF"},null,{"$f":"Traduction!$A$435","v":"De vos données, il apparaît que le potentiel d'économie est probablement relativement faible. Vous pouvez néanmoins passer à l'étape suivant si vous souhaitez le confirmer."}]
[{"$f":"Traduction!$A$440","v":"Habillement"},2,null,null,{"$f":"Traduction!$A$558","v":"Veuillez renseigner le champ <<consommation annuelle électrique totale du site>>"}]
[{"$f":"Traduction!$A$441","v":"Industrie alimentaire"},3,null,null,{"$f":"Traduction!$A$559","v":"Erreur dans la lecture des fichiers d'aides. Veuillez vérifier que le dossier -Informations- est dézippé et se trouve dans le même dossier que le fichier excel"}]
[{"$f":"Traduction!$A$442","v":"Industrie du papier et de l'impression"},3,null,null,{"$f":"Traduction!$A$560","v":"Veuillez renseigner les champs nécessaires"}]
[{"$f":"Traduction!$A$443","v":"Industrie du tabac"},2,null,null,{"$f":"Traduction!$A$562","v":"Veuillez adapter les pourcentages pour avoir une valeur positive"}]
[{"$f":"Traduction!$A$444","v":"Manufacture fine d'équipements"},1]
[{"$f":"Traduction!$A$445","v":"Métallurgie et produits métalliques"},2]
[{"$f":"Traduction!$A$446","v":"Minéraux (ciment, verre, céramique)"},2]
[{"$f":"Traduction!$A$447","v":"Plastique"},1]
[{"$f":"Traduction!$A$448","v":"STEP, stations de pompage, UIOM"},3]
[{"$f":"Traduction!$A$449","v":"Autres industries"},1]
[]
[]
[]
[]
[]
[]
[]
[{"$f":"Traduction!$A$450","v":"CoOr dernière cell"},{"$f":"COUNTA('Vérification Rapide'!#REF!)+44","v":45}]
[]
[{"$f":"Traduction!$A$107","v":"De quand datent les installations [répartition en %]"},null,{"$f":"Traduction!$A$454","v":"Utilisation"},null,null,{"$f":"Traduction!$A$120","v":"Potentiel d'économie par année"},{"$f":"Traduction!$A$452","v":"Pondérations"},{"$f":"Traduction!$A$124","v":"Veuillez choisir le type d'entrainement que vous souhaiter lister en cliquant sur le rectangle bleu correspondant"},null,{"$f":"Traduction!$A$453","v":"Oui/Non"},null,null,{"$f":"Traduction!$A$163","v":"Classe d'efficacité  du moteur"},null,{"$f":"Traduction!$A$353","v":"Type de pompe"},"Langue"]
[{"$f":"Traduction!$A$21","v":"Installation de froid"},2,{"$f":"Traduction!$A$455","v":"En continu"},2,{"$f":"Traduction!A608","v":"avant"},{"$f":"E25 & \" \" & TEXT(YEAR(TODAY())-18,\"0\")","v":"avant 2002"},3,{"$f":"Traduction!$A$8","v":"Pompes"},null,{"$f":"Traduction!$A$4","v":"oui"},null,null,"Eff3",null,{"$f":"Traduction!$A$148","v":"Relevage"},"FR"]
[{"$f":"Traduction!$A$22","v":"Station de pompage"},3,{"$f":"Traduction!$A$456","v":"La moitié du temps "},1,{"$f":"Traduction!A609","v":"entre "},{"$f":" E26 & \" \" & TEXT(YEAR(TODAY())-18,\"0\") & \" \" & E27 & \" \" & TEXT(YEAR(TODAY())-8,\"0\")","v":"entre  2002 et 2012"},1,{"$f":"Traduction!$A$144","v":"Ventilation"},null,{"$f":"Traduction!$A$5","v":"non"},null,null,"IE1",null,{"$f":"Traduction!$A$26","v":"Circulation"},"DE"]
[{"$f":"Traduction!$A$463","v":"Monoblocs de ventilation"},2,{"$f":"Traduction!$A$457","v":"10 % à 20 %"},0.56999999999999995,{"$f":"Traduction!A610","v":"et"},{"$f":"E28 & \" \" & TEXT(YEAR(TODAY())-7,\"0\")","v":"après 2013"},0.2,{"$f":"Traduction!$A$658","v":"Groupe de froid"},null,{"$f":"Traduction!$A$162","v":"Ne sais pas"},null,null,"IE2",null,{"$f":"Traduction!$A$162","v":"Ne sais pas"}]
[{"$f":"Traduction!$A$9","v":"Ventilateurs"},3,{"$f":"Traduction!$A$458","v":"Très peu (à enlever)"},0.28000000000000003,{"$f":"Traduction!A611","v":"après"},null,null,{"$f":"Traduction!$A$702","v":"Autre"},null,null,null,null,"IE3"]
[{"$f":"Traduction!$A$24","v":"Système d'air comprimé"},2,{"$f":"Traduction!$A$459","v":"test"},null,null,null,null,{"$f":"Traduction!$A$10","v":"Air comprimé"},null,null,null,null,"IE4"]
[{"$f":"Traduction!$A$25","v":"Autres entraînements électriques importants"},1]
[{"$f":"Traduction!$A$33","v":"Chaufferie (pompes d’alimentation chaudière ou autres)"},1]
[{"$f":"Traduction!$A$28","v":"Groupe de pompes de circulation"},2,{"$f":"Traduction!$A$470","v":"Taux de charge compresseur"},{"$f":"Traduction!$A$468","v":"Taux de charge (nombre)"},{"$f":"Traduction!$A$469","v":"Economie VSD (Mousavi 2014)"},{"$f":"Traduction!$A$262","v":"Etat réseau"},{"$f":"Traduction!$A$247","v":"Facteur de calcul"}]
[null,null,{"$f":"Traduction!$A$471","v":"20 % (très bas)"},0.2,0.12,{"$f":"Traduction!$A$263","v":"Étanche (tf=<10%)"},0,null,null,null,null,null,{"$f":"Traduction!A665","v":"Mode de régulation des compresseurs "}]
[null,null,{"$f":"Traduction!$A$270","v":"30 % (bas)"},0.3,0.08,{"$f":"Traduction!$A$172","v":"Presque étanche (tf=15%)"},0.05,null,null,null,null,null,{"$f":"Traduction!A666","v":"Tout ou rien par marche/arrêt"}]
["Lien pour aide web",null,"50 %",0.5,0.02,{"$f":"Traduction!$A$264","v":"Peu étanche (tf=20%)"},0.1,null,null,null,null,null,{"$f":"Traduction!A667","v":"Cascade des compresseurs"}]
[{"$f":"IF(Menu!T5=Listes!A38,Listes!B36,\"\")","v":"https://doc.velani-tool.ch/"},"https://doc.velani-tool.ch/","60 %",0.6,0,{"$f":"Traduction!$A$265","v":"Très peu étanche (tf=25%)"},0.15,null,null,null,null,null,{"$f":"Traduction!A668","v":"Tiroir sans variation de vitesse du moteur "}]
[null,null,"70 %",0.7,null,{"$f":"Traduction!$A$266","v":"Extrêmement peu étanche (tf=35 %)"},0.25,null,null,null,null,null,{"$f":"Traduction!A669","v":"Variation de vitesse / tête de cylindre"}]
["Internet",null,{"$f":"Traduction!$A$273","v":"90 % (très haut)"},0.9,null,{"$f":"Traduction!$A$267","v":"Pas du tout étanche (tf=50%)"},0.4]
["Local"]
[]
[null,null,null,null,1]
[]
["APCP"]
["$B$100",null,"Nom du fichier "]
[null,null,{"$f":"MID(CELL(\"filename\",A1),FIND(\"[\",CELL(\"filename\",A1)),FIND(\"]\",CELL(\"filename\",A1))-FIND(\"[\",CELL(\"filename\",A1))+1)&\"'\"","v":"[14010 Outils V4p_I_FR.xlsm]'"}]
[]
[null,null,"NomOnglet"]
[null,null,"Menu"]
[null,null,"Introduction"]
[null,null,"Entreprise"]
[null,null,"Vérification Rapide"]
[null,null,"Analyse Préliminaire"]
[null,null,"Analyse Préliminaire Pompe",null,null,null,"Eff3 ",{"$f":"Traduction!B678","v":"A"},7000]
[null,null,"Analyse Préliminaire Ventilateu",null,null,null,"IE1",{"$f":"Traduction!B679","v":"B"},4000]
[null,null,"Analyse Préliminaire air compr",null,null,null,"IE2",{"$f":"Traduction!B680","v":"C"},2000]
[null,null,"Analyse Préliminaire Autres",null,null,null,"IE3"]
[null,null,"AP Groupe froid",null,null,null,"IE4"]
[null,null,"Classement des économies"]
[null,null,"Synthèse"]

{"sheet":"APCP","index":17,"n_rows":150,"n_cols":48,"rows_kept":150,"cut":false,"hidden":false,"merged":[[111,8,111,10],[112,8,112,10],[113,8,113,10],[114,8,114,10],[113,1,113,7],[115,1,115,6],[115,8,115,10],[7,1,7,15],[10,9,10,15],[11,9,11,15],[12,9,12,15],[13,9,13,15],[10,1,10,8],[11,1,11,8],[92,1,98,8],[107,9,107,10],[82,15,82,17],[83,15,83,17],[84,15,84,17],[84,1,84,11],[74,12,74,14],[75,12,75,14],[76,12,76,14],[77,12,77,14],[78,12,78,14],[79,12,79,14],[80,12,80,14],[81,12,81,14],[82,12,82,14],[83,12,83,14],[84,12,84,14],[82,1,82,11],[1,19,1,20],[2,9,2,10],[2,11,2,12],[3,1,3,2],[3,3,3,4],[3,5,3,6],[3,7,3,8],[3,9,3,10],[3,11,3,12],[3,13,3,14],[3,15,3,16],[3,17,3,18],[3,19,3,20],[2,13,2,14],[1,17,1,18],[12,1,12,8],[119,9,119,11],[1,1,1,2],[1,3,1,4],[1,5,1,6],[1,7,1,8],[1,9,1,10],[1,11,1,12],[1,13,1,14],[1,15,1,16],[90,12,90,14],[92,12,92,14],[87,1,87,29],[88,1,88,29],[92,15,92,17],[104,1,104,23],[106,8,106,10],[106,12,106,14],[106,18,106,24],[76,15,76,17],[77,15,77,17],[78,15,78,17],[79,15,79,17],[80,15,80,17],[81,15,81,17],[36,1,36,8],[38,1,38,8],[39,1,39,8],[31,1,31,8],[32,1,32,8],[13,1,13,8],[14,1,14,8],[15,1,15,8],[16,1,16,8],[17,1,17,8],[26,1,26,8],[27,1,27,8],[28,1,28,8],[29,1,29,8],[30,1,30,8],[21,1,21,8],[22,1,22,8],[23,1,23,8],[24,1,24,8],[25,1,25,8],[20,1,20,8],[34,1,34,8],[37,1,37,7],[113,12,113,27],[76,18,76,27],[78,18,78,27],[14,9,14,15],[15,9,15,15],[16,9,16,15],[17,9,17,15],[80,18,80,27],[82,18,84,27],[34,9,34,11],[35,9,35,11],[36,9,36,11],[37,9,37,11],[38,9,38,11],[21,12,21,14],[22,12,22,14],[26,12,26,14],[27,12,27,14],[54,12,54,14],[21,15,21,17],[22,15,22,17],[23,15,23,17],[24,15,24,17],[25,15,25,17],[60,1,60,8],[61,1,61,8],[62,1,62,8],[63,1,63,8],[64,1,64,8],[45,1,45,8],[46,1,46,8],[47,1,47,8],[50,1,50,8],[54,1,55,8],[57,1,57,8],[66,1,66,8],[67,1,67,8],[68,1,68,8],[69,1,69,8],[74,1,74,11],[76,1,76,11],[78,1,78,11],[80,1,80,11],[65,9,65,11],[66,9,66,11],[67,9,67,11],[68,9,68,11],[69,9,69,11],[119,1,119,8],[21,9,21,11],[22,9,22,11],[23,9,23,11],[24,9,24,11],[25,9,25,11],[26,9,26,11],[27,9,27,11],[28,9,28,11],[29,9,29,11],[30,9,30,11],[31,9,31,11],[32,9,32,11],[90,1,90,8],[54,9,54,11],[45,9,45,11],[46,9,46,11],[47,9,47,11],[60,9,60,11],[61,9,61,11],[62,9,62,11],[63,9,63,11],[64,9,64,11],[65,1,65,8],[45,12,45,14],[46,12,46,14],[47,12,47,14],[34,12,34,14],[35,12,35,14],[36,12,36,14],[37,12,37,14],[38,12,38,14],[28,12,28,14],[29,12,29,14],[30,12,30,14],[31,12,31,14],[32,12,32,14],[23,12,23,14],[24,12,24,14],[25,12,25,14],[31,15,31,17],[32,15,32,17],[34,15,34,17],[35,15,35,17],[36,15,36,17],[26,15,26,17],[27,15,27,17],[28,15,28,17],[29,15,29,17],[30,15,30,17],[54,15,54,17],[35,18,35,20],[36,18,36,20],[37,18,37,20],[38,18,38,20],[45,18,45,20],[57,9,57,11],[57,12,57,14],[57,15,57,17],[37,15,37,17],[38,15,38,17],[45,15,45,17],[46,15,46,17],[47,15,47,17],[41,1,41,29],[42,1,42,29],[43,1,43,29],[53,9,53,11],[53,12,53,14],[53,15,53,17],[53,18,53,20],[35,21,35,23],[36,21,36,23],[35,1,35,8],[21,21,21,23],[22,21,22,23],[23,21,23,23],[24,21,24,23],[25,21,25,23],[46,18,46,20],[47,18,47,20],[57,18,57,20],[54,18,54,20],[21,18,21,20],[22,18,22,20],[23,18,23,20],[24,18,24,20],[25,18,25,20],[26,18,26,20],[27,18,27,20],[28,18,28,20],[29,18,29,20],[30,18,30,20],[31,18,31,20],[32,18,32,20],[31,21,31,23],[32,21,32,23],[34,21,34,23],[26,21,26,23],[27,21,27,23],[28,21,28,23],[29,21,29,23],[30,21,30,23],[57,21,57,23],[53,21,53,23],[54,21,54,23],[57,24,57,26],[53,24,53,26],[54,24,54,26],[37,21,37,23],[38,21,38,23],[45,21,45,23],[46,21,46,23],[47,21,47,23],[45,24,45,26],[46,24,46,26],[47,24,47,26],[35,24,35,26],[36,24,36,26],[37,24,37,26],[38,24,38,26],[31,24,31,26],[32,24,32,26],[34,24,34,26],[23,27,23,29],[24,27,24,29],[25,27,25,29],[26,27,26,29],[27,27,27,29],[28,27,28,29],[29,27,29,29],[24,24,24,26],[25,24,25,26],[21,24,21,26],[22,24,22,26],[23,24,23,26],[46,27,46,29],[47,27,47,29],[57,27,57,29],[53,27,53,29],[54,27,54,29],[35,27,35,29],[36,27,36,29],[37,27,37,29],[38,27,38,29],[45,27,45,29],[30,27,30,29],[31,27,31,29],[32,27,32,29],[34,27,34,29],[26,24,26,26],[27,24,27,26],[28,24,28,26],[29,24,29,26],[30,24,30,26],[21,27,21,29],[22,27,22,29],[65,12,65,14],[66,12,66,14],[67,12,67,14],[68,12,68,14],[69,12,69,14],[60,12,60,14],[61,12,61,14],[62,12,62,14],[63,12,63,14],[64,12,64,14],[65,15,65,17],[66,15,66,17],[67,15,67,17],[68,15,68,17],[69,15,69,17],[60,15,60,17],[61,15,61,17],[62,15,62,17],[63,15,63,17],[64,15,64,17],[65,18,65,20],[66,18,66,20],[67,18,67,20],[68,18,68,20],[69,18,69,20],[60,18,60,20],[61,18,61,20],[62,18,62,20],[63,18,63,20],[64,18,64,20],[65,21,65,23],[66,21,66,23],[67,21,67,23],[68,21,68,23],[69,21,69,23],[60,21,60,23],[61,21,61,23],[62,21,62,23],[63,21,63,23],[64,21,64,23],[104,24,104,29],[65,27,65,29],[66,27,66,29],[67,27,67,29],[68,27,68,29],[69,27,69,29],[60,27,60,29],[61,27,61,29],[62,27,62,29],[63,27,63,29],[64,27,64,29],[65,24,65,26],[66,24,66,26],[67,24,67,26],[68,24,68,26],[69,24,69,26],[60,24,60,26],[61,24,61,26],[62,24,62,26],[63,24,63,26],[64,24,64,26]]}
[null,1,null,2,null,3,null,4,null,5,null,6,null,7,null,8,null,9,null,10,null,11,null,12]
[null,{"$f":"HYPERLINK(NomFichier&Listes!C48&\"'!A1\",Traduction!$A$13)","v":"Menu"},null,{"$f":"HYPERLINK(NomFichier&Listes!C49&\"'!A1\",Traduction!$A$11)","v":"Introduction"},null,{"$f":"HYPERLINK(NomFichier&Listes!C50&\"'!G7\",Traduction!$A$12)","v":"Entreprise"},null,{"$f":"HYPERLINK(NomFichier&Listes!C51&\"'!O16\",Traduction!$A$701)","v":"Quick-check"},null,{"$f":"HYPERLINK(NomFichier&Listes!C53&\"'!E10\",Traduction!$A$77)","v":"Pompe(s)"},null,{"$f":"HYPERLINK(NomFichier&Listes!C54&\"'!E10\",Traduction!$A$78)","v":"Ventilateur(s)"},null,{"$f":"HYPERLINK(NomFichier&Listes!C55&\"'!M12\",Traduction!$A$10)","v":"Air comprimé"},null,{"$f":"HYPERLINK(NomFichier&Listes!C57&\"'!F10\",Traduction!$A$545)","v":"Groupe froid"},null,{"$f":"HYPERLINK(NomFichier&Listes!$C$56&\"'!E10\",Traduction!$A$702)","v":"Autre"},null,{"$f":"Traduction!$A$79","v":"Résultats"}]
[]
[null,{"$f":"IFERROR(HYPERLINK(NomFichier&B130&\"'!A1\",B130),\"\")","v":""},null,{"$f":"IFERROR(HYPERLINK(NomFichier&D130&\"'!A1\",D130),\"\")","v":""},null,{"$f":"IFERROR(HYPERLINK(NomFichier&F130&\"'!A1\",F130),\"\")","v":""},null,{"$f":"IFERROR(HYPERLINK(NomFichier&H130&\"'!A1\",H130),\"\")","v":""},null,{"$f":"IFERROR(HYPERLINK(NomFichier&J130&\"'!A1\",J130),\"\")","v":""},null,{"$f":"IFERROR(HYPERLINK(NomFichier&L130&\"'!A1\",L130),\"\")","v":""},null,{"$f":"IFERROR(HYPERLINK(NomFichier&N130&\"'!A1\",N130),\"\")","v":""},null,{"$f":"IFERROR(HYPERLINK(NomFichier&P130&\"'!A1\",P130),\"\")","v":""},null,{"$f":"IFERROR(HYPERLINK(NomFichier&R130&\"'!A1\",R130),\"\")","v":""},null,{"$f":"IFERROR(HYPERLINK(NomFichier&T130&\"'!A1\",T130),\"\")","v":""}]
[]
[null,{"$f":"Traduction!$A$248","v":"Analyse préliminaire + :  Système d'air comprimée"},null,null,null,null,null,null,null,null,null,null,null,null,null,null,null,null,null,null,null,null,null,null,null,null,null,null,null,null,null,null,{"$f":"Traduction!$A$4","v":"oui"},{"$f":"Traduction!$A$262","v":"Etat réseau"},{"$f":"Traduction!$A$247","v":"Facteur de calcul"},null,{"$f":"Traduction!$A$268","v":"Taux de charge moyen"},null,null,{"$f":"Traduction!$A$250","v":"Type de compresseurs"},{"$f":"Traduction!$A$258","v":"Régulation compresseur"},{"$f":"AN7","v":"Compresseur à vis"},null,{"$f":"AN8","v":"Compresseur à piston"},null,{"$f":"AN9","v":"Je ne sais pas"},null,{"$f":"Traduction!$A$254","v":"Sécheur"}]
[null,null,null,null,null,null,null,null,null,null,null,null,null,null,null,null,null,null,null,null,null,null,null,null,null,null,null,null,null,null,null,null,{"$f":"Traduction!$A$5","v":"non"},{"$f":"Traduction!$A$263","v":"Étanche (tf=<10%)"},0,null,{"$f":"Traduction!$A$269","v":"20% (très bas)"},0.2,null,{"$f":"Traduction!$A$251","v":"Compresseur à vis"},{"$f":"Traduction!$A$259","v":"En marche / A vide"},0.3,0.7,0.2,0.8,0.3,0.7,{"$f":"Traduction!$A$568","v":"Sécheur par adsorption"}]
[null,{"$f":"Traduction!$A$349","v":"Cette analyse préliminaire + permet à l'aide de quelques informations supplémentaires de préciser les économies potentielles. Une fois les informations introduites, les économies sont calculées et enregistrées directement dans le tableau de classement des économies (résultats)."},null,null,null,null,null,null,null,null,null,null,null,null,null,null,null,null,null,null,null,null,null,null,null,null,null,null,null,null,null,null,null,{"$f":"Traduction!$A$172","v":"Presque étanche (tf=15%)"},0.05,null,{"$f":"Traduction!$A$270","v":"30 % (bas)"},0.3,null,{"$f":"Traduction!$A$252","v":"Compresseur à piston"},{"$f":"Traduction!$A$260","v":"Par modulation"},0.64,0.34,0.64,0.34,0.3,0.7,{"$f":"Traduction!$A$256","v":"Sécheur frigorifique"}]
[null,null,null,null,null,null,null,null,null,{"$f":"Traduction!$A$10","v":"Air comprimé"},null,null,null,null,null,null,null,null,null,null,null,null,null,null,null,null,null,null,null,null,null,null,null,{"$f":"Traduction!$A$264","v":"Peu étanche (tf=20%)"},0.1,null,"50 %",0.5,null,"Je ne sais pas",{"$f":"Traduction!$A$261","v":"Marche- Arrêt"},0.1,0.9,0.1,0.9,0.1,0.9,{"$f":"Traduction!$A$257","v":"Aucun"}]
[null,{"$f":"Traduction!$A$275","v":"A. Reseau d'air comprimée"},null,null,null,null,null,null,null,null,null,null,null,null,null,null,null,null,null,null,null,null,null,null,null,null,null,null,null,null,null,null,null,{"$f":"Traduction!$A$265","v":"Très peu étanche (tf=25%)"},0.15,null,"60 %",0.6,null,null,"Je ne sais pas",0.3,0.7,0.3,0.7,0.3,0.7]
[null,{"$f":"Traduction!$A$141","v":"Nom/code/description"},null,null,null,null,null,null,null,null,null,null,null,null,null,null,null,null,null,null,null,null,null,null,null,null,null,null,null,null,null,null,null,{"$f":"Traduction!$A$569","v":"Vraiment peu étanche (tf=35 %)"},0.25,null,"70 %",0.7]
[null,{"$f":"Traduction!$A$140","v":"Localisation"},null,null,null,null,null,null,null,null,null,null,null,null,null,null,null,null,null,null,null,null,null,null,null,null,null,null,null,null,null,null,null,{"$f":"Traduction!$A$267","v":"Pas du tout étanche (tf=50%)"},0.4,null,{"$f":"Traduction!$A$273","v":"90 % (très haut)"},0.9]
[null,{"$f":"Traduction!A613","v":"Commentaires"},null,null,null,null,null,null,null,null,null,null,null,null,null,null,null,null,null,null,null,null,null,null,null,null,null,null,null,null,null,null,null,null,null,null,{"$f":"Traduction!$A$273","v":"90 % (très haut)"},0]
[null,{"$f":"Traduction!$A$169","v":"Avez-vous déjà optimisé la pression?"},null,null,null,null,null,null,null,null,null,null,null,null,null,null,null,null,null,null,null,null,null,null,null,null,null,null,null,null,null,null,null,null,null,null,null,null,null,null,{"$f":"INDEX(APCP_regtyp,MATCH(J$37,APCP_regcp,0),MATCH(J$36,APCP_typcomp2,0))","v":{"$error":"#N/A"}}]
[null,{"$f":"Traduction!$A$170","v":"État du réseau d'air comprimée"}]
[null,{"$f":"Traduction!$A$277","v":"Nombre de CP fonctionnant simultanément"}]
[null,{"$f":"Traduction!$A$174","v":"Système de commande électronique centralisé"}]
[null,{"$f":"Traduction!$A$278","v":"Prix simplifié de l'électricité en CHF/kWh"},null,null,null,null,null,null,null,{"$f":"PrixElec","v":0.15010000000000001}]
[]
[null,{"$f":"Traduction!$A$283","v":"B.1 Compresseurs"}]
[null,{"$f":"Traduction!$A$284","v":"Informations reprises"},null,null,null,null,null,null,null,null,null,null,null,null,null,null,null,null,null,null,null,null,null,null,null,null,null,null,null,null,null,null,null,{"$f":"Traduction!$A$279","v":"Attention: certaines valeurs de la partie B.1  doivent être renseignées"}]
[null,{"$f":"Traduction!$A$138","v":"Numéro d'entrainement"},null,null,null,null,null,null,null,101,null,null,102,null,null,103,null,null,104,null,null,105,null,null,106,null,null,107,null,null,null,null,null,{"$f":"Traduction!$A$726","v":"Campagne de réduction des fuites et colmatage de celle-ci."}]
[null,{"$f":"Traduction!$A$140","v":"Localisation"},null,null,null,null,null,null,null,null,null,null,null,null,null,null,null,null,null,null,null,null,null,null,null,null,null,null,null,null,null,null,null,{"$f":"Traduction!$A$281","v":"Abaissement de la pression de service"}]
[null,{"$f":"Traduction!$A$141","v":"Nom/code/description"},null,null,null,null,null,null,null,null,null,null,null,null,null,null,null,null,null,null,null,null,null,null,null,null,null,null,null,null,null,null,null,{"$f":"Traduction!$A$282","v":"Remplacement et/ou ajout de variateur de vitesse combiné à une meilleure régulation"}]
[null,"Puissance nominal du compresseur [kW]"]
[null,{"$f":"Traduction!$A$182","v":"Année de construction du compresseur [année]"}]
[null,{"$f":"Traduction!$A$183","v":"Heures annuelles de fonctionnement du compresseur [h]"}]
[null,{"$f":"Traduction!$A$285","v":"Taux de charge moyen [%]"}]
[null,{"$f":"Traduction!$A$286","v":"Est-ce un compresseur VV (avec variateur de fréquence)"}]
[null,{"$f":"Traduction!$A$152","v":"Forcer la consommation annuelle [kWh/a]"}]
[null,{"$f":"Traduction!$A$53","v":"Consommation électrique annuelle estimée du compresseur [kWh/a]"},null,null,null,null,null,null,null,{"$f":"IF(J30=\"\",IF(J25<>\"\",ROUND(J25*J27*IF(J29=$AG$7,(0.3+0.7*J32)*1.1,(0.04+J32)*1.15),-2),\"\"),J30)","v":""},null,null,{"$f":"IF(M30=\"\",IF(M25<>\"\",ROUND(M25*M27*IF(M29=$AG$7,(0.3+0.7*M32)*1.1,(0.04+M32)*1.15),-2),\"\"),M30)","v":""},null,null,{"$f":"IF(P30=\"\",IF(P25<>\"\",ROUND(P25*P27*IF(P29=$AG$7,(0.3+0.7*P32)*1.1,(0.04+P32)*1.15),-2),\"\"),P30)","v":""},null,null,{"$f":"IF(S30=\"\",IF(S25<>\"\",ROUND(S25*S27*IF(S29=$AG$7,(0.3+0.7*S32)*1.1,(0.04+S32)*1.15),-2),\"\"),S30)","v":""},null,null,{"$f":"IF(V30=\"\",IF(V25<>\"\",ROUND(V25*V27*IF(V29=$AG$7,(0.3+0.7*V32)*1.1,(0.04+V32)*1.15),-2),\"\"),V30)","v":""},null,null,{"$f":"IF(Y30=\"\",IF(Y25<>\"\",ROUND(Y25*Y27*IF(Y29=$AG$7,(0.3+0.7*Y32)*1.1,(0.04+Y32)*1.15),-2),\"\"),Y30)","v":""},null,null,{"$f":"IF(AB30=\"\",IF(AB25<>\"\",ROUND(AB25*AB27*IF(AB29=$AG$7,(0.3+0.7*AB32)*1.1,(0.04+AB32)*1.15),-2),\"\"),AB30)","v":""}]
[null,{"$f":"Traduction!$A$184","v":"Taux de charge [%]"},null,null,null,null,null,null,null,{"$f":"IFERROR(INDEX(APCP_FPM,MATCH(J28,APCP_tauxchargcp,0)),\"\")","v":""},null,null,"",null,null,"",null,null,"",null,null,"",null,null,"",null,null,""]
[null,null,null,null,null,null,null,null,null,{"$f":"COUNTBLANK(J25:J29)","v":5},null,null,{"$f":"COUNTBLANK(M25:M29)","v":5},null,null,5,null,null,5,null,null,5,null,null,5,null,null,5]
[]
[null,{"$f":"Traduction!$A$288","v":"Questions"},null,null,null,null,null,null,null,null,null,null,null,null,null,null,null,null,null,null,null,null,null,null,null,null,null,null,null,null,null,null,null,{"$f":"Traduction!$A$287","v":" Ajout d'un système de gestion des compresseurs"}]
[null,{"$f":"Traduction!$A$289","v":"Quel est le type de compresseur ?"},null,null,null,null,null,null,null,null,null,null,null,null,null,null,null,null,null,null,null,null,null,null,null,null,null,null,null,null,null,null,null,{"$f":"Traduction!$A$556","v":"de la consommation total du système "}]
[null,{"$f":"Traduction!$A$290","v":"Quel est le mode de régulation du compresseur ?"},null,null,null,null,null,null,null,null,null,null,null,null,null,null,null,null,null,null,null,null,null,null,null,null,null,null,null,null,null,null,null,{"$f":"Traduction!$A$563","v":"La différence entre la pression du réseau"}]
[null,{"$f":"Traduction!$A$557","v":"Taux de charge en periode de non production?"},null,null,null,null,null,null,{"$f":"HYPERLINK(Traduction!A628&\"/info_APCP_tchnp.htm\",Traduction!$A$718)","v":"Aide"},null,null,null,null,null,null,null,null,null,null,null,null,null,null,null,null,null,null,null,null,null,null,null,null,{"$f":"Traduction!$A$564","v":"bar et la pression maximiale requise est importante. Le niveau de pression peut probablement être abaissé (et/ou les pertes de pressions éliminée)"}]
[null,{"$f":"Traduction!$A$292","v":"Pression de service maximale du compresseur [bar]"},null,null,null,null,null,null,null,null,null,null,null,null,null,null,null,null,null,null,null,null,null,null,null,null,null,null,null,null,null,null,null,{"$f":"Traduction!$A$565","v":"La pression de service peut éventuellement être abaissée"}]
[null,null,null,null,null,null,null,null,null,null,null,null,null,null,null,null,null,null,null,null,null,null,null,null,null,null,null,null,null,null,null,null,null,{"$f":"Traduction!A706","v":"Les valeurs n'ont pas pu être enregistrées"}]
[null,{"$f":"Traduction!$A$293","v":"B2. Puissance spécifique effective (Facultatif)"}]
[null,{"$f":"Traduction!$A$294","v":"Si vous connaissez la puissance spécifique nominale ou réelle( au point de fonctionnement fréquent),"}]
[null,{"$f":"Traduction!$A$295","v":"vous pouvez compléter les valeurs ci-dessous pour une évaluation du potentiel d'économie "}]
[null,{"$f":"Traduction!$A$296","v":"lié à un renouvellement technique plus précis."}]
[null,null,null,null,null,null,null,null,null,{"$f":"IF(J24=\"\",J22,J24)","v":101},null,null,{"$f":"IF(M24=\"\",M22,M24)","v":102},null,null,{"$f":"IF(P24=\"\",P22,P24)","v":103},null,null,{"$f":"IF(S24=\"\",S22,S24)","v":104},null,null,{"$f":"IF(V24=\"\",V22,V24)","v":105},null,null,{"$f":"IF(Y24=\"\",Y22,Y24)","v":106},null,null,{"$f":"IF(AB24=\"\",AB22,AB24)","v":107}]
[null,{"$f":"Traduction!$A$297","v":"Puissance spécifique effective ou nominale [kW/m3/min]"}]
[null,{"$f":"Traduction!$A$298","v":"Pression de service correspondant [bar]"}]
[null,{"$f":"Traduction!$A$299","v":"Débit correspondant [m3/min]"}]
[]
[]
[null,{"$f":"Traduction!A737","v":"Sur ce graphique les losanges repésentent les puissances spécifiques (nominales ou effectives) de vos compresseur(s) en fonction de la pression. Si les losanges se trouvent en dessus de la ligne rouge traitillée, le rendement n'est pas très bon. "}]
[]
[null,{"$f":"Traduction!$A$301","v":"B3. Etat assaini (facultatif)"}]
[null,null,null,null,null,null,null,null,null,{"$f":"IF(J46=\"\",\"\",IF(J58=\"\",(-0.000171972*J47^4+0.0086498696*J47^3-0.163739*J47^2+1.7556*J47-1.439762)*0.92,J58))","v":""},null,null,{"$f":"IF(M46=\"\",\"\",IF(M58=\"\",(-0.000171972*M47^4+0.0086498696*M47^3-0.163739*M47^2+1.7556*M47-1.439762)*0.92,M58))","v":""},null,null,{"$f":"IF(P46=\"\",\"\",IF(P58=\"\",(-0.000171972*P47^4+0.0086498696*P47^3-0.163739*P47^2+1.7556*P47-1.439762)*0.92,P58))","v":""},null,null,{"$f":"IF(S46=\"\",\"\",IF(S58=\"\",(-0.000171972*S47^4+0.0086498696*S47^3-0.163739*S47^2+1.7556*S47-1.439762)*0.92,S58))","v":""},null,null,{"$f":"IF(V46=\"\",\"\",IF(V58=\"\",(-0.000171972*V47^4+0.0086498696*V47^3-0.163739*V47^2+1.7556*V47-1.439762)*0.92,V58))","v":""},null,null,{"$f":"IF(Y46=\"\",\"\",IF(Y58=\"\",(-0.000171972*Y47^4+0.0086498696*Y47^3-0.163739*Y47^2+1.7556*Y47-1.439762)*0.92,Y58))","v":""},null,null,{"$f":"IF(AB46=\"\",\"\",IF(AB58=\"\",(-0.000171972*AB47^4+0.0086498696*AB47^3-0.163739*AB47^2+1.7556*AB47-1.439762)*0.92,AB58))","v":""}]
[null,{"$f":"Traduction!$A$302","v":"Puissance spécifique du nouveau compresseur à la pression de service correspondante [kW/m3/min]"},null,null,null,null,null,null,null,{"$f":"IF(J46=\"\",\"\",TEXT(J54,\"0.0\") & \" @\" & TEXT(J47,\"0.0\") & \" bar\")","v":""},null,null,{"$f":"IF(M46=\"\",\"\",TEXT(M54,\"0.0\") & \" @\" & TEXT(M47,\"0.0\") & \" bar\")","v":""},null,null,{"$f":"IF(P46=\"\",\"\",TEXT(P54,\"0.0\") & \" @\" & TEXT(P47,\"0.0\") & \" bar\")","v":""},null,null,{"$f":"IF(S46=\"\",\"\",TEXT(S54,\"0.0\") & \" @\" & TEXT(S47,\"0.0\") & \" bar\")","v":""},null,null,{"$f":"IF(V46=\"\",\"\",TEXT(V54,\"0.0\") & \" @\" & TEXT(V47,\"0.0\") & \" bar\")","v":""},null,null,{"$f":"IF(Y46=\"\",\"\",TEXT(Y54,\"0.0\") & \" @\" & TEXT(Y47,\"0.0\") & \" bar\")","v":""},null,null,{"$f":"IF(AB46=\"\",\"\",TEXT(AB54,\"0.0\") & \" @\" & TEXT(AB47,\"0.0\") & \" bar\")","v":""}]
[]
[]
[null,{"$f":"Traduction!$A$738","v":"Renseignements manuel de la puissance spéc. [kW/m3/min]"},null,null,null,null,null,null,null,null,null,null,null,null,null,null,null,null,null,null,null,null,null,null,null,null,null," "]
[]
[null,{"$f":"Traduction!$A$305","v":"B4. Résultats économie compresseurs"}]
[null,{"$f":"Traduction!$A$184","v":"Taux de charge [%]"},null,null,null,null,null,null,null,{"$f":"IFERROR(INDEX(APCP_FPM,MATCH(J28,APCP_tauxchargcp,0)),0)","v":0},null,null,{"$f":"IFERROR(INDEX(APCP_FPM,MATCH(M28,APCP_tauxchargcp,0)),0)","v":0},null,null,{"$f":"IFERROR(INDEX(APCP_FPM,MATCH(P28,APCP_tauxchargcp,0)),0)","v":0},null,null,{"$f":"IFERROR(INDEX(APCP_FPM,MATCH(S28,APCP_tauxchargcp,0)),0)","v":0},null,null,{"$f":"IFERROR(INDEX(APCP_FPM,MATCH(V28,APCP_tauxchargcp,0)),0)","v":0},null,null,{"$f":"IFERROR(INDEX(APCP_FPM,MATCH(Y28,APCP_tauxchargcp,0)),0)","v":0},null,null,{"$f":"IFERROR(INDEX(APCP_FPM,MATCH(AB28,APCP_tauxchargcp,0)),0)","v":0}]
[null,{"$f":"Traduction!$A$186","v":"Âge du compresseur"},null,null,null,null,null,null,null,{"$f":"YEAR(TODAY())-J26","v":2020},null,null,{"$f":"YEAR(TODAY())-M26","v":2020},null,null,{"$f":"YEAR(TODAY())-P26","v":2020},null,null,{"$f":"YEAR(TODAY())-S26","v":2020},null,null,{"$f":"YEAR(TODAY())-V26","v":2020},null,null,{"$f":"YEAR(TODAY())-Y26","v":2020},null,null,{"$f":"YEAR(TODAY())-AB26","v":2020}]
[null,{"$f":"Traduction!$A$306","v":"Facteur de puissance moyenne initial"},null,null,null,null,null,null,null,{"$f":"IF(J29=AG7,INDEX(APCP_regtyp,MATCH(J$37,APCP_regcp,0),MATCH(J$36,APCP_typcomp2,0))+INDEX(APCP_regtyp,MATCH(J$37,APCP_regcp,0),MATCH(J$36,APCP_typcomp2,0)+1)*J61,J61+0.04)","v":0.04},null,null,{"$f":"IF(M29=AG7,INDEX(APCP_regtyp,MATCH(M$37,APCP_regcp,0),MATCH(M$36,APCP_typcomp2,0))+INDEX(APCP_regtyp,MATCH(M$37,APCP_regcp,0),MATCH(M$36,APCP_typcomp2,0)+1)*M61,M61+0.04)","v":0.04},null,null,{"$f":"IF(P29=AG7,INDEX(APCP_regtyp,MATCH(P$37,APCP_regcp,0),MATCH(P$36,APCP_typcomp2,0))+INDEX(APCP_regtyp,MATCH(P$37,APCP_regcp,0),MATCH(P$36,APCP_typcomp2,0)+1)*P61,P61+0.04)","v":0.04},null,null,{"$f":"IF(S29=AG7,INDEX(APCP_regtyp,MATCH(S$37,APCP_regcp,0),MATCH(S$36,APCP_typcomp2,0))+INDEX(APCP_regtyp,MATCH(S$37,APCP_regcp,0),MATCH(S$36,APCP_typcomp2,0)+1)*S61,S61+0.04)","v":0.04},null,null,{"$f":"IF(V29=AG7,INDEX(APCP_regtyp,MATCH(V$37,APCP_regcp,0),MATCH(V$36,APCP_typcomp2,0))+INDEX(APCP_regtyp,MATCH(V$37,APCP_regcp,0),MATCH(V$36,APCP_typcomp2,0)+1)*V61,V61+0.04)","v":0.04},null,null,{"$f":"IF(Y29=AG7,INDEX(APCP_regtyp,MATCH(Y$37,APCP_regcp,0),MATCH(Y$36,APCP_typcomp2,0))+INDEX(APCP_regtyp,MATCH(Y$37,APCP_regcp,0),MATCH(Y$36,APCP_typcomp2,0)+1)*Y61,Y61+0.04)","v":0.04},null,null,{"$f":"IF(AB29=AG7,INDEX(APCP_regtyp,MATCH(AB$37,APCP_regcp,0),MATCH(AB$36,APCP_typcomp2,0))+INDEX(APCP_regtyp,MATCH(AB$37,APCP_regcp,0),MATCH(AB$36,APCP_typcomp2,0)+1)*AB61,AB61+0.04)","v":0.04}]
[null,{"$f":"Traduction!$A$307","v":"Facteur de puissance VV"},null,null,null,null,null,null,null,{"$f":"J61+0.04","v":0.04},null,null,{"$f":"M61+0.04","v":0.04},null,null,0.04,null,null,0.04,null,null,0.04,null,null,0.04,null,null,0.04,null,null,null,{"$f":"Traduction!$A$175","v":"Consommation totale du réseau"}]
[null,{"$f":"Traduction!$A$308","v":"Consommation annuelle état initial"},null,null,null,null,null,null,null,{"$f":"J31","v":""},null,null,{"$f":"M31","v":""},null,null,{"$f":"P31","v":""},null,null,{"$f":"S31","v":""},null,null,{"$f":"V31","v":""},null,null,{"$f":"Y31","v":""},null,null,{"$f":"AB31","v":""},null,null,null,{"$f":"SUM(J65:AB65)","v":0}]
[null,{"$f":"Traduction!$A$309","v":"Economie compresseur plus efficace [kWh/a]"},null,null,null,null,null,null,null,{"$f":"IFERROR(IF(J48=\"\",IF(J62>14,0.1,IF(J62>9,0.03,0))*J31,IF(J46-J54>0,(J46-IF(J58=\"\",J54,J58))*J27*J63*J48,0)),\"\")","v":""},null,null,{"$f":"IFERROR(IF(M48=\"\",IF(M62>14,0.1,IF(M62>9,0.03,0))*M31,IF(M46-M54>0,(M46-IF(M58=\"\",M54,M58))*M27*M63*M48,0)),\"\")","v":""},null,null,{"$f":"IFERROR(IF(P48=\"\",IF(P62>14,0.1,IF(P62>9,0.03,0))*P31,IF(P46-P54>0,(P46-IF(P58=\"\",P54,P58))*P27*P63*P48,0)),\"\")","v":""},null,null,{"$f":"IFERROR(IF(S48=\"\",IF(S62>14,0.1,IF(S62>9,0.03,0))*S31,IF(S46-S54>0,(S46-IF(S58=\"\",S54,S58))*S27*S63*S48,0)),\"\")","v":""},null,null,{"$f":"IFERROR(IF(V48=\"\",IF(V62>14,0.1,IF(V62>9,0.03,0))*V31,IF(V46-V54>0,(V46-IF(V58=\"\",V54,V58))*V27*V63*V48,0)),\"\")","v":""},null,null,{"$f":"IFERROR(IF(Y48=\"\",IF(Y62>14,0.1,IF(Y62>9,0.03,0))*Y31,IF(Y46-Y54>0,(Y46-IF(Y58=\"\",Y54,Y58))*Y27*Y63*Y48,0)),\"\")","v":""},null,null,{"$f":"IFERROR(IF(AB48=\"\",IF(AB62>14,0.1,IF(AB62>9,0.03,0))*AB31,IF(AB46-AB54>0,(AB46-IF(AB58=\"\",AB54,AB58))*AB27*AB63*AB48,0)),\"\")","v":""}]
[null,null,null,null,null,null,null,null,null,{"$f":"IFERROR(IF(OR(J66>0,J29=$AG$6),1,0),0)","v":1},null,null,{"$f":"IFERROR(IF(OR(M66>0,M29=$AG$6),1,0),0)","v":1},null,null,{"$f":"IFERROR(IF(OR(P66>0,P29=$AG$6),1,0),0)","v":1},null,null,{"$f":"IFERROR(IF(OR(S66>0,S29=$AG$6),1,0),0)","v":1},null,null,{"$f":"IFERROR(IF(OR(V66>0,V29=$AG$6),1,0),0)","v":1},null,null,{"$f":"IFERROR(IF(OR(Y66>0,Y29=$AG$6),1,0),0)","v":1},null,null,{"$f":"IFERROR(IF(OR(AB66>0,AB29=$AG$6),1,0),0)","v":1}]
[null,{"$f":"Traduction!$A$310","v":"Economie mise sur variateur et/ou régulation [kWh/a]"},null,null,null,null,null,null,null,{"$f":"IF(J66=\"\",\"\",IF(J61<0.7,(J63-J64)*J27*J25,0))","v":""},null,null,{"$f":"IF(M66=\"\",\"\",IF(M61<0.7,(M63-M64)*M27*M25,0))","v":""},null,null,{"$f":"IF(P66=\"\",\"\",IF(P61<0.7,(P63-P64)*P27*P25,0))","v":""},null,null,{"$f":"IF(S66=\"\",\"\",IF(S61<0.7,(S63-S64)*S27*S25,0))","v":""},null,null,{"$f":"IF(V66=\"\",\"\",IF(V61<0.7,(V63-V64)*V27*V25,0))","v":""},null,null,{"$f":"IF(Y66=\"\",\"\",IF(Y61<0.7,(Y63-Y64)*Y27*Y25,0))","v":""},null,null,{"$f":"IF(AB66=\"\",\"\",IF(AB61<0.7,(AB63-AB64)*AB27*AB25,0))","v":""}]
[null,null,null,null,null,null,null,null,null,{"$f":"IF(J24=\"\",J22,J24)","v":101},null,null,{"$f":"IF(M24=\"\",M22,M24)","v":102},null,null,{"$f":"IF(P24=\"\",P22,P24)","v":103},null,null,{"$f":"IF(S24=\"\",S22,S24)","v":104},null,null,{"$f":"IF(V24=\"\",V22,V24)","v":105},null,null,{"$f":"IF(Y24=\"\",Y22,Y24)","v":106},null,null,{"$f":"IF(AB24=\"\",AB22,AB24)","v":107}]
[null,{"$f":"Traduction!$A$311","v":"Economie totale compresseur [kWh/a]"},null,null,null,null,null,null,null,{"$f":"IFERROR(ROUND(J68+J66,-2),\"\")","v":""},null,null,{"$f":"IFERROR(ROUND(M68+M66,-2),\"\")","v":""},null,null,"",null,null,"",null,null,"",null,null,"",null,null,""]
[]
[null,{"$f":"Traduction!$A$312","v":"C. Réseau: questions supplémentaires"}]
[null,{"$f":"Traduction!$A$313","v":"C1. Questions générales"}]
[null,null,null,null,null,null,null,null,null,null,null,null,null,null,null,{"$f":"Traduction!$A$314","v":"Économies [kWh/a]"},null,null,{"$f":"Traduction!$A$66","v":"Commentaires"}]
[null,{"$f":"Traduction!$A$316","v":"Séchage de l'air : le point de rosé requis par les utilisateurs est-il plus bas que 3°C ?"}]
[]
[null,{"$f":"Traduction!$A$317","v":"Quel est le type de système de sécheur d'air comprimé ?"},null,null,null,null,null,null,null,null,null,null,null,null,null,{"$f":"IF(M75=AG7,ROUND(IF(M77=AV7,0.1*AF65,0),-2),0)","v":0},null,null,{"$f":"IF(P77>0,\"Remplacer le système de séchage actuel par un système de séchage frigorifique avec régulation de l’humidité.\",\"\")","v":""}]
[]
[null,{"$f":"Traduction!$A$318","v":"Pression de consigne du réseau [bar]"}]
[]
[null,{"$f":"Traduction!$A$319","v":"Pression de service du (des) consommateur (s) le(s) plus exigeant(s) [bar]"},null,null,null,null,null,null,null,null,null,null,null,null,null,null,null,null,{"$f":"IF(P83>0,IF(AND(M79>0,M81>0),(\"La différence entre la pression du réseau \"&TEXT(M79,\"0.0\")& AH38),AH39),\"\")","v":""}]
[]
[null,{"$f":"Traduction!$A$320","v":"Réduction de la pression [bar]"},null,null,null,null,null,null,null,null,null,null,{"$f":"IF(M85=\"\",IF(AND(M81<>\"\",M81>0),IF(M79-M81>0.7,M79-M81-0.7,0),IF(M14=\"oui\",0,0.5)),M85)","v":0.5},null,null,{"$f":"IF(M83>0,ROUND(M83*0.07*APCP_consoann,-2),0)","v":0},null,null,{"$f":"IF(MAX(J39:AB39)-M79>2,Traduction!$A$314,\"\")","v":""}]
[]
[null,{"$f":"Traduction!$A$321","v":"Forcer la réduction de pression [bar]"}]
[]
[null,{"$f":"Traduction!$A$322","v":"C2. Sectionnement du réseau "}]
[null,{"$f":"Traduction!$A$323","v":"Durant les périodes de non-production (ex. WE, nuits), suivant les besoins en air comprimée résiduels, une partie du réseau "}]
[null,{"$f":"Traduction!$A$324","v":"peut-être déconnectée avec une vanne permettant ainsi des économies"}]
[null,null,null,null,null,null,null,null,null,null,null,null,null,null,null,{"$f":"Traduction!$A$314","v":"Économies [kWh/a]"}]
[null,{"$f":"Traduction!$A$325","v":"Nombre d'heures de déconnection par semaine  [h/semaine]"},null,null,null,null,null,null,null,null,{"$f":"HYPERLINK(Traduction!A628&\"/info_APCP_deconn.htm\",Traduction!$A$718)","v":"Aide"}]
[]
[null,{"$f":"Traduction!$A$326","v":"Proportion  du réseau pouvant être déconnectée durant la période de non-production"},null,null,null,null,null,null,null,null,null,null,0.5,null,null,{"$f":"ROUND(SUM(J96:AB96),-2)","v":0}]
[null,null,null,null,null,null,null,null,null,{"$f":"IFERROR(INDEX(APCP_FPMarr,MATCH(J38,tauxchargcp,0)),0)","v":0},null,null,0,null,null,0,null,null,0,null,null,0,null,null,0,null,null,0]
[null,null,null,null,null,null,null,null,null,{"$f":"IF(J30=\"non\",INDEX(APCP_regtyp,MATCH(J$37,APCP_regcp,0),MATCH(J$36,APCP_typcomp2,0))+INDEX(APCP_regtyp,MATCH(J$37,APCP_regcp,0),MATCH(J$36,APCP_typcomp2,0)+1)*J94,J94+0.04)","v":0.04},null,null,{"$f":"IF(M30=\"non\",INDEX(APCP_regtyp,MATCH(M$37,APCP_regcp,0),MATCH(M$36,APCP_typcomp2,0))+INDEX(APCP_regtyp,MATCH(M$37,APCP_regcp,0),MATCH(M$36,APCP_typcomp2,0)+1)*M94,M94+0.04)","v":0.04},null,null,{"$f":"IF(P30=\"non\",INDEX(APCP_regtyp,MATCH(P$37,APCP_regcp,0),MATCH(P$36,APCP_typcomp2,0))+INDEX(APCP_regtyp,MATCH(P$37,APCP_regcp,0),MATCH(P$36,APCP_typcomp2,0)+1)*P94,P94+0.04)","v":0.04},null,null,{"$f":"IF(S30=\"non\",INDEX(APCP_regtyp,MATCH(S$37,APCP_regcp,0),MATCH(S$36,APCP_typcomp2,0))+INDEX(APCP_regtyp,MATCH(S$37,APCP_regcp,0),MATCH(S$36,APCP_typcomp2,0)+1)*S94,S94+0.04)","v":0.04},null,null,{"$f":"IF(V30=\"non\",INDEX(APCP_regtyp,MATCH(V$37,APCP_regcp,0),MATCH(V$36,APCP_typcomp2,0))+INDEX(APCP_regtyp,MATCH(V$37,APCP_regcp,0),MATCH(V$36,APCP_typcomp2,0)+1)*V94,V94+0.04)","v":0.04},null,null,{"$f":"IF(Y30=\"non\",INDEX(APCP_regtyp,MATCH(Y$37,APCP_regcp,0),MATCH(Y$36,APCP_typcomp2,0))+INDEX(APCP_regtyp,MATCH(Y$37,APCP_regcp,0),MATCH(Y$36,APCP_typcomp2,0)+1)*Y94,Y94+0.04)","v":0.04},null,null,{"$f":"IF(AB30=\"non\",INDEX(APCP_regtyp,MATCH(AB$37,APCP_regcp,0),MATCH(AB$36,APCP_typcomp2,0))+INDEX(APCP_regtyp,MATCH(AB$37,APCP_regcp,0),MATCH(AB$36,APCP_typcomp2,0)+1)*AB94,AB94+0.04)","v":0.04}]
[null,null,null,null,null,null,null,null,null,{"$f":"J95*$M91*47*J25*$M93*IFERROR(INDEX(APCP_fct,MATCH(J15,APCP_etatres,0))+0.1,0)","v":0},null,null,{"$f":"M95*$M91*47*M25*$M93*IFERROR(INDEX(APCP_fct,MATCH(M15,APCP_etatres,0))+0.1,0)","v":0},null,null,{"$f":"P95*$M91*47*P25*$M93*IFERROR(INDEX(APCP_fct,MATCH(P15,APCP_etatres,0))+0.1,0)","v":0},null,null,{"$f":"S95*$M91*47*S25*$M93*IFERROR(INDEX(APCP_fct,MATCH(S15,APCP_etatres,0))+0.1,0)","v":0},null,null,{"$f":"V95*$M91*47*V25*$M93*IFERROR(INDEX(APCP_fct,MATCH(V15,APCP_etatres,0))+0.1,0)","v":0},null,null,{"$f":"Y95*$M91*47*Y25*$M93*IFERROR(INDEX(APCP_fct,MATCH(Y15,APCP_etatres,0))+0.1,0)","v":0},null,null,{"$f":"AB95*$M91*47*AB25*$M93*IFERROR(INDEX(APCP_fct,MATCH(AB15,APCP_etatres,0))+0.1,0)","v":0}]
[]
[null,null,null,null,null,null,null,null,null,{"$f":"IF(J17=AG7,IF(J16>2,0.1,IF(J16>1,0.05,0))*AF65,0)","v":0}]
[]
[null,{"$f":"Traduction!$A$331","v":"C3. Abaissement de la température de l'air d'aspiration (juste pour information, n'est pas pris en compte dans les calculs)"}]
[null,{"$f":"Traduction!$A$332","v":"La température de l'air aspiré influe sur la puissance spécifique du compresseur avec une augmentation de 0.34 %/°C"}]
[]
[]
[null,{"$f":"Traduction!$A$333","v":"D. Potentiel d'économies"}]
[null,{"$f":"Traduction!$A$334","v":"Ces potentiels d'économies sont des ordres de grandeurs probables. Pour un potentiel réel, une analyse allant bien au-delà de cet outil doit être effectuée."},null,null,null,null,null,null,null,null,null,null,null,null,null,null,null,null,null,null,null,null,null,null,{"$f":"HYPERLINK(Traduction!A628&\"/Calc_GAP_compr_air.htm\",Traduction!A647)","v":"Méthode de calcul AP+: air comprimé"}]
[]
[null,{"$f":"Traduction!$A$336","v":"Economie totale du système"},null,null,null,null,null,null,{"$f":"ROUND(I112+I113+I114+I115+I116,-2)","v":0},null,null,null,{"$f":"ROUND(I107*J18,-3)","v":0},null,null,{"$f":"Traduction!$A$335","v":"soit "},null,null,{"$f":"TEXT(I107/AF65,\"0%\")& \" \" & AH36","v":{"$error":"#DIV/0!"}},null,null,null,null,null,null,null,null,{"$f":"APCP_kWh/APCP_consoann","v":{"$error":"#DIV/0!"}}]
[null,{"$f":"Traduction!$A$337","v":"Détails des économies"}]
[null,{"$f":"IF(ISERROR(SUM(J68:AB68)),AH21,\"\")","v":""}]
[]
[null,null,null,null,null,null,null,null,null,{"$f":"Traduction!$A$314","v":"Économies [kWh/a]"},null,null,{"$f":"Traduction!$A$194","v":"Mesures d'améliorations"}]
[null,{"$f":"Traduction!$A$541","v":"Économie du à une reduction des fuites "},null,null,null,null,null,null,{"$f":"IFERROR(ROUND(AF65*INDEX(APCP_fct,MATCH(J15,APCP_etatres,0)),-2),0)","v":0},null,null,null,{"$f":"IF(I112>0, AH22,\"\")","v":""}]
[null,{"$f":"Traduction!$A$340","v":"Économie du à l'ajustement de pression"},null,null,null,null,null,null,{"$f":"IF(P83>0,P83,IF(J14=\"non\",AF65*0.5*0.07,0))","v":0},null,null,null,{"$f":"IF(I113>0,AH23,\"\")","v":""}]
[null,{"$f":"Traduction!$A$341","v":"Économie compresseurs et optimisation  de la régulation"},null,null,null,null,null,null,{"$f":"SUM(J70:AB70)+J98","v":0},null,null,null,{"$f":"IF(I114>0,AH24,\"\") & IF(J98>0,AH35,\"\")","v":""}]
[null,{"$f":"Traduction!$A$342","v":"Changement du sécheur"},null,null,null,null,null,null,{"$f":"P77","v":0}]
[null,{"$f":"Traduction!A739","v":"Sectionnement du réseau"},null,null,null,null,null,null,{"$f":"P93","v":0}]
[]
[null,{"$f":"Traduction!$A$343","v":"E. Potentiel d'économies supplémentaires"}]
[null,null,null,null,null,null,null,null,null,{"$f":"Traduction!$A$344","v":"Chaleur"},null,null,{"$f":"Traduction!$A$194","v":"Mesures d'améliorations"}]
[null,{"$f":"Traduction!$A$345","v":"Chaleur valorisable, si pas déjà fait"},null,null,null,null,null,null,null,{"$f":"ROUND(AF65*0.6,-2)","v":0},null,null,{"$f":"Traduction!$A$347","v":"Ajout d'un échangeur de chaleur et raccordement à un système de chauffage"}]
[]
[null,{"$f":"Traduction!$A$138","v":"Numéro d'entrainement"},null,null,null,null,null,null,null,1]
[]
[]
[]
[]
[]
[]
[]
[null,{"$f":"INDEX(ClaLiGANa,MATCH(B1,ClaListeCP,0))","v":{"$error":"#N/A"}},{"$f":"INDEX(ClaLiGANa,MATCH(C1,ClaListePo,0))","v":{"$error":"#N/A"}},{"$error":"#N/A"},{"$error":"#N/A"},{"$error":"#N/A"},{"$error":"#N/A"},{"$error":"#N/A"},{"$error":"#N/A"},{"$error":"#N/A"},{"$error":"#N/A"},{"$error":"#N/A"},{"$error":"#N/A"},{"$error":"#N/A"},{"$error":"#N/A"},{"$error":"#N/A"},{"$error":"#N/A"},{"$error":"#N/A"},{"$error":"#N/A"},{"$error":"#N/A"},{"$error":"#N/A"},{"$error":"#N/A"}]
[null,{"$f":"RIGHT(CELL(\"nomfichier\",A1),LEN(CELL(\"nomfichier\",A1))-FIND(\"]\",CELL(\"nomfichier\",A1)))","v":"APCP"}]
[]
[]
[]
[]
[]
[]
[]
[]
[]
[]
[]
[]
[]
[]
[]
[]
[]
[]
[1]

{"sheet":"Economies classées","index":18,"n_rows":49,"n_cols":2,"rows_kept":49,"cut":false,"hidden":false,"merged":[]}
[{"$f":"Traduction!$A$472","v":"Feuille de calcule/référence pour la feuille \"Classement de économies\""}]
[{"$f":"Traduction!$A$473","v":"Limite inférieure pour entrainement intéressant [kWh/a]"},20000]
[{"$f":"Traduction!$A$474","v":"Limite inférieure pour entrainement moyennement intéressant [kWh/a]"},10000]
[]
[]
[{"$f":"Traduction!$A$475","v":"Phrase mesure compresseur"}]
[{"$f":"Traduction!$A$476","v":"Le remplacement du compresseur par un compresseur plus efficace."}]
[{"$f":"Traduction!$A$476","v":"Le remplacement du compresseur par un compresseur plus efficace."}]
[{"$f":"Traduction!$A$478","v":"Le remplacement d'un compresseur du système par un compresseur avec variateur de fréquence."}]
["Phrases gain compresseur"]
["Gain ajout convertisseur de fréquence "]
[{"$f":"Traduction!$A$481","v":"Gain remplacement compresseur "}]
[]
["Phrases gains réseau air comprimé"]
["Une campagne de recherche de fuites par ultrasons et la réparation des fuites repérées permet généralement une économie de l'ordre de"]
[{"$f":"Traduction!$A$484","v":"L'ajout d'un système de commande centralisé "}]
["D'expérience, la pression peut souvent être abaissée d'environ 0.5 bar, cela permet d'économiser "]
["Campagne de recherche de fuites par ultrasons et la réparation des fuites repérées"]
[{"$f":"Traduction!$A$487","v":"optimisation de la régulation et év. remplacement de compresseur(s)"}]
["Optmisation de la pression"]
[{"$f":"Traduction!$A$489","v":"Phrases gains pompe"}]
[{"$f":"Traduction!$A$490","v":"Remplacement et redimensionnement entrainement et/ou moteur. "}]
[{"$f":"Traduction!$A$491","v":"Ajout d'un variateur de fréquence"}]
[{"$f":"Traduction!$A$490","v":"Remplacement et redimensionnement entrainement et/ou moteur. "}]
["Optimisation système"]
["Phrases calculs gains pompes"]
[{"$f":"Traduction!$A$476","v":"Le remplacement du compresseur par un compresseur plus efficace."}]
[{"$f":"Traduction!$A$495","v":"de la pompe/ventilateur"}]
[{"$f":"Traduction!$A$142","v":"Puissance nominale du moteur [kW]"}]
["permettrait un gain technologique de "]
["L'ajout d'un variateur permet en moyenne d'économiser "]
[{"$f":"Traduction!$A$499","v":"Le redimensionnement des pompes/ventilateurs permet en moyenne un gain de "}]
[{"$f":"Traduction!$A$500","v":"Dans votre cas, l'âge de la pompe/ventilateur rend le redimensionnement peu rentable."}]
[]
[]
[{"$f":"Traduction!$A$501","v":"Mesure air comprimée"}]
[{"$f":"Traduction!$A$280","v":"Campagne de réduction des fuites et colmatage de celles-ci"}]
[{"$f":"Traduction!$A$281","v":"Abaissement de la pression de service"}]
[{"$f":"Traduction!$A$502","v":"Remplacement de compresseurs et/ou ajout de variateur de vitesse combiné à une meilleur régulation "}]
[{"$f":"Traduction!$A$287","v":" Ajout d'un système de gestion des compresseurs"}]
[]
[{"$f":"Traduction!$A$527","v":"Gain technologique (remplacement entrainement et/ou moteur): "}]
[{"$f":"Traduction!$A$528","v":"Gain de redimensionnement  "}]
[{"$f":"Traduction!$A$529","v":"Gain ajout variateur de fréquence  "}]
[]
["Texte autres:"]
["Voir AP+"]
[]
[{"$f":"Traduction!$A$287","v":" Ajout d'un système de gestion des compresseurs"}]

{"sheet":"APVe","index":19,"n_rows":150,"n_cols":45,"rows_kept":150,"cut":false,"hidden":false,"merged":[[50,14,50,20],[43,10,43,15],[6,1,6,20],[26,9,26,15],[29,9,29,15],[20,9,20,15],[13,9,13,15],[14,9,14,15],[15,9,15,15],[16,9,16,15],[18,9,18,15],[19,9,19,15],[17,9,17,15],[13,1,13,8],[14,1,14,8],[15,1,15,8],[16,1,16,8],[17,1,17,8],[8,9,8,15],[56,5,56,7],[12,9,12,15],[56,19,56,20],[51,15,51,18],[52,15,52,18],[53,15,53,18],[54,15,54,18],[9,9,9,15],[43,6,43,9],[47,1,47,9],[56,1,56,4],[9,1,9,8],[10,1,10,8],[11,1,11,8],[12,1,12,8],[39,1,39,5],[40,1,40,5],[41,1,41,5],[42,1,42,5],[38,1,38,5],[18,1,18,8],[19,1,19,8],[20,1,20,8],[25,1,25,20],[3,19,3,20],[2,9,2,10],[3,1,3,2],[3,3,3,4],[3,5,3,6],[3,7,3,8],[3,9,3,10],[2,11,2,12],[47,10,47,14],[40,6,40,9],[38,10,38,15],[39,10,39,15],[40,10,40,15],[41,10,41,15],[42,10,42,15],[10,9,10,15],[39,6,39,9],[11,9,11,15],[8,1,8,8],[41,6,41,9],[42,6,42,9],[26,1,27,7],[51,1,51,4],[52,1,52,4],[53,1,53,4],[54,1,54,4],[55,1,55,4],[51,19,51,20],[52,19,52,20],[53,19,53,20],[54,19,54,20],[55,19,55,20],[51,5,51,7],[52,5,52,7],[53,5,53,7],[54,5,54,7],[55,5,55,7],[1,11,1,12],[1,13,1,14],[1,15,1,16],[1,17,1,18],[1,19,1,20],[1,1,1,2],[1,3,1,4],[1,5,1,6],[1,7,1,8],[1,9,1,10],[59,7,59,9],[59,13,59,15],[60,13,60,15],[3,11,3,12],[3,13,3,14],[3,15,3,16],[55,15,55,18],[56,15,56,18],[51,11,51,14],[52,11,52,14],[53,11,53,14],[54,11,54,14],[55,11,55,14],[56,11,56,14],[56,8,56,10],[51,8,51,10],[52,8,52,10],[53,8,53,10],[54,8,54,10],[55,8,55,10],[3,17,3,18],[29,1,29,7],[37,1,37,6],[38,6,38,9]]}
[null,1,null,2,null,3,null,4,null,5,null,6,null,7,null,8,null,9,null,10,null,11,null,12]
[null,{"$f":"HYPERLINK(NomFichier&Listes!C48&\"'!A1\",Traduction!$A$13)","v":"Menu"},null,{"$f":"HYPERLINK(NomFichier&Listes!C49&\"'!A1\",Traduction!$A$11)","v":"Introduction"},null,{"$f":"HYPERLINK(NomFichier&Listes!C50&\"'!G7\",Traduction!$A$12)","v":"Entreprise"},null,{"$f":"HYPERLINK(NomFichier&Listes!C51&\"'!O16\",Traduction!$A$701)","v":"Quick-check"},null,{"$f":"HYPERLINK(NomFichier&Listes!C53&\"'!E10\",Traduction!$A$77)","v":"Pompe(s)"},null,{"$f":"HYPERLINK(NomFichier&Listes!C54&\"'!E10\",Traduction!$A$78)","v":"Ventilateur(s)"},null,{"$f":"HYPERLINK(NomFichier&Listes!C55&\"'!M12\",Traduction!$A$10)","v":"Air comprimé"},null,{"$f":"HYPERLINK(NomFichier&Listes!C57&\"'!F10\",Traduction!$A$545)","v":"Groupe froid"},null,{"$f":"HYPERLINK(NomFichier&Listes!$C$56&\"'!E10\",Traduction!$A$702)","v":"Autre"},null,{"$f":"Traduction!$A$79","v":"Résultats"}]
[]
[null,{"$f":"IFERROR(HYPERLINK(NomFichier&B92&\"'!A1\",B92),\"\")","v":""},null,{"$f":"IFERROR(HYPERLINK(NomFichier&D92&\"'!A1\",D92),\"\")","v":""},null,{"$f":"IFERROR(HYPERLINK(NomFichier&F92&\"'!A1\",F92),\"\")","v":""},null,{"$f":"IFERROR(HYPERLINK(NomFichier&H92&\"'!A1\",H92),\"\")","v":""},null,{"$f":"IFERROR(HYPERLINK(NomFichier&J92&\"'!A1\",J92),\"\")","v":""},null,{"$f":"IFERROR(HYPERLINK(NomFichier&L92&\"'!A1\",L92),\"\")","v":""},null,{"$f":"IFERROR(HYPERLINK(NomFichier&N92&\"'!A1\",N92),\"\")","v":""},null,{"$f":"IFERROR(HYPERLINK(NomFichier&P92&\"'!A1\",P92),\"\")","v":""},null,{"$f":"IFERROR(HYPERLINK(NomFichier&R92&\"'!A1\",R92),\"\")","v":""},null,{"$f":"IFERROR(HYPERLINK(NomFichier&T92&\"'!A1\",T92),\"\")","v":""}]
[]
[null,{"$f":"Traduction!$A$420","v":"Analyse préliminaire + :  Ventilateurs"},null,null,null,null,null,null,null,null,null,null,null,null,null,null,null,null,null,null,null,null,null,null,null,null,null,null,{"$f":"Traduction!$A$29","v":"Calculer une estimation de potentiel"}]
[null,{"$f":"Traduction!$A$349","v":"Cette analyse préliminaire + permet à l'aide de quelques informations supplémentaires de préciser les économies potentielles. Une fois les informations introduites, les économies sont calculées et enregistrées directement dans le tableau de classement des économies (résultats)."},null,null,null,null,null,null,null,null,null,null,null,null,null,null,null,null,null,null,null,null,null,null,null,null,null,null,{"$f":"Traduction!$A$351","v":"Gain du à la classe d'efficacité et de la puissance du moteur"},null,null,null,null,null,null,null,null,null,{"$f":"Traduction!$A$352","v":"Gain redimensionnement"},null,null,null,null,"oui non",{"$f":"Traduction!$A$353","v":"Type de pompe"}]
[null,{"$f":"Traduction!$A$364","v":"Information reprise de l'étape précédente"},null,null,null,null,null,null,null,null,null,null,null,null,null,null,null,null,null,null,null,null,null,null,null,null,null,null,{"$f":"Traduction!$A$124","v":"Veuillez choisir le type d'entrainement que vous souhaiter lister en cliquant sur le rectangle bleu correspondant"},{"$f":"Traduction!$A$163","v":"Classe d'efficacité  du moteur"},{"$f":"Traduction!$A$355","v":"Gamme de puissance"},"Eco moteur","Code","Eco entrainement",{"$f":"Traduction!$A$163","v":"Classe d'efficacité  du moteur"},"Code",0,null,{"$f":"Traduction!$A$358","v":"Qmax/Qnom"},{"$f":"Traduction!$A$156","v":"Gain technologique [%]"},null,null,null,{"$f":"Traduction!$A$4","v":"oui"},{"$f":"Traduction!$A$148","v":"Relevage"}]
[null,{"$f":"Traduction!$A$365","v":"Type d'entrainement"},null,null,null,null,null,null,null,{"$f":"Traduction!$A$144","v":"Ventilation"},null,null,null,null,null,null,null,null,null,null,null,null,null,null,null,null,null,null,{"$f":"Traduction!$A$144","v":"Ventilation"},"Eff3",{"$f":"Traduction!$A$360","v":"<20 kW"},0.1,{"$f":"AC9 & AD9 & IF(AE9=\"<20 kW\",\"p1\",IF(AE9=\"20-100 kW\",\"p2\",\"p3\"))","v":"VentilationEff3p1"},0.02,"Eff3",null,1998,null,0,0.3,null,null,null,{"$f":"Traduction!$A$5","v":"non"},{"$f":"Traduction!$A$26","v":"Circulation"}]
[null,{"$f":"Traduction!$A$141","v":"Nom/code/description"},null,null,null,null,null,null,null,null,null,null,null,null,null,null,null,null,null,null,null,null,null,null,null,null,null,null,{"$f":"Traduction!$A$144","v":"Ventilation"},"Eff3",{"$f":"Traduction!$A$361","v":"20-100 kW"},0.05,{"$f":"AC10 & AD10 & IF(AE10=\"<20 kW\",\"p1\",IF(AE10=\"20-100 kW\",\"p2\",\"p3\"))","v":"VentilationEff3p2"},0.03,"IE1",null,2005,null,0.25,0.25,null,{"$f":"MATCH(0.2,AM9:AM13,1)","v":1},null,{"$f":"Traduction!$A$571","v":"Répartition temporelle de la charge"}]
[null,{"$f":"Traduction!$A$140","v":"Localisation"},null,null,null,null,null,null,null,null,null,null,null,null,null,null,null,null,null,null,null,null,null,null,null,null,"Equivalent classe d'efficactié élément entrainé",null,{"$f":"Traduction!$A$144","v":"Ventilation"},"Eff3",{"$f":"Traduction!$A$422","v":"> 100 kW"},0.04,"VentilationEff3p3",0.01,"IE2",null,2010,null,0.5,0.12,null,null,null,{"$f":"Traduction!$A$146","v":"Heures de fonctionnement individuelles [heures/année]"}]
[null,{"$f":"Traduction!$A$613","v":"Commentaires"},null,null,null,null,null,null,null,null,null,null,null,null,null,null,null,null,null,null,null,null,null,null,null,null,{"$f":"IF(ISBLANK(fv_age),\"\",IF(J14<=AK9,AI9,IF(J14<=AK10,AI10,IF(J14<=AK11,AI11,IF(J14<=AK12,AI12,AI13)))))","v":""},null,{"$f":"Traduction!$A$144","v":"Ventilation"},"IE1",{"$f":"Traduction!$A$360","v":"<20 kW"},7.0000000000000007E-2,"VentilationIE1p1",0.01,"IE3",null,2014,null,0.75,0.06,null,null,null,{"$f":"Traduction!$A$572","v":"% du débit max"}]
[null,{"$f":"Traduction!$A$220","v":"Puissance nominale [kW]"},null,null,null,null,null,null,null,null,null,null,null,null,null,null,null,null,null,null,null,null,null,null,"Code moteur",{"$f":"Traduction!$A$363","v":"Gain remplacement technologique"},null,null,{"$f":"Traduction!$A$144","v":"Ventilation"},"IE1",{"$f":"Traduction!$A$361","v":"20-100 kW"},0.04,"VentilationIE1p2",0.01,"IE4",null,2017,null,1,0,null,null,null,{"$f":"Traduction!$A$561","v":"Les heures de fct ne correspondent pas"}]
[null,{"$f":"Traduction!$A$366","v":"âge de l'élément entrainé [années]"},null,null,null,null,null,null,null,null,null,null,null,null,null,null,null,null,null,null,null,null,null,null,{"$f":"J9 & J15 & IF(J13<20,\"p1\",IF(J13<100,\"p2\",\"p3\"))","v":"Ventilationp1"},{"$f":"IFERROR(INDEX(AF9:AF24,MATCH(Y14,AG9:AG24,0)),0)+IFERROR(INDEX(AH9:AH24,MATCH(Y16,AG9:AG24,0)),0)","v":0},null,null,{"$f":"Traduction!$A$144","v":"Ventilation"},"IE1",{"$f":"Traduction!$A$422","v":"> 100 kW"},0.03,"VentilationIE1p3",0.01,null,null,null,null,1.25,0.15,null,null,null,{"$f":"Traduction!$A$566","v":"C. Question variateur"}]
[null,{"$f":"Traduction!$A$163","v":"Classe d'efficacité  du moteur"},null,null,null,null,null,null,null,null,null,null,null,null,null,null,null,null,null,null,null,null,null,null,"Code entrainement",null,null,null,{"$f":"Traduction!$A$144","v":"Ventilation"},"IE2",{"$f":"Traduction!$A$360","v":"<20 kW"},0.03,"VentilationIE2p1",0.01,null,null,null,null,1.55,0.25,null,null,null,{"$f":"Traduction!$A$567","v":"Comment est piloté le variateur de fréquence"}]
[null,{"$f":"Traduction!$A$367","v":"Heures de fonctionnement [heures/années]"},null,null,null,null,null,null,null,null,null,null,null,null,null,null,null,null,null,null,null,null,null,null,{"$f":"J9 & AA12 & IF(J13<20,\"p1\",IF(J13<100,\"p2\",\"p3\"))","v":"Ventilationp1"},null,null,null,{"$f":"Traduction!$A$144","v":"Ventilation"},"IE2",{"$f":"Traduction!$A$361","v":"20-100 kW"},0.02,"VentilationIE2p2",0.01,null,null,null,null,null,null,null,null,null,{"$f":"Traduction!A706","v":"Les valeurs n'ont pas pu être enregistrées"}]
[null,{"$f":"Traduction!$A$147","v":"Demande variable"},null,null,null,null,null,null,null,null,null,null,null,null,null,null,null,null,null,null,null,null,null,null,null,null,null,null,{"$f":"Traduction!$A$144","v":"Ventilation"},"IE2",{"$f":"Traduction!$A$422","v":"> 100 kW"},0.02,"VentilationIE2p3",0]
[null,{"$f":"Traduction!$A$152","v":"Forcer la consommation annuelle [kWh/a]"},null,null,null,null,null,null,null,null,null,null,null,null,null,null,null,null,null,null,null,null,null,null,null,null,null,null,{"$f":"Traduction!$A$144","v":"Ventilation"},"IE3",{"$f":"Traduction!$A$360","v":"<20 kW"},0,"VentilationIE3p1",0]
[null,{"$f":"Traduction!$A$149","v":"Convertisseur de fréquence réglé"},null,null,null,null,null,null,null,null,null,null,null,null,null,null,null,null,null,null,null,null,null,null,null,null,null,null,{"$f":"Traduction!$A$144","v":"Ventilation"},"IE3",{"$f":"Traduction!$A$361","v":"20-100 kW"},0,"VentilationIE3p2",0]
[null,{"$f":"Traduction!$A$150","v":"Relevage ou circulation "},null,null,null,null,null,null,null,{"$f":"Traduction!$A$26","v":"Circulation"},null,null,null,null,null,null,null,null,null,null,null,null,null,null,null,null,null,null,{"$f":"Traduction!$A$144","v":"Ventilation"},"IE3",{"$f":"Traduction!$A$422","v":"> 100 kW"},0,"VentilationIE3p3",0]
[null,{"$f":"Traduction!$A$278","v":"Prix simplifié de l'électricité en CHF/kWh"},null,null,null,null,null,null,null,{"$f":"PrixElec","v":0.15010000000000001},null,null,null,null,null,null,null,null,null,null,null,null,null,null,null,null,null,null,null,null,null,0,null,0]
[null,{"$f":"Traduction!$A$138","v":"Numéro d'entrainement"},null,null,null,null,null,null,null,1,null,null,null,null,null,null,null,null,null,null,null,null,null,null,null,null,null,null,{"$f":"Traduction!$A$144","v":"Ventilation"},"IE4",{"$f":"Traduction!$A$360","v":"<20 kW"},0,"VentilationIE4p1",0]
[null,null,null,null,null,null,null,null,null,null,null,null,null,null,null,null,null,null,null,null,null,null,null,null,null,null,null,null,{"$f":"Traduction!$A$144","v":"Ventilation"},"IE4",{"$f":"Traduction!$A$361","v":"20-100 kW"},0,"VentilationIE4p2",0]
[null,null,null,null,null,null,null,null,null,null,null,null,null,null,null,null,null,null,null,null,null,null,null,null,null,null,null,null,{"$f":"Traduction!$A$144","v":"Ventilation"},"IE4",{"$f":"Traduction!$A$422","v":"> 100 kW"},0,"VentilationIE4p3",0]
[null,{"$f":"Traduction!$A$369","v":"A. Déterminer le rapport entre le débit maximum nécessaire et le débit nominal"},null,null,null,null,null,null,null,null,null,null,null,null,null,null,null,null,null,null,null,null,null,null,null,0.4]
[null,{"$f":"Traduction!$A$370","v":"Ce rapport permet de déterminer si l'installation est surdimensionnée"},null,null,null,null,null,null,null,null,null,null,null,null,null,null,null,null,null,null,null,null,null,null,null,{"$f":"Traduction!$A$352","v":"Gain redimensionnement"}]
[null,{"$f":"HYPERLINK(Traduction!A628&\"/info_QmaxQnom - Vent.htm\",Traduction!$A$371)","v":"Rapport entre le débit maximal (Qmax) et le débit nominal de l'entraînement (Qnom) [-]"},null,null,null,null,null,null,{"$f":"HYPERLINK(Traduction!A628&\"/info_QmaxQnom - Vent.htm\",Traduction!$A$718)","v":"Aide"},null,null,null,null,null,null,null,null,null,null,null,null,null,null,null,null,{"$f":"FORECAST($J$35,OFFSET($AN$9:$AN$15,MATCH($J$27,$AM$9:$AM$15,1.5)-1,0,2),OFFSET($AM$9:$AM$15,MATCH($J$27,$AM$9:$AM$15,1.5)-1,0,2))","v":{"$error":"#DIV/0!"}},{"$f":"IF(Z27<0,0,Z27)","v":{"$error":"#DIV/0!"}}]
[]
[]
[null,{"$f":"HYPERLINK(Traduction!A628&\"/info_Parbre - Vent.htm\",Traduction!$A$424)","v":"Puissance nominale à l'arbre du ventilateur [kW]"},null,null,null,null,null,null,{"$f":"HYPERLINK(Traduction!A628&\"/info_Parbre - Vent.htm\",Traduction!$A$718)","v":"Aide"}]
[]
[null,{"$f":"Traduction!$A$373","v":"Si les débits ne sont pas connus, on peut estimer la qualité du dimensionnement via les puissances électriques"}]
[null,{"$f":"Traduction!$A$374","v":"Puissance électrique consommée max. du moteur [kW]"},null,null,null,null,null,null,null,null,{"$f":"IF(AND(J33/J13<0.4,J33>0),\"Votre moteur semble être surdimensionné\",\"\")","v":{"$error":"#DIV/0!"}}]
[null,{"$f":"Traduction!$A$375","v":"Parbre_max/Parbre_nom"},null,null,null,null,null,null,null,{"$f":"IF((J33*0.9/J30)>P79,(J33*0.9/J30),0)","v":{"$error":"#DIV/0!"}}]
[null,{"$f":"Traduction!$A$376","v":"Qmax/Qnom utilisé pour les calculs ci-dessous"},null,null,null,null,null,null,null,{"$f":"IF(J27=0,IF(J34=0,\"\",IF(J19=\"oui\",J34,J34*P74+P75)),J27)","v":{"$error":"#DIV/0!"}}]
[null,null,null,null,null,null,null,null,null,{"$f":"IFERROR(IF(Z43>fv_Pnom,Traduction!$A$727,\"\"),\"\")","v":""}]
[null,{"$f":"Traduction!$A$377","v":"B. Determination de la répartition temporelle de la demande"}]
[null,{"$f":"HYPERLINK(Traduction!A628&\"/info_Q_Qmax - Vent.htm\",Traduction!$A$378)","v":"Distribution temporelle de la demande"},null,null,null,null,null,null,null,null,null,null,null,null,null,null,null,null,null,null,null,null,null,null,null,null,null,null,{"$f":"Traduction!$A$382","v":"Charge moyenne"},{"$f":"Traduction!$A$383","v":"Charge début"},{"$f":"Traduction!$A$384","v":"Charge fin"}]
[null,{"$f":"Traduction!$A$379","v":"Débit par rapport au débit maximal (Q/Qmax) [%]"},null,null,null,null,{"$f":"Traduction!$A$380","v":"Puissance moteur  [kW]"},null,null,null,{"$f":"Traduction!$A$146","v":"Heures de fonctionnement individuelles [heures/année]"},null,null,null,null,null,null,null,null,null,null,null,null,null,null,null,null,null,{"$f":"AVERAGE(AD39:AE39)","v":0.125},0,0.25]
[null,{"$f":"TEXT(AD39,\"0%\") & \"-\" & TEXT(AE39,\"0%\")","v":"0%-25%"},null,null,null,null,{"$f":"TEXT(0,\"0.0\") & \"-\" & TEXT(IF(J19=AR8,J35*AE39/0.9,(($J$35*AE39*$P$78+$P$79)/0.9))*$J$30,\"0.0\")","v":{"$error":"#DIV/0!"}},null,null,null,null,null,null,null,null,null,null,null,null,null,null,null,null,null,null,null,null,null,{"$f":"AVERAGE(AD40:AE40)","v":0.375},0.25,0.5]
[null,{"$f":"TEXT(AD40,\"0%\") & \"-\" & TEXT(AE40,\"0%\")","v":"25%-50%"},null,null,null,null,{"$f":"TEXT(IF(J19=$AR$8,AD40*$J$35/0.9,(($J$35*AD40*$P$78+$P$79)/0.9))*$J$30,\"0.0\") & \"-\" & TEXT(IF(J19=$AR$8,AE40*$J$35/0.9,(($J$35*AE40*$P$78+$P$79)/0.9))*$J$30,\"0.0\")","v":{"$error":"#DIV/0!"}},null,null,null,null,null,null,null,null,null,null,null,null,null,null,null,null,null,null,null,null,null,{"$f":"AVERAGE(AD41:AE41)","v":0.625},0.5,0.75]
[null,"50%-75%",null,null,null,null,{"$f":"TEXT(IF(J19=AR8,AD41*J35/0.9,(($J$35*AD41*$P$78+$P$79)/0.9))*$J$30,\"0.0\") & \"-\" & TEXT(IF(J19=$AR$8,AE41*J35/0.9,(($J$35*AE41*$P$78+$P$79)/0.9))*$J$30,\"0.0\")","v":{"$error":"#DIV/0!"}},null,null,null,null,null,null,null,null,null,null,null,null,null,null,null,null,null,null,null,null,null,{"$f":"AVERAGE(AD42:AE42)","v":0.875},0.75,1]
[null,{"$f":"TEXT(AD42,\"0%\") & \"-\" & TEXT(AE42,\"0%\")","v":"75%-100%"},null,null,null,null,{"$f":"TEXT(IF(J19=AR8,AD42*J35/0.9,(($J$35*AD42*$P$78+$P$79)/0.9))*$J$30,\"0.0\") & \"-\" & TEXT(IF(J19=$AR$8,AE42*J35/0.9,(($J$35*AE42*$P$78+$P$79)/0.9))*$J$30,\"0.0\")","v":{"$error":"#DIV/0!"}},null,null,null,null,null,null,null,null,null,null,null,null,null,null,null,null,null,null,{"$f":"IF(J19=$AR$8,AE42*J35/0.9,(($J$35*AE42*$P$78+$P$79)/0.9))*$J$30","v":{"$error":"#DIV/0!"}}]
[null,null,null,null,null,null,{"$f":"Traduction!$A$385","v":"Nombre d'heures totales:"},null,null,null,{"$f":"SUM(K40:K43)","v":0}]
[null,null,null,null,null,null,null,null,null,null,{"$f":"IF(K44=J16,\"\",AR13)","v":""}]
[]
[null,{"$f":"IF(J19=AR8,AR14,\"\")","v":""}]
[null,{"$f":"IF(J19=AR8,AR15,\"\")","v":""}]
[]
[null,{"$f":"Traduction!$A$386","v":"C. Potentiel d'économies"}]
[null,{"$f":"Traduction!$A$387","v":"Potentiel d'économie par tranche de débit selon les 3 sources d'économies"},null,null,null,null,null,null,null,null,null,null,null,null,{"$f":"HYPERLINK(Traduction!A628&\"/Calc_GAP_vent.htm\",Traduction!A649)","v":"Méthode de calcul AP+: ventilateur"},null,null,null,null,null,null,null,null,null,null,null,"Consommation sans scaling",{"$f":"Traduction!$A$306","v":"Facteur de puissance moyenne initial"},{"$f":"Traduction!$A$395","v":"Economies dû au redimensionnement [kWh/a]"},{"$f":"Traduction!$A$396","v":"Economies dû à l'ajout d'un convertisseur [kWh/a]"},{"$f":"Traduction!$A$397","v":"Gain de remplacement technologique [kWh]"},null,null,null,null,null,{"$f":"Traduction!$A$398","v":"Gain CF Circulation"}]
[null,{"$f":"Traduction!$A$379","v":"Débit par rapport au débit maximal (Q/Qmax) [%]"},null,null,null,{"$f":"Traduction!$A$388","v":"Energie consommée actuellement [kWh/a]"},null,null,{"$f":"Traduction!$A$389","v":"Economies dues au redimensionnement [kWh/a]"},null,null,{"$f":"Traduction!$A$390","v":"Economies dues à l'ajout/réglage du/d'un convertisseur [kWh/a]"},null,null,null,{"$f":"Traduction!$A$391","v":"Economies dues au améliorations technologiques [kWh]"},null,null,null,{"$f":"Traduction!$A$392","v":"Economies totales [kWh/a]"},null,null,null,null,null,{"$f":"IF(T48=\"Asservi à une grandeur de réglage\",1,0)","v":0},{"$f":"AB52*K40","v":{"$error":"#DIV/0!"}},{"$f":"IF($J$19=$AR$8,$AC39*$J$35/0.9,($AC39*$J$35*$P$78+$P$79))*$J$30/0.9","v":{"$error":"#DIV/0!"}},{"$f":"$AA$27","v":{"$error":"#DIV/0!"}},{"$f":"IF(OR($J$19=$AR$9,AND($J$19=$AR$8,$K$48<>$S$71)),AK52,0)*IF($K$48=$S$70,0.5,1)","v":0},{"$f":"$Z$14","v":0},null,null,null,null,null,0.35]
[null,{"$f":"TEXT(AD39,\"0%\") & \"-\" & TEXT(AE39,\"0%\")","v":"0%-25%"},null,null,null,{"$f":"IF(fv_opt>0,AA52*fv_opt/$AA$56,AA52)","v":{"$error":"#DIV/0!"}},null,null,{"$f":"$F53*AC52","v":{"$error":"#DIV/0!"}},null,null,{"$f":"$F53*AD52","v":{"$error":"#DIV/0!"}},null,null,null,{"$f":"$F53*AE52","v":{"$error":"#DIV/0!"}},null,null,null,{"$f":"SUM(I53:S53)","v":{"$error":"#DIV/0!"}},null,null,null,null,null,null,{"$f":"AB53*K41","v":{"$error":"#DIV/0!"}},{"$f":"IF($J$19=$AR$8,$AC40*$J$35/0.9,($AC40*$J$35*$P$78+$P$79))*$J$30/0.9","v":{"$error":"#DIV/0!"}},{"$f":"$AA$27","v":{"$error":"#DIV/0!"}},{"$f":"IF(OR($J$19=$AR$9,AND($J$19=$AR$8,$K$48<>$S$71)),AK53,0)*IF($K$48=$S$70,0.5,1)","v":0},{"$f":"$Z$14","v":0},null,null,null,null,null,0.25]
[null,{"$f":"TEXT(AD40,\"0%\") & \"-\" & TEXT(AE40,\"0%\")","v":"25%-50%"},null,null,null,{"$f":"IF(fv_opt>0,AA53*fv_opt/$AA$56,AA53)","v":{"$error":"#DIV/0!"}},null,null,{"$f":"$F54*AC53","v":{"$error":"#DIV/0!"}},null,null,{"$f":"$F54*AD53","v":{"$error":"#DIV/0!"}},null,null,null,{"$f":"$F54*AE53","v":{"$error":"#DIV/0!"}},null,null,null,{"$f":"SUM(I54:S54)","v":{"$error":"#DIV/0!"}},null,null,null,null,null,null,{"$error":"#DIV/0!"},{"$f":"IF($J$19=$AR$8,$AC41*$J$35/0.9,($AC41*$J$35*$P$78+$P$79))*$J$30/0.9","v":{"$error":"#DIV/0!"}},{"$error":"#DIV/0!"},{"$f":"IF(OR($J$19=$AR$9,AND($J$19=$AR$8,$K$48<>$S$71)),AK54,0)*IF($K$48=$S$70,0.5,1)","v":0},0,null,null,null,null,null,0.15]
[null,{"$f":"TEXT(AD41,\"0%\") & \"-\" & TEXT(AE41,\"0%\")","v":"50%-75%"},null,null,null,{"$f":"IF(fv_opt>0,AA54*fv_opt/$AA$56,AA54)","v":{"$error":"#DIV/0!"}},null,null,{"$f":"$F55*AC54","v":{"$error":"#DIV/0!"}},null,null,{"$f":"$F55*AD54","v":{"$error":"#DIV/0!"}},null,null,null,{"$f":"$F55*AE54","v":{"$error":"#DIV/0!"}},null,null,null,{"$error":"#DIV/0!"},null,null,null,null,null,null,{"$error":"#DIV/0!"},{"$f":"IF($J$19=$AR$8,$AC42*$J$35/0.9,($AC42*$J$35*$P$78+$P$79))*$J$30/0.9","v":{"$error":"#DIV/0!"}},{"$error":"#DIV/0!"},{"$f":"IF(OR($J$19=$AR$9,AND($J$19=$AR$8,$K$48<>$S$71)),AK55,0)*IF($K$48=$S$70,0.5,1)","v":0},0,null,null,null,null,null,0]
[null,{"$f":"TEXT(AD42,\"0%\") & \"-\" & TEXT(AE42,\"0%\")","v":"75%-100%"},null,null,null,{"$f":"IF(fv_opt>0,AA55*fv_opt/$AA$56,AA55)","v":{"$error":"#DIV/0!"}},null,null,{"$f":"$F56*AC55","v":{"$error":"#DIV/0!"}},null,null,{"$f":"$F56*AD55","v":{"$error":"#DIV/0!"}},null,null,null,{"$f":"$F56*AE55","v":{"$error":"#DIV/0!"}},null,null,null,{"$f":"SUM(I56:S56)","v":{"$error":"#DIV/0!"}},null,null,null,null,null,null,{"$f":"SUM(AA52:AA55)","v":{"$error":"#DIV/0!"}}]
[null,{"$f":"Traduction!$A$400","v":"Somme"},null,null,null,{"$f":"SUM(F53:F56)","v":{"$error":"#DIV/0!"}},null,null,{"$f":"SUM(I53:I56)","v":{"$error":"#DIV/0!"}},null,null,{"$f":"SUM(L53:L56)","v":{"$error":"#DIV/0!"}},null,null,null,{"$f":"SUM(P53:P56)","v":{"$error":"#DIV/0!"}},null,null,null,{"$error":"#DIV/0!"}]
[]
[null,{"$f":"Traduction!$A$705","v":"Synthèse"}]
[null,{"$f":"Traduction!$A$402","v":"Estimation de l'économie totale:"},null,null,null,null,null,{"$f":"ROUND(T57,-2)","v":{"$error":"#DIV/0!"}},null,null,{"$f":"Traduction!$A$403","v":"soit:"},null,null,{"$f":"H60/F57","v":{"$error":"#DIV/0!"}}]
[null,null,null,null,null,null,null,null,null,null,{"$f":"Traduction!$A$403","v":"soit:"},null,null,{"$f":"ROUND(J21*T57,-2)","v":{"$error":"#DIV/0!"}}]
[]
[null,{"$f":"Traduction!$A$404","v":"Mesures d'optimisation possibles (à valider dans le cadre d'une analyse détaillée):"}]
[null,{"$f":"Traduction!$A$405","v":"Redimensionnement de l'entraînement"}]
[null,{"$f":"Traduction!$A$406","v":"Introduction d'un convertisseur de fréquence et d'un réglage adéquat"}]
[null,{"$f":"Traduction!$A$407","v":"Remplacement de l'équipement par un substitut plus moderne et plus efficace"}]
[]
[null,null,null,null,null,null,null,null,null,null,null,null,null,null,null,null,null,null,{"$f":"Traduction!$A$411","v":"Liste question variateur de fréquence"}]
[null,{"$f":"Traduction!$A$408","v":"Base pour calculs"},null,null,null,null,null,null,null,null,null,null,null,null,null,null,null,null,{"$f":"Traduction!$A$412","v":"Pour le démarage puis 50 Hz"}]
[null,{"$f":"Traduction!$A$409","v":"Rapport entre rapport des débits et rapport de la puissance à l'arbre:"},null,null,null,null,null,null,null,null,null,null,null,null,null,null,null,null,{"$f":"Traduction!$A$413","v":"Réglé à une fréquence constante <50 Hz"}]
[null,{"$f":"Traduction!$A$410","v":"Calcul Planair"},null,null,null,null,null,null,null,null,null,null,null,null,null,null,null,null,{"$f":"Traduction!$A$414","v":"Asservi à une grandeur de réglage"}]
[null,null,null,null,null,null,null,null,null,null,{"$f":"Traduction!$A$416","v":"Charac"}]
[null,null,null,null,null,null,null,null,null,{"$f":"Traduction!$A$415","v":"Rapport débit"},"x=1.9017y -0.83"]
[null,null,null,null,null,null,null,null,null,null,"p=",null,null,null,null,1.9016999999999999]
[null,null,null,null,null,null,null,null,null,null,"h=",null,null,null,null,-0.83]
[]
[null,null,null,null,null,null,null,null,null,{"$f":"Traduction!$A$418","v":"Rapport Parbre"},"y=0.517x +0.4453"]
[null,null,null,null,null,null,null,null,null,null,"p",null,null,null,null,0.51700000000000002]
[null,null,null,null,null,null,null,null,null,null,"h",null,null,null,null,0.44529999999999997]
[]
[]
[]
[]
[]
[]
[]
[]
[]
[]
[]
[]
[null,{"$f":"INDEX(ClaLiGANa,MATCH(B1,ClaListeVent,0))","v":{"$error":"#N/A"}},"",{"$error":"#N/A"},"",{"$error":"#N/A"},"",{"$error":"#N/A"},"",{"$error":"#N/A"},"",{"$error":"#N/A"},"",{"$error":"#N/A"},"",{"$error":"#N/A"},"",{"$error":"#N/A"},"",{"$error":"#N/A"},"",{"$error":"#N/A"},"",{"$error":"#N/A"},{"$f":"INDEX(ClaLiGANa,MATCH(Y1,ClaListePo,0))","v":{"$error":"#N/A"}},{"$f":"INDEX(ClaLiGANa,MATCH(Z1,ClaListePo,0))","v":{"$error":"#N/A"}},{"$f":"INDEX(ClaLiGANa,MATCH(AA1,ClaListePo,0))","v":{"$error":"#N/A"}}]
[]
[null,{"$f":"RIGHT(CELL(\"nomfichier\",A1),LEN(CELL(\"nomfichier\",A1))-FIND(\"]\",CELL(\"nomfichier\",A1)))","v":"APVe"}]
[]
[]
[]
[]
[]
[]
[]
[]
[]
[]
[]
[]
[]
[]
[]
[]
[]
[]
[]
[]
[]
[]
[]
[]
[]
[]
[]
[]
[]
[]
[]
[]
[]
[]
[]
[]
[]
[]
[]
[]
[]
[]
[]
[]
[]
[]
[]
[]
[]
[]
[]
[]
[]
[]
[]
[1]

{"sheet":"Profil d'heure GF","index":20,"n_rows":102,"n_cols":10,"rows_kept":102,"cut":false,"hidden":false,"merged":[]}
[]
[]
[]
[null,null,null,null,null,null,"Mois ","A"," B","C"]
[null,null,null,null,null,null,"Jan",0.8,0.45,0]
[null,null,null,null,null,null,"Feb",0.8,0.45,0]
[null,null,null,null,null,null,"Mar",0.8,0.45,0]
[null,null,null,null,null,null,"Apr",0.85,0.5,0]
[null,null,null,null,null,null,"May",0.9,0.65,0.15]
[null,null,null,null,null,null,"Jun",0.95,0.8,0.75]
[null,null,null,null,null,null,"Jul",0.95,0.8,0.75]
[null,null,null,null,null,null,"Aug",0.9,0.65,0.15]
[null,null,null,null,null,null,"Sep",0.85,0.5,0]
[null,null,null,null,null,null,"Oct",0.8,0.45,0]
[null,null,null,null,null,null,"Nov",0.8,0.45,0]
[null,null,null,null,null,null,"Dec",0.8,0.45,0]
[]
[]
[]
[]
[]
[]
[]
[]
[]
[]
[]
[]
[]
[]
[]
[]
[]
[]
[]
[]
[]
[]
[]
[]
[]
["{=IF(ISNUMBER(MATCH(data,filter,0)),data)}",null,null,null,"IFERROR(INDEX(Prod,SMALL(IF(Dep=$D$10,ROW(Dep)-ROW(Data!$A$2)+1),ROWS(B$13:B13))),\"\")"]
[]
[null,null,{"$f":"IF(ClaListeVent=1,ClaLisGAP)","v":false},null,"SIERREUR(INDEX(ClaLiGANa;Petite.Valeur(SI(ClaLiGANa<>\"\";ligne(ClaLiGANa)-LIGNE('Classement des économies'!$AU$24)+1);LIGNES(AZ;\"\")"]
[{"$f":"IF(AND(ClaListeVent=1,ClaLisGAP>0),ClaLisGAP)","v":{"$error":"#VALUE!"}},null,false]
[null,null,false,null,{"$f":"IFERROR(INDEX(ClaLiGANa,SMALL(IF(ClaListeVent=1,ROW(ClaLiGANa)-ROW('Classement des économies'!$CC$24),\"\"),ROW('Profil d''heure GF'!E46)-1)),\"\")","v":""}]
[null,null,false,null,{"$f":"IFERROR(INDEX(ClaLiGANa,SMALL(IF(ClaListeVent=1,ROW(ClaLiGANa)-ROW('Classement des économies'!$CC$24),\"\"),ROW('Profil d''heure GF'!E47)-1)),\"\")","v":""}]
[null,null,false,null,{"$f":"IFERROR(INDEX(ClaLiGANa,SMALL(IF(ClaListeVent=1,ROW(ClaLiGANa)-ROW('Classement des économies'!$CC$24),\"\"),ROW('Profil d''heure GF'!E48)-1)),\"\")","v":""}]
[null,null,false,null,{"$f":"IFERROR(INDEX(ClaLiGANa,SMALL(IF(ClaListeVent=1,ROW(ClaLiGANa)-ROW('Classement des économies'!$CC$24),\"\"),ROW('Profil d''heure GF'!E49)-1)),\"\")","v":""}]
[null,null,false,null,{"$f":"IFERROR(INDEX(ClaLiGANa,SMALL(IF(ClaListeVent=1,ROW(ClaLiGANa)-ROW('Classement des économies'!$CC$24),\"\"),ROW('Profil d''heure GF'!E50)-1)),\"\")","v":""}]
[null,null,false,null,{"$f":"IFERROR(INDEX(ClaLiGANa,SMALL(IF(ClaListeVent=1,ROW(ClaLiGANa)-ROW('Classement des économies'!$CC$24),\"\"),ROW('Profil d''heure GF'!E51)-1)),\"\")","v":""}]
[null,null,false,null,{"$f":"IFERROR(INDEX(ClaLiGANa,SMALL(IF(ClaListeVent=1,ROW(ClaLiGANa)-ROW('Classement des économies'!$CC$24),\"\"),ROW('Profil d''heure GF'!E52)-1)),\"\")","v":""}]
[null,null,false,null,{"$f":"IFERROR(INDEX(ClaLiGANa,SMALL(IF(ClaListeVent=1,ROW(ClaLiGANa)-ROW('Classement des économies'!$CC$24),\"\"),ROW('Profil d''heure GF'!E53)-1)),\"\")","v":""}]
[null,null,false,null,{"$f":"IFERROR(INDEX(ClaLiGANa,SMALL(IF(ClaListeVent=1,ROW(ClaLiGANa)-ROW('Classement des économies'!$CC$24),\"\"),ROW('Profil d''heure GF'!E54)-1)),\"\")","v":""}]
[null,null,false,null,{"$f":"IFERROR(INDEX(ClaLiGANa,SMALL(IF(ClaListeVent=1,ROW(ClaLiGANa)-ROW('Classement des économies'!$CC$24),\"\"),ROW('Profil d''heure GF'!E55)-1)),\"\")","v":""}]
[null,null,false,null,{"$f":"IFERROR(INDEX(ClaLiGANa,SMALL(IF(ClaListeVent=1,ROW(ClaLiGANa)-ROW('Classement des économies'!$CC$24),\"\"),ROW('Profil d''heure GF'!E56)-1)),\"\")","v":""}]
[null,null,false,null,{"$f":"IFERROR(INDEX(ClaLiGANa,SMALL(IF(ClaListeVent=1,ROW(ClaLiGANa)-ROW('Classement des économies'!$CC$24),\"\"),ROW('Profil d''heure GF'!E57)-1)),\"\")","v":""}]
[null,null,false]
[null,null,false]
[null,null,false]
[null,null,false]
[null,null,false]
[null,null,false]
[null,null,false]
[null,null,false]
[null,null,false]
[null,null,false]
[null,null,false]
[null,null,false]
[null,null,false]
[null,null,false]
[null,null,false]
[null,null,false]
[null,null,false]
[null,null,false]
[null,null,false]
[null,null,false]
[null,null,false]
[null,null,false]
[null,null,false]
[null,null,false]
[null,null,false]
[null,null,false]
[null,null,false]
[null,null,false]
[null,null,false]
[null,null,false]
[null,null,false]
[null,null,false]
[null,null,false]
[null,null,false]
[null,null,false]
[null,null,false]
[null,null,false]
[null,null,false]
[null,null,false]
[null,null,false]
[null,null,false]
[null,null,false]
[null,null,false]
[null,null,false]
[null,null,false]